Workbook

Sheet 2011.1분기
A1: 2011년 1/4분기 수송 현황
T2: (단위:명,%)
A3: 구분 | B3: 합 계 | C3: 소태역 | D3: 학동증심사 입구역 | E3: 남광주역 | F3: 문화전당역 (구도청) | G3: 금남로4가역 | H3: 금남로5가역 | I3: 양동시장역 | J3: 돌고개역 | K3: 농성역 | L3: 화정역 | M3: 쌍촌역 | N3: 운천역 (호남대입구) | O3: 상무 | P3: 김대중 컨벤션센터역 | Q3: 공항역 | R3: 송정공원역 | S3: 송정리역 | T3: 도산역 | U3: 평동역
A4: 누계 | B4: 4337694 | C4: 173740 | D4: 169992 | E4: 384330 | F4: 288531 | G4: 485071 | H4: 201374 | I4: 218068 | J4: 147483 | K4: 222511 | L4: 191146 | M4: 262733 | N4: 264793 | O4: 355305 | P4: 81377 | Q4: 102962 | R4: 305379 | S4: 231712 | T4: 127514 | U4: 123673
A5: 일평균 | B5: 48196.6 | C5: 1930.4444 | D5: 1888.8 | E5: 4270.3333 | F5: 3205.9 | G5: 5389.6778 | H5: 2237.4889 | I5: 2422.9778 | J5: 1638.7 | K5: 2472.3444 | L5: 2123.8444 | M5: 2919.2556 | N5: 2942.1444 | O5: 3947.8333 | P5: 904.18889 | Q5: 1144.0222 | R5: 3393.1 | S5: 2574.5778 | T5: 1416.8222 | U5: 1374.1444
A6: 비율 | B6: 100 | C6: 4.005354 | D6: 3.9189486 | E6: 8.8602377 | F6: 6.651714 | G6: 11.182693 | H6: 4.6424206 | I6: 5.0272795 | J6: 3.4000324 | K6: 5.1297072 | L6: 4.4066271 | M6: 6.0569741 | N6: 6.1044647 | O6: 8.1911034 | P6: 1.8760429 | Q6: 2.3736575 | R6: 7.0401232 | S6: 5.3418245 | T6: 2.9396726 | U6: 2.8511232
A7: 1월 | B7: 1459285 | C7: 59689 | D7: 54713 | E7: 124800 | F7: 99388 | G7: 164224 | H7: 70219 | I7: 78003 | J7: 50413 | K7: 74589 | L7: 64202 | M7: 88898 | N7: 87503 | O7: 121494 | P7: 26093 | Q7: 34032 | R7: 98085 | S7: 79520 | T7: 41883 | U7: 41537
A8: 일평균 | B8: 47073.71 | C8: 1925.4516 | D8: 1764.9355 | E8: 4025.8065 | F8: 3206.0645 | G8: 5297.5484 | H8: 2265.129 | I8: 2516.2258 | J8: 1626.2258 | K8: 2406.0968 | L8: 2071.0323 | M8: 2867.6774 | N8: 2822.6774 | O8: 3919.1613 | P8: 841.70968 | Q8: 1097.8065 | R8: 3164.0323 | S8: 2565.1613 | T8: 1351.0645 | U8: 1339.9032
A9: 비율 | B9: 100 | C9: 4.0902908 | D9: 3.7493019 | E9: 8.5521334 | F9: 6.8107327 | G9: 11.25373 | H9: 4.811877 | I9: 5.345289 | J9: 3.454637 | K9: 5.1113388 | L9: 4.3995518 | M9: 6.0918875 | N9: 5.9962927 | O9: 8.3255841 | P9: 1.7880674 | Q9: 2.332101 | R9: 6.7214424 | S9: 5.449244 | T9: 2.8701042 | U9: 2.846394
A10: 2월 | B10: 1270539 | C10: 51458 | D10: 49221 | E10: 106852 | F10: 89362 | G10: 147868 | H10: 58719 | I10: 61546 | J10: 43133 | K10: 67061 | L10: 55237 | M10: 74919 | N10: 76139 | O10: 105461 | P10: 24643 | Q10: 30483 | R10: 86962 | S10: 69411 | T10: 36833 | U10: 35231
A11: 일평균 | B11: 45376.393 | C11: 1837.7857 | D11: 1757.8929 | E11: 3816.1429 | F11: 3191.5 | G11: 5281 | H11: 2097.1071 | I11: 2198.0714 | J11: 1540.4643 | K11: 2395.0357 | L11: 1972.75 | M11: 2675.6786 | N11: 2719.25 | O11: 3766.4643 | P11: 880.10714 | Q11: 1088.6786 | R11: 3105.7857 | S11: 2478.9643 | T11: 1315.4643 | U11: 1258.25
A12: 비율 | B12: 100 | C12: 4.0500921 | D12: 3.8740251 | E12: 8.409974 | F12: 7.0333929 | G12: 11.63821 | H12: 4.6215819 | I12: 4.8440859 | J12: 3.3948584 | K12: 5.2781536 | L12: 4.3475249 | M12: 5.8966313 | N12: 5.9926535 | O12: 8.3004929 | P12: 1.9395705 | Q12: 2.399218 | R12: 6.8444967 | S12: 5.4631145 | T12: 2.8990059 | U12: 2.7729176
A13: 3월 | B13: 1607870 | C13: 62593 | D13: 66058 | E13: 152678 | F13: 99781 | G13: 172979 | H13: 72436 | I13: 78519 | J13: 53937 | K13: 80861 | L13: 71707 | M13: 98916 | N13: 101151 | O13: 128350 | P13: 30641 | Q13: 38447 | R13: 120332 | S13: 82781 | T13: 48798 | U13: 46905
A14: 일평균 | B14: 51866.774 | C14: 2019.129 | D14: 2130.9032 | E14: 4925.0968 | F14: 3218.7419 | G14: 5579.9677 | H14: 2336.6452 | I14: 2532.871 | J14: 1739.9032 | K14: 2608.4194 | L14: 2313.129 | M14: 3190.8387 | N14: 3262.9355 | O14: 4140.3226 | P14: 988.41935 | Q14: 1240.2258 | R14: 3881.6774 | S14: 2670.3548 | T14: 1574.129 | U14: 1513.0645
A15: 비율 | B15: 100 | C15: 3.8929142 | D15: 4.1084167 | E15: 9.4956682 | F15: 6.2057878 | G15: 10.75827 | H15: 4.5050906 | I15: 4.8834172 | J15: 3.3545622 | K15: 5.0290757 | L15: 4.4597511 | M15: 6.1519899 | N15: 6.2909937 | O15: 7.9826105 | P15: 1.9056889 | Q15: 2.3911759 | R15: 7.4839384 | S15: 5.1484884 | T15: 3.0349469 | U15: 2.9172135

Sheet 2011.2분기
A1: 2011년 2/4분기 수송 현황
T2: (단위:명,%)
A3: 구분 | B3: 합 계 | C3: 소태역 | D3: 학동증심사 입구역 | E3: 남광주역 | F3: 문화전당역 (구도청) | G3: 금남로4가역 | H3: 금남로5가역 | I3: 양동시장역 | J3: 돌고개역 | K3: 농성역 | L3: 화정역 | M3: 쌍촌역 | N3: 운천역 (호남대입구) | O3: 상무 | P3: 김대중 컨벤션센터역 | Q3: 공항역 | R3: 송정공원역 | S3: 송정리역 | T3: 도산역 | U3: 평동역
A4: 년누계 | B4: 8935078 | C4: 356593 | D4: 360776 | E4: 814273 | F4: 568789 | G4: 971070 | H4: 400659 | I4: 446195 | J4: 301393 | K4: 465120 | L4: 395605 | M4: 545023 | N4: 555758 | O4: 719505 | P4: 169795 | Q4: 217478 | R4: 645838 | S4: 476158 | T4: 263005 | U4: 262045
A5: 일평균 | B5: 49365.072 | C5: 1970.1271 | D5: 1993.2376 | E5: 4498.7459 | F5: 3142.4807 | G5: 5365.0276 | H5: 2213.5856 | I5: 2465.1657 | J5: 1665.1547 | K5: 2569.7238 | L5: 2185.663 | M5: 3011.1768 | N5: 3070.4862 | O5: 3975.1657 | P5: 938.09392 | Q5: 1201.5359 | R5: 3568.1657 | S5: 2630.7072 | T5: 1453.0663 | U5: 1447.7624
A6: 비 율 | B6: 100 | C6: 3.9909333 | D6: 4.0377487 | E6: 9.1132165 | F6: 6.3657978 | G6: 10.868064 | H6: 4.4841131 | I6: 4.9937449 | J6: 3.3731435 | K6: 5.2055505 | L6: 4.4275495 | M6: 6.0998124 | N6: 6.2199569 | O6: 8.0525878 | P6: 1.9003192 | Q6: 2.4339799 | R6: 7.2281182 | S6: 5.3290861 | T6: 2.943511 | U6: 2.9327668
A7: 분기누계 | B7: 4597384 | C7: 182853 | D7: 190784 | E7: 429943 | F7: 280258 | G7: 485999 | H7: 199285 | I7: 228127 | J7: 153910 | K7: 242609 | L7: 204459 | M7: 282290 | N7: 290965 | O7: 364200 | P7: 88418 | Q7: 114516 | R7: 340459 | S7: 244446 | T7: 135491 | U7: 138372
A8: 일평균 | B8: 50520.703 | C8: 2009.3736 | D8: 2096.5275 | E8: 4724.6484 | F8: 3079.7582 | G8: 5340.6484 | H8: 2189.9451 | I8: 2506.8901 | J8: 1691.3187 | K8: 2666.033 | L8: 2246.8022 | M8: 3102.0879 | N8: 3197.4176 | O8: 4002.1978 | P8: 971.62637 | Q8: 1258.4176 | R8: 3741.3077 | S8: 2686.2198 | T8: 1488.9121 | U8: 1520.5714
A9: 비 율 | B9: 100 | C9: 3.9773271 | D9: 4.1498383 | E9: 9.3519053 | F9: 6.096032 | G9: 10.571207 | H9: 4.3347478 | I9: 4.9621045 | J9: 3.3477734 | K9: 5.2771098 | L9: 4.44729 | M9: 6.1402311 | N9: 6.3289253 | O9: 7.9218965 | P9: 1.9232242 | Q9: 2.4908948 | R9: 7.4054941 | S9: 5.3170673 | T9: 2.9471325 | U9: 3.0097986
A10: 4 월 | B10: 1562051 | C10: 61543 | D10: 63403 | E10: 148092 | F10: 93040 | G10: 160998 | H10: 68348 | I10: 77087 | J10: 52038 | K10: 87620 | L10: 69296 | M10: 95962 | N10: 99064 | O10: 123103 | P10: 31178 | Q10: 39110 | R10: 116307 | S10: 81996 | T10: 47331 | U10: 46535
A11: 일평균 | B11: 52068.367 | C11: 2051.4333 | D11: 2113.4333 | E11: 4936.4 | F11: 3101.3333 | G11: 5366.6 | H11: 2278.2667 | I11: 2569.5667 | J11: 1734.6 | K11: 2920.6667 | L11: 2309.8667 | M11: 3198.7333 | N11: 3302.1333 | O11: 4103.4333 | P11: 1039.2667 | Q11: 1303.6667 | R11: 3876.9 | S11: 2733.2 | T11: 1577.7 | U11: 1551.1667
A12: 비 율 | B12: 100 | C12: 3.9398842 | D12: 4.0589584 | E12: 9.4806123 | F12: 5.9562716 | G12: 10.306834 | H12: 4.3755294 | I12: 4.9349861 | J12: 3.3313893 | K12: 5.6092919 | L12: 4.4362188 | M12: 6.1433333 | N12: 6.3419184 | O12: 7.8808566 | P12: 1.9959656 | Q12: 2.5037595 | R12: 7.4457876 | S12: 5.2492524 | T12: 3.0300547 | U12: 2.9790961
A13: 5 월 | B13: 1577304 | C13: 62953 | D13: 65130 | E13: 147978 | F13: 101655 | G13: 170588 | H13: 66667 | I13: 77735 | J13: 51772 | K13: 80207 | L13: 68411 | M13: 96010 | N13: 99527 | O13: 124732 | P13: 31318 | Q13: 38967 | R13: 118014 | S13: 84651 | T13: 45049 | U13: 45940
A14: 일평균 | B14: 50880.774 | C14: 2030.7419 | D14: 2100.9677 | E14: 4773.4839 | F14: 3279.1935 | G14: 5502.8387 | H14: 2150.5484 | I14: 2507.5806 | J14: 1670.0645 | K14: 2587.3226 | L14: 2206.8065 | M14: 3097.0968 | N14: 3210.5484 | O14: 4023.6129 | P14: 1010.2581 | Q14: 1257 | R14: 3806.9032 | S14: 2730.6774 | T14: 1453.1935 | U14: 1481.9355
A15: 비 율 | B15: 100 | C15: 3.9911774 | D15: 4.1291977 | E15: 9.3817045 | F15: 6.4448578 | G15: 10.815163 | H15: 4.2266424 | I15: 4.9283461 | J15: 3.2823096 | K15: 5.0850692 | L15: 4.3372108 | M15: 6.0869687 | N15: 6.3099441 | O15: 7.9079239 | P15: 1.9855399 | Q15: 2.4704813 | R15: 7.4820073 | S15: 5.3668158 | T15: 2.8560759 | U15: 2.9125647
... A18: 비 율 | B18: 100 | C18: 4.0024581 | D18: 4.269531 | E18: 9.181779 | F18: 5.8684018 | G18: 10.59053 | H18: 4.4080056 | I18: 5.0276778 | J18: 3.4361456 | K18: 5.1289789 | L18: 4.5782354 | M18: 6.194527 | N18: 6.3355393 | O18: 7.9809798 | P18: 1.7778796 | Q18: 2.4991958 | R18: 7.2795534 | S18: 5.3359021 | T18: 2.9567999 | U18: 3.1478798

Sheet 2011.3분기
A1: 2011년 3/4분기 수송 현황
T2: (단위:명,%)
A3: 구분 | B3: 합 계 | C3: 소태역 | D3: 학동증심사 입구역 | E3: 남광주역 | F3: 문화전당역 (구도청) | G3: 금남로4가역 | H3: 금남로5가역 | I3: 양동시장역 | J3: 돌고개역 | K3: 농성역 | L3: 화정역 | M3: 쌍촌역 | N3: 운천역 (호남대입구) | O3: 상무 | P3: 김대중 컨벤션센터역 | Q3: 공항역 | R3: 송정공원역 | S3: 송정리역 | T3: 도산역 | U3: 평동역
A4: 년누계 | B4: 13170897 | C4: 529437 | D4: 531906 | E4: 1186095 | F4: 840969 | G4: 1441939 | H4: 586757 | I4: 666347 | J4: 445070 | K4: 679647 | L4: 579731 | M4: 795606 | N4: 815852 | O4: 1057714 | P4: 252868 | Q4: 321475 | R4: 942947 | S4: 713322 | T4: 388009 | U4: 395206
A5: 일평균 | B5: 48245.044 | C5: 1939.3297 | D5: 1948.3736 | E5: 4344.6703 | F5: 3080.4725 | G5: 5281.8278 | H5: 2149.293 | I5: 2440.8315 | J5: 1630.293 | K5: 2489.5495 | L5: 2123.5568 | M5: 2914.3077 | N5: 2988.4689 | O5: 3874.4103 | P5: 926.25641 | Q5: 1177.5641 | R5: 3454.0183 | S5: 2612.9011 | T5: 1421.2784 | U5: 1447.641
A6: 비 율 | B6: 100 | C6: 4.019749 | D6: 4.0384949 | E6: 9.0054231 | F6: 6.3850549 | G6: 10.947918 | H6: 4.4549509 | I6: 5.0592378 | J6: 3.3791928 | K6: 5.160218 | L6: 4.4016061 | M6: 6.0406364 | N6: 6.1943541 | O6: 8.0306907 | P6: 1.9198996 | Q6: 2.4407981 | R6: 7.1593226 | S6: 5.4158954 | T6: 2.9459573 | U6: 3.0006005
A7: 분기누계 | B7: 4235819 | C7: 172844 | D7: 171130 | E7: 371822 | F7: 272180 | G7: 470869 | H7: 186098 | I7: 220152 | J7: 143677 | K7: 214527 | L7: 184126 | M7: 250583 | N7: 260094 | O7: 338209 | P7: 83073 | Q7: 103997 | R7: 297109 | S7: 237164 | T7: 125004 | U7: 133161
A8: 일평균 | B8: 46041.511 | C8: 1878.7391 | D8: 1860.1087 | E8: 4041.5435 | F8: 2958.4783 | G8: 5118.1413 | H8: 2022.8043 | I8: 2392.9565 | J8: 1561.7065 | K8: 2331.8152 | L8: 2001.3696 | M8: 2723.7283 | N8: 2827.1087 | O8: 3676.1848 | P8: 902.96739 | Q8: 1130.4022 | R8: 3229.4457 | S8: 2577.8696 | T8: 1358.7391 | U8: 1447.4022
A9: 비 율 | B9: 100 | C9: 4.0805332 | D9: 4.0400688 | E9: 8.7780427 | F9: 6.4256759 | G9: 11.116363 | H9: 4.3934361 | I9: 5.1973892 | J9: 3.3919532 | K9: 5.0645932 | L9: 4.3468807 | M9: 5.9158099 | N9: 6.1403474 | O9: 7.9845008 | P9: 1.9612028 | Q9: 2.4551805 | R9: 7.0142043 | S9: 5.5990117 | T9: 2.9511176 | U9: 3.1436896
A10: 7 월 | B10: 1429187 | C10: 58700 | D10: 57357 | E10: 121598 | F10: 92240 | G10: 159976 | H10: 63851 | I10: 73914 | J10: 49117 | K10: 72248 | L10: 63652 | M10: 86039 | N10: 87753 | O10: 114382 | P10: 26962 | Q10: 35011 | R10: 98512 | S10: 77956 | T10: 42596 | U10: 47323
A11: 일평균 | B11: 46102.806 | C11: 1893.5484 | D11: 1850.2258 | E11: 3922.5161 | F11: 2975.4839 | G11: 5160.5161 | H11: 2059.7097 | I11: 2384.3226 | J11: 1584.4194 | K11: 2330.5806 | L11: 2053.2903 | M11: 2775.4516 | N11: 2830.7419 | O11: 3689.7419 | P11: 869.74194 | Q11: 1129.3871 | R11: 3177.8065 | S11: 2514.7097 | T11: 1374.0645 | U11: 1526.5484
A12: 비 율 | B12: 100 | C12: 4.1072302 | D12: 4.0132607 | E12: 8.5081938 | F12: 6.454019 | G12: 11.193497 | H12: 4.4676449 | I12: 5.1717515 | J12: 3.4367091 | K12: 5.0551817 | L12: 4.4537209 | M12: 6.0201359 | N12: 6.1400642 | O12: 8.0032914 | P12: 1.8865271 | Q12: 2.4497144 | R12: 6.8928699 | S12: 5.4545696 | T12: 2.9804357 | U12: 3.3111832
A13: 8 월 | B13: 1362646 | C13: 55980 | D13: 54084 | E13: 118366 | F13: 87065 | G13: 152712 | H13: 61132 | I13: 72029 | J13: 47063 | K13: 69814 | L13: 59006 | M13: 79861 | N13: 83633 | O13: 109255 | P13: 25296 | Q13: 32914 | R13: 93335 | S13: 78488 | T13: 40369 | U13: 42244
A14: 일평균 | B14: 43956.323 | C14: 1805.8065 | D14: 1744.6452 | E14: 3818.2581 | F14: 2808.5484 | G14: 4926.1935 | H14: 1972 | I14: 2323.5161 | J14: 1518.1613 | K14: 2252.0645 | L14: 1903.4194 | M14: 2576.1613 | N14: 2697.8387 | O14: 3524.3548 | P14: 816 | Q14: 1061.7419 | R14: 3010.8065 | S14: 2531.871 | T14: 1302.2258 | U14: 1362.7097
A15: 비 율 | B15: 100 | C15: 4.1081836 | D15: 3.9690426 | E15: 8.686482 | F15: 6.3894071 | G15: 11.207019 | H15: 4.4862716 | I15: 5.2859657 | J15: 3.453795 | K15: 5.1234143 | L15: 4.3302516 | M15: 5.8607298 | N15: 6.1375442 | O15: 8.0178564 | P15: 1.8563882 | Q15: 2.4154476 | R15: 6.8495413 | S15: 5.7599699 | T15: 2.9625449 | U15: 3.1001449
... A18: 비 율 | B18: 100 | C18: 4.0280169 | D18: 4.1336273 | E18: 9.131529 | F18: 6.4318491 | G18: 10.954469 | H18: 4.2323818 | I18: 5.1391772 | J18: 3.2892978 | K18: 5.0184005 | L18: 4.256828 | M18: 5.8645305 | N18: 6.1432729 | O18: 7.934426 | P18: 2.1340235 | Q18: 2.4980852 | R18: 7.2896829 | S18: 5.5900819 | T18: 2.9113163 | U18: 3.0190043

Sheet 2011.4분기
A1: 2011년 4/4분기 수송 현황
T2: (단위:명,%)
A3: 구분 | B3: 합 계 | C3: 소태역 | D3: 학동증심사 입구역 | E3: 남광주역 | F3: 문화전당역 (구도청) | G3: 금남로4가역 | H3: 금남로5가역 | I3: 양동시장역 | J3: 돌고개역 | K3: 농성역 | L3: 화정역 | M3: 쌍촌역 | N3: 운천역 (호남대입구) | O3: 상무 | P3: 김대중 컨벤션센터역 | Q3: 공항역 | R3: 송정공원역 | S3: 송정리역 | T3: 도산역 | U3: 평동역
A4: 년누계 | B4: =SUM(C4:U4) -> 17708983 | C4: ='[1].xls].xls].xls].xls].xls].xls].xls].'!C4+'[1].xls].xls].xls].xls].xls].xls].xls].'!C7 -> 710375 | D4: ='[1].xls].xls].xls].xls].xls].xls].xls].'!D4+'[1].xls].xls].xls].xls].xls].xls].xls].'!D7 -> 722267 | E4: ='[1].xls].xls].xls].xls].xls].xls].xls].'!E4+'[1].xls].xls].xls].xls].xls].xls].xls].'!E7 -> 1600204 | F4: ='[1].xls].xls].xls].xls].xls].xls].xls].'!F4+'[1].xls].xls].xls].xls].xls].xls].xls].'!F7 -> 1116487 | G4: ='[1].xls].xls].xls].xls].xls].xls].xls].'!G4+'[1].xls].xls].xls].xls].xls].xls].xls].'!G7 -> 1935429 | H4: ='[1].xls].xls].xls].xls].xls].xls].xls].'!H4+'[1].xls].xls].xls].xls].xls].xls].xls].'!H7 -> 781948 | I4: ='[1].xls].xls].xls].xls].xls].xls].xls].'!I4+'[1].xls].xls].xls].xls].xls].xls].xls].'!I7 -> 890382 | J4: ='[1].xls].xls].xls].xls].xls].xls].xls].'!J4+'[1].xls].xls].xls].xls].xls].xls].xls].'!J7 -> 593723 | ... U4: ='[1].xls].xls].xls].xls].xls].xls].xls].'!U4+'[1].xls].xls].xls].xls].xls].xls].xls].'!U7 -> 532878
A5: 일평균 | B5: =B4/365 -> 48517.762 | C5: =C4/365 -> 1946.2329 | D5: =D4/365 -> 1978.8137 | E5: =E4/365 -> 4384.1205 | F5: =F4/365 -> 3058.8685 | G5: =G4/365 -> 5302.5452 | H5: =H4/365 -> 2142.3233 | I5: =I4/365 -> 2439.4027 | ... U5: =U4/365 -> 1459.9397
A6: 비 율 | B6: =B5/$B$5*100 -> 100 | C6: =C5/$B$5*100 -> 4.0113822 | D6: =D5/$B$5*100 -> 4.0785346 | E6: =E5/$B$5*100 -> 9.0361146 | F6: =F5/$B$5*100 -> 6.3046365 | G6: =G5/$B$5*100 -> 10.92908 | H6: =H5/$B$5*100 -> 4.4155444 | I6: =I5/$B$5*100 -> 5.0278551 | ... U6: =U5/$B$5*100 -> 3.009083
A7: 분기누계 | B7: =SUM(C7:U7) -> 4538086 | C7: =SUM(C10,C13,C16) -> 180938 | D7: =SUM(D10,D13,D16) -> 190361 | E7: =SUM(E10,E13,E16) -> 414109 | F7: =SUM(F10,F13,F16) -> 275518 | G7: =SUM(G10,G13,G16) -> 493490 | H7: =SUM(H10,H13,H16) -> 195191 | I7: =SUM(I10,I13,I16) -> 224035 | J7: =SUM(J10,J13,J16) -> 148653 | ... U7: =SUM(U10,U13,U16) -> 137672
A8: 일평균 | B8: =B7/92 -> 49327.022 | C8: =C7/92 -> 1966.7174 | D8: =D7/92 -> 2069.1413 | E8: =E7/92 -> 4501.1848 | F8: =F7/92 -> 2994.7609 | G8: =G7/92 -> 5364.0217 | H8: =H7/92 -> 2121.6413 | I8: =I7/92 -> 2435.163 | ... U8: =U7/92 -> 1496.4348
A9: 비 율 | B9: =B8/$B$8*100 -> 100 | C9: =C8/$B$8*100 -> 3.9870994 | D9: =D8/$B$8*100 -> 4.194742 | E9: =E8/$B$8*100 -> 9.1251907 | F9: =F8/$B$8*100 -> 6.071238 | G9: =G8/$B$8*100 -> 10.874408 | H9: =H8/$B$8*100 -> 4.3011745 | I9: =I8/$B$8*100 -> 4.9367729 | ... U9: =U8/$B$8*100 -> 3.0337019
A10: 10 월 | B10: =SUM(C10:U10) -> 1528029 | C10: 61435 | D10: 64712 | E10: 139539 | F10: 94298 | G10: 163733 | H10: 64834 | I10: 76136 | J10: 49741 | K10: 81478 | L10: 65692 | M10: 91810 | N10: 94997 | O10: 123153 | P10: 33444 | Q10: 38713 | R10: 110147 | S10: 83836 | T10: 44009 | U10: 46322
A11: 일평균 | B11: =B10/31 -> 49291.258 | C11: 1981.7742 | D11: 2087.4839 | E11: 4501.2581 | F11: 3041.871 | G11: 5281.7097 | H11: 2091.4194 | I11: 2456 | J11: 1604.5484 | K11: 2628.3226 | L11: 2119.0968 | M11: 2961.6129 | N11: 3064.4194 | O11: 3972.6774 | P11: 1078.8387 | Q11: 1248.8065 | R11: 3553.129 | S11: 2704.3871 | T11: 1419.6452 | U11: 1494.2581
A12: 비 율 | B12: =B11/$B$11*100 -> 100 | C12: 4.0205389 | D12: 4.2349982 | E12: 9.1319602 | F12: 6.171218 | G12: 10.715307 | H12: 4.2429823 | I12: 4.9826279 | J12: 3.2552393 | K12: 5.3322286 | L12: 4.2991331 | M12: 6.0083938 | N12: 6.2169632 | O12: 8.0595983 | P12: 2.1887019 | Q12: 2.5335252 | R12: 7.2084365 | S12: 5.4865451 | T12: 2.8801155 | U12: 3.031487
A13: 11 월 | B13: =SUM(C13:U13) -> 1488071 | C13: 58909 | D13: 62339 | E13: 140363 | F13: 86857 | G13: 160170 | H13: 63380 | I13: 73553 | J13: 48838 | K13: 78268 | L13: 64152 | M13: 91098 | N13: 92169 | O13: 120231 | P13: 34319 | Q13: 37077 | R13: 106650 | S13: 80980 | T13: 43207 | U13: 45511
A14: 일평균 | B14: =B13/30 -> 49602.367 | C14: 1963.6333 | D14: 2077.9667 | E14: 4678.7667 | F14: 2895.2333 | G14: 5339 | H14: 2112.6667 | I14: 2451.7667 | J14: 1627.9333 | K14: 2608.9333 | L14: 2138.4 | M14: 3036.6 | N14: 3072.3 | O14: 4007.7 | P14: 1143.9667 | Q14: 1235.9 | R14: 3555 | S14: 2699.3333 | T14: 1440.2333 | U14: 1517.0333
A15: 비 율 | B15: =B14/$B$14*100 -> 100 | C15: 3.9587493 | D15: 4.189249 | E15: 9.4325472 | F15: 5.8368855 | G15: 10.763599 | H15: 4.2592054 | I15: 4.9428421 | J15: 3.2819671 | K15: 5.2596953 | L15: 4.3110846 | M15: 6.1218853 | N15: 6.1938577 | O15: 8.0796548 | P15: 2.3062744 | Q15: 2.491615 | R15: 7.1669967 | S15: 5.4419446 | T15: 2.9035577 | U15: 3.058389
A16: 12 월 | B16: =SUM(C16:U16) -> 1521986 | C16: 60594 | D16: 63310 | E16: 134207 | F16: 94363 | G16: 169587 | H16: 66977 | I16: 74346 | J16: 50074 | K16: 80651 | L16: 65399 | M16: 92004 | N16: 95455 | O16: 126169 | P16: 29110 | Q16: 37406 | R16: 108183 | S16: 83507 | T16: 44805 | U16: 45839
A17: 일평균 | B17: =B16/31 -> 49096.323 | C17: 1954.6452 | D17: 2042.2581 | E17: 4329.2581 | F17: 3043.9677 | G17: 5470.5484 | H17: 2160.5484 | I17: 2398.2581 | J17: 1615.2903 | K17: 2601.6452 | L17: 2109.6452 | M17: 2967.871 | N17: 3079.1935 | O17: 4069.9677 | P17: 939.03226 | Q17: 1206.6452 | R17: 3489.7742 | S17: 2693.7742 | T17: 1445.3226 | U17: 1478.6774
A18: 비 율 | B18: =B17/$B$17*100 -> 100 | C18: 3.9812456 | D18: 4.1596966 | E18: 8.8178866 | F18: 6.1999913 | G18: 11.142481 | H18: 4.4006318 | I18: 4.8848018 | J18: 3.2900434 | K18: 5.2990632 | L18: 4.2969515 | M18: 6.0449965 | N18: 6.2717397 | O18: 8.2897609 | P18: 1.9126326 | Q18: 2.4577099 | R18: 7.1080154 | S18: 5.4867128 | T18: 2.943851 | U18: 3.0117885

Sheet 2012.1분기
A1: 2012년 1/4분기 수송 현황
T2: (단위:명,%)
A3: 구분 | B3: 합 계 | C3: 소태역 | D3: 학동증심사 입구역 | E3: 남광주역 | F3: 문화전당역 (구도청) | G3: 금남로4가역 | H3: 금남로5가역 | I3: 양동시장역 | J3: 돌고개역 | K3: 농성역 | L3: 화정역 | M3: 쌍촌역 | N3: 운천역 (호남대입구) | O3: 상무 | P3: 김대중 컨벤션센터역 | Q3: 공항역 | R3: 송정공원역 | S3: 송정리역 | T3: 도산역 | U3: 평동역
A4: 누계 | B4: 4410639 | C4: 174501 | D4: 186317 | E4: 388105 | F4: 283052 | G4: 486550 | H4: 197829 | I4: 218404 | J4: 144405 | K4: 229821 | L4: 182821 | M4: 266262 | N4: 276398 | O4: 363373 | P4: 81851 | Q4: 105840 | R4: 316876 | S4: 239712 | T4: 127520 | U4: 141002
A5: 일평균 | B5: 48468.56 | C5: 1917.5934 | D5: 2047.4396 | E5: 4264.8901 | F5: 3110.4615 | G5: 5346.7033 | H5: 2173.9451 | I5: 2400.044 | J5: 1586.8681 | K5: 2525.5055 | L5: 2009.022 | M5: 2925.956 | N5: 3037.3407 | O5: 3993.1099 | P5: 899.46154 | Q5: 1163.0769 | R5: 3482.1538 | S5: 2634.1978 | T5: 1401.3187 | U5: 1549.4725
A6: 비율 | B6: 100 | C6: 3.9563655 | D6: 4.2242632 | E6: 8.7992919 | F6: 6.4174828 | G6: 11.031281 | H6: 4.4852685 | I6: 4.9517542 | J6: 3.2740154 | K6: 5.2106055 | L6: 4.1450003 | M6: 6.0368124 | N6: 6.2666203 | O6: 8.2385568 | P6: 1.8557628 | Q6: 2.3996523 | R6: 7.1843558 | S6: 5.4348588 | T6: 2.891191 | U6: 3.196861
A7: 1월 | B7: 1409198 | C7: 56166 | D7: 57086 | E7: 120996 | F7: 95273 | G7: 157917 | H7: 63086 | I7: 73875 | J7: 46918 | K7: 73384 | L7: 57881 | M7: 85176 | N7: 86618 | O7: 117569 | P7: 24994 | Q7: 33244 | R7: 95989 | S7: 77782 | T7: 40624 | U7: 44620
A8: 일평균 | B8: 45458 | C8: 1811.8065 | D8: 1841.4839 | E8: 3903.0968 | F8: 3073.3226 | G8: 5094.0968 | H8: 2035.0323 | I8: 2383.0645 | J8: 1513.4839 | K8: 2367.2258 | L8: 1867.129 | M8: 2747.6129 | N8: 2794.129 | O8: 3792.5484 | P8: 806.25806 | Q8: 1072.3871 | R8: 3096.4194 | S8: 2509.0968 | T8: 1310.4516 | U8: 1439.3548
A9: 비율 | B9: 100 | C9: 3.8709961 | D9: 4.0509566 | E9: 8.5861604 | F9: 6.7607959 | G9: 11.206161 | H9: 4.4767307 | I9: 5.2423435 | J9: 3.3294115 | K9: 5.207501 | L9: 4.1073717 | M9: 6.044289 | N9: 6.1466167 | O9: 8.3429724 | P9: 1.7736329 | Q9: 2.3590723 | R9: 6.8116049 | S9: 5.5195934 | T9: 2.8827745 | U9: 3.16634
A10: 2월 | B10: 1407087 | C10: 56200 | D10: 58326 | E10: 118660 | F10: 92092 | G10: 158005 | H10: 65556 | I10: 67448 | J10: 46530 | K10: 73953 | L10: 58469 | M10: 83759 | N10: 88594 | O10: 118362 | P10: 26426 | Q10: 34302 | R10: 98364 | S10: 75591 | T10: 40635 | U10: 45815
A11: 일평균 | B11: 50253.107 | C11: 1937.931 | D11: 2011.2414 | E11: 4091.7241 | F11: 3175.5862 | G11: 5448.4483 | H11: 2260.5517 | I11: 2325.7931 | J11: 1604.4828 | K11: 2550.1034 | L11: 2016.1724 | M11: 2888.2414 | N11: 3054.9655 | O11: 4081.4483 | P11: 911.24138 | Q11: 1182.8276 | R11: 3391.8621 | S11: 2606.5862 | T11: 1401.2069 | U11: 1579.8276
A12: 비율 | B12: 100 | C12: 3.8563407 | D12: 4.0022229 | E12: 8.1422311 | F12: 6.3191838 | G12: 10.842013 | H12: 4.4983322 | I12: 4.6281578 | J12: 3.1928031 | K12: 5.074519 | L12: 4.0120353 | M12: 5.7473887 | N12: 6.0791575 | O12: 8.1217829 | P12: 1.8133036 | Q12: 2.3537402 | R12: 6.7495569 | S12: 5.1869155 | T12: 2.788299 | U12: 3.1437411
A13: 3월 | B13: 1594354 | C13: 62135 | D13: 70905 | E13: 148449 | F13: 95687 | G13: 170628 | H13: 69187 | I13: 77081 | J13: 50957 | K13: 82484 | L13: 66471 | M13: 97327 | N13: 101186 | O13: 127442 | P13: 30431 | Q13: 38294 | R13: 122523 | S13: 86339 | T13: 46261 | U13: 50567
A14: 일평균 | B14: 51430.774 | C14: 2004.3548 | D14: 2287.2581 | E14: 4788.6774 | F14: 3086.6774 | G14: 5504.129 | H14: 2231.8387 | I14: 2486.4839 | J14: 1643.7742 | K14: 2660.7742 | L14: 2144.2258 | M14: 3139.5806 | N14: 3264.0645 | O14: 4111.0323 | P14: 981.64516 | Q14: 1235.2903 | R14: 3952.3548 | S14: 2785.129 | T14: 1492.2903 | U14: 1631.1935
A15: 비율 | B15: 100 | C15: 3.8971897 | D15: 4.4472558 | E15: 9.3109184 | F15: 6.0016157 | G15: 10.702015 | H15: 4.3395005 | I15: 4.8346227 | J15: 3.1960907 | K15: 5.173506 | L15: 4.1691494 | M15: 6.1044787 | N15: 6.3465203 | O15: 7.9933315 | P15: 1.9086727 | Q15: 2.4018505 | R15: 7.6848053 | S15: 5.4152967 | T15: 2.9015513 | U15: 3.1716294

Sheet 2012.2분기
A1: 2012년 2/4분기 수송 현황
T2: (단위:명,%)
A3: 구분 | B3: 합 계 | C3: 소태역 | D3: 학동증심사 입구역 | E3: 남광주역 | F3: 문화전당역 (구도청) | G3: 금남로4가역 | H3: 금남로5가역 | I3: 양동시장역 | J3: 돌고개역 | K3: 농성역 | L3: 화정역 | M3: 쌍촌역 | N3: 운천역 (호남대입구) | O3: 상무 | P3: 김대중 컨벤션센터역 | Q3: 공항역 | R3: 송정공원역 | S3: 송정리역 | T3: 도산역 | U3: 평동역
A4: 누계 | B4: =SUM(C4:U4) -> 4710190 | C4: =SUM(C7,C10,C13) -> 180564 | D4: =SUM(D7,D10,D13) -> 213087 | E4: =SUM(E7,E10,E13) -> 438691 | F4: =SUM(F7,F10,F13) -> 275096 | G4: =SUM(G7,G10,G13) -> 487441 | H4: =SUM(H7,H10,H13) -> 205249 | I4: =SUM(I7,I10,I13) -> 237789 | J4: =SUM(J7,J10,J13) -> 148290 | ... U4: =SUM(U7,U10,U13) -> 156993
A5: 일평균 | B5: =B4/91 -> 51760.33 | C5: =C4/91 -> 1984.2198 | D5: =D4/91 -> 2341.6154 | E5: =E4/91 -> 4820.7802 | F5: =F4/91 -> 3023.033 | G5: =G4/91 -> 5356.4945 | H5: =H4/91 -> 2255.4835 | I5: =I4/91 -> 2613.0659 | ... U5: =U4/91 -> 1725.1978
A6: 비율 | B6: =B5/$B$5*100 -> 100 | C6: =C5/$B$5*100 -> 3.8334759 | D6: =D5/$B$5*100 -> 4.5239576 | E6: =E5/$B$5*100 -> 9.3136583 | F6: =F5/$B$5*100 -> 5.8404438 | G6: =G5/$B$5*100 -> 10.348648 | H6: =H5/$B$5*100 -> 4.3575525 | I6: =I5/$B$5*100 -> 5.0483951 | ... U6: =U5/$B$5*100 -> 3.3330503
A7: 4월 | B7: =SUM(C7:U7) -> 1556132 | C7: 59097 | D7: 68927 | E7: 147144 | F7: 88793 | G7: 157712 | H7: 68081 | I7: 76488 | J7: 48858 | K7: 89962 | L7: 63438 | M7: 93568 | N7: 101733 | O7: 122071 | P7: 32515 | Q7: 38562 | R7: 119036 | S7: 85152 | T7: 44571 | U7: 50424
A8: 일평균 | B8: =B7/30 -> 51871.067 | C8: =C7/30 -> 1969.9 | D8: =D7/30 -> 2297.5667 | E8: =E7/30 -> 4904.8 | F8: =F7/30 -> 2959.7667 | G8: =G7/30 -> 5257.0667 | H8: =H7/30 -> 2269.3667 | I8: =I7/30 -> 2549.6 | ... U8: =U7/30 -> 1680.8
A9: 비율 | B9: =B8/$B$8*100 -> 100 | C9: =C7/$B$7*100 -> 3.7976855 | D9: =D7/$B$7*100 -> 4.42938 | E9: =E7/$B$7*100 -> 9.4557531 | F9: =F7/$B$7*100 -> 5.7060069 | G9: =G7/$B$7*100 -> 10.134873 | H9: =H7/$B$7*100 -> 4.3750145 | I9: =I7/$B$7*100 -> 4.9152643 | J9: =J7/$B$7*100 -> 3.1397079 | ... U9: =U7/$B$7*100 -> 3.2403421
A10: 5월 | B10: =SUM(C10:U10) -> 1647377 | C10: 61063 | D10: 74656 | E10: 155636 | F10: 100568 | G10: 173980 | H10: 70651 | I10: 82756 | J10: 51542 | K10: 84650 | L10: 67109 | M10: 99684 | N10: 104434 | O10: 129434 | P10: 32750 | Q10: 41253 | R10: 126238 | S10: 89690 | T10: 47579 | U10: 53704
A11: 일평균 | B11: =B10/31 -> 53141.194 | C11: =C10/31 -> 1969.7742 | D11: =D10/31 -> 2408.2581 | E11: =E10/31 -> 5020.5161 | F11: =F10/31 -> 3244.129 | G11: =G10/31 -> 5612.2581 | H11: =H10/31 -> 2279.0645 | I11: =I10/31 -> 2669.5484 | ... U11: =U10/31 -> 1732.3871
A12: 비율 | B12: =B11/$B$11*100 -> 100 | C12: =C11/$B$11*100 -> 3.7066804 | D12: =D11/$B$11*100 -> 4.5318103 | E12: =E11/$B$11*100 -> 9.4475035 | F12: =F11/$B$11*100 -> 6.104735 | G12: =G11/$B$11*100 -> 10.561031 | H12: =H11/$B$11*100 -> 4.2886965 | I12: =I11/$B$11*100 -> 5.023501 | ... U12: =U11/$B$11*100 -> 3.2599702
A13: 6월 | B13: =SUM(C13:U13) -> 1506681 | C13: 60404 | D13: 69504 | E13: 135911 | F13: 85735 | G13: 155749 | H13: 66517 | I13: 78545 | J13: 47890 | K13: 78983 | L13: 63771 | M13: 91000 | N13: 94903 | O13: 118043 | P13: 31584 | Q13: 37023 | R13: 112541 | S13: 81271 | T13: 44442 | U13: 52865
A14: 일평균 | B14: =B13/30 -> 50222.7 | C14: =C13/30 -> 2013.4667 | D14: =D13/30 -> 2316.8 | E14: =E13/30 -> 4530.3667 | F14: =F13/30 -> 2857.8333 | G14: =G13/30 -> 5191.6333 | H14: =H13/30 -> 2217.2333 | I14: =I13/30 -> 2618.1667 | ... U14: =U13/30 -> 1762.1667
A15: 비율 | B15: =B14/$B$14*100 -> 100 | C15: =C14/$B$14*100 -> 4.0090769 | D15: =D14/$B$14*100 -> 4.6130535 | E15: =E14/$B$14*100 -> 9.0205558 | F15: =F14/$B$14*100 -> 5.690322 | G15: =G14/$B$14*100 -> 10.337225 | H15: =H14/$B$14*100 -> 4.4148031 | I15: =I14/$B$14*100 -> 5.2131141 | ... U15: =U14/$B$14*100 -> 3.5087056

Sheet 2012.3분기
A1: 2012년 3/4분기 수송 현황
T2: (단위:명,%)
A3: 구분 | B3: 합 계 | C3: 소태역 | D3: 학동증심사 입구역 | E3: 남광주역 | F3: 문화전당역 (구도청) | G3: 금남로4가역 | H3: 금남로5가역 | I3: 양동시장역 | J3: 돌고개역 | K3: 농성역 | L3: 화정역 | M3: 쌍촌역 | N3: 운천역 (호남대입구) | O3: 상무 | P3: 김대중 컨벤션센터역 | Q3: 공항역 | R3: 송정공원역 | S3: 송정리역 | T3: 도산역 | U3: 평동역
A4: 누계 | B4: =SUM(C4:U4) -> 4236914 | C4: =SUM(C7,C10,C13) -> 168381 | D4: =SUM(D7,D10,D13) -> 189162 | E4: =SUM(E7,E10,E13) -> 368862 | F4: =SUM(F7,F10,F13) -> 254297 | G4: =SUM(G7,G10,G13) -> 455014 | H4: =SUM(H7,H10,H13) -> 186598 | I4: =SUM(I7,I10,I13) -> 221630 | J4: =SUM(J7,J10,J13) -> 136132 | ... U4: =SUM(U7,U10,U13) -> 149682
A5: 일평균 | B5: =B4/92 -> 46053.413 | C5: =C4/92 -> 1830.2283 | D5: =D4/92 -> 2056.1087 | E5: =E4/92 -> 4009.3696 | F5: =F4/92 -> 2764.0978 | G5: =G4/92 -> 4945.8043 | H5: =H4/92 -> 2028.2391 | I5: =I4/92 -> 2409.0217 | ... U5: =U4/92 -> 1626.9783
A6: 비율 | B6: =B5/$B$5*100 -> 100 | C6: =C5/$B$5*100 -> 3.9741425 | D6: =D5/$B$5*100 -> 4.4646174 | E6: =E5/$B$5*100 -> 8.7059119 | F6: =F5/$B$5*100 -> 6.0019391 | G6: =G5/$B$5*100 -> 10.739279 | H6: =H5/$B$5*100 -> 4.4041017 | I6: =I5/$B$5*100 -> 5.2309299 | ... U6: =U5/$B$5*100 -> 3.5328071
A7: 7월 | B7: =SUM(C7:U7) -> 1469133 | C7: 58568 | D7: 65276 | E7: 123171 | F7: 90578 | G7: 160964 | H7: 66263 | I7: 74598 | J7: 47173 | K7: 75887 | L7: 62171 | M7: 86926 | N7: 90517 | O7: 116794 | P7: 34057 | Q7: 35417 | R7: 106523 | S7: 78152 | T7: 44184 | U7: 51914
A8: 일평균 | B8: =B7/31 -> 47391.387 | C8: =C7/31 -> 1889.2903 | D8: =D7/31 -> 2105.6774 | E8: =E7/31 -> 3973.2581 | F8: =F7/31 -> 2921.871 | G8: =G7/31 -> 5192.3871 | H8: =H7/31 -> 2137.5161 | I8: =I7/31 -> 2406.3871 | ... U8: =U7/31 -> 1674.6452
A9: 비율 | B9: =B8/$B$8*100 -> 100 | C9: =C7/$B$7*100 -> 3.9865689 | D9: =D7/$B$7*100 -> 4.4431648 | E9: =E7/$B$7*100 -> 8.3839244 | F9: =F7/$B$7*100 -> 6.165405 | G9: =G7/$B$7*100 -> 10.956394 | H9: =H7/$B$7*100 -> 4.5103473 | I9: =I7/$B$7*100 -> 5.0776887 | J9: =J7/$B$7*100 -> 3.2109414 | ... U9: =U7/$B$7*100 -> 3.5336488
A10: 8월 | B10: =SUM(C10:U10) -> 1316793 | C10: 53408 | D10: 58732 | E10: 109337 | F10: 80741 | G10: 146235 | H10: 59649 | I10: 68416 | J10: 43458 | K10: 69684 | L10: 55055 | M10: 76828 | N10: 79736 | O10: 103770 | P10: 24388 | Q10: 31452 | R10: 93900 | S10: 74462 | T10: 39889 | U10: 47653
A11: 일평균 | B11: =B10/31 -> 42477.194 | C11: =C10/31 -> 1722.8387 | D11: =D10/31 -> 1894.5806 | E11: =E10/31 -> 3527 | F11: =F10/31 -> 2604.5484 | G11: =G10/31 -> 4717.2581 | H11: =H10/31 -> 1924.1613 | I11: =I10/31 -> 2206.9677 | ... U11: =U10/31 -> 1537.1935
A12: 비율 | B12: =B11/$B$11*100 -> 100 | C12: =C11/$B$11*100 -> 4.0559146 | D12: =D11/$B$11*100 -> 4.4602303 | E12: =E11/$B$11*100 -> 8.3032793 | F12: =F11/$B$11*100 -> 6.1316395 | G12: =G11/$B$11*100 -> 11.10539 | H12: =H11/$B$11*100 -> 4.5298692 | I12: =I11/$B$11*100 -> 5.1956534 | ... U12: =U11/$B$11*100 -> 3.618868
A13: 9월 | B13: =SUM(C13:U13) -> 1450988 | C13: 56405 | D13: 65154 | E13: 136354 | F13: 82978 | G13: 147815 | H13: 60686 | I13: 78616 | J13: 45501 | K13: 75330 | L13: 61881 | M13: 89006 | N13: 89727 | O13: 113093 | P13: 31251 | Q13: 35128 | R13: 109199 | S13: 79951 | T13: 42798 | U13: 50115
A14: 일평균 | B14: =B13/30 -> 48366.267 | C14: =C13/30 -> 1880.1667 | D14: =D13/30 -> 2171.8 | E14: =E13/30 -> 4545.1333 | F14: =F13/30 -> 2765.9333 | G14: =G13/30 -> 4927.1667 | H14: =H13/30 -> 2022.8667 | I14: =I13/30 -> 2620.5333 | ... U14: =U13/30 -> 1670.5
A15: 비율 | B15: =B14/$B$14*100 -> 100 | C15: =C14/$B$14*100 -> 3.8873512 | D15: =D14/$B$14*100 -> 4.4903197 | E15: =E14/$B$14*100 -> 9.397321 | F15: =F14/$B$14*100 -> 5.7187241 | G15: =G14/$B$14*100 -> 10.187197 | H15: =H14/$B$14*100 -> 4.1823916 | I15: =I14/$B$14*100 -> 5.4181013 | ... U15: =U14/$B$14*100 -> 3.4538535

Sheet 2012.4분기
A1: 2012년 4/4분기 수송 현황
T2: (단위:명,%)
A3: 구분 | B3: 합 계 | C3: 소태역 | D3: 학동증심사 입구역 | E3: 남광주역 | F3: 문화전당역 (구도청) | G3: 금남로4가역 | H3: 금남로5가역 | I3: 양동시장역 | J3: 돌고개역 | K3: 농성역 | L3: 화정역 | M3: 쌍촌역 | N3: 운천역 (호남대입구) | O3: 상무 | P3: 김대중 컨벤션센터역 | Q3: 공항역 | R3: 송정공원역 | S3: 송정리역 | T3: 도산역 | U3: 평동역
A4: 누계 | B4: =SUM(C4:U4) -> 4678418 | C4: =SUM(C7,C10,C13) -> 187926 | D4: =SUM(D7,D10,D13) -> 213176 | E4: =SUM(E7,E10,E13) -> 414106 | F4: =SUM(F7,F10,F13) -> 287632 | G4: =SUM(G7,G10,G13) -> 499237 | H4: =SUM(H7,H10,H13) -> 197756 | I4: =SUM(I7,I10,I13) -> 225459 | J4: =SUM(J7,J10,J13) -> 147779 | ... U4: =SUM(U7,U10,U13) -> 164098
A5: 일평균 | B5: =B4/92 -> 50852.37 | C5: =C4/92 -> 2042.6739 | D5: =D4/92 -> 2317.1304 | E5: =E4/92 -> 4501.1522 | F5: =F4/92 -> 3126.4348 | G5: =G4/92 -> 5426.4891 | H5: =H4/92 -> 2149.5217 | I5: =I4/92 -> 2450.6413 | ... U5: =U4/92 -> 1783.6739
A6: 비율 | B6: =B5/$B$5*100 -> 100 | C6: =C5/$B$5*100 -> 4.0168707 | D6: =D5/$B$5*100 -> 4.556583 | E6: =E5/$B$5*100 -> 8.8514109 | F6: =F5/$B$5*100 -> 6.1480612 | G6: =G5/$B$5*100 -> 10.671064 | H6: =H5/$B$5*100 -> 4.2269844 | I6: =I5/$B$5*100 -> 4.819129 | ... U6: =U5/$B$5*100 -> 3.5075532
A7: 10월 | B7: =SUM(C7:U7) -> 1591466 | C7: 62556 | D7: 73683 | E7: 141655 | F7: 101858 | G7: 176625 | H7: 66277 | I7: 75435 | J7: 49950 | K7: 82765 | L7: 66384 | M7: 96009 | N7: 97707 | O7: 124727 | P7: 34786 | Q7: 39460 | R7: 118293 | S7: 86075 | T7: 46378 | U7: 50843
A8: 일평균 | B8: =B7/31 -> 51337.613 | C8: =C7/31 -> 2017.9355 | D8: =D7/31 -> 2376.871 | E8: =E7/31 -> 4569.5161 | F8: =F7/31 -> 3285.7419 | G8: =G7/31 -> 5697.5806 | H8: =H7/31 -> 2137.9677 | I8: =I7/31 -> 2433.3871 | ... U8: =U7/31 -> 1640.0968
A9: 비율 | B9: =B8/$B$8*100 -> 100 | C9: =C7/$B$7*100 -> 3.9307155 | D9: =D7/$B$7*100 -> 4.6298821 | E9: =E7/$B$7*100 -> 8.9009127 | F9: =F7/$B$7*100 -> 6.4002624 | G9: =G7/$B$7*100 -> 11.098258 | H9: =H7/$B$7*100 -> 4.164525 | I9: =I7/$B$7*100 -> 4.7399693 | J9: =J7/$B$7*100 -> 3.1386156 | ... U9: =U7/$B$7*100 -> 3.1947274
A10: 11월 | B10: =SUM(C10:U10) -> 1559763 | C10: 64660 | D10: 70278 | E10: 142519 | F10: 90090 | G10: 159871 | H10: 66162 | I10: 76407 | J10: 48919 | K10: 80545 | L10: 65021 | M10: 95665 | N10: 98009 | O10: 124352 | P10: 33414 | Q10: 38723 | R10: 116972 | S10: 83333 | T10: 45412 | U10: 59411
A11: 일평균 | B11: =B10/30 -> 51992.1 | C11: =C10/30 -> 2155.3333 | D11: =D10/30 -> 2342.6 | E11: =E10/30 -> 4750.6333 | F11: =F10/30 -> 3003 | G11: =G10/30 -> 5329.0333 | H11: =H10/30 -> 2205.4 | I11: =I10/30 -> 2546.9 | ... U11: =U10/30 -> 1980.3667
A12: 비율 | B12: =B11/$B$11*100 -> 100 | C12: =C11/$B$11*100 -> 4.1455016 | D12: =D11/$B$11*100 -> 4.5056845 | E12: =E11/$B$11*100 -> 9.1372215 | F12: =F11/$B$11*100 -> 5.7758775 | G12: =G11/$B$11*100 -> 10.249698 | H12: =H11/$B$11*100 -> 4.2417983 | I12: =I11/$B$11*100 -> 4.8986288 | ... U12: =U11/$B$11*100 -> 3.8089761
A13: 12월 | B13: =SUM(C13:U13) -> 1527189 | C13: 60710 | D13: 69215 | E13: 129932 | F13: 95684 | G13: 162741 | H13: 65317 | I13: 73617 | J13: 48910 | K13: 79045 | L13: 63021 | M13: 92476 | N13: 96616 | O13: 123390 | P13: 30705 | Q13: 37134 | R13: 113227 | S13: 85866 | T13: 45739 | U13: 53844
A14: 일평균 | B14: =B13/31 -> 49264.161 | C14: =C13/31 -> 1958.3871 | D14: =D13/31 -> 2232.7419 | E14: =E13/31 -> 4191.3548 | F14: =F13/31 -> 3086.5806 | G14: =G13/31 -> 5249.7097 | H14: =H13/31 -> 2107 | I14: =I13/31 -> 2374.7419 | ... U14: =U13/31 -> 1736.9032
A15: 비율 | B15: =B14/$B$14*100 -> 100 | C15: =C14/$B$14*100 -> 3.9752775 | D15: =D14/$B$14*100 -> 4.532183 | E15: =E14/$B$14*100 -> 8.5079188 | F15: =F14/$B$14*100 -> 6.2653673 | G15: =G14/$B$14*100 -> 10.656245 | H15: =H14/$B$14*100 -> 4.2769428 | I15: =I14/$B$14*100 -> 4.820425 | ... U15: =U14/$B$14*100 -> 3.5256933

Sheet 2013.1분기
A1: 2013년 1/4분기 수송 현황
T2: (단위:명,%)
A3: 구분 | B3: 합 계 | C3: 소태역 | D3: 학동증심사 입구역 | E3: 남광주역 | F3: 문화전당역 (구도청) | G3: 금남로4가역 | H3: 금남로5가역 | I3: 양동시장역 | J3: 돌고개역 | K3: 농성역 | L3: 화정역 | M3: 쌍촌역 | N3: 운천역 (호남대입구) | O3: 상무 | P3: 김대중 컨벤션센터역 | Q3: 공항역 | R3: 송정공원역 | S3: 송정리역 | T3: 도산역 | U3: 평동역
A4: 누계 | B4: =SUM(C4:U4) -> 4357248 | C4: =SUM(C7,C10,C13) -> 165600 | D4: =SUM(D7,D10,D13) -> 190359 | E4: =SUM(E7,E10,E13) -> 374405 | F4: =SUM(F7,F10,F13) -> 272244 | G4: =SUM(G7,G10,G13) -> 465661 | H4: =SUM(H7,H10,H13) -> 191411 | I4: =SUM(I7,I10,I13) -> 219461 | J4: =SUM(J7,J10,J13) -> 144694 | ... U4: =SUM(U7,U10,U13) -> 152057
A5: 일평균 | B5: =B4/90 -> 48413.867 | C5: =C4/90 -> 1840 | D5: =D4/90 -> 2115.1 | E5: =E4/90 -> 4160.0556 | F5: =F4/90 -> 3024.9333 | G5: =G4/90 -> 5174.0111 | H5: =H4/90 -> 2126.7889 | I5: =I4/90 -> 2438.4556 | ... U5: =U4/90 -> 1689.5222
A6: 비율 | B6: =B5/$B$5*100 -> 100 | C6: =C5/$B$5*100 -> 3.800564 | D6: =D5/$B$5*100 -> 4.3687897 | E6: =E5/$B$5*100 -> 8.5926943 | F6: =F5/$B$5*100 -> 6.2480722 | G6: =G5/$B$5*100 -> 10.687044 | H6: =H5/$B$5*100 -> 4.3929333 | I6: =I5/$B$5*100 -> 5.0366883 | ... U6: =U5/$B$5*100 -> 3.4897486
A7: 1월 | B7: =SUM(C7:U7) -> 1474076 | C7: 56564 | D7: 63313 | E7: 123740 | F7: 93521 | G7: 160879 | H7: 65618 | I7: 76113 | J7: 50368 | K7: 77897 | L7: 60902 | M7: 87965 | N7: 93617 | O7: 119939 | P7: 28078 | Q7: 35682 | R7: 103759 | S7: 80552 | T7: 42744 | U7: 52825
A8: 일평균 | B8: =B7/31 -> 47550.839 | C8: =C7/31 -> 1824.6452 | D8: =D7/31 -> 2042.3548 | E8: =E7/31 -> 3991.6129 | F8: =F7/31 -> 3016.8065 | G8: =G7/31 -> 5189.6452 | H8: =H7/31 -> 2116.7097 | I8: =I7/31 -> 2455.2581 | ... U8: =U7/31 -> 1704.0323
A9: 비율 | B9: =B8/$B$8*100 -> 100 | C9: =C8/$B$14*100 -> 3.5576118 | D9: =D8/$B$14*100 -> 3.9820924 | E9: =E8/$B$14*100 -> 7.7826689 | F9: =F8/$B$14*100 -> 5.8820348 | G9: =G8/$B$14*100 -> 10.118539 | H9: =H8/$B$14*100 -> 4.1270662 | I9: =I8/$B$14*100 -> 4.7871527 | J9: =J8/$B$14*100 -> 3.1679123 | ... U9: =U8/$B$14*100 -> 3.3224462
A10: 2월 | B10: =SUM(C10:U10) -> 1293229 | C10: 50553 | D10: 55438 | E10: 105285 | F10: 84096 | G10: 142304 | H10: 56542 | I10: 66502 | J10: 43468 | K10: 68825 | L10: 53709 | M10: 76308 | N10: 80822 | O10: 105538 | P10: 23472 | Q10: 31215 | R10: 92832 | S10: 73921 | T10: 37624 | U10: 44775
A11: 일평균 | B11: =B10/28 -> 46186.75 | C11: =C10/28 -> 1805.4643 | D11: =D10/28 -> 1979.9286 | E11: =E10/28 -> 3760.1786 | F11: =F10/28 -> 3003.4286 | G11: =G10/28 -> 5082.2857 | H11: =H10/28 -> 2019.3571 | I11: =I10/28 -> 2375.0714 | ... U11: =U10/28 -> 1599.1071
A12: 비율 | B12: =B11/$B$11*100 -> 100 | C12: =C11/$B$14*100 -> 3.5202138 | D12: =D11/$B$14*100 -> 3.8603765 | E12: =E11/$B$14*100 -> 7.3314286 | F12: =F11/$B$14*100 -> 5.8559512 | G12: =G11/$B$14*100 -> 9.9092142 | H12: =H11/$B$14*100 -> 3.9372526 | I12: =I11/$B$14*100 -> 4.6308084 | J12: =J11/$B$14*100 -> 3.026856 | ... U12: =U11/$B$14*100 -> 3.1178678
A13: 3월 | B13: =SUM(C13:U13) -> 1589943 | C13: 58483 | D13: 71608 | E13: 145380 | F13: 94627 | G13: 162478 | H13: 69251 | I13: 76846 | J13: 50858 | K13: 85566 | L13: 65359 | M13: 96275 | N13: 103235 | O13: 124756 | P13: 33464 | Q13: 38560 | R13: 125040 | S13: 86663 | T13: 47037 | U13: 54457
A14: 일평균 | B14: =B13/31 -> 51288.484 | C14: =C13/31 -> 1886.5484 | D14: =D13/31 -> 2309.9355 | E14: =E13/31 -> 4689.6774 | F14: =F13/31 -> 3052.4839 | G14: =G13/31 -> 5241.2258 | H14: =H13/31 -> 2233.9032 | I14: =I13/31 -> 2478.9032 | ... U14: =U13/31 -> 1756.6774
A15: 비율 | B15: =B14/$B$14*100 -> 100 | C15: =C14/$B$14*100 -> 3.678308 | D15: =D14/$B$14*100 -> 4.5038093 | E15: =E14/$B$14*100 -> 9.143724 | F15: =F14/$B$14*100 -> 5.951597 | G15: =G14/$B$14*100 -> 10.219108 | H15: =H14/$B$14*100 -> 4.3555649 | I15: =I14/$B$14*100 -> 4.833255 | ... U15: =U14/$B$14*100 -> 3.4250913

Sheet 2013.2분기
A1: 2013년 2/4분기 수송 현황
T2: (단위:명,%)
A3: 구분 | B3: 합 계 | C3: 소태역 | D3: 학동증심사 입구역 | E3: 남광주역 | F3: 문화전당역 (구도청) | G3: 금남로4가역 | H3: 금남로5가역 | I3: 양동시장역 | J3: 돌고개역 | K3: 농성역 | L3: 화정역 | M3: 쌍촌역 | N3: 운천역 (호남대입구) | O3: 상무 | P3: 김대중 컨벤션센터역 | Q3: 공항역 | R3: 송정공원역 | S3: 송정리역 | T3: 도산역 | U3: 평동역
A4: 누계 | B4: =SUM(C4:U4) -> 4754896 | C4: =SUM(C7,C10,C13) -> 179277 | D4: =SUM(D7,D10,D13) -> 215873 | E4: =SUM(E7,E10,E13) -> 436831 | F4: =SUM(F7,F10,F13) -> 274202 | G4: =SUM(G7,G10,G13) -> 481992 | H4: =SUM(H7,H10,H13) -> 207032 | I4: =SUM(I7,I10,I13) -> 235073 | J4: =SUM(J7,J10,J13) -> 152838 | ... U4: =SUM(U7,U10,U13) -> 168537
A5: 일평균 | B5: =B4/91 -> 52251.604 | C5: =C4/91 -> 1970.0769 | D5: =D4/91 -> 2372.2308 | E5: =E4/91 -> 4800.3407 | F5: =F4/91 -> 3013.2088 | G5: =G4/91 -> 5296.6154 | H5: =H4/91 -> 2275.0769 | I5: =I4/91 -> 2583.2198 | ... U5: =U4/91 -> 1852.0549
A6: 비율 | B6: =B5/$B$5*100 -> 100 | C6: =C5/$B$5*100 -> 3.7703664 | D6: =D5/$B$5*100 -> 4.5400152 | E6: =E5/$B$5*100 -> 9.1869728 | F6: =F5/$B$5*100 -> 5.7667297 | G6: =G5/$B$5*100 -> 10.136752 | H6: =H5/$B$5*100 -> 4.3540805 | I6: =I5/$B$5*100 -> 4.9438095 | ... U6: =U5/$B$5*100 -> 3.5444939
A7: 4월 | B7: =SUM(C7:U7) -> 1601118 | C7: 59534 | D7: 71265 | E7: 150914 | F7: 88584 | G7: 157064 | H7: 70252 | I7: 77531 | J7: 51526 | K7: 91795 | L7: 65417 | M7: 98521 | N7: 106950 | O7: 124274 | P7: 33437 | Q7: 39487 | R7: 125411 | S7: 86457 | T7: 46443 | U7: 56256
A8: 일평균 | B8: =B7/30 -> 53370.6 | C8: =C7/30 -> 1984.4667 | D8: =D7/30 -> 2375.5 | E8: =E7/30 -> 5030.4667 | F8: =F7/30 -> 2952.8 | G8: =G7/30 -> 5235.4667 | H8: =H7/30 -> 2341.7333 | I8: =I7/30 -> 2584.3667 | ... U8: =U7/30 -> 1875.2
A9: 비율 | B9: =B8/$B$8*100 -> 100 | C9: =C8/$B$14*100 -> 4.0192354 | D9: =D8/$B$14*100 -> 4.8112139 | E9: =E8/$B$14*100 -> 10.188445 | F9: =F8/$B$14*100 -> 5.9804473 | G9: =G8/$B$14*100 -> 10.603641 | H9: =H8/$B$14*100 -> 4.7428247 | I9: =I8/$B$14*100 -> 5.2342416 | J9: =J8/$B$14*100 -> 3.4786025 | ... U9: =U8/$B$14*100 -> 3.7979324
A10: 5월 | B10: =SUM(C10:U10) -> 1672551 | C10: 62954 | D10: 75572 | E10: 154553 | F10: 100327 | G10: 173116 | H10: 71630 | I10: 81906 | J10: 53179 | K10: 87792 | L10: 68840 | M10: 100990 | N10: 109314 | O10: 129192 | P10: 33679 | Q10: 41037 | R10: 129606 | S10: 91644 | T10: 49029 | U10: 58191
A11: 일평균 | B11: =B10/31 -> 53953.258 | C11: =C10/31 -> 2030.7742 | D11: =D10/31 -> 2437.8065 | E11: =E10/31 -> 4985.5806 | F11: =F10/31 -> 3236.3548 | G11: =G10/31 -> 5584.3871 | H11: =H10/31 -> 2310.6452 | I11: =I10/31 -> 2642.129 | ... U11: =U10/31 -> 1877.129
A12: 비율 | B12: =B11/$B$11*100 -> 100 | C12: =C11/$B$14*100 -> 4.1130243 | D12: =D11/$B$14*100 -> 4.9374062 | E12: =E11/$B$14*100 -> 10.097535 | F12: =F11/$B$14*100 -> 6.5547445 | G12: =G11/$B$14*100 -> 11.310327 | H12: =H11/$B$14*100 -> 4.6798603 | I12: =I11/$B$14*100 -> 5.3512305 | J12: =J11/$B$14*100 -> 3.4743863 | ... U12: =U11/$B$14*100 -> 3.8018394
A13: 6월 | B13: =SUM(C13:U13) -> 1481227 | C13: 56789 | D13: 69036 | E13: 131364 | F13: 85291 | G13: 151812 | H13: 65150 | I13: 75636 | J13: 48133 | K13: 77891 | L13: 63035 | M13: 90679 | N13: 94895 | O13: 116900 | P13: 31048 | Q13: 35422 | R13: 110449 | S13: 80386 | T13: 43221 | U13: 54090
A14: 일평균 | B14: =B13/30 -> 49374.233 | C14: =C13/30 -> 1892.9667 | D14: =D13/30 -> 2301.2 | E14: =E13/30 -> 4378.8 | F14: =F13/30 -> 2843.0333 | G14: =G13/30 -> 5060.4 | H14: =H13/30 -> 2171.6667 | I14: =I13/30 -> 2521.2 | ... U14: =U13/30 -> 1803
A15: 비율 | B15: =B14/$B$14*100 -> 100 | C15: =C14/$B$14*100 -> 3.8339161 | D15: =D14/$B$14*100 -> 4.6607306 | E15: =E14/$B$14*100 -> 8.8685934 | F15: =F14/$B$14*100 -> 5.7581316 | G15: =G14/$B$14*100 -> 10.249071 | H15: =H14/$B$14*100 -> 4.3983805 | I15: =I14/$B$14*100 -> 5.1063071 | ... U15: =U14/$B$14*100 -> 3.6517023

Sheet 2013.3분기
A1: 2013년 3/4분기 수송 현황
T2: (단위:명,%)
A3: 구분 | B3: 합 계 | C3: 소태역 | D3: 학동증심사 입구역 | E3: 남광주역 | F3: 문화전당역 (구도청) | G3: 금남로4가역 | H3: 금남로5가역 | I3: 양동시장역 | J3: 돌고개역 | K3: 농성역 | L3: 화정역 | M3: 쌍촌역 | N3: 운천역 (호남대입구) | O3: 상무 | P3: 김대중 컨벤션센터역 | Q3: 공항역 | R3: 송정공원역 | S3: 송정리역 | T3: 도산역 | U3: 평동역
A4: 누계 | B4: =SUM(C4:U4) -> 4204561 | C4: =SUM(C7,C10,C13) -> 164125 | D4: =SUM(D7,D10,D13) -> 194097 | E4: =SUM(E7,E10,E13) -> 357286 | F4: =SUM(F7,F10,F13) -> 250777 | G4: =SUM(G7,G10,G13) -> 449554 | H4: =SUM(H7,H10,H13) -> 186937 | I4: =SUM(I7,I10,I13) -> 217766 | J4: =SUM(J7,J10,J13) -> 139020 | ... U4: =SUM(U7,U10,U13) -> 155835
A5: 일평균 | B5: =B4/92 -> 45701.75 | C5: =C4/92 -> 1783.9674 | D5: =D4/92 -> 2109.75 | E5: =E4/92 -> 3883.5435 | F5: =F4/92 -> 2725.837 | G5: =G4/92 -> 4886.4565 | H5: =H4/92 -> 2031.9239 | I5: =I4/92 -> 2367.0217 | ... U5: =U4/92 -> 1693.8587
A6: 비율 | B6: =B5/$B$5*100 -> 100 | C6: =C5/$B$5*100 -> 3.9034991 | D6: =D5/$B$5*100 -> 4.616344 | E6: =E5/$B$5*100 -> 8.4975816 | F6: =F5/$B$5*100 -> 5.9644039 | G6: =G5/$B$5*100 -> 10.692056 | H6: =H5/$B$5*100 -> 4.4460528 | I6: =I5/$B$5*100 -> 5.1792803 | ... U6: =U5/$B$5*100 -> 3.7063322
A7: 7월 | B7: =SUM(C7:U7) -> 1480014 | C7: 57298 | D7: 67889 | E7: 123004 | F7: 88080 | G7: 159540 | H7: 67714 | I7: 74997 | J7: 49623 | K7: 77911 | L7: 63437 | M7: 88231 | N7: 93263 | O7: 118937 | P7: 34045 | Q7: 34233 | R7: 105360 | S7: 78063 | T7: 42907 | U7: 55482
A8: 일평균 | B8: =B7/31 -> 47742.387 | C8: =C7/31 -> 1848.3226 | D8: =D7/31 -> 2189.9677 | E8: =E7/31 -> 3967.871 | F8: =F7/31 -> 2841.2903 | G8: =G7/31 -> 5146.4516 | H8: =H7/31 -> 2184.3226 | I8: =I7/31 -> 2419.2581 | ... U8: =U7/31 -> 1789.7419
A9: 비율 | B9: =B8/$B$8*100 -> 100 | C9: =C8/$B$14*100 -> 4.0044137 | D9: =D8/$B$14*100 -> 4.7445922 | E9: =E8/$B$14*100 -> 8.5964415 | F9: =F8/$B$14*100 -> 6.1556906 | G9: =G8/$B$14*100 -> 11.149851 | H9: =H8/$B$14*100 -> 4.7323619 | I9: =I8/$B$14*100 -> 5.2413525 | J9: =J8/$B$14*100 -> 3.4680272 | ... U9: =U8/$B$14*100 -> 3.877498
A10: 8월 | B10: =SUM(C10:U10) -> 1339833 | C10: 53042 | D10: 62161 | E10: 108446 | F10: 81222 | G10: 147074 | H10: 60680 | I10: 69855 | J10: 44902 | K10: 70796 | L10: 55431 | M10: 76785 | N10: 81657 | O10: 106408 | P10: 28119 | Q10: 31948 | R10: 93704 | S10: 74953 | T10: 40802 | U10: 51848
A11: 일평균 | B11: =B10/31 -> 43220.419 | C11: =C10/31 -> 1711.0323 | D11: =D10/31 -> 2005.1935 | E11: =E10/31 -> 3498.2581 | F11: =F10/31 -> 2620.0645 | G11: =G10/31 -> 4744.3226 | H11: =H10/31 -> 1957.4194 | I11: =I10/31 -> 2253.3871 | ... U11: =U10/31 -> 1672.5161
A12: 비율 | B12: =B11/$B$11*100 -> 100 | C12: =C11/$B$14*100 -> 3.7069725 | D12: =D11/$B$14*100 -> 4.3442766 | E12: =E11/$B$14*100 -> 7.5790193 | F12: =F11/$B$14*100 -> 5.6764022 | G12: =G11/$B$14*100 -> 10.278634 | H12: =H11/$B$14*100 -> 4.2407732 | I12: =I11/$B$14*100 -> 4.881991 | J12: =J11/$B$14*100 -> 3.1380883 | ... U12: =U11/$B$14*100 -> 3.6235269
A13: 9월 | B13: =SUM(C13:U13) -> 1384714 | C13: 53785 | D13: 64047 | E13: 125836 | F13: 81475 | G13: 142940 | H13: 58543 | I13: 72914 | J13: 44495 | K13: 71473 | L13: 57879 | M13: 82967 | N13: 86650 | O13: 107100 | P13: 29562 | Q13: 33368 | R13: 105564 | S13: 75520 | T13: 42091 | U13: 48505
A14: 일평균 | B14: =B13/30 -> 46157.133 | C14: =C13/30 -> 1792.8333 | D14: =D13/30 -> 2134.9 | E14: =E13/30 -> 4194.5333 | F14: =F13/30 -> 2715.8333 | G14: =G13/30 -> 4764.6667 | H14: =H13/30 -> 1951.4333 | I14: =I13/30 -> 2430.4667 | ... U14: =U13/30 -> 1616.8333
A15: 비율 | B15: =B14/$B$14*100 -> 100 | C15: =C14/$B$14*100 -> 3.8841956 | D15: =D14/$B$14*100 -> 4.6252872 | E15: =E14/$B$14*100 -> 9.0875083 | F15: =F14/$B$14*100 -> 5.8838865 | G15: =G14/$B$14*100 -> 10.322709 | H15: =H14/$B$14*100 -> 4.2278044 | I15: =I14/$B$14*100 -> 5.2656361 | ... U15: =U14/$B$14*100 -> 3.5028894

Sheet 2013.4분기
A1: 2013년 4/4분기 수송 현황
T2: (단위:명,%)
A3: 구분 | B3: 합 계 | C3: 소태역 | D3: 학동증심사 입구역 | E3: 남광주역 | F3: 문화전당역 (구도청) | G3: 금남로4가역 | H3: 금남로5가역 | I3: 양동시장역 | J3: 돌고개역 | K3: 농성역 | L3: 화정역 | M3: 쌍촌역 | N3: 운천역 (호남대입구) | O3: 상무 | P3: 김대중 컨벤션센터역 | Q3: 공항역 | R3: 송정공원역 | S3: 송정리역 | T3: 도산역 | U3: 평동역
A4: 누계 | B4: =SUM(C4:U4) -> 4689274 | C4: =SUM(C7,C10,C13) -> 184676 | D4: =SUM(D7,D10,D13) -> 216299 | E4: =SUM(E7,E10,E13) -> 410538 | F4: =SUM(F7,F10,F13) -> 272313 | G4: =SUM(G7,G10,G13) -> 498487 | H4: =SUM(H7,H10,H13) -> 205971 | I4: =SUM(I7,I10,I13) -> 220013 | J4: =SUM(J7,J10,J13) -> 147735 | ... U4: =SUM(U7,U10,U13) -> 179175
A5: 일평균 | B5: =B4/92 -> 50970.37 | C5: =C4/92 -> 2007.3478 | D5: =D4/92 -> 2351.0761 | E5: =E4/92 -> 4462.3696 | F5: =F4/92 -> 2959.9239 | G5: =G4/92 -> 5418.337 | H5: =H4/92 -> 2238.8152 | I5: =I4/92 -> 2391.4457 | ... U5: =U4/92 -> 1947.5543
A6: 비율 | B6: =B5/$B$5*100 -> 100 | C6: =C5/$B$5*100 -> 3.9382642 | D6: =D5/$B$5*100 -> 4.612633 | E6: =E5/$B$5*100 -> 8.7548307 | F6: =F5/$B$5*100 -> 5.8071463 | G6: =G5/$B$5*100 -> 10.630366 | H6: =H5/$B$5*100 -> 4.3923857 | I6: =I5/$B$5*100 -> 4.691835 | ... U6: =U5/$B$5*100 -> 3.8209539
A7: 10월 | B7: =SUM(C7:U7) -> 1595028 | C7: 61623 | D7: 73505 | E7: 140459 | F7: 97041 | G7: 174173 | H7: 68392 | I7: 74447 | J7: 50089 | K7: 85465 | L7: 65544 | M7: 95379 | N7: 100954 | O7: 124992 | P7: 36471 | Q7: 39100 | R7: 119157 | S7: 82518 | T7: 47587 | U7: 58132
A8: 일평균 | B8: =B7/31 -> 51452.516 | C8: =C7/31 -> 1987.8387 | D8: =D7/31 -> 2371.129 | E8: =E7/31 -> 4530.9355 | F8: =F7/31 -> 3130.3548 | G8: =G7/31 -> 5618.4839 | H8: =H7/31 -> 2206.1935 | I8: =I7/31 -> 2401.5161 | ... U8: =U7/31 -> 1875.2258
A9: 비율 | B9: =B8/$B$8*100 -> 100 | C9: =C8/$B$14*100 -> 3.9693751 | D9: =D8/$B$14*100 -> 4.7347405 | E9: =E8/$B$14*100 -> 9.0475059 | F9: =F8/$B$14*100 -> 6.250785 | G9: =G8/$B$14*100 -> 11.219155 | H9: =H8/$B$14*100 -> 4.4053925 | I9: =I8/$B$14*100 -> 4.7954184 | J9: =J8/$B$14*100 -> 3.2264257 | ... U9: =U8/$B$14*100 -> 3.7445063
A10: 11월 | B10: =SUM(C10:U10) -> 1541785 | C10: 61925 | D10: 70577 | E10: 138151 | F10: 85572 | G10: 156888 | H10: 66469 | I10: 72854 | J10: 48408 | K10: 84350 | L10: 63396 | M10: 92350 | N10: 98347 | O10: 122996 | P10: 38460 | Q10: 37769 | R10: 114490 | S10: 80186 | T10: 46195 | U10: 62402
A11: 일평균 | B11: =B10/30 -> 51392.833 | C11: =C10/30 -> 2064.1667 | D11: =D10/30 -> 2352.5667 | E11: =E10/30 -> 4605.0333 | F11: =F10/30 -> 2852.4 | G11: =G10/30 -> 5229.6 | H11: =H10/30 -> 2215.6333 | I11: =I10/30 -> 2428.4667 | ... U11: =U10/30 -> 2080.0667
A12: 비율 | B12: =B11/$B$11*100 -> 100 | C12: =C11/$B$14*100 -> 4.121789 | D12: =D11/$B$14*100 -> 4.6976746 | E12: =E11/$B$14*100 -> 9.1954666 | F12: =F11/$B$14*100 -> 5.6957566 | G12: =G11/$B$14*100 -> 10.44262 | H12: =H11/$B$14*100 -> 4.4242421 | I12: =I11/$B$14*100 -> 4.849234 | J12: =J11/$B$14*100 -> 3.2220842 | ... U12: =U11/$B$14*100 -> 4.1535386
A13: 12월 | B13: =SUM(C13:U13) -> 1552461 | C13: 61128 | D13: 72217 | E13: 131928 | F13: 89700 | G13: 167426 | H13: 71110 | I13: 72712 | J13: 49238 | K13: 82707 | L13: 64720 | M13: 90943 | N13: 100380 | O13: 127980 | P13: 32517 | Q13: 37545 | R13: 114485 | S13: 79994 | T13: 47090 | U13: 58641
A14: 일평균 | B14: =B13/31 -> 50079.387 | C14: =C13/31 -> 1971.871 | D14: =D13/31 -> 2329.5806 | E14: =E13/31 -> 4255.7419 | F14: =F13/31 -> 2893.5484 | G14: =G13/31 -> 5400.8387 | H14: =H13/31 -> 2293.871 | I14: =I13/31 -> 2345.5484 | ... U14: =U13/31 -> 1891.6452
A15: 비율 | B15: =B14/$B$14*100 -> 100 | C15: =C14/$B$14*100 -> 3.9374902 | D15: =D14/$B$14*100 -> 4.6517755 | E15: =E14/$B$14*100 -> 8.4979913 | F15: =F14/$B$14*100 -> 5.7779229 | G15: =G14/$B$14*100 -> 10.784554 | H15: =H14/$B$14*100 -> 4.5804693 | I15: =I14/$B$14*100 -> 4.6836603 | ... U15: =U14/$B$14*100 -> 3.777293

Sheet 2014.1분기
A1: 2014년 1/4분기 수송 현황
T2: (단위:명,%)
A3: 구분 | B3: 합 계 | C3: 소태역 | D3: 학동증심사 입구역 | E3: 남광주역 | F3: 문화전당역 (구도청) | G3: 금남로4가역 | H3: 금남로5가역 | I3: 양동시장역 | J3: 돌고개역 | K3: 농성역 | L3: 화정역 | M3: 쌍촌역 | N3: 운천역 (호남대입구) | O3: 상무 | P3: 김대중 컨벤션센터역 | Q3: 공항역 | R3: 송정공원역 | S3: 송정리역 | T3: 도산역 | U3: 평동역
A4: 누계 | B4: =SUM(C4:U4) -> 4340103 | C4: =SUM(C7,C10,C13) -> 170691 | D4: =SUM(D7,D10,D13) -> 189109 | E4: =SUM(E7,E10,E13) -> 371170 | F4: =SUM(F7,F10,F13) -> 262608 | G4: =SUM(G7,G10,G13) -> 467453 | H4: =SUM(H7,H10,H13) -> 196569 | I4: =SUM(I7,I10,I13) -> 207667 | J4: =SUM(J7,J10,J13) -> 144923 | ... U4: =SUM(U7,U10,U13) -> 163873
A5: 일평균 | B5: =B4/90 -> 48223.367 | C5: =C4/90 -> 1896.5667 | D5: =D4/90 -> 2101.2111 | E5: =E4/90 -> 4124.1111 | F5: =F4/90 -> 2917.8667 | G5: =G4/90 -> 5193.9222 | H5: =H4/90 -> 2184.1 | I5: =I4/90 -> 2307.4111 | ... U5: =U4/90 -> 1820.8111
A6: 비율 | B6: =B5/$B$5*100 -> 100 | C6: =C5/$B$5*100 -> 3.932879 | D6: =D5/$B$5*100 -> 4.3572468 | E6: =E5/$B$5*100 -> 8.5521012 | F6: =F5/$B$5*100 -> 6.050732 | G6: =G5/$B$5*100 -> 10.770551 | H6: =H5/$B$5*100 -> 4.5291321 | I6: =I5/$B$5*100 -> 4.7848404 | ... U6: =U5/$B$5*100 -> 3.775786
A7: 1월 | B7: =SUM(C7:U7) -> 1405288 | C7: 56157 | D7: 60555 | E7: 117976 | F7: 87207 | G7: 152315 | H7: 63831 | I7: 73916 | J7: 46420 | K7: 76896 | L7: 57481 | M7: 83440 | N7: 89571 | O7: 114437 | P7: 26557 | Q7: 33337 | R7: 96612 | S7: 73658 | T7: 41491 | U7: 53431
A8: 일평균 | B8: =B7/31 -> 45331.871 | C8: =C7/31 -> 1811.5161 | D8: =D7/31 -> 1953.3871 | E8: =E7/31 -> 3805.6774 | F8: =F7/31 -> 2813.129 | G8: =G7/31 -> 4913.3871 | H8: =H7/31 -> 2059.0645 | I8: =I7/31 -> 2384.3871 | ... U8: =U7/31 -> 1723.5806
A9: 비율 | B9: =B8/$B$8*100 -> 100 | C9: =C8/$B$14*100 -> 3.5383203 | D9: =D8/$B$14*100 -> 3.8154279 | E9: =E8/$B$14*100 -> 7.4333899 | F9: =F8/$B$14*100 -> 5.4947077 | G9: =G8/$B$14*100 -> 9.5970094 | H9: =H8/$B$14*100 -> 4.021841 | I9: =I8/$B$14*100 -> 4.6572731 | J9: =J8/$B$14*100 -> 2.9248149 | ... U9: =U8/$B$14*100 -> 3.3665615
A10: 2월 | B10: =SUM(C10:U10) -> 1347706 | C10: 53627 | D10: 58236 | E10: 108535 | F10: 85080 | G10: 151891 | H10: 63031 | I10: 60935 | J10: 45293 | K10: 74323 | L10: 54860 | M10: 78141 | N10: 86358 | O10: 109274 | P10: 29135 | Q10: 31841 | R10: 95173 | S10: 70343 | T10: 40902 | U10: 50728
A11: 일평균 | B11: =B10/28 -> 48132.357 | C11: =C10/28 -> 1915.25 | D11: =D10/28 -> 2079.8571 | E11: =E10/28 -> 3876.25 | F11: =F10/28 -> 3038.5714 | G11: =G10/28 -> 5424.6786 | H11: =H10/28 -> 2251.1071 | I11: =I10/28 -> 2176.25 | ... U11: =U10/28 -> 1811.7143
A12: 비율 | B12: =B11/$B$11*100 -> 100 | C12: =C11/$B$14*100 -> 3.7409371 | D12: =D11/$B$14*100 -> 4.0624539 | E12: =E11/$B$14*100 -> 7.5712349 | F12: =F11/$B$14*100 -> 5.9350501 | G12: =G11/$B$14*100 -> 10.595683 | H12: =H11/$B$14*100 -> 4.3969457 | I12: =I11/$B$14*100 -> 4.250732 | J12: =J11/$B$14*100 -> 3.1595701 | ... U12: =U11/$B$14*100 -> 3.5387074
A13: 3월 | B13: =SUM(C13:U13) -> 1587109 | C13: 60907 | D13: 70318 | E13: 144659 | F13: 90321 | G13: 163247 | H13: 69707 | I13: 72816 | J13: 53210 | K13: 91856 | L13: 65748 | M13: 93985 | N13: 104314 | O13: 124333 | P13: 34513 | Q13: 37729 | R13: 120731 | S13: 80914 | T13: 48087 | U13: 59714
A14: 일평균 | B14: =B13/31 -> 51197.065 | C14: =C13/31 -> 1964.7419 | D14: =D13/31 -> 2268.3226 | E14: =E13/31 -> 4666.4194 | F14: =F13/31 -> 2913.5806 | G14: =G13/31 -> 5266.0323 | H14: =H13/31 -> 2248.6129 | I14: =I13/31 -> 2348.9032 | ... U14: =U13/31 -> 1926.2581
A15: 비율 | B15: =B14/$B$14*100 -> 100 | C15: =C14/$B$14*100 -> 3.8376066 | D15: =D14/$B$14*100 -> 4.4305716 | E15: =E14/$B$14*100 -> 9.1146229 | F15: =F14/$B$14*100 -> 5.6909135 | G15: =G14/$B$14*100 -> 10.285809 | H15: =H14/$B$14*100 -> 4.3920739 | I15: =I14/$B$14*100 -> 4.5879647 | ... U15: =U14/$B$14*100 -> 3.7624385

Sheet 2014.2분기
A1: 2014년 2/4분기 수송 현황
T2: (단위:명,%)
A3: 구분 | B3: 합 계 | C3: 소태역 | D3: 학동증심사 입구역 | E3: 남광주역 | F3: 문화전당역 (구도청) | G3: 금남로4가역 | H3: 금남로5가역 | I3: 양동시장역 | J3: 돌고개역 | K3: 농성역 | L3: 화정역 | M3: 쌍촌역 | N3: 운천역 (호남대입구) | O3: 상무 | P3: 김대중 컨벤션센터역 | Q3: 공항역 | R3: 송정공원역 | S3: 송정리역 | T3: 도산역 | U3: 평동역
A4: 년누계 | B4: ='2014.1분기'!B4+'2014.2분기'!B7 -> 9010742 | C4: ='2014.1분기'!C4+'2014.2분기'!C7 -> 352513 | D4: ='2014.1분기'!D4+'2014.2분기'!D7 -> 400571 | E4: ='2014.1분기'!E4+'2014.2분기'!E7 -> 796599 | F4: ='2014.1분기'!F4+'2014.2분기'!F7 -> 527577 | G4: ='2014.1분기'!G4+'2014.2분기'!G7 -> 943540 | H4: ='2014.1분기'!H4+'2014.2분기'!H7 -> 397027 | I4: ='2014.1분기'!I4+'2014.2분기'!I7 -> 432843 | ... U4: ='2014.1분기'!U4+'2014.2분기'!U7 -> 344038
A5: 일평균 | B5: =B4/181 -> 49783.105 | C5: =C4/181 -> 1947.5856 | D5: =D4/181 -> 2213.0994 | E5: =E4/181 -> 4401.0994 | F5: =F4/181 -> 2914.7901 | G5: =G4/181 -> 5212.9282 | H5: =H4/181 -> 2193.5193 | I5: =I4/181 -> 2391.3978 | ... U5: =U4/181 -> 1900.7624
A6: 비 율 | B6: =B5/$B$5*100 -> 100 | C6: =C5/$B$5*100 -> 3.9121418 | D6: =D5/$B$5*100 -> 4.445483 | E6: =E5/$B$5*100 -> 8.8405483 | F6: =F5/$B$5*100 -> 5.8549784 | G6: =G5/$B$5*100 -> 10.47128 | H6: =H5/$B$5*100 -> 4.4061521 | I6: =I5/$B$5*100 -> 4.8036333 | ... U6: =U5/$B$5*100 -> 3.8180873
A7: 분기누계 | B7: =SUM(B16,B13,B10) -> 4670639 | C7: =SUM(C16,C13,C10) -> 181822 | D7: =SUM(D16,D13,D10) -> 211462 | E7: =SUM(E16,E13,E10) -> 425429 | F7: =SUM(F16,F13,F10) -> 264969 | G7: =SUM(G16,G13,G10) -> 476087 | H7: =SUM(H16,H13,H10) -> 200458 | I7: =SUM(I16,I13,I10) -> 225176 | ... U7: =SUM(U16,U13,U10) -> 180165
A8: 일평균 | B8: =B7/91 -> 51325.703 | C8: =C7/91 -> 1998.044 | D8: =D7/91 -> 2323.7582 | E8: =E7/91 -> 4675.044 | F8: =F7/91 -> 2911.7473 | G8: =G7/91 -> 5231.7253 | H8: =H7/91 -> 2202.8352 | I8: =I7/91 -> 2474.4615 | ... U8: =U7/91 -> 1979.8352
A9: 비 율 | B9: =B8/$B$8*100 -> 100 | C9: =C8/$B$8*100 -> 3.892872 | D9: =D8/$B$8*100 -> 4.5274747 | E9: =E8/$B$8*100 -> 9.1085824 | F9: =F8/$B$8*100 -> 5.6730781 | G9: =G8/$B$8*100 -> 10.193188 | H9: =H8/$B$8*100 -> 4.2918753 | I9: =I8/$B$8*100 -> 4.8210962 | ... U9: =U8/$B$8*100 -> 3.8573951
A10: 4 월 | B10: =SUM(C10:U10) -> 1590863 | C10: =59445+2146 -> 61591 | D10: 70876 | E10: 149581 | F10: 85852 | G10: 155463 | H10: 68434 | I10: 75481 | J10: 53429 | K10: 92995 | L10: 65330 | M10: 93633 | N10: 107963 | O10: 124511 | P10: 33555 | Q10: 39668 | R10: 122460 | S10: 80512 | T10: 47703 | U10: 61826
A11: 일평균 | B11: =B10/30 -> 53028.767 | C11: =C10/30 -> 2053.0333 | D11: =D10/30 -> 2362.5333 | E11: =E10/30 -> 4986.0333 | F11: =F10/30 -> 2861.7333 | G11: =G10/30 -> 5182.1 | H11: =H10/30 -> 2281.1333 | I11: =I10/30 -> 2516.0333 | ... U11: =U10/30 -> 2060.8667
A12: 비 율 | B12: =B11/$B$11*100 -> 100 | C12: =C11/$B$11*100 -> 3.8715464 | D12: =D11/$B$11*100 -> 4.4551919 | E12: =E11/$B$11*100 -> 9.4025067 | F12: =F11/$B$11*100 -> 5.3965678 | G12: =G11/$B$11*100 -> 9.7722431 | H12: =H11/$B$11*100 -> 4.3016903 | I12: =I11/$B$11*100 -> 4.7446575 | ... U12: =U11/$B$11*100 -> 3.8863183
A13: 5 월 | B13: =SUM(C13:U13) -> 1597378 | C13: =59347+2238 -> 61585 | D13: 72572 | E13: 146118 | F13: 94038 | G13: 165451 | H13: 67338 | I13: 76625 | J13: 53500 | K13: 88641 | L13: 65286 | M13: 92797 | N13: 104299 | O13: 125113 | P13: 31986 | Q13: 38449 | R13: 121746 | S13: 82775 | T13: 48551 | U13: 60508
A14: 일평균 | B14: =B13/31 -> 51528.323 | C14: =C13/31 -> 1986.6129 | D14: =D13/31 -> 2341.0323 | E14: =E13/31 -> 4713.4839 | F14: =F13/31 -> 3033.4839 | G14: =G13/31 -> 5337.129 | H14: =H13/31 -> 2172.1935 | I14: =I13/31 -> 2471.7742 | ... U14: =U13/31 -> 1951.871
A15: 비 율 | B15: =B14/$B$14*100 -> 100 | C15: =C14/$B$14*100 -> 3.8553805 | D15: =D14/$B$14*100 -> 4.5431952 | E15: =E14/$B$14*100 -> 9.1473652 | F15: =F14/$B$14*100 -> 5.8870224 | G15: =G14/$B$14*100 -> 10.357661 | H15: =H14/$B$14*100 -> 4.2155332 | I15: =I14/$B$14*100 -> 4.7969235 | ... U15: =U14/$B$14*100 -> 3.7879575
A16: 6 월 | B16: =SUM(C16:U16) -> 1482398 | C16: =56458+2188 -> 58646 | D16: 68014 | E16: 129730 | F16: 85079 | G16: 155173 | H16: 64686 | I16: 73070 | J16: 50938 | K16: 85352 | L16: 61484 | M16: 86522 | N16: 94754 | O16: 116450 | P16: 29738 | Q16: 35614 | R16: 109188 | S16: 74627 | T16: 45502 | U16: 57831
A17: 일평균 | B17: =B16/30 -> 49413.267 | C17: =C16/30 -> 1954.8667 | D17: =D16/30 -> 2267.1333 | E17: =E16/30 -> 4324.3333 | F17: =F16/30 -> 2835.9667 | G17: =G16/30 -> 5172.4333 | H17: =H16/30 -> 2156.2 | I17: =I16/30 -> 2435.6667 | ... U17: =U16/30 -> 1927.7
A18: 비 율 | B18: =B17/$B$17*100 -> 100 | C18: =C17/$B$17*100 -> 3.9561575 | D18: =D17/$B$17*100 -> 4.5881066 | E18: =E17/$B$17*100 -> 8.751361 | F18: =F17/$B$17*100 -> 5.7392819 | G18: =G17/$B$17*100 -> 10.467702 | H18: =H17/$B$17*100 -> 4.3636055 | I18: =I17/$B$17*100 -> 4.9291756 | ... U18: =U17/$B$17*100 -> 3.901179

Sheet 2014.3분기
A1: 2014년 3/4분기 수송 현황
T2: (단위:명,%)
A3: 구분 | B3: 합 계 | C3: 소태역 | D3: 학동증심사 입구역 | E3: 남광주역 | F3: 문화전당역 (구도청) | G3: 금남로4가역 | H3: 금남로5가역 | I3: 양동시장역 | J3: 돌고개역 | K3: 농성역 | L3: 화정역 | M3: 쌍촌역 | N3: 운천역 (호남대입구) | O3: 상무 | P3: 김대중 컨벤션센터역 | Q3: 공항역 | R3: 송정공원역 | S3: 송정리역 | T3: 도산역 | U3: 평동역
A4: 년누계 | B4: ='2014.2분기'!B4+'2014.3분기'!B7 -> 13324895 | C4: ='2014.2분기'!C4+'2014.3분기'!C7 -> 522375 | D4: ='2014.2분기'!D4+'2014.3분기'!D7 -> 597485 | E4: ='2014.2분기'!E4+'2014.3분기'!E7 -> 1161854 | F4: ='2014.2분기'!F4+'2014.3분기'!F7 -> 779342 | G4: ='2014.2분기'!G4+'2014.3분기'!G7 -> 1404185 | H4: ='2014.2분기'!H4+'2014.3분기'!H7 -> 588316 | I4: ='2014.2분기'!I4+'2014.3분기'!I7 -> 652462 | ... U4: ='2014.2분기'!U4+'2014.3분기'!U7 -> 511082
A5: 일평균 | B5: =B4/273 -> 48809.139 | C5: =C4/273 -> 1913.4615 | D5: =D4/273 -> 2188.5897 | E5: =E4/273 -> 4255.8755 | F5: =F4/273 -> 2854.7326 | G5: =G4/273 -> 5143.5348 | H5: =H4/273 -> 2155.0037 | I5: =I4/273 -> 2389.9707 | ... U5: =U4/273 -> 1872.0952
A6: 비 율 | B6: =B5/$B$5*100 -> 100 | C6: =C5/$B$5*100 -> 3.9202936 | D6: =D5/$B$5*100 -> 4.4839753 | E6: =E5/$B$5*100 -> 8.7194233 | F6: =F5/$B$5*100 -> 5.8487665 | G6: =G5/$B$5*100 -> 10.538057 | H6: =H5/$B$5*100 -> 4.4151642 | I6: =I5/$B$5*100 -> 4.8965639 | ... U6: =U5/$B$5*100 -> 3.8355424
A7: 분기누계 | B7: =SUM(B16,B13,B10) -> 4314153 | C7: =SUM(C16,C13,C10) -> 169862 | D7: =SUM(D16,D13,D10) -> 196914 | E7: =SUM(E16,E13,E10) -> 365255 | F7: =SUM(F16,F13,F10) -> 251765 | G7: =SUM(G16,G13,G10) -> 460645 | H7: =SUM(H16,H13,H10) -> 191289 | I7: =SUM(I16,I13,I10) -> 219619 | ... U7: =SUM(U16,U13,U10) -> 167044
A8: 일평균 | B8: =B7/92 -> 46892.967 | C8: =C7/92 -> 1846.3261 | D8: =D7/92 -> 2140.3696 | E8: =E7/92 -> 3970.163 | F8: =F7/92 -> 2736.5761 | G8: =G7/92 -> 5007.0109 | H8: =H7/92 -> 2079.2283 | I8: =I7/92 -> 2387.163 | ... U8: =U7/92 -> 1815.6957
A9: 비 율 | B9: =B8/$B$8*100 -> 100 | C9: =C8/$B$8*100 -> 3.9373198 | D9: =D8/$B$8*100 -> 4.5643722 | E9: =E8/$B$8*100 -> 8.4664359 | F9: =F8/$B$8*100 -> 5.8357921 | G9: =G8/$B$8*100 -> 10.67753 | H9: =H8/$B$8*100 -> 4.4339874 | I9: =I8/$B$8*100 -> 5.0906632 | ... U9: =U8/$B$8*100 -> 3.8719999
A10: 7 월 | B10: =SUM(C10:U10) -> 1490347 | C10: =56948+2153 -> 59101 | D10: 68538 | E10: 121370 | F10: 89043 | G10: 161255 | H10: 68795 | I10: 75070 | J10: 52764 | K10: 82478 | L10: 62090 | M10: 86131 | N10: 94126 | O10: 117292 | P10: 30843 | Q10: 34701 | R10: 107408 | S10: 73630 | T10: 45620 | U10: 60092
A11: 일평균 | B11: =B10/31 -> 48075.71 | C11: =C10/31 -> 1906.4839 | D11: =D10/31 -> 2210.9032 | E11: =E10/31 -> 3915.1613 | F11: =F10/31 -> 2872.3548 | G11: =G10/31 -> 5201.7742 | H11: =H10/31 -> 2219.1935 | I11: =I10/31 -> 2421.6129 | ... U11: =U10/31 -> 1938.4516
A12: 비 율 | B12: =B11/$B$11*100 -> 100 | C12: =C11/$B$11*100 -> 3.9655865 | D12: =D11/$B$11*100 -> 4.5987948 | E12: =E11/$B$11*100 -> 8.143741 | F12: =F11/$B$11*100 -> 5.9746489 | G12: =G11/$B$11*100 -> 10.819963 | H12: =H11/$B$11*100 -> 4.6160391 | I12: =I11/$B$11*100 -> 5.037082 | ... U12: =U11/$B$11*100 -> 4.0320811
A13: 8 월 | B13: =SUM(C13:U13) -> 1374692 | C13: =52435+2098 -> 54533 | D13: 62241 | E13: 112128 | F13: 82226 | G13: 150923 | H13: 61397 | I13: 71238 | J13: 48345 | K13: 77240 | L13: 56438 | M13: 78187 | N13: 85639 | O13: 107875 | P13: 29476 | Q13: 31267 | R13: 96764 | S13: 73572 | T13: 42240 | U13: 52963
A14: 일평균 | B14: =B13/31 -> 44344.903 | C14: =C13/31 -> 1759.129 | D14: =D13/31 -> 2007.7742 | E14: =E13/31 -> 3617.0323 | F14: =F13/31 -> 2652.4516 | G14: =G13/31 -> 4868.4839 | H14: =H13/31 -> 1980.5484 | I14: =I13/31 -> 2298 | ... U14: =U13/31 -> 1708.4839
A15: 비 율 | B15: =B14/$B$14*100 -> 100 | C15: =C14/$B$14*100 -> 3.966925 | D15: =D14/$B$14*100 -> 4.5276324 | E15: =E14/$B$14*100 -> 8.1565907 | F15: =F14/$B$14*100 -> 5.9814126 | G15: =G14/$B$14*100 -> 10.978677 | H15: =H14/$B$14*100 -> 4.4662368 | I15: =I14/$B$14*100 -> 5.1821062 | ... U15: =U14/$B$14*100 -> 3.8527176
A16: 9 월 | B16: =SUM(C16:U16) -> 1449114 | C16: =54121+2107 -> 56228 | D16: 66135 | E16: 131757 | F16: 80496 | G16: 148467 | H16: 61097 | I16: 73311 | J16: 49157 | K16: 80051 | L16: 60097 | M16: 83651 | N16: 91506 | O16: 112849 | P16: 32836 | Q16: 34244 | R16: 110849 | S16: 76819 | T16: 45575 | U16: 53989
A17: 일평균 | B17: =B16/30 -> 48303.8 | C17: =C16/30 -> 1874.2667 | D17: =D16/30 -> 2204.5 | E17: =E16/30 -> 4391.9 | F17: =F16/30 -> 2683.2 | G17: =G16/30 -> 4948.9 | H17: =H16/30 -> 2036.5667 | I17: =I16/30 -> 2443.7 | ... U17: =U16/30 -> 1799.6333
A18: 비 율 | B18: =B17/$B$17*100 -> 100 | C18: =C17/$B$17*100 -> 3.880164 | D18: =D17/$B$17*100 -> 4.5638231 | E18: =E17/$B$17*100 -> 9.0922453 | F18: =F17/$B$17*100 -> 5.5548425 | G18: =G17/$B$17*100 -> 10.245364 | H18: =H17/$B$17*100 -> 4.2161624 | I18: =I17/$B$17*100 -> 5.0590223 | ... U18: =U17/$B$17*100 -> 3.7256558

Sheet 2014.4분기
A1: 2014년 4/4분기 수송 현황
T2: (단위:명,%)
A3: 구분 | B3: 합 계 | C3: 소태역 | D3: 학동증심사 입구역 | E3: 남광주역 | F3: 문화전당역 (구도청) | G3: 금남로4가역 | H3: 금남로5가역 | I3: 양동시장역 | J3: 돌고개역 | K3: 농성역 | L3: 화정역 | M3: 쌍촌역 | N3: 운천역 (호남대입구) | O3: 상무 | P3: 김대중 컨벤션센터역 | Q3: 공항역 | R3: 송정공원역 | S3: 송정리역 | T3: 도산역 | U3: 평동역
A4: 년누계 | B4: ='2014.3분기'!B4+'2014.4분기'!B7 -> 18052898 | C4: ='2014.3분기'!C4+'2014.4분기'!C7 -> 705755 | D4: ='2014.3분기'!D4+'2014.4분기'!D7 -> 809601 | E4: ='2014.3분기'!E4+'2014.4분기'!E7 -> 1574140 | F4: ='2014.3분기'!F4+'2014.4분기'!F7 -> 1050841 | G4: ='2014.3분기'!G4+'2014.4분기'!G7 -> 1903419 | H4: ='2014.3분기'!H4+'2014.4분기'!H7 -> 791095 | I4: ='2014.3분기'!I4+'2014.4분기'!I7 -> 875172 | ... U4: ='2014.3분기'!U4+'2014.4분기'!U7 -> 688619
A5: 일평균 | B5: =B4/365 -> 49459.995 | C5: =C4/365 -> 1933.5753 | D5: =D4/365 -> 2218.0849 | E5: =E4/365 -> 4312.7123 | F5: =F4/365 -> 2879.0164 | G5: =G4/365 -> 5214.8466 | H5: =H4/365 -> 2167.3836 | I5: =I4/365 -> 2397.7315 | ... U5: =U4/365 -> 1886.6274
A6: 비 율 | B6: =B5/$B$5*100 -> 100 | C6: =C5/$B$5*100 -> 3.9093723 | D6: =D5/$B$5*100 -> 4.4846041 | E6: =E5/$B$5*100 -> 8.7195973 | F6: =F5/$B$5*100 -> 5.8208992 | G6: =G5/$B$5*100 -> 10.543565 | H6: =H5/$B$5*100 -> 4.3820942 | I6: =I5/$B$5*100 -> 4.84782 | ... U6: =U5/$B$5*100 -> 3.8144513
A7: 분기누계 | B7: =SUM(B16,B13,B10) -> 4728003 | C7: =SUM(C16,C13,C10) -> 183380 | D7: =SUM(D16,D13,D10) -> 212116 | E7: =SUM(E16,E13,E10) -> 412286 | F7: =SUM(F16,F13,F10) -> 271499 | G7: =SUM(G16,G13,G10) -> 499234 | H7: =SUM(H16,H13,H10) -> 202779 | I7: =SUM(I16,I13,I10) -> 222710 | ... U7: =SUM(U16,U13,U10) -> 177537
A8: 일평균 | B8: =B7/92 -> 51391.337 | C8: =C7/92 -> 1993.2609 | D8: =D7/92 -> 2305.6087 | E8: =E7/92 -> 4481.3696 | F8: =F7/92 -> 2951.0761 | G8: =G7/92 -> 5426.4565 | H8: =H7/92 -> 2204.1196 | I8: =I7/92 -> 2420.7609 | ... U8: =U7/92 -> 1929.75
A9: 비 율 | B9: =B8/$B$8*100 -> 100 | C9: =C8/$B$8*100 -> 3.8785931 | D9: =D8/$B$8*100 -> 4.4863762 | E9: =E8/$B$8*100 -> 8.7200875 | F9: =F8/$B$8*100 -> 5.742361 | G9: =G8/$B$8*100 -> 10.559088 | H9: =H8/$B$8*100 -> 4.2888932 | I9: =I8/$B$8*100 -> 4.7104454 | ... U9: =U8/$B$8*100 -> 3.7550103
A10: 10월 | B10: =SUM(C10:U10) -> 1616165 | C10: =60693+2447 -> 63140 | D10: 72713 | E10: 143103 | F10: 98773 | G10: 176206 | H10: 67568 | I10: 75442 | J10: 53896 | K10: 89418 | L10: 66425 | M10: 92871 | N10: 102672 | O10: 125150 | P10: 37095 | Q10: 39212 | R10: 122243 | S10: 82470 | T10: 49517 | U10: 58251
A11: 일평균 | B11: =B10/31 -> 52134.355 | C11: =C10/31 -> 2036.7742 | D11: =D10/31 -> 2345.5806 | E11: =E10/31 -> 4616.2258 | F11: =F10/31 -> 3186.2258 | G11: =G10/31 -> 5684.0645 | H11: =H10/31 -> 2179.6129 | I11: =I10/31 -> 2433.6129 | ... U11: =U10/31 -> 1879.0645
A12: 비 율 | B12: =B11/$B$11*100 -> 100 | C12: =C11/$B$11*100 -> 3.9067793 | D12: =D11/$B$11*100 -> 4.4991075 | E12: =E11/$B$11*100 -> 8.8544796 | F12: =F11/$B$11*100 -> 6.1115666 | G12: =G11/$B$11*100 -> 10.902723 | H12: =H11/$B$11*100 -> 4.1807612 | I12: =I11/$B$11*100 -> 4.667964 | ... U12: =U11/$B$11*100 -> 3.6042731
A13: 11 월 | B13: =SUM(C13:U13) -> 1507554 | C13: =55056+2018 -> 57074 | D13: 67091 | E13: 134699 | F13: 82222 | G13: 154500 | H13: 63541 | I13: 72544 | J13: 50027 | K13: 89231 | L13: 62572 | M13: 87291 | N13: 96109 | O13: 118478 | P13: 35280 | Q13: 36512 | R13: 114597 | S13: 79295 | T13: 47389 | U13: 59102
A14: 일평균 | B14: =B13/30 -> 50251.8 | C14: =C13/30 -> 1902.4667 | D14: =D13/30 -> 2236.3667 | E14: =E13/30 -> 4489.9667 | F14: =F13/30 -> 2740.7333 | G14: =G13/30 -> 5150 | H14: =H13/30 -> 2118.0333 | I14: =I13/30 -> 2418.1333 | ... U14: =U13/30 -> 1970.0667
A15: 비 율 | B15: =B14/$B$14*100 -> 100 | C15: =C14/$B$14*100 -> 3.7858677 | D15: =D14/$B$14*100 -> 4.4503215 | E15: =E14/$B$14*100 -> 8.934937 | F15: =F14/$B$14*100 -> 5.4540003 | G15: =G14/$B$14*100 -> 10.248389 | H15: =H14/$B$14*100 -> 4.2148407 | I15: =I14/$B$14*100 -> 4.8120333 | ... U15: =U14/$B$14*100 -> 3.9203902
A16: 12월 | B16: =SUM(C16:U16) -> 1604284 | C16: =61127+2039 -> 63166 | D16: 72312 | E16: 134484 | F16: 90504 | G16: 168528 | H16: 71670 | I16: 74724 | J16: 54153 | K16: 87728 | L16: 67466 | M16: 93268 | N16: 104670 | O16: 130758 | P16: 36866 | Q16: 38426 | R16: 119948 | S16: 85604 | T16: 49825 | U16: 60184
A17: 일평균 | B17: =B16/31 -> 51751.097 | C17: =C16/31 -> 2037.6129 | D17: =D16/31 -> 2332.6452 | E17: =E16/31 -> 4338.1935 | F17: =F16/31 -> 2919.4839 | G17: =G16/31 -> 5436.3871 | H17: =H16/31 -> 2311.9355 | I17: =I16/31 -> 2410.4516 | ... U17: =U16/31 -> 1941.4194
A18: 비 율 | B18: =B17/$B$17*100 -> 100 | C18: =C17/$B$17*100 -> 3.9373328 | D18: =D17/$B$17*100 -> 4.5074314 | E18: =E17/$B$17*100 -> 8.382805 | F18: =F17/$B$17*100 -> 5.6413952 | G18: =G17/$B$17*100 -> 10.504873 | H18: =H17/$B$17*100 -> 4.4674135 | I18: =I17/$B$17*100 -> 4.6577788 | ... U18: =U17/$B$17*100 -> 3.7514555

Sheet 2015.1분기
A1: 2015년 1/4분기 수송 현황
T2: (단위:명,%)
A3: 구분 | B3: 합 계 | C3: 소태역 | D3: 학동증심사 입구역 | E3: 남광주역 | F3: 문화전당역 (구도청) | G3: 금남로4가역 | H3: 금남로5가역 | I3: 양동시장역 | J3: 돌고개역 | K3: 농성역 | L3: 화정역 | M3: 쌍촌역 | N3: 운천역 (호남대입구) | O3: 상무 | P3: 김대중 컨벤션센터역 | Q3: 공항역 | R3: 송정공원역 | S3: 송정리역 | T3: 도산역 | U3: 평동역
A4: 누계 | B4: =SUM(C4:U4) -> 4332337 | C4: =SUM(C7,C10,C13) -> 169221 | D4: =SUM(D7,D10,D13) -> 188042 | E4: =SUM(E7,E10,E13) -> 363559 | F4: =SUM(F7,F10,F13) -> 254032 | G4: =SUM(G7,G10,G13) -> 456468 | H4: =SUM(H7,H10,H13) -> 193770 | I4: =SUM(I7,I10,I13) -> 209261 | J4: =SUM(J7,J10,J13) -> 149400 | ... U4: =SUM(U7,U10,U13) -> 163860
A5: 일평균 | B5: =B4/90 -> 48137.078 | C5: =C4/90 -> 1880.2333 | D5: =D4/90 -> 2089.3556 | E5: =E4/90 -> 4039.5444 | F5: =F4/90 -> 2822.5778 | G5: =G4/90 -> 5071.8667 | H5: =H4/90 -> 2153 | I5: =I4/90 -> 2325.1222 | ... U5: =U4/90 -> 1820.6667
A6: 비율 | B6: =B5/$B$5*100 -> 100 | C6: =C5/$B$5*100 -> 3.9059981 | D6: =D5/$B$5*100 -> 4.3404287 | E6: =E5/$B$5*100 -> 8.3917525 | F6: =F5/$B$5*100 -> 5.8636251 | G6: =G5/$B$5*100 -> 10.536299 | H6: =H5/$B$5*100 -> 4.4726437 | I6: =I5/$B$5*100 -> 4.8302106 | ... U6: =U5/$B$5*100 -> 3.7822542
A7: 1월 | B7: =SUM(C7:U7) -> 1466278 | C7: 58749 | D7: 61391 | E7: 118934 | F7: 88364 | G7: 157477 | H7: 66823 | I7: 71157 | J7: 51906 | K7: 82905 | L7: 60261 | M7: 85002 | N7: 92887 | O7: 123126 | P7: 29752 | Q7: 34672 | R7: 103836 | S7: 77389 | T7: 44620 | U7: 57027
A8: 일평균 | B8: =B7/31 -> 47299.29 | C8: =C7/31 -> 1895.129 | D8: =D7/31 -> 1980.3548 | E8: =E7/31 -> 3836.5806 | F8: =F7/31 -> 2850.4516 | G8: =G7/31 -> 5079.9032 | H8: =H7/31 -> 2155.5806 | I8: =I7/31 -> 2295.3871 | ... U8: =U7/31 -> 1839.5806
A9: 비율 | B9: =B8/$B$8*100 -> 100 | C9: =C8/$B$14*100 -> 3.665844 | D9: =D8/$B$14*100 -> 3.8307006 | E9: =E8/$B$14*100 -> 7.4212922 | F9: =F8/$B$14*100 -> 5.5137729 | G9: =G8/$B$14*100 -> 9.826314 | H9: =H8/$B$14*100 -> 4.1696488 | I9: =I8/$B$14*100 -> 4.4400835 | J9: =J8/$B$14*100 -> 3.2388517 | ... U9: =U8/$B$14*100 -> 3.558394
A10: 2월 | B10: =SUM(C10:U10) -> 1263454 | C10: 50420 | D10: 54076 | E10: 100594 | F10: 77919 | G10: 136979 | H10: 55159 | I10: 64546 | J10: 43955 | K10: 70377 | L10: 51991 | M10: 71611 | N10: 77868 | O10: 103487 | P10: 27348 | Q10: 29547 | R10: 90200 | S10: 69597 | T10: 39873 | U10: 47907
A11: 일평균 | B11: =B10/28 -> 45123.357 | C11: =C10/28 -> 1800.7143 | D11: =D10/28 -> 1931.2857 | E11: =E10/28 -> 3592.6429 | F11: =F10/28 -> 2782.8214 | G11: =G10/28 -> 4892.1071 | H11: =H10/28 -> 1969.9643 | I11: =I10/28 -> 2305.2143 | ... U11: =U10/28 -> 1710.9643
A12: 비율 | B12: =B11/$B$11*100 -> 100 | C12: =C11/$B$14*100 -> 3.4832128 | D12: =D11/$B$14*100 -> 3.7357837 | E12: =E11/$B$14*100 -> 6.949431 | F12: =F11/$B$14*100 -> 5.3829524 | G12: =G11/$B$14*100 -> 9.4630506 | H12: =H11/$B$14*100 -> 3.8106017 | I12: =I11/$B$14*100 -> 4.4590927 | J12: =J11/$B$14*100 -> 3.0365851 | ... U12: =U11/$B$14*100 -> 3.3096049
A13: 3월 | B13: =SUM(C13:U13) -> 1602605 | C13: 60052 | D13: 72575 | E13: 144031 | F13: 87749 | G13: 162012 | H13: 71788 | I13: 73558 | J13: 53539 | K13: 95097 | L13: 66737 | M13: 93230 | N13: 101671 | O13: 127286 | P13: 33606 | Q13: 37771 | R13: 125553 | S13: 87052 | T13: 50372 | U13: 58926
A14: 일평균 | B14: =B13/31 -> 51696.935 | C14: =C13/31 -> 1937.1613 | D14: =D13/31 -> 2341.129 | E14: =E13/31 -> 4646.1613 | F14: =F13/31 -> 2830.6129 | G14: =G13/31 -> 5226.1935 | H14: =H13/31 -> 2315.7419 | I14: =I13/31 -> 2372.8387 | ... U14: =U13/31 -> 1900.8387
A15: 비율 | B15: =B14/$B$14*100 -> 100 | C15: =C14/$B$14*100 -> 3.7471492 | D15: =D14/$B$14*100 -> 4.5285644 | E15: =E14/$B$14*100 -> 8.987305 | F15: =F14/$B$14*100 -> 5.4753979 | G15: =G14/$B$14*100 -> 10.109291 | H15: =H14/$B$14*100 -> 4.4794569 | I15: =I14/$B$14*100 -> 4.5899021 | ... U15: =U14/$B$14*100 -> 3.6768886

Sheet 2015.2분기
A1: 2015년 2/4분기 수송 현황
T2: (단위:명,%)
A3: 구분 | B3: 합 계 | C3: 소태역 | D3: 학동증심사 입구역 | E3: 남광주역 | F3: 문화전당역 (구도청) | G3: 금남로4가역 | H3: 금남로5가역 | I3: 양동시장역 | J3: 돌고개역 | K3: 농성역 | L3: 화정역 | M3: 쌍촌역 | N3: 운천역 (호남대입구) | O3: 상무 | P3: 김대중 컨벤션센터역 | Q3: 공항역 | R3: 송정공원역 | S3: 송정리역 | T3: 도산역 | U3: 평동역
A4: 년누계 | B4: ='2015.1분기'!B4+'2015.2분기'!B7 -> 9074184 | C4: ='2015.1분기'!C4+'2015.2분기'!C7 -> 347839 | D4: ='2015.1분기'!D4+'2015.2분기'!D7 -> 404180 | E4: ='2015.1분기'!E4+'2015.2분기'!E7 -> 776422 | F4: ='2015.1분기'!F4+'2015.2분기'!F7 -> 514470 | G4: ='2015.1분기'!G4+'2015.2분기'!G7 -> 926278 | H4: ='2015.1분기'!H4+'2015.2분기'!H7 -> 400986 | I4: ='2015.1분기'!I4+'2015.2분기'!I7 -> 436061 | ... U4: ='2015.1분기'!U4+'2015.2분기'!U7 -> 337017
A5: 일평균 | B5: =B4/181 -> 50133.613 | C5: =C4/181 -> 1921.7624 | D5: =D4/181 -> 2233.0387 | E5: =E4/181 -> 4289.6243 | F5: =F4/181 -> 2842.3757 | G5: =G4/181 -> 5117.558 | H5: =H4/181 -> 2215.3923 | I5: =I4/181 -> 2409.1768 | ... U5: =U4/181 -> 1861.9724
A6: 비 율 | B6: =B5/$B$5*100 -> 100 | C6: =C5/$B$5*100 -> 3.8332813 | D6: =D5/$B$5*100 -> 4.4541746 | E6: =E5/$B$5*100 -> 8.5563837 | F6: =F5/$B$5*100 -> 5.6696007 | G6: =G5/$B$5*100 -> 10.207838 | H6: =H5/$B$5*100 -> 4.4189759 | I6: =I5/$B$5*100 -> 4.805512 | ... U6: =U5/$B$5*100 -> 3.7140199
A7: 분기누계 | B7: =SUM(B16,B13,B10) -> 4741847 | C7: =SUM(C16,C13,C10) -> 178618 | D7: =SUM(D16,D13,D10) -> 216138 | E7: =SUM(E16,E13,E10) -> 412863 | F7: =SUM(F16,F13,F10) -> 260438 | G7: =SUM(G16,G13,G10) -> 469810 | H7: =SUM(H16,H13,H10) -> 207216 | I7: =SUM(I16,I13,I10) -> 226800 | ... U7: =SUM(U16,U13,U10) -> 173157
A8: 일평균 | B8: =B7/91 -> 52108.209 | C8: =C7/91 -> 1962.8352 | D8: =D7/91 -> 2375.1429 | E8: =E7/91 -> 4536.956 | F8: =F7/91 -> 2861.956 | G8: =G7/91 -> 5162.7473 | H8: =H7/91 -> 2277.0989 | I8: =I7/91 -> 2492.3077 | ... U8: =U7/91 -> 1902.8242
A9: 비 율 | B9: =B8/$B$8*100 -> 100 | C9: =C8/$B$8*100 -> 3.7668444 | D9: =D8/$B$8*100 -> 4.5580973 | E9: =E8/$B$8*100 -> 8.7067972 | F9: =F8/$B$8*100 -> 5.4923324 | G9: =G8/$B$8*100 -> 9.9077427 | H9: =H8/$B$8*100 -> 4.3699428 | I9: =I8/$B$8*100 -> 4.7829464 | ... U9: =U8/$B$8*100 -> 3.6516783
A10: 4 월 | B10: =SUM(C10:U10) -> 1643319 | C10: 60639 | D10: 72568 | E10: 148128 | F10: 85521 | G10: 157428 | H10: 72976 | I10: 76785 | J10: 54007 | K10: 102247 | L10: 66867 | M10: 92814 | N10: 105259 | O10: 125463 | P10: 36974 | Q10: 38279 | R10: 122828 | S10: 115393 | T10: 48718 | U10: 60425
A11: 일평균 | B11: =B10/30 -> 54777.3 | C11: =C10/30 -> 2021.3 | D11: =D10/30 -> 2418.9333 | E11: =E10/30 -> 4937.6 | F11: =F10/30 -> 2850.7 | G11: =G10/30 -> 5247.6 | H11: =H10/30 -> 2432.5333 | I11: =I10/30 -> 2559.5 | ... U11: =U10/30 -> 2014.1667
A12: 비 율 | B12: =B11/$B$11*100 -> 100 | C12: =C11/$B$11*100 -> 3.6900322 | D12: =D11/$B$11*100 -> 4.4159412 | E12: =E11/$B$11*100 -> 9.0139529 | F12: =F11/$B$11*100 -> 5.204163 | G12: =G11/$B$11*100 -> 9.5798807 | H12: =H11/$B$11*100 -> 4.440769 | I12: =I11/$B$11*100 -> 4.672556 | ... U12: =U11/$B$11*100 -> 3.6770098
A13: 5 월 | B13: =SUM(C13:U13) -> 1648769 | C13: 62042 | D13: 73999 | E13: 143464 | F13: 97488 | G13: 171055 | H13: 68799 | I13: 78149 | J13: 53685 | K13: 91807 | L13: 66255 | M13: 92486 | N13: 101484 | O13: 125499 | P13: 35597 | Q13: 37897 | R13: 120657 | S13: 122519 | T13: 49452 | U13: 56435
A14: 일평균 | B14: =B13/31 -> 53186.097 | C14: =C13/31 -> 2001.3548 | D14: =D13/31 -> 2387.0645 | E14: =E13/31 -> 4627.871 | F14: =F13/31 -> 3144.7742 | G14: =G13/31 -> 5517.9032 | H14: =H13/31 -> 2219.3226 | I14: =I13/31 -> 2520.9355 | ... U14: =U13/31 -> 1820.4839
A15: 비 율 | B15: =B14/$B$14*100 -> 100 | C15: =C14/$B$14*100 -> 3.7629286 | D15: =D14/$B$14*100 -> 4.4881363 | E15: =E14/$B$14*100 -> 8.7012796 | F15: =F14/$B$14*100 -> 5.9127749 | G15: =G14/$B$14*100 -> 10.37471 | H15: =H14/$B$14*100 -> 4.1727495 | I15: =I14/$B$14*100 -> 4.7398392 | ... U15: =U14/$B$14*100 -> 3.4228567
A16: 6 월 | B16: =SUM(C16:U16) -> 1449759 | C16: 55937 | D16: 69571 | E16: 121271 | F16: 77429 | G16: 141327 | H16: 65441 | I16: 71866 | J16: 50393 | K16: 79019 | L16: 63227 | M16: 84487 | N16: 91966 | O16: 114257 | P16: 29961 | Q16: 33485 | R16: 105641 | S16: 94400 | T16: 43784 | U16: 56297
A17: 일평균 | B17: =B16/30 -> 48325.3 | C17: =C16/30 -> 1864.5667 | D17: =D16/30 -> 2319.0333 | E17: =E16/30 -> 4042.3667 | F17: =F16/30 -> 2580.9667 | G17: =G16/30 -> 4710.9 | H17: =H16/30 -> 2181.3667 | I17: =I16/30 -> 2395.5333 | ... U17: =U16/30 -> 1876.5667
A18: 비 율 | B18: =B17/$B$17*100 -> 100 | C18: =C17/$B$17*100 -> 3.8583654 | D18: =D17/$B$17*100 -> 4.7987976 | E18: =E17/$B$17*100 -> 8.3649075 | F18: =F17/$B$17*100 -> 5.3408187 | G18: =G17/$B$17*100 -> 9.7483099 | H18: =H17/$B$17*100 -> 4.5139227 | I18: =I17/$B$17*100 -> 4.9570998 | ... U18: =U17/$B$17*100 -> 3.8831971

Sheet 2015.3분기
A1: 2015년 3/4분기 수송 현황
T2: (단위:명,%)
A3: 구분 | B3: 합 계 | C3: 소태역 | D3: 학동증심사 입구역 | E3: 남광주역 | F3: 문화전당역 (구도청) | G3: 금남로4가역 | H3: 금남로5가역 | I3: 양동시장역 | J3: 돌고개역 | K3: 농성역 | L3: 화정역 | M3: 쌍촌역 | N3: 운천역 (호남대입구) | O3: 상무 | P3: 김대중 컨벤션센터역 | Q3: 공항역 | R3: 송정공원역 | S3: 송정리역 | T3: 도산역 | U3: 평동역
A4: 년누계 | B4: ='2015.2분기'!B4+'2015.3분기'!B7 -> 13513174 | C4: ='2015.2분기'!C4+'2015.3분기'!C7 -> 522512 | D4: ='2015.2분기'!D4+'2015.3분기'!D7 -> 607263 | E4: ='2015.2분기'!E4+'2015.3분기'!E7 -> 1132819 | F4: ='2015.2분기'!F4+'2015.3분기'!F7 -> 782206 | G4: ='2015.2분기'!G4+'2015.3분기'!G7 -> 1390929 | H4: ='2015.2분기'!H4+'2015.3분기'!H7 -> 594855 | I4: ='2015.2분기'!I4+'2015.3분기'!I7 -> 655508 | ... U4: ='2015.2분기'!U4+'2015.3분기'!U7 -> 499966
A5: 일평균 | B5: =B4/273 -> 49498.806 | C5: =C4/273 -> 1913.9634 | D5: =D4/273 -> 2224.4066 | E5: =E4/273 -> 4149.5201 | F5: =F4/273 -> 2865.2234 | G5: =G4/273 -> 5094.978 | H5: =H4/273 -> 2178.956 | I5: =I4/273 -> 2401.1282 | ... U5: =U4/273 -> 1831.3773
A6: 비 율 | B6: =B5/$B$5*100 -> 100 | C6: =C5/$B$5*100 -> 3.8666859 | D6: =D5/$B$5*100 -> 4.4938591 | E6: =E5/$B$5*100 -> 8.3830712 | F6: =F5/$B$5*100 -> 5.7884698 | G6: =G5/$B$5*100 -> 10.293133 | H6: =H5/$B$5*100 -> 4.4020376 | I6: =I5/$B$5*100 -> 4.8508811 | ... U6: =U5/$B$5*100 -> 3.6998414
A7: 분기누계 | B7: =SUM(B16,B13,B10) -> 4438990 | C7: =SUM(C16,C13,C10) -> 174673 | D7: =SUM(D16,D13,D10) -> 203083 | E7: =SUM(E16,E13,E10) -> 356397 | F7: =SUM(F16,F13,F10) -> 267736 | G7: =SUM(G16,G13,G10) -> 464651 | H7: =SUM(H16,H13,H10) -> 193869 | I7: =SUM(I16,I13,I10) -> 219447 | ... U7: =SUM(U16,U13,U10) -> 162949
A8: 일평균 | B8: =B7/92 -> 48249.891 | C8: =C7/92 -> 1898.6196 | D8: =D7/92 -> 2207.4239 | E8: =E7/92 -> 3873.8804 | F8: =F7/92 -> 2910.1739 | G8: =G7/92 -> 5050.5543 | H8: =H7/92 -> 2107.2717 | I8: =I7/92 -> 2385.2935 | ... U8: =U7/92 -> 1771.1848
A9: 비 율 | B9: =B8/$B$8*100 -> 100 | C9: =C8/$B$8*100 -> 3.9349717 | D9: =D8/$B$8*100 -> 4.5749821 | E9: =E8/$B$8*100 -> 8.0287858 | F9: =F8/$B$8*100 -> 6.0314621 | G9: =G8/$B$8*100 -> 10.467494 | H9: =H8/$B$8*100 -> 4.3674124 | I9: =I8/$B$8*100 -> 4.9436246 | ... U9: =U8/$B$8*100 -> 3.6708576
A10: 7 월 | B10: =SUM(C10:U10) -> 1532530 | C10: 59505 | D10: 70033 | E10: 117824 | F10: 93101 | G10: 162827 | H10: 68973 | I10: 74958 | J10: 53397 | K10: 82530 | L10: 67818 | M10: 88201 | N10: 93325 | O10: 121239 | P10: 33842 | Q10: 32666 | R10: 105768 | S10: 104189 | T10: 45230 | U10: 57104
A11: 일평균 | B11: =B10/31 -> 49436.452 | C11: =C10/31 -> 1919.5161 | D11: =D10/31 -> 2259.129 | E11: =E10/31 -> 3800.7742 | F11: =F10/31 -> 3003.2581 | G11: =G10/31 -> 5252.4839 | H11: =H10/31 -> 2224.9355 | I11: =I10/31 -> 2418 | ... U11: =U10/31 -> 1842.0645
A12: 비 율 | B12: =B11/$B$11*100 -> 100 | C12: =C11/$B$11*100 -> 3.8827951 | D12: =D11/$B$11*100 -> 4.5697637 | E12: =E11/$B$11*100 -> 7.6882019 | F12: =F11/$B$11*100 -> 6.0749871 | G12: =G11/$B$11*100 -> 10.624719 | H12: =H11/$B$11*100 -> 4.5005971 | I12: =I11/$B$11*100 -> 4.8911277 | ... U12: =U11/$B$11*100 -> 3.7261261
A13: 8 월 | B13: =SUM(C13:U13) -> 1398830 | C13: 56584 | D13: 63327 | E13: 108260 | F13: 84007 | G13: 150448 | H13: 62302 | I13: 69334 | J13: 49625 | K13: 75340 | L13: 58180 | M13: 76192 | N13: 83677 | O13: 111880 | P13: 28929 | Q13: 29236 | R13: 94413 | S13: 104408 | T13: 41459 | U13: 51229
A14: 일평균 | B14: =B13/31 -> 45123.548 | C14: =C13/31 -> 1825.2903 | D14: =D13/31 -> 2042.8065 | E14: =E13/31 -> 3492.2581 | F14: =F13/31 -> 2709.9032 | G14: =G13/31 -> 4853.1613 | H14: =H13/31 -> 2009.7419 | I14: =I13/31 -> 2236.5806 | ... U14: =U13/31 -> 1652.5484
A15: 비 율 | B15: =B14/$B$14*100 -> 100 | C15: =C14/$B$14*100 -> 4.0450948 | D15: =D14/$B$14*100 -> 4.5271405 | E15: =E14/$B$14*100 -> 7.739325 | F15: =F14/$B$14*100 -> 6.0055189 | G15: =G14/$B$14*100 -> 10.755274 | H15: =H14/$B$14*100 -> 4.453865 | I15: =I14/$B$14*100 -> 4.9565708 | ... U15: =U14/$B$14*100 -> 3.6622749
A16: 9 월 | B16: =SUM(C16:U16) -> 1507630 | C16: 58584 | D16: 69723 | E16: 130313 | F16: 90628 | G16: 151376 | H16: 62594 | I16: 75155 | J16: 51330 | K16: 79650 | L16: 62393 | M16: 83186 | N16: 89288 | O16: 116094 | P16: 35090 | Q16: 31460 | R16: 110497 | S16: 110912 | T16: 44741 | U16: 54616
A17: 일평균 | B17: =B16/30 -> 50254.333 | C17: =C16/30 -> 1952.8 | D17: =D16/30 -> 2324.1 | E17: =E16/30 -> 4343.7667 | F17: =F16/30 -> 3020.9333 | G17: =G16/30 -> 5045.8667 | H17: =H16/30 -> 2086.4667 | I17: =I16/30 -> 2505.1667 | ... U17: =U16/30 -> 1820.5333
A18: 비 율 | B18: =B17/$B$17*100 -> 100 | C18: =C17/$B$17*100 -> 3.8858341 | D18: =D17/$B$17*100 -> 4.6246758 | E18: =E17/$B$17*100 -> 8.6435664 | F18: =F17/$B$17*100 -> 6.0112892 | G18: =G17/$B$17*100 -> 10.04066 | H18: =H17/$B$17*100 -> 4.1518144 | I18: =I17/$B$17*100 -> 4.9849764 | ... U18: =U17/$B$17*100 -> 3.6226395

Sheet 2015.4분기
A1: 2015년 4/4분기 수송 현황
T2: (단위:명,%)
A3: 구분 | B3: 합 계 | C3: 소태역 | D3: 학동증심사 입구역 | E3: 남광주역 | F3: 문화전당역 (구도청) | G3: 금남로4가역 | H3: 금남로5가역 | I3: 양동시장역 | J3: 돌고개역 | K3: 농성역 | L3: 화정역 | M3: 쌍촌역 | N3: 운천역 (호남대입구) | O3: 상무 | P3: 김대중 컨벤션센터역 | Q3: 공항역 | R3: 송정공원역 | S3: 송정리역 | T3: 도산역 | U3: 평동역
A4: 년누계 | B4: ='2015.3분기'!B4+'2015.4분기'!B7 -> 18316553 | C4: ='2015.3분기'!C4+'2015.4분기'!C7 -> 710682 | D4: ='2015.3분기'!D4+'2015.4분기'!D7 -> 826650 | E4: ='2015.3분기'!E4+'2015.4분기'!E7 -> 1531644 | F4: ='2015.3분기'!F4+'2015.4분기'!F7 -> 1072620 | G4: ='2015.3분기'!G4+'2015.4분기'!G7 -> 1888128 | H4: ='2015.3분기'!H4+'2015.4분기'!H7 -> 796642 | I4: ='2015.3분기'!I4+'2015.4분기'!I7 -> 879390 | ... U4: ='2015.3분기'!U4+'2015.4분기'!U7 -> 669937
A5: 일평균 | B5: =B4/365 -> 50182.337 | C5: =C4/365 -> 1947.074 | D5: =D4/365 -> 2264.7945 | E5: =E4/365 -> 4196.2849 | F5: =F4/365 -> 2938.6849 | G5: =G4/365 -> 5172.9534 | H5: =H4/365 -> 2182.5808 | I5: =I4/365 -> 2409.2877 | ... U5: =U4/365 -> 1835.4438
A6: 비 율 | B6: =B5/$B$5*100 -> 100 | C6: =C5/$B$5*100 -> 3.8799986 | D6: =D5/$B$5*100 -> 4.5131308 | E6: =E5/$B$5*100 -> 8.3620755 | F6: =F5/$B$5*100 -> 5.8560145 | G6: =G5/$B$5*100 -> 10.308315 | H6: =H5/$B$5*100 -> 4.3493009 | I6: =I5/$B$5*100 -> 4.8010671 | ... U6: =U5/$B$5*100 -> 3.6575495
A7: 분기누계 | B7: =SUM(B16,B13,B10) -> 4803379 | C7: =SUM(C16,C13,C10) -> 188170 | D7: =SUM(D16,D13,D10) -> 219387 | E7: =SUM(E16,E13,E10) -> 398825 | F7: =SUM(F16,F13,F10) -> 290414 | G7: =SUM(G16,G13,G10) -> 497199 | H7: =SUM(H16,H13,H10) -> 201787 | I7: =SUM(I16,I13,I10) -> 223882 | ... U7: =SUM(U16,U13,U10) -> 169971
A8: 일평균 | B8: =B7/92 -> 52210.641 | C8: =C7/92 -> 2045.3261 | D8: =D7/92 -> 2384.6413 | E8: =E7/92 -> 4335.0543 | F8: =F7/92 -> 3156.6739 | G8: =G7/92 -> 5404.337 | H8: =H7/92 -> 2193.337 | I8: =I7/92 -> 2433.5 | ... U8: =U7/92 -> 1847.5109
A9: 비 율 | B9: =B8/$B$8*100 -> 100 | C9: =C8/$B$8*100 -> 3.9174506 | D9: =D8/$B$8*100 -> 4.5673473 | E9: =E8/$B$8*100 -> 8.3030092 | F9: =F8/$B$8*100 -> 6.0460355 | G9: =G8/$B$8*100 -> 10.351026 | H9: =H8/$B$8*100 -> 4.2009385 | I9: =I8/$B$8*100 -> 4.6609272 | ... U9: =U8/$B$8*100 -> 3.5385715
A10: 10 월 | B10: =SUM(C10:U10) -> 1659586 | C10: 64765 | D10: 75470 | E10: 138451 | F10: 106043 | G10: 177442 | H10: 68776 | I10: 75686 | J10: 56173 | K10: 88937 | L10: 67605 | M10: 89254 | N10: 99881 | O10: 128307 | P10: 42002 | Q10: 35225 | R10: 120004 | S10: 117490 | T10: 49382 | U10: 58693
A11: 일평균 | B11: =B10/31 -> 53535.032 | C11: =C10/31 -> 2089.1935 | D11: =D10/31 -> 2434.5161 | E11: =E10/31 -> 4466.1613 | F11: =F10/31 -> 3420.7419 | G11: =G10/31 -> 5723.9355 | H11: =H10/31 -> 2218.5806 | I11: =I10/31 -> 2441.4839 | ... U11: =U10/31 -> 1893.3226
A12: 비 율 | B12: =B11/$B$11*100 -> 100 | C12: =C11/$B$11*100 -> 3.9024793 | D12: =D11/$B$11*100 -> 4.5475197 | E12: =E11/$B$11*100 -> 8.3425023 | F12: =F11/$B$11*100 -> 6.3897261 | G12: =G11/$B$11*100 -> 10.691944 | H12: =H11/$B$11*100 -> 4.1441661 | I12: =I11/$B$11*100 -> 4.560535 | ... U12: =U11/$B$11*100 -> 3.5366049
A13: 11 월 | B13: =SUM(C13:U13) -> 1535256 | C13: 59910 | D13: 70151 | E13: 131208 | F13: 89140 | G13: 153282 | H13: 64599 | I13: 72460 | J13: 52658 | K13: 82078 | L13: 64509 | M13: 84491 | N13: 93120 | O13: 121423 | P13: 38320 | Q13: 33103 | R13: 110642 | S13: 112784 | T13: 46319 | U13: 55059
A14: 일평균 | B14: =B13/30 -> 51175.2 | C14: =C13/30 -> 1997 | D14: =D13/30 -> 2338.3667 | E14: =E13/30 -> 4373.6 | F14: =F13/30 -> 2971.3333 | G14: =G13/30 -> 5109.4 | H14: =H13/30 -> 2153.3 | I14: =I13/30 -> 2415.3333 | ... U14: =U13/30 -> 1835.3
A15: 비 율 | B15: =B14/$B$14*100 -> 100 | C15: =C14/$B$14*100 -> 3.9022808 | D15: =D14/$B$14*100 -> 4.5693357 | E15: =E14/$B$14*100 -> 8.5463271 | F15: =F14/$B$14*100 -> 5.8061978 | G15: =G14/$B$14*100 -> 9.9841329 | H15: =H14/$B$14*100 -> 4.2077022 | I15: =I14/$B$14*100 -> 4.719734 | ... U15: =U14/$B$14*100 -> 3.5863074
A16: 12 월 | B16: =SUM(C16:U16) -> 1608537 | C16: 63495 | D16: 73766 | E16: 129166 | F16: 95231 | G16: 166475 | H16: 68412 | I16: 75736 | J16: 56926 | K16: 94842 | L16: 66667 | M16: 87315 | N16: 100024 | O16: 127446 | P16: 38197 | Q16: 33653 | R16: 112698 | S16: 114468 | T16: 47801 | U16: 56219
A17: 일평균 | B17: =B16/31 -> 51888.29 | C17: =C16/31 -> 2048.2258 | D17: =D16/31 -> 2379.5484 | E17: =E16/31 -> 4166.6452 | F17: =F16/31 -> 3071.9677 | G17: =G16/31 -> 5370.1613 | H17: =H16/31 -> 2206.8387 | I17: =I16/31 -> 2443.0968 | ... U17: =U16/31 -> 1813.5161
A18: 비 율 | B18: =B17/$B$17*100 -> 100 | C18: =C17/$B$17*100 -> 3.9473758 | D18: =D17/$B$17*100 -> 4.5859063 | E18: =E17/$B$17*100 -> 8.0300298 | F18: =F17/$B$17*100 -> 5.9203487 | G18: =G17/$B$17*100 -> 10.349467 | H18: =H17/$B$17*100 -> 4.2530573 | I18: =I17/$B$17*100 -> 4.7083779 | ... U18: =U17/$B$17*100 -> 3.4950393

Sheet 2016.1분기
A1: 2016년 1/4분기 수송 현황
T2: (단위:명,%)
A3: 구분 | B3: 합 계 | C3: 소태역 | D3: 학동증심사 입구역 | E3: 남광주역 | F3: 문화전당역 (구도청) | G3: 금남로4가역 | H3: 금남로5가역 | I3: 양동시장역 | J3: 돌고개역 | K3: 농성역 | L3: 화정역 | M3: 쌍촌역 | N3: 운천역 (호남대입구) | O3: 상무 | P3: 김대중 컨벤션센터역 | Q3: 공항역 | R3: 송정공원역 | S3: 송정리역 | T3: 도산역 | U3: 평동역
A4: 누계 | B4: =SUM(C4:U4) -> 4480617 | C4: =SUM(C7,C10,C13) -> 175633 | D4: =SUM(D7,D10,D13) -> 194827 | E4: =SUM(E7,E10,E13) -> 366369 | F4: =SUM(F7,F10,F13) -> 275399 | G4: =SUM(G7,G10,G13) -> 456440 | H4: =SUM(H7,H10,H13) -> 193965 | I4: =SUM(I7,I10,I13) -> 213904 | J4: =SUM(J7,J10,J13) -> 159772 | ... U4: =SUM(U7,U10,U13) -> 161832
A5: 일평균 | B5: =B4/91 -> 49237.549 | C5: =C4/91 -> 1930.033 | D5: =D4/91 -> 2140.956 | E5: =E4/91 -> 4026.033 | F5: =F4/91 -> 3026.3626 | G5: =G4/91 -> 5015.8242 | H5: =H4/91 -> 2131.4835 | I5: =I4/91 -> 2350.5934 | ... U5: =U4/91 -> 1778.3736
A6: 비율 | B6: =B5/$B$5*100 -> 100 | C6: =C5/$B$5*100 -> 3.9198396 | D6: =D5/$B$5*100 -> 4.3482181 | E6: =E5/$B$5*100 -> 8.1767533 | F6: =F5/$B$5*100 -> 6.1464526 | G6: =G5/$B$5*100 -> 10.18699 | H6: =H5/$B$5*100 -> 4.3289797 | I6: =I5/$B$5*100 -> 4.7739854 | ... U6: =U5/$B$5*100 -> 3.611824
A7: 1월 | B7: =SUM(C7:U7) -> 1510640 | C7: 60248 | D7: 62894 | E7: 120839 | F7: 93797 | G7: 152606 | H7: 66538 | I7: 72747 | J7: 54645 | K7: 82420 | L7: 62990 | M7: 81965 | N7: 96260 | O7: 123377 | P7: 32730 | Q7: 31361 | R7: 100706 | S7: 114366 | T7: 43884 | U7: 56267
A8: 일평균 | B8: =B7/31 -> 48730.323 | C8: =C7/31 -> 1943.4839 | D8: =D7/31 -> 2028.8387 | E8: =E7/31 -> 3898.0323 | F8: =F7/31 -> 3025.7097 | G8: =G7/31 -> 4922.7742 | H8: =H7/31 -> 2146.3871 | I8: =I7/31 -> 2346.6774 | ... U8: =U7/31 -> 1815.0645
A9: 비율 | B9: =B8/$B$8*100 -> 100 | C9: =C8/$B$8*100 -> 3.9882434 | D9: =D8/$B$8*100 -> 4.1634009 | E9: =E8/$B$8*100 -> 7.9991924 | F9: =F8/$B$8*100 -> 6.2090902 | G9: =G8/$B$8*100 -> 10.102076 | H9: =H8/$B$8*100 -> 4.4046232 | I9: =I8/$B$8*100 -> 4.8156411 | ... U9: =U8/$B$8*100 -> 3.7247127
A10: 2월 | B10: =SUM(C10:U10) -> 1350132 | C10: 54430 | D10: 56876 | E10: 104402 | F10: 87184 | G10: 144073 | H10: 57474 | I10: 65628 | J10: 48116 | K10: 72857 | L10: 55697 | M10: 72087 | N10: 82709 | O10: 108310 | P10: 28678 | Q10: 28414 | R10: 92556 | S10: 103088 | T10: 40334 | U10: 47219
A11: 일평균 | B11: =B10/29 -> 46556.276 | C11: =C10/29 -> 1876.8966 | D11: =D10/29 -> 1961.2414 | E11: =E10/29 -> 3600.069 | F11: =F10/29 -> 3006.3448 | G11: =G10/29 -> 4968.0345 | H11: =H10/29 -> 1981.8621 | I11: =I10/29 -> 2263.0345 | ... U11: =U10/29 -> 1628.2414
A12: 비율 | B12: =B11/$B$11*100 -> 100 | C12: =C11/$B$11*100 -> 4.0314577 | D12: =D11/$B$11*100 -> 4.2126251 | E12: =E11/$B$11*100 -> 7.7327254 | F12: =F11/$B$11*100 -> 6.4574427 | G12: =G11/$B$11*100 -> 10.671031 | H12: =H11/$B$11*100 -> 4.2569171 | I12: =I11/$B$11*100 -> 4.860858 | ... U12: =U11/$B$11*100 -> 3.4973617
A13: 3월 | B13: =SUM(C13:U13) -> 1619845 | C13: 60955 | D13: 75057 | E13: 141128 | F13: 94418 | G13: 159761 | H13: 69953 | I13: 75529 | J13: 57011 | K13: 85978 | L13: 68018 | M13: 89905 | N13: 102096 | O13: 128265 | P13: 35650 | Q13: 34605 | R13: 118685 | S13: 113065 | T13: 51420 | U13: 58346
A14: 일평균 | B14: =B13/31 -> 52253.065 | C14: =C13/31 -> 1966.2903 | D14: =D13/31 -> 2421.1935 | E14: =E13/31 -> 4552.5161 | F14: =F13/31 -> 3045.7419 | G14: =G13/31 -> 5153.5806 | H14: =H13/31 -> 2256.5484 | I14: =I13/31 -> 2436.4194 | ... U14: =U13/31 -> 1882.129
A15: 비율 | B15: =B14/$B$14*100 -> 100 | C15: =C14/$B$14*100 -> 3.7630144 | D15: =D14/$B$14*100 -> 4.6335915 | E15: =E14/$B$14*100 -> 8.7124385 | F15: =F14/$B$14*100 -> 5.8288293 | G15: =G14/$B$14*100 -> 9.8627338 | H15: =H14/$B$14*100 -> 4.3184996 | I15: =I14/$B$14*100 -> 4.6627301 | ... U15: =U14/$B$14*100 -> 3.6019496

Sheet 2016.2분기
A1: 2016년 2/4분기 수송 현황
T2: (단위:명,%)
A3: 구분 | B3: 합 계 | C3: 소태역 | D3: 학동증심사 입구역 | E3: 남광주역 | F3: 문화전당역 (구도청) | G3: 금남로4가역 | H3: 금남로5가역 | I3: 양동시장역 | J3: 돌고개역 | K3: 농성역 | L3: 화정역 | M3: 쌍촌역 | N3: 운천역 (호남대입구) | O3: 상무 | P3: 김대중 컨벤션센터역 | Q3: 공항역 | R3: 송정공원역 | S3: 송정리역 | T3: 도산역 | U3: 평동역
A4: 년누계 | B4: ='2016.1분기'!B4+'2016.2분기'!B7 -> 9313206 | C4: ='2016.1분기'!C4+'2016.2분기'!C7 -> 362113 | D4: ='2016.1분기'!D4+'2016.2분기'!D7 -> 414360 | E4: ='2016.1분기'!E4+'2016.2분기'!E7 -> 777569 | F4: ='2016.1분기'!F4+'2016.2분기'!F7 -> 562814 | G4: ='2016.1분기'!G4+'2016.2분기'!G7 -> 934827 | H4: ='2016.1분기'!H4+'2016.2분기'!H7 -> 394979 | I4: ='2016.1분기'!I4+'2016.2분기'!I7 -> 443317 | ... U4: ='2016.1분기'!U4+'2016.2분기'!U7 -> 337124
A5: 일평균 | B5: =B4/182 -> 51171.462 | C5: =C4/182 -> 1989.6319 | D5: =D4/182 -> 2276.7033 | E5: =E4/182 -> 4272.3571 | F5: =F4/182 -> 3092.3846 | G5: =G4/182 -> 5136.4121 | H5: =H4/182 -> 2170.2143 | I5: =I4/182 -> 2435.8077 | ... U5: =U4/182 -> 1852.3297
A6: 비율 | B6: =B5/$B$5*100 -> 100 | C6: =C5/$B$5*100 -> 3.888167 | D6: =D5/$B$5*100 -> 4.4491661 | E6: =E5/$B$5*100 -> 8.3491013 | F6: =F5/$B$5*100 -> 6.0431821 | G6: =G5/$B$5*100 -> 10.03765 | H6: =H5/$B$5*100 -> 4.2410637 | I6: =I5/$B$5*100 -> 4.7600901 | ... U6: =U5/$B$5*100 -> 3.6198491
A7: 분기누계 | B7: =SUM(C7:U7) -> 4832589 | C7: =SUM(C10,C13,C16) -> 186480 | D7: =SUM(D10,D13,D16) -> 219533 | E7: =SUM(E10,E13,E16) -> 411200 | F7: =SUM(F10,F13,F16) -> 287415 | G7: =SUM(G10,G13,G16) -> 478387 | H7: =SUM(H10,H13,H16) -> 201014 | I7: =SUM(I10,I13,I16) -> 229413 | J7: =SUM(J10,J13,J16) -> 165335 | ... U7: =SUM(U10,U13,U16) -> 175292
A8: 일평균 | B8: =B7/91 -> 53105.374 | C8: =C7/91 -> 2049.2308 | D8: =D7/91 -> 2412.4505 | E8: =E7/91 -> 4518.6813 | F8: =F7/91 -> 3158.4066 | G8: =G7/91 -> 5257 | H8: =H7/91 -> 2208.9451 | I8: =I7/91 -> 2521.022 | ... U8: =U7/91 -> 1926.2857
A9: 비율 | B9: =B8/$B$8*100 -> 100 | C9: =C8/$B$8*100 -> 3.8588012 | D9: =D8/$B$8*100 -> 4.5427617 | E9: =E8/$B$8*100 -> 8.5088966 | F9: =F8/$B$8*100 -> 5.9474331 | G9: =G8/$B$8*100 -> 9.8991865 | H9: =H8/$B$8*100 -> 4.1595509 | I9: =I8/$B$8*100 -> 4.7472069 | ... U9: =U8/$B$8*100 -> 3.6272896
A10: 4월 | B10: =SUM(C10:U10) -> 1604735 | C10: 61079 | D10: 72409 | E10: 136967 | F10: 91663 | G10: 153517 | H10: 67340 | I10: 75764 | J10: 54139 | K10: 95799 | L10: 66632 | M10: 86718 | N10: 106206 | O10: 124741 | P10: 37105 | Q10: 34221 | R10: 115291 | S10: 116824 | T10: 50462 | U10: 57858
A11: 일평균 | B11: =B10/30 -> 53491.167 | C11: =C10/30 -> 2035.9667 | D11: =D10/30 -> 2413.6333 | E11: =E10/30 -> 4565.5667 | F11: =F10/30 -> 3055.4333 | G11: =G10/30 -> 5117.2333 | H11: =H10/30 -> 2244.6667 | I11: =I10/30 -> 2525.4667 | ... U11: =U10/30 -> 1928.6
A12: 비율 | B12: =B11/$B$11*100 -> 100 | C12: =C11/$B$11*100 -> 3.8061736 | D12: =D11/$B$11*100 -> 4.5122092 | E12: =E11/$B$11*100 -> 8.5351787 | F12: =F11/$B$11*100 -> 5.7120335 | G12: =G11/$B$11*100 -> 9.5665016 | H12: =H11/$B$11*100 -> 4.1963315 | I12: =I11/$B$11*100 -> 4.721278 | ... U12: =U11/$B$11*100 -> 3.6054551
A13: 5월 | B13: =SUM(C13:U13) -> 1662637 | C13: 64385 | D13: 74914 | E13: 143399 | F13: 103502 | G13: 170111 | H13: 67436 | I13: 77698 | J13: 56219 | K13: 86857 | L13: 70601 | M13: 88855 | N13: 101877 | O13: 128219 | P13: 38509 | Q13: 35967 | R13: 119043 | S13: 126126 | T13: 51557 | U13: 57362
A14: 일평균 | B14: =B13/31 -> 53633.452 | C14: =C13/31 -> 2076.9355 | D14: =D13/31 -> 2416.5806 | E14: =E13/31 -> 4625.7742 | F14: =F13/31 -> 3338.7742 | G14: =G13/31 -> 5487.4516 | H14: =H13/31 -> 2175.3548 | I14: =I13/31 -> 2506.3871 | ... U14: =U13/31 -> 1850.3871
A15: 비율 | B15: =B14/$B$14*100 -> 100 | C15: =C14/$B$14*100 -> 3.8724628 | D15: =D14/$B$14*100 -> 4.505734 | E15: =E14/$B$14*100 -> 8.624793 | F15: =F14/$B$14*100 -> 6.2251712 | G15: =G14/$B$14*100 -> 10.231397 | H15: =H14/$B$14*100 -> 4.0559665 | I15: =I14/$B$14*100 -> 4.6731788 | ... U15: =U14/$B$14*100 -> 3.4500616
A16: 6월 | B16: =SUM(C16:U16) -> 1565217 | C16: 61016 | D16: 72210 | E16: 130834 | F16: 92250 | G16: 154759 | H16: 66238 | I16: 75951 | J16: 54977 | K16: 85190 | L16: 69889 | M16: 84497 | N16: 95561 | O16: 122556 | P16: 34917 | Q16: 32861 | R16: 107374 | S16: 115901 | T16: 48164 | U16: 60072
A17: 일평균 | B17: =B16/30 -> 52173.9 | C17: =C16/30 -> 2033.8667 | D17: =D16/30 -> 2407 | E17: =E16/30 -> 4361.1333 | F17: =F16/30 -> 3075 | G17: =G16/30 -> 5158.6333 | H17: =H16/30 -> 2207.9333 | I17: =I16/30 -> 2531.7 | ... U17: =U16/30 -> 2002.4
A18: 비율 | B18: =B17/$B$17*100 -> 100 | C18: =C17/$B$17*100 -> 3.8982454 | D18: =D17/$B$17*100 -> 4.6134178 | E18: =E17/$B$17*100 -> 8.358841 | F18: =F17/$B$17*100 -> 5.8937515 | G18: =G17/$B$17*100 -> 9.887383 | H18: =H17/$B$17*100 -> 4.2318733 | I18: =I17/$B$17*100 -> 4.8524262 | ... U18: =U17/$B$17*100 -> 3.8379343

Sheet 2016.3분기
A1: 2016년 3/4분기 수송 현황
T2: (단위:명,%)
A3: 구분 | B3: 합 계 | C3: 소태역 | D3: 학동증심사 입구역 | E3: 남광주역 | F3: 문화전당역 (구도청) | G3: 금남로4가역 | H3: 금남로5가역 | I3: 양동시장역 | J3: 돌고개역 | K3: 농성역 | L3: 화정역 | M3: 쌍촌역 | N3: 운천역 (호남대입구) | O3: 상무 | P3: 김대중 컨벤션센터역 | Q3: 공항역 | R3: 송정공원역 | S3: 송정리역 | T3: 도산역 | U3: 평동역
A4: 년누계 | B4: ='2016.2분기'!B4+'2016.3분기'!B7 -> 13762307 | C4: 514674 | D4: 615089 | E4: 1128915 | F4: 847249 | G4: 1393744 | H4: 582413 | I4: 663902 | J4: 477662 | K4: 736601 | L4: 585744 | M4: 736811 | N4: 850279 | O4: 1083573 | P4: 304495 | Q4: 291001 | R4: 956662 | S4: 1034417 | T4: 422321 | U4: 506432
A5: 일평균 | B5: =B4/274 -> 50227.398 | C5: =C4/274 -> 1878.3723 | D5: =D4/274 -> 2244.8504 | E5: =E4/274 -> 4120.1277 | F5: =F4/274 -> 3092.1496 | G5: =G4/274 -> 5086.6569 | H5: =H4/274 -> 2125.5949 | I5: =I4/274 -> 2423 | ... U5: =U4/274 -> 1848.292
A6: 비율 | B6: =B5/$B$5*100 -> 100 | C6: =C5/$B$5*100 -> 3.7397364 | D6: =D5/$B$5*100 -> 4.4693742 | E6: =E5/$B$5*100 -> 8.2029488 | F6: =F5/$B$5*100 -> 6.1563007 | G6: =G5/$B$5*100 -> 10.127256 | H6: =H5/$B$5*100 -> 4.2319431 | I6: =I5/$B$5*100 -> 4.8240604 | ... U6: =U5/$B$5*100 -> 3.6798482
A7: 분기누계 | B7: =SUM(C7:U7) -> 4449101 | C7: =C10+C13+C16 -> 182884 | D7: 200729 | E7: 351346 | F7: 284435 | G7: 458917 | H7: 187434 | I7: 220585 | J7: 152555 | K7: 227500 | L7: 191917 | M7: 232784 | N7: 265570 | O7: 348105 | P7: 96906 | Q7: 93572 | R7: 303007 | S7: 345047 | T7: 136500 | U7: 169308
A8: 일평균 | B8: =B7/92 -> 48359.793 | C8: =C7/92 -> 1987.8696 | D8: =D7/92 -> 2181.837 | E8: =E7/92 -> 3818.9783 | F8: =F7/92 -> 3091.6848 | G8: =G7/92 -> 4988.2283 | H8: =H7/92 -> 2037.3261 | I8: =I7/92 -> 2397.663 | ... U8: =U7/92 -> 1840.3043
A9: 비율 | B9: =B8/$B$8*100 -> 100 | C9: =C8/$B$8*100 -> 4.1105832 | D9: =D8/$B$8*100 -> 4.5116755 | E9: =E8/$B$8*100 -> 7.8970111 | F9: =F8/$B$8*100 -> 6.3930893 | G9: =G8/$B$8*100 -> 10.314825 | H9: =H8/$B$8*100 -> 4.2128511 | I9: =I8/$B$8*100 -> 4.9579679 | ... U9: =U8/$B$8*100 -> 3.8054429
A10: 7월 | B10: =SUM(C10:U10) -> 1507012 | C10: 62003 | D10: 68071 | E10: 114039 | F10: 96374 | G10: 157258 | H10: 66180 | I10: 72905 | J10: 52627 | K10: 77659 | L10: 65602 | M10: 79960 | N10: 90222 | O10: 119818 | P10: 32990 | Q10: 31562 | R10: 100942 | S10: 113478 | T10: 46208 | U10: 59114
A11: 일평균 | B11: =B10/31 -> 48613.29 | C11: =C10/31 -> 2000.0968 | D11: =D10/31 -> 2195.8387 | E11: =E10/31 -> 3678.6774 | F11: =F10/31 -> 3108.8387 | G11: =G10/31 -> 5072.8387 | H11: =H10/31 -> 2134.8387 | I11: =I10/31 -> 2351.7742 | ... U11: =U10/31 -> 1906.9032
A12: 비율 | B12: =B11/$B$11*100 -> 100 | C12: =C11/$B$11*100 -> 4.1143004 | D12: =D11/$B$11*100 -> 4.5169514 | E12: =E11/$B$11*100 -> 7.5672257 | F12: =F11/$B$11*100 -> 6.3950387 | G12: =G11/$B$11*100 -> 10.435086 | H12: =H11/$B$11*100 -> 4.3914713 | I12: =I11/$B$11*100 -> 4.8377186 | ... U12: =U11/$B$11*100 -> 3.9225965
A13: 8월 | B13: =SUM(C13:U13) -> 1449558 | C13: 60481 | D13: 65602 | E13: 111823 | F13: 93454 | G13: 151789 | H13: 62594 | I13: 72775 | J13: 50119 | K13: 73753 | L13: 61515 | M13: 73791 | N13: 87499 | O13: 113716 | P13: 29986 | Q13: 30526 | R13: 96026 | S13: 113953 | T13: 44222 | U13: 55934
A14: 일평균 | B14: =B13/31 -> 46759.935 | C14: =C13/31 -> 1951 | D14: =D13/31 -> 2116.1935 | E14: =E13/31 -> 3607.1935 | F14: =F13/31 -> 3014.6452 | G14: =G13/31 -> 4896.4194 | H14: =H13/31 -> 2019.1613 | I14: =I13/31 -> 2347.5806 | ... U14: =U13/31 -> 1804.3226
A15: 비율 | B15: =B14/$B$14*100 -> 100 | C15: =C14/$B$14*100 -> 4.1723753 | D15: =D14/$B$14*100 -> 4.5256554 | E15: =E14/$B$14*100 -> 7.7142826 | F15: =F14/$B$14*100 -> 6.4470687 | G15: =G14/$B$14*100 -> 10.471399 | H15: =H14/$B$14*100 -> 4.3181439 | I15: =I14/$B$14*100 -> 5.0204959 | ... U15: =U14/$B$14*100 -> 3.8586935
A16: 9월 | B16: =SUM(C16:U16) -> 1492531 | C16: 60400 | D16: 67056 | E16: 125484 | F16: 94607 | G16: 149870 | H16: 58660 | I16: 74905 | J16: 49809 | K16: 76088 | L16: 64800 | M16: 79033 | N16: 87849 | O16: 114571 | P16: 33930 | Q16: 31484 | R16: 106039 | S16: 117616 | T16: 46070 | U16: 54260
A17: 일평균 | B17: =B16/30 -> 49751.033 | C17: =C16/30 -> 2013.3333 | D17: =D16/30 -> 2235.2 | E17: =E16/30 -> 4182.8 | F17: =F16/30 -> 3153.5667 | G17: =G16/30 -> 4995.6667 | H17: =H16/30 -> 1955.3333 | I17: =I16/30 -> 2496.8333 | ... U17: =U16/30 -> 1808.6667
A18: 비율 | B18: =B17/$B$17*100 -> 100 | C18: =C17/$B$17*100 -> 4.0468171 | D18: =D17/$B$17*100 -> 4.492771 | E18: =E17/$B$17*100 -> 8.4074636 | F18: =F17/$B$17*100 -> 6.3386958 | G18: =G17/$B$17*100 -> 10.041332 | H18: =H17/$B$17*100 -> 3.9302366 | I18: =I17/$B$17*100 -> 5.0186562 | ... U18: =U17/$B$17*100 -> 3.6354354

Sheet 2016.4분기
A1: 2016년 4/4분기 수송 현황
T2: (단위:명,%)
A3: 구분 | B3: 합 계 | C3: 소태역 | D3: 학동증심사 입구역 | E3: 남광주역 | F3: 문화전당역 (구도청) | G3: 금남로4가역 | H3: 금남로5가역 | I3: 양동시장역 | J3: 돌고개역 | K3: 농성역 | L3: 화정역 | M3: 쌍촌역 | N3: 운천역 (호남대입구) | O3: 상무 | P3: 김대중 컨벤션센터역 | Q3: 공항역 | R3: 송정공원역 | S3: 송정리역 | T3: 도산역 | U3: 평동역
A4: 년누계 | B4: ='2016.2분기'!B4+'2016.3분기'!B7+'2016.4분기'!B7 -> 18650867 | C4: 735611 | D4: 834391 | E4: 1535688 | F4: 1164266 | G4: 1900401 | H4: 775711 | I4: 887813 | J4: 644226 | K4: 992086 | L4: 799506 | M4: 997003 | N4: 1141819 | O4: 1469118 | P4: 425616 | Q4: 394383 | R4: 1290098 | S4: 1408980 | T4: 570437 | U4: 683714
A5: 일평균 | B5: =B4/366 -> 50958.653 | C5: =C4/366 -> 2009.8661 | D5: =D4/366 -> 2279.7568 | E5: =E4/366 -> 4195.8689 | F5: =F4/366 -> 3181.0546 | G5: =G4/366 -> 5192.3525 | H5: =H4/366 -> 2119.429 | I5: =I4/366 -> 2425.7186 | ... U5: =U4/366 -> 1868.071
A6: 비율 | B6: =B5/$B$5*100 -> 100 | C6: =C5/$B$5*100 -> 3.9441116 | D6: =D5/$B$5*100 -> 4.4737384 | E6: =E5/$B$5*100 -> 8.2338692 | F6: =F5/$B$5*100 -> 6.2424229 | G6: =G5/$B$5*100 -> 10.189344 | H6: =H5/$B$5*100 -> 4.159115 | I6: =I5/$B$5*100 -> 4.7601701 | ... U6: =U5/$B$5*100 -> 3.6658564
A7: 분기누계 | B7: =SUM(C7:U7) -> 4888560 | C7: =C10+C13+C16 -> 190614 | D7: =D10+D13+D16 -> 219302 | E7: =E10+E13+E16 -> 406773 | F7: =F10+F13+F16 -> 317017 | G7: =G10+G13+G16 -> 506657 | H7: =H10+H13+H16 -> 193298 | I7: =I10+I13+I16 -> 223911 | J7: =J10+J13+J16 -> 166564 | ... U7: =U10+U13+U16 -> 177282
A8: 일평균 | B8: =B7/92 -> 53136.522 | C8: =C7/92 -> 2071.8913 | D8: =D7/92 -> 2383.7174 | E8: =E7/92 -> 4421.4457 | F8: =F7/92 -> 3445.837 | G8: =G7/92 -> 5507.1413 | H8: =H7/92 -> 2101.0652 | I8: =I7/92 -> 2433.8152 | ... U8: =U7/92 -> 1926.9783
A9: 비율 | B9: =B8/$B$8*100 -> 100 | C9: =C8/$B$8*100 -> 3.899185 | D9: =D8/$B$8*100 -> 4.4860245 | E9: =E8/$B$8*100 -> 8.3209166 | F9: =F8/$B$8*100 -> 6.4848749 | G9: =G8/$B$8*100 -> 10.364136 | H9: =H8/$B$8*100 -> 3.9540887 | I9: =I8/$B$8*100 -> 4.5803059 | ... U9: =U8/$B$8*100 -> 3.6264667
A10: 10월 | B10: =SUM(C10:U10) -> 1617972 | C10: 64285 | D10: 73067 | E10: 134618 | F10: 105253 | G10: 168749 | H10: 63830 | I10: 74578 | J10: 54682 | K10: 84391 | L10: 70466 | M10: 85500 | N10: 95068 | O10: 125459 | P10: 40653 | Q10: 34473 | R10: 112641 | S10: 122972 | T10: 49234 | U10: 58053
A11: 일평균 | B11: =B10/31 -> 52192.645 | C11: =C10/31 -> 2073.7097 | D11: =D10/31 -> 2357 | E11: =E10/31 -> 4342.5161 | F11: =F10/31 -> 3395.2581 | G11: =G10/31 -> 5443.5161 | H11: =H10/31 -> 2059.0323 | I11: =I10/31 -> 2405.7419 | ... U11: =U10/31 -> 1872.6774
A12: 비율 | B12: =B11/$B$11*100 -> 100 | C12: =C11/$B$11*100 -> 3.9731837 | D12: =D11/$B$11*100 -> 4.515962 | E12: =E11/$B$11*100 -> 8.3201687 | F12: =F11/$B$11*100 -> 6.5052424 | G12: =G11/$B$11*100 -> 10.429661 | H12: =H11/$B$11*100 -> 3.9450621 | I12: =I11/$B$11*100 -> 4.6093505 | ... U12: =U11/$B$11*100 -> 3.5880102
A13: 11월 | B13: =SUM(C13:U13) -> 1624880 | C13: 62538 | D13: 73479 | E13: 139043 | F13: 103748 | G13: 162812 | H13: 63400 | I13: 75240 | J13: 55269 | K13: 85870 | L13: 71252 | M13: 87100 | N13: 96784 | O13: 128727 | P13: 41720 | Q13: 34352 | R13: 111628 | S13: 123015 | T13: 49191 | U13: 59712
A14: 일평균 | B14: =B13/30 -> 54162.667 | C14: =C13/30 -> 2084.6 | D14: =D13/30 -> 2449.3 | E14: =E13/30 -> 4634.7667 | F14: =F13/30 -> 3458.2667 | G14: =G13/30 -> 5427.0667 | H14: =H13/30 -> 2113.3333 | I14: =I13/30 -> 2508 | ... U14: =U13/30 -> 1990.4
A15: 비율 | B15: =B14/$B$14*100 -> 100 | C15: =C14/$B$14*100 -> 3.8487765 | D15: =D14/$B$14*100 -> 4.5221186 | E15: =E14/$B$14*100 -> 8.5571242 | F15: =F14/$B$14*100 -> 6.3849638 | G15: =G14/$B$14*100 -> 10.01994 | H15: =H14/$B$14*100 -> 3.9018266 | I15: =I14/$B$14*100 -> 4.6304958 | ... U15: =U14/$B$14*100 -> 3.674856
A16: 12월 | B16: =SUM(C16:U16) -> 1645708 | C16: 63791 | D16: 72756 | E16: 133112 | F16: 108016 | G16: 175096 | H16: 66068 | I16: 74093 | J16: 56613 | K16: 85224 | L16: 72044 | M16: 87592 | N16: 99688 | O16: 131359 | P16: 38748 | Q16: 34557 | R16: 109167 | S16: 128576 | T16: 49691 | U16: 59517
A17: 일평균 | B17: =B16/31 -> 53087.355 | C17: =C16/31 -> 2057.7742 | D17: =D16/31 -> 2346.9677 | E17: =E16/31 -> 4293.9355 | F17: =F16/31 -> 3484.3871 | G17: =G16/31 -> 5648.2581 | H17: =H16/31 -> 2131.2258 | I17: =I16/31 -> 2390.0968 | ... U17: =U16/31 -> 1919.9032
A18: 비율 | B18: =B17/$B$17*100 -> 100 | C18: =C17/$B$17*100 -> 3.876204 | D18: =D17/$B$17*100 -> 4.4209544 | E18: =E17/$B$17*100 -> 8.0884337 | F18: =F17/$B$17*100 -> 6.5634973 | G18: =G17/$B$17*100 -> 10.639555 | H18: =H17/$B$17*100 -> 4.0145639 | I18: =I17/$B$17*100 -> 4.502196 | ... U18: =U17/$B$17*100 -> 3.6164982

Sheet 2017.1분기
A1: 2017년 1/4분기 수송 현황
U2: (단위:명,%)
A3: 구분 | B3: 합 계 | C3: 녹동역 | D3: 소태역 | E3: 학동증심사 입구역 | F3: 남광주역 | G3: 문화전당역 | H3: 금남로4가역 | I3: 금남로5가역 | J3: 양동시장역 | K3: 돌고개역 | L3: 농성역 | M3: 화정역 | N3: 쌍촌역 | O3: 운천역 | P3: 상무 | Q3: 김대중 컨벤션센터역 | R3: 공항역 | S3: 송정공원역 | T3: 광주송정역 | U3: 도산역 | V3: 평동역
A4: 년누계 | B4: =SUM(C4:V4) -> 4576170 | C4: =C7 -> 11586 | D4: =D10+D13+D16 -> 167163 | E4: =E10+E13+E16 -> 195923 | F4: =F10+F13+F16 -> 379699 | G4: =G10+G13+G16 -> 290092 | H4: =H10+H13+H16 -> 475540 | I4: =I10+I13+I16 -> 182523 | J4: =J10+J13+J16 -> 210475 | K4: =K10+K13+K16 -> 156383 | ... V4: =V10+V13+V16 -> 170071
A5: 일평균 | B5: =B4/90 -> 50846.333 | C5: =C4/90 -> 128.73333 | D5: =D4/90 -> 1857.3667 | E5: =E4/90 -> 2176.9222 | F5: =F4/90 -> 4218.8778 | G5: =G4/90 -> 3223.2444 | H5: =H4/90 -> 5283.7778 | I5: =I4/90 -> 2028.0333 | ... V5: =V4/90 -> 1889.6778
A6: 비율 | B6: =B5/$B$5*100 -> 100 | C6: =C5/$B$5*100 -> 0.25318115 | D6: =D5/$B$5*100 -> 3.6529019 | E6: =E5/$B$5*100 -> 4.281375 | F6: =F5/$B$5*100 -> 8.2973098 | G6: =G5/$B$5*100 -> 6.3391876 | H6: =H5/$B$5*100 -> 10.391659 | I6: =I5/$B$5*100 -> 3.9885537 | ... V6: =V5/$B$5*100 -> 3.7164485
A7: 분기누계 | B7: =SUM(C7:V7) -> 4576170 | C7: =C10+C13+C16 -> 11586 | D7: =D10+D13+D16 -> 167163 | E7: =E10+E13+E16 -> 195923 | F7: =F10+F13+F16 -> 379699 | G7: =G10+G13+G16 -> 290092 | H7: =H10+H13+H16 -> 475540 | I7: =I10+I13+I16 -> 182523 | J7: =J10+J13+J16 -> 210475 | ... V7: =V10+V13+V16 -> 170071
A8: 일평균 | B8: =B7/90 -> 50846.333 | C8: =C7/90 -> 128.73333 | D8: =D7/90 -> 1857.3667 | E8: =E7/90 -> 2176.9222 | F8: =F7/90 -> 4218.8778 | G8: =G7/90 -> 3223.2444 | H8: =H7/90 -> 5283.7778 | I8: =I7/90 -> 2028.0333 | ... V8: =V7/90 -> 1889.6778
A9: 비율 | B9: =B8/$B$8*100 -> 100 | C9: =C8/$B$8*100 -> 0.25318115 | D9: =D8/$B$8*100 -> 3.6529019 | E9: =E8/$B$8*100 -> 4.281375 | F9: =F8/$B$8*100 -> 8.2973098 | G9: =G8/$B$8*100 -> 6.3391876 | H9: =H8/$B$8*100 -> 10.391659 | I9: =I8/$B$8*100 -> 3.9885537 | ... V9: =V8/$B$8*100 -> 3.7164485
A10: 1월 | B10: =SUM(C10:V10) -> 1461310 | C10: 3442 | D10: 54962 | E10: 61538 | F10: 114561 | G10: 94480 | H10: 152744 | I10: 57596 | J10: 72390 | K10: 50707 | L10: 76584 | M10: 63751 | N10: 76496 | O10: 86893 | P10: 115896 | Q10: 30602 | R10: 29450 | S10: 93324 | T10: 127790 | U10: 43090 | V10: 55014
A11: 일평균 | B11: =B10/31 -> 47139.032 | C11: =C10/31 -> 111.03226 | D11: =D10/31 -> 1772.9677 | E11: =E10/31 -> 1985.0968 | F11: =F10/31 -> 3695.5161 | G11: =G10/31 -> 3047.7419 | H11: =H10/31 -> 4927.2258 | I11: =I10/31 -> 1857.9355 | ... V11: =V10/31 -> 1774.6452
A12: 비율 | B12: =B11/$B$11*100 -> 100 | C12: =C11/$B$11*100 -> 0.23554208 | D12: =D11/$B$11*100 -> 3.7611458 | E12: =E11/$B$11*100 -> 4.211153 | F12: =F11/$B$11*100 -> 7.8396097 | G12: =G11/$B$11*100 -> 6.4654317 | H12: =H11/$B$11*100 -> 10.452539 | I12: =I11/$B$11*100 -> 3.941395 | ... V12: =V11/$B$11*100 -> 3.7647043
A13: 2월 | B13: =SUM(C13:V13) -> 1446111 | C13: 3588 | D13: 53745 | E13: 60937 | F13: 115163 | G13: 94892 | H13: 155909 | I13: 57613 | J13: 63398 | K13: 49833 | L13: 74942 | M13: 62905 | N13: 75462 | O13: 88268 | P13: 117058 | Q13: 33571 | R13: 28772 | S13: 92746 | T13: 119540 | U13: 43899 | V13: 53870
A14: 일평균 | B14: =B13/28 -> 51646.821 | C14: =C13/28 -> 128.14286 | D14: =D13/28 -> 1919.4643 | E14: =E13/28 -> 2176.3214 | F14: =F13/28 -> 4112.9643 | G14: =G13/28 -> 3389 | H14: =H13/28 -> 5568.1786 | I14: =I13/28 -> 2057.6071 | ... V14: =V13/28 -> 1923.9286
A15: 비율 | B15: =B14/$B$14*100 -> 100 | C15: =C14/$B$14*100 -> 0.24811373 | D15: =D14/$B$14*100 -> 3.7165197 | E15: =E14/$B$14*100 -> 4.2138536 | F15: =F14/$B$14*100 -> 7.9636349 | G15: =G14/$B$14*100 -> 6.5618753 | H15: =H14/$B$14*100 -> 10.781261 | I15: =I14/$B$14*100 -> 3.9839957 | ... V15: =V14/$B$14*100 -> 3.7251636
A16: 3월 | B16: =SUM(C16:V16) -> 1668749 | C16: 4556 | D16: 58456 | E16: 73448 | F16: 149975 | G16: 100720 | H16: 166887 | I16: 67314 | J16: 74687 | K16: 55843 | L16: 85493 | M16: 73145 | N16: 89585 | O16: 102220 | P16: 131433 | Q16: 38343 | R16: 33952 | S16: 114871 | T16: 132885 | U16: 53749 | V16: 61187
A17: 일평균 | B17: =B16/31 -> 53830.613 | C17: =C16/31 -> 146.96774 | D17: =D16/31 -> 1885.6774 | E17: =E16/31 -> 2369.2903 | F17: =F16/31 -> 4837.9032 | G17: =G16/31 -> 3249.0323 | H17: =H16/31 -> 5383.4516 | I17: =I16/31 -> 2171.4194 | ... V17: =V16/31 -> 1973.7742
A18: 비율 | B18: =B17/$B$17*100 -> 100 | C18: =C17/$B$17*100 -> 0.27301889 | D18: =D17/$B$17*100 -> 3.5029834 | E18: =E17/$B$17*100 -> 4.4013809 | F18: =F17/$B$17*100 -> 8.9872713 | G18: =G17/$B$17*100 -> 6.035659 | H18: =H17/$B$17*100 -> 10.000725 | I18: =I17/$B$17*100 -> 4.0338002 | ... V18: =V17/$B$17*100 -> 3.6666389

Sheet 2017.2분기
A1: 2017년 2/4분기 수송 현황
U2: (단위:명,%)
A3: 구분 | B3: 합 계 | C3: 녹동역 | D3: 소태역 | E3: 학동증심사 입구역 | F3: 남광주역 | G3: 문화전당역 | H3: 금남로4가역 | I3: 금남로5가역 | J3: 양동시장역 | K3: 돌고개역 | L3: 농성역 | M3: 화정역 | N3: 쌍촌역 | O3: 운천역 | P3: 상무 | Q3: 김대중 컨벤션센터역 | R3: 공항역 | S3: 송정공원역 | T3: 광주송정역 | U3: 도산역 | V3: 평동역
A4: 년누계 | B4: ='2017.1분기'!B4+'2017.2분기'!B7 -> 9445774 | C4: ='2017.1분기'!C4+'2017.2분기'!C7 -> 24148 | D4: ='2017.1분기'!D4+'2017.2분기'!D7 -> 341066 | E4: ='2017.1분기'!E4+'2017.2분기'!E7 -> 409050 | F4: ='2017.1분기'!F4+'2017.2분기'!F7 -> 816026 | G4: ='2017.1분기'!G4+'2017.2분기'!G7 -> 596435 | H4: ='2017.1분기'!H4+'2017.2분기'!H7 -> 961894 | I4: ='2017.1분기'!I4+'2017.2분기'!I7 -> 371545 | ... V4: ='2017.1분기'!V4+'2017.2분기'!V7 -> 348744
A5: 일평균 | B5: =B4/181 -> 52186.597 | C5: =C4/181 -> 133.41436 | D5: =D4/181 -> 1884.3425 | E5: =E4/181 -> 2259.9448 | F5: =F4/181 -> 4508.4309 | G5: =G4/181 -> 3295.221 | H5: =H4/181 -> 5314.3315 | I5: =I4/181 -> 2052.7348 | ... V5: =V4/181 -> 1926.7624
A6: 비율 | B6: =B5/$B$5*100 -> 100 | C6: =C5/$B$5*100 -> 0.25564872 | D6: =D5/$B$5*100 -> 3.6107787 | E6: =E5/$B$5*100 -> 4.330508 | F6: =F5/$B$5*100 -> 8.6390591 | G6: =G5/$B$5*100 -> 6.3143052 | H6: =H5/$B$5*100 -> 10.183326 | I6: =I5/$B$5*100 -> 3.9334521 | ... V6: =V5/$B$5*100 -> 3.6920638
A7: 분기누계 | B7: =SUM(C7:V7) -> 4869604 | C7: =C10+C13+C16 -> 12562 | D7: =D10+D13+D16 -> 173903 | E7: =E10+E13+E16 -> 213127 | F7: =F10+F13+F16 -> 436327 | G7: =G10+G13+G16 -> 306343 | H7: =H10+H13+H16 -> 486354 | I7: =I10+I13+I16 -> 189022 | J7: =J10+J13+J16 -> 222528 | ... V7: =V10+V13+V16 -> 178673
A8: 일평균 | B8: =B7/91 -> 53512.132 | C8: =C7/91 -> 138.04396 | D8: =D7/91 -> 1911.022 | E8: =E7/91 -> 2342.0549 | F8: =F7/91 -> 4794.8022 | G8: =G7/91 -> 3366.4066 | H8: =H7/91 -> 5344.5495 | I8: =I7/91 -> 2077.1648 | ... V8: =V7/91 -> 1963.4396
A9: 비율 | B9: =B8/$B$8*100 -> 100 | D9: =D8/$B$8*100 -> 3.5711939 | E9: =E8/$B$8*100 -> 4.3766803 | F9: =F8/$B$8*100 -> 8.9602152 | G9: =G8/$B$8*100 -> 6.2909222 | H9: =H8/$B$8*100 -> 9.9875472 | I9: =I8/$B$8*100 -> 3.8816709 | J9: =J8/$B$8*100 -> 4.569735 | K9: =K8/$B$8*100 -> 3.306429 | ... V9: =V8/$B$8*100 -> 3.6691485
A10: 4월 | B10: =SUM(C10:V10) -> 1631845 | C10: 4268 | D10: 56937 | E10: 70839 | F10: 146252 | G10: 98081 | H10: 158115 | I10: 62630 | J10: 72746 | K10: 53331 | L10: 90170 | M10: 70603 | N10: 85290 | O10: 108161 | P10: 125815 | Q10: 37723 | R10: 33200 | S10: 109207 | T10: 135028 | U10: 52931 | V10: 60518
A11: 일평균 | B11: =B10/30 -> 54394.833 | C11: =C10/30 -> 142.26667 | D11: =D10/30 -> 1897.9 | E11: =E10/30 -> 2361.3 | F11: =F10/30 -> 4875.0667 | G11: =G10/30 -> 3269.3667 | H11: =H10/30 -> 5270.5 | I11: =I10/30 -> 2087.6667 | ... V11: =V10/30 -> 2017.2667
A12: 비율 | B12: =B11/$B$11*100 -> 100 | C12: =C11/$B$11*100 -> 0.26154445 | D12: =D11/$B$11*100 -> 3.4891181 | E12: =E11/$B$11*100 -> 4.3410373 | F12: =F11/$B$11*100 -> 8.9623708 | G12: =G11/$B$11*100 -> 6.010436 | H12: =H11/$B$11*100 -> 9.6893394 | I12: =I11/$B$11*100 -> 3.8379871 | ... V12: =V11/$B$11*100 -> 3.708563
A13: 5월 | B13: =SUM(C13:V13) -> 1668687 | C13: 4222 | D13: 59886 | E13: 72058 | F13: 150735 | G13: 111539 | H13: 171252 | I13: 63350 | J13: 75999 | K13: 54800 | L13: 84419 | M13: 71237 | N13: 87223 | O13: 101205 | P13: 128930 | Q13: 36335 | R13: 33833 | S13: 109540 | T13: 139426 | U13: 53953 | V13: 58745
A14: 일평균 | B14: =B13/31 -> 53828.613 | C14: =C13/31 -> 136.19355 | D14: =D13/31 -> 1931.8065 | E14: =E13/31 -> 2324.4516 | F14: =F13/31 -> 4862.4194 | G14: =G13/31 -> 3598.0323 | H14: =H13/31 -> 5524.2581 | I14: =I13/31 -> 2043.5484 | ... V14: =V13/31 -> 1895
A15: 비율 | B15: =B14/$B$14*100 -> 100 | C15: =C14/$B$14*100 -> 0.2530133 | D15: =D14/$B$14*100 -> 3.5888096 | E15: =E14/$B$14*100 -> 4.3182454 | F15: =F14/$B$14*100 -> 9.03315 | G15: =G14/$B$14*100 -> 6.6842374 | H15: =H14/$B$14*100 -> 10.26268 | I15: =I14/$B$14*100 -> 3.796398 | ... V15: =V14/$B$14*100 -> 3.5204325
A16: 6월 | B16: =SUM(C16:V16) -> 1569072 | C16: 4072 | D16: 57080 | E16: 70230 | F16: 139340 | G16: 96723 | H16: 156987 | I16: 63042 | J16: 73783 | K16: 52879 | L16: 79863 | M16: 68872 | N16: 83450 | O16: 95731 | P16: 123212 | Q16: 33089 | R16: 31993 | S16: 101713 | T16: 126617 | U16: 50986 | V16: 59410
A17: 일평균 | B17: =B16/30 -> 52302.4 | C17: =C16/30 -> 135.73333 | D17: =D16/30 -> 1902.6667 | E17: =E16/30 -> 2341 | F17: =F16/30 -> 4644.6667 | G17: =G16/30 -> 3224.1 | H17: =H16/30 -> 5232.9 | I17: =I16/30 -> 2101.4 | ... V17: =V16/30 -> 1980.3333
A18: 비율 | B18: =B17/$B$17*100 -> 100 | C18: =C17/$B$17*100 -> 0.25951645 | D18: =D17/$B$17*100 -> 3.637819 | E18: =E17/$B$17*100 -> 4.475894 | F18: =F17/$B$17*100 -> 8.8804083 | G18: =G17/$B$17*100 -> 6.1643443 | H18: =H17/$B$17*100 -> 10.005086 | I18: =I17/$B$17*100 -> 4.0177889 | ... V18: =V17/$B$17*100 -> 3.7863145

Sheet 2017.3분기
A1: 2017년 3/4분기 수송 현황
U2: (단위:명,%)
A3: 구분 | B3: 합 계 | C3: 녹동역 | D3: 소태역 | E3: 학동증심사 입구역 | F3: 남광주역 | G3: 문화전당역 | H3: 금남로4가역 | I3: 금남로5가역 | J3: 양동시장역 | K3: 돌고개역 | L3: 농성역 | M3: 화정역 | N3: 쌍촌역 | O3: 운천역 | P3: 상무 | Q3: 김대중 컨벤션센터역 | R3: 공항역 | S3: 송정공원역 | T3: 광주송정역 | U3: 도산역 | V3: 평동역
A4: 년누계 | B4: ='2017.1분기'!B4+'2017.2분기'!B7+'2017.3분기'!B7 -> 14030161 | C4: ='2017.1분기'!C4+'2017.2분기'!C7+'2017.3분기'!C7 -> 36009 | D4: ='2017.1분기'!D4+'2017.2분기'!D7+'2017.3분기'!D7 -> 511305 | E4: ='2017.1분기'!E4+'2017.2분기'!E7+'2017.3분기'!E7 -> 611229 | F4: ='2017.1분기'!F4+'2017.2분기'!F7+'2017.3분기'!F7 -> 1218198 | G4: ='2017.1분기'!G4+'2017.2분기'!G7+'2017.3분기'!G7 -> 886823 | H4: ='2017.1분기'!H4+'2017.2분기'!H7+'2017.3분기'!H7 -> 1432691 | I4: ='2017.1분기'!I4+'2017.2분기'!I7+'2017.3분기'!I7 -> 553661 | ... V4: ='2017.1분기'!V4+'2017.2분기'!V7+'2017.3분기'!V7 -> 524012
A5: 일평균 | B5: =B4/273 -> 51392.531 | C5: =C4/273 -> 131.9011 | D5: =D4/273 -> 1872.9121 | E5: =E4/273 -> 2238.9341 | F5: =F4/273 -> 4462.2637 | G5: =G4/273 -> 3248.4359 | H5: =H4/273 -> 5247.9524 | I5: =I4/273 -> 2028.0623 | ... V5: =V4/273 -> 1919.4579
A6: 비율 | B6: =B5/$B$5*100 -> 100 | C6: =C5/$B$5*100 -> 0.25665422 | D6: =D5/$B$5*100 -> 3.6443274 | E6: =E5/$B$5*100 -> 4.3565359 | F6: =F5/$B$5*100 -> 8.6827086 | G6: =G5/$B$5*100 -> 6.3208327 | H6: =H5/$B$5*100 -> 10.211508 | I6: =I5/$B$5*100 -> 3.9462199 | ... V6: =V5/$B$5*100 -> 3.7348966
A7: 분기누계 | B7: =SUM(C7:V7) -> 4584387 | C7: =C10+C13+C16 -> 11861 | D7: =D10+D13+D16 -> 170239 | E7: =E10+E13+E16 -> 202179 | F7: =F10+F13+F16 -> 402172 | G7: =G10+G13+G16 -> 290388 | H7: =H10+H13+H16 -> 470797 | I7: =I10+I13+I16 -> 182116 | J7: =J10+J13+J16 -> 219721 | ... V7: =V10+V13+V16 -> 175268
A8: 일평균 | B8: =B7/92 -> 49830.293 | C8: =C7/92 -> 128.92391 | D8: =D7/92 -> 1850.4239 | E8: =E7/92 -> 2197.5978 | F8: =F7/92 -> 4371.4348 | G8: =G7/92 -> 3156.3913 | H8: =H7/92 -> 5117.3587 | I8: =I7/92 -> 1979.5217 | ... V8: =V7/92 -> 1905.087
A9: 비율 | B9: =B8/$B$8*100 -> 100 | C9: =C8/$B$8*100 -> 0.25872598 | D9: =D8/$B$8*100 -> 3.7134518 | E9: =E8/$B$8*100 -> 4.4101643 | F9: =F8/$B$8*100 -> 8.7726451 | G9: =G8/$B$8*100 -> 6.334282 | H9: =H8/$B$8*100 -> 10.269574 | I9: =I8/$B$8*100 -> 3.9725268 | ... V9: =V8/$B$8*100 -> 3.8231502
A10: 7월 | B10: =SUM(C10:V10) -> 1502716 | C10: 3971 | D10: 56448 | E10: 66390 | F10: 124978 | G10: 95851 | H10: 159348 | I10: 60752 | J10: 71643 | K10: 52253 | L10: 73719 | M10: 64572 | N10: 77027 | O10: 89386 | P10: 117135 | Q10: 32573 | R10: 30390 | S10: 94523 | T10: 123977 | U10: 48412 | V10: 59368
A11: 일평균 | B11: =B10/31 -> 48474.71 | C11: 128 | D11: 1821 | E11: 2142 | F11: 4032 | G11: 3092 | H11: 5140 | I11: 1960 | J11: 2311 | K11: 1686 | L11: 2378 | M11: 2083 | N11: 2485 | O11: 2883 | P11: 3779 | Q11: 1051 | R11: 980 | S11: 3049 | T11: 3999 | U11: 1562 | V11: 1915
A12: 비율 | B12: =B11/$B$11*100 -> 100 | C12: =C11/$B$11*100 -> 0.26405522 | D12: =D11/$B$11*100 -> 3.7565981 | E12: =E11/$B$11*100 -> 4.418799 | F12: =F11/$B$11*100 -> 8.3177393 | G12: =G11/$B$11*100 -> 6.3785838 | H12: =H11/$B$11*100 -> 10.603467 | I12: =I11/$B$11*100 -> 4.0433455 | ... V12: =V11/$B$11*100 -> 3.9505136
A13: 8월 | B13: =SUM(C13:V13) -> 1475914 | C13: 3820 | D13: 55247 | E13: 64999 | F13: 128492 | G13: 96535 | H13: 154619 | I13: 59980 | J13: 70338 | K13: 50391 | L13: 72676 | M13: 63303 | N13: 74242 | O13: 86444 | P13: 115304 | Q13: 29188 | R13: 29430 | S13: 90570 | T13: 126703 | U13: 46897 | V13: 56736
A14: 일평균 | B14: =B13/31 -> 47610.129 | C14: 123 | D14: 1782 | E14: 2097 | F14: 4145 | G14: 3114 | H14: 4988 | I14: 1935 | J14: 2269 | K14: 1626 | L14: 2344 | M14: 2042 | N14: 2395 | O14: 2789 | P14: 3719 | Q14: 942 | R14: 949 | S14: 2922 | T14: 4087 | U14: 1513 | V14: 1830
A15: 비율 | B15: =B14/$B$14*100 -> 100 | C15: =C14/$B$14*100 -> 0.25834839 | D15: =D14/$B$14*100 -> 3.742901 | E15: =E14/$B$14*100 -> 4.4045249 | F15: =F14/$B$14*100 -> 8.7061306 | G15: =G14/$B$14*100 -> 6.540625 | H15: =H14/$B$14*100 -> 10.476762 | I15: =I14/$B$14*100 -> 4.0642612 | ... V15: =V14/$B$14*100 -> 3.8437199
A16: 9월 | B16: =SUM(C16:V16) -> 1605757 | C16: 4070 | D16: 58544 | E16: 70790 | F16: 148702 | G16: 98002 | H16: 156830 | I16: 61384 | J16: 77740 | K16: 53691 | L16: 81537 | M16: 69988 | N16: 82721 | O16: 94626 | P16: 124954 | Q16: 37711 | R16: 32675 | S16: 105228 | T16: 134666 | U16: 52734 | V16: 59164
A17: 일평균 | B17: =B16/30 -> 53525.233 | C17: 136 | D17: 1951 | E17: 2360 | F17: 4957 | G17: 3267 | H17: 5228 | I17: 2046 | J17: 2591 | K17: 1790 | L17: 2718 | M17: 2333 | N17: 2757 | O17: 3154 | P17: 4165 | Q17: 1257 | R17: 1089 | S17: 3508 | T17: 4489 | U17: 1758 | V17: 1972
A18: 비율 | B18: =B17/$B$17*100 -> 100 | C18: =C17/$B$17*100 -> 0.25408577 | D18: =D17/$B$17*100 -> 3.6450098 | E18: =E17/$B$17*100 -> 4.4091354 | F18: =F17/$B$17*100 -> 9.2610526 | G18: =G17/$B$17*100 -> 6.1036633 | H18: =H17/$B$17*100 -> 9.7673558 | I18: =I17/$B$17*100 -> 3.8224962 | ... V18: =V17/$B$17*100 -> 3.6842436

Sheet 2017.4분기
A1: 2017년 4/4분기 수송 현황
U2: (단위:명,%)
A3: 구분 | B3: 합 계 | C3: 녹동역 | D3: 소태역 | E3: 학동증심사 입구역 | F3: 남광주역 | G3: 문화전당역 | H3: 금남로4가역 | I3: 금남로5가역 | J3: 양동시장역 | K3: 돌고개역 | L3: 농성역 | M3: 화정역 | N3: 쌍촌역 | O3: 운천역 | P3: 상무 | Q3: 김대중 컨벤션센터역 | R3: 공항역 | S3: 송정공원역 | T3: 광주송정역 | U3: 도산역 | V3: 평동역
A4: 년누계 | B4: ='2017.1분기'!B4+'2017.2분기'!B7+'2017.3분기'!B7+'2017.4분기'!B7 -> 18709366 | C4: ='2017.1분기'!C4+'2017.2분기'!C7+'2017.3분기'!C7+'2017.4분기'!C7 -> 47904 | D4: ='2017.1분기'!D4+'2017.2분기'!D7+'2017.3분기'!D7+'2017.4분기'!D7 -> 690011 | E4: ='2017.1분기'!E4+'2017.2분기'!E7+'2017.3분기'!E7+'2017.4분기'!E7 -> 814061 | F4: ='2017.1분기'!F4+'2017.2분기'!F7+'2017.3분기'!F7+'2017.4분기'!F7 -> 1625579 | G4: ='2017.1분기'!G4+'2017.2분기'!G7+'2017.3분기'!G7+'2017.4분기'!G7 -> 1185411 | H4: ='2017.1분기'!H4+'2017.2분기'!H7+'2017.3분기'!H7+'2017.4분기'!H7 -> 1900914 | I4: ='2017.1분기'!I4+'2017.2분기'!I7+'2017.3분기'!I7+'2017.4분기'!I7 -> 733209 | ... V4: ='2017.1분기'!V4+'2017.2분기'!V7+'2017.3분기'!V7+'2017.4분기'!V7 -> 687422
A5: 일평균 | B5: =B4/365 -> 51258.537 | C5: =C4/365 -> 131.24384 | D5: =D4/365 -> 1890.4411 | E5: =E4/365 -> 2230.3041 | F5: =F4/365 -> 4453.6411 | G5: =G4/365 -> 3247.7014 | H5: =H4/365 -> 5207.9836 | I5: =I4/365 -> 2008.7918 | ... V5: =V4/365 -> 1883.3479
A6: 비율 | B6: =B5/$B$5*100 -> 100 | C6: =C5/$B$5*100 -> 0.25604288 | D6: =D5/$B$5*100 -> 3.6880512 | E6: =E5/$B$5*100 -> 4.3510881 | F6: =F5/$B$5*100 -> 8.6885841 | G6: =G5/$B$5*100 -> 6.3359229 | H6: =H5/$B$5*100 -> 10.160227 | I6: =I5/$B$5*100 -> 3.9189409 | ... V6: =V5/$B$5*100 -> 3.6742132
A7: 분기누계 | B7: =SUM(C7:V7) -> 4679205 | C7: =C10+C13+C16 -> 11895 | D7: =D10+D13+D16 -> 178706 | E7: =E10+E13+E16 -> 202832 | F7: =F10+F13+F16 -> 407381 | G7: =G10+G13+G16 -> 298588 | H7: =H10+H13+H16 -> 468223 | I7: =I10+I13+I16 -> 179548 | J7: =J10+J13+J16 -> 210101 | ... V7: =V10+V13+V16 -> 163410
A8: 일평균 | B8: =B7/92 -> 50860.924 | C8: =C7/92 -> 129.29348 | D8: =D7/92 -> 1942.4565 | E8: =E7/92 -> 2204.6957 | F8: =F7/92 -> 4428.0543 | G8: =G7/92 -> 3245.5217 | H8: =H7/92 -> 5089.3804 | I8: =I7/92 -> 1951.6087 | ... V8: =V7/92 -> 1776.1957
A9: 비율 | B9: =B8/$B$8*100 -> 100 | C9: =C8/$B$8*100 -> 0.25420985 | D9: =D8/$B$8*100 -> 3.819153 | E9: =E8/$B$8*100 -> 4.3347534 | F9: =F8/$B$8*100 -> 8.7062012 | G9: =G8/$B$8*100 -> 6.3811695 | H9: =H8/$B$8*100 -> 10.006465 | I9: =I8/$B$8*100 -> 3.8371475 | ... V9: =V8/$B$8*100 -> 3.4922599
A10: 10월 | B10: =SUM(C10:V10) -> 1519146 | C10: 3878 | D10: 59137 | E10: 65749 | F10: 129564 | G10: 107737 | H10: 158068 | I10: 55416 | J10: 67886 | K10: 49806 | L10: 76692 | M10: 63982 | N10: 77823 | O10: 89462 | P10: 116506 | Q10: 33918 | R10: 30831 | S10: 96799 | T10: 134596 | U10: 49017 | V10: 52279
A11: 일평균 | B11: =B10/31 -> 49004.71 | C11: 128 | D11: 1821 | E11: 2142 | F11: 4032 | G11: 3092 | H11: 5140 | I11: 1960 | J11: 2311 | K11: 1686 | L11: 2378 | M11: 2083 | N11: 2485 | O11: 2883 | P11: 3779 | Q11: 1051 | R11: 980 | S11: 3049 | T11: 3999 | U11: 1562 | V11: 1915
A12: 비율 | B12: =B11/$B$11*100 -> 100 | C12: =C11/$B$11*100 -> 0.26119938 | D12: =D11/$B$11*100 -> 3.7159694 | E12: =E11/$B$11*100 -> 4.3710084 | F12: =F11/$B$11*100 -> 8.2277806 | G12: =G11/$B$11*100 -> 6.3095976 | H12: =H11/$B$11*100 -> 10.488788 | I12: =I11/$B$11*100 -> 3.9996156 | ... V12: =V11/$B$11*100 -> 3.9077877
A13: 11월 | B13: =SUM(C13:V13) -> 1592504 | C13: 4068 | D13: 58941 | E13: 69264 | F13: 143938 | G13: 94334 | H13: 152317 | I13: 61423 | J13: 72686 | K13: 53247 | L13: 85784 | M13: 69923 | N13: 84624 | O13: 95357 | P13: 126347 | Q13: 38548 | R13: 32435 | S13: 104292 | T13: 135121 | U13: 52092 | V13: 57763
A14: 일평균 | B14: =B13/30 -> 53083.467 | C14: 123 | D14: 1782 | E14: 2097 | F14: 4145 | G14: 3114 | H14: 4988 | I14: 1935 | J14: 2269 | K14: 1626 | L14: 2344 | M14: 2042 | N14: 2395 | O14: 2789 | P14: 3719 | Q14: 942 | R14: 949 | S14: 2922 | T14: 4087 | U14: 1513 | V14: 1830
A15: 비율 | B15: =B14/$B$14*100 -> 100 | C15: =C14/$B$14*100 -> 0.23171056 | D15: =D14/$B$14*100 -> 3.3569774 | E15: =E14/$B$14*100 -> 3.9503825 | F15: =F14/$B$14*100 -> 7.8084576 | G15: =G14/$B$14*100 -> 5.8662333 | H15: =H14/$B$14*100 -> 9.3965227 | I15: =I14/$B$14*100 -> 3.6452028 | ... V15: =V14/$B$14*100 -> 3.4474011
A16: 12월 | B16: =SUM(C16:V16) -> 1567555 | C16: 3949 | D16: 60628 | E16: 67819 | F16: 133879 | G16: 96517 | H16: 157838 | I16: 62709 | J16: 69529 | K16: 53275 | L16: 78405 | M16: 69175 | N16: 80947 | O16: 95519 | P16: 127464 | Q16: 35439 | R16: 31266 | S16: 99902 | T16: 139006 | U16: 50921 | V16: 53368
A17: 일평균 | B17: =B16/31 -> 50566.29 | C17: 136 | D17: 1951 | E17: 2360 | F17: 4957 | G17: 3267 | H17: 5228 | I17: 2046 | J17: 2591 | K17: 1790 | L17: 2718 | M17: 2333 | N17: 2757 | O17: 3154 | P17: 4165 | Q17: 1257 | R17: 1089 | S17: 3508 | T17: 4489 | U17: 1758 | V17: 1972
A18: 비율 | B18: =B17/$B$17*100 -> 100 | C18: =C17/$B$17*100 -> 0.26895388 | D18: =D17/$B$17*100 -> 3.8583016 | E18: =E17/$B$17*100 -> 4.6671409 | F18: =F17/$B$17*100 -> 9.8029734 | G18: =G17/$B$17*100 -> 6.4608259 | H18: =H17/$B$17*100 -> 10.338904 | I18: =I17/$B$17*100 -> 4.0461738 | ... V18: =V17/$B$17*100 -> 3.8998313

Sheet 2018.1분기
A1: 2018년 1/4분기 수송 현황
U2: (단위:명,%)
A3: 구분 | B3: 합 계 | C3: 녹동역 | D3: 소태역 | E3: 학동증심사 입구역 | F3: 남광주역 | G3: 문화전당역 | H3: 금남로4가역 | I3: 금남로5가역 | J3: 양동시장역 | K3: 돌고개역 | L3: 농성역 | M3: 화정역 | N3: 쌍촌역 | O3: 운천역 | P3: 상무 | Q3: 김대중 컨벤션센터역 | R3: 공항역 | S3: 송정공원역 | T3: 광주송정역 | U3: 도산역 | V3: 평동역
A4: 년누계 | B4: =SUM(C4:V4) -> 4513776 | C4: =C7 -> 11797 | D4: =D7 -> 174358 | E4: =E7 -> 184860 | F4: =F7 -> 391240 | G4: =G7 -> 283639 | H4: =H7 -> 450616 | I4: =I7 -> 178497 | J4: =J7 -> 203650 | ... V4: =V7 -> 160268
A5: 일평균 | B5: =B4/90 -> 50153.067 | C5: =C4/90 -> 131.07778 | D5: =D4/90 -> 1937.3111 | E5: =E4/90 -> 2054 | F5: =F4/90 -> 4347.1111 | G5: =G4/90 -> 3151.5444 | H5: =H4/90 -> 5006.8444 | I5: =I4/90 -> 1983.3 | ... V5: =V4/90 -> 1780.7556
A6: 비율 | B6: =B5/$B$5*100 -> 100 | C6: =C5/$B$5*100 -> 0.26135546 | D6: =D5/$B$5*100 -> 3.8627969 | E6: =E5/$B$5*100 -> 4.0954624 | F6: =F5/$B$5*100 -> 8.6676875 | G6: =G5/$B$5*100 -> 6.2838519 | H6: =H5/$B$5*100 -> 9.9831272 | I6: =I5/$B$5*100 -> 3.954494 | ... V6: =V5/$B$5*100 -> 3.5506414
A7: 분기누계 | B7: =SUM(C7:V7) -> 4513776 | C7: =C10+C13+C16 -> 11797 | D7: =D10+D13+D16 -> 174358 | E7: =E10+E13+E16 -> 184860 | F7: =F10+F13+F16 -> 391240 | G7: =G10+G13+G16 -> 283639 | H7: =H10+H13+H16 -> 450616 | I7: =I10+I13+I16 -> 178497 | J7: =J10+J13+J16 -> 203650 | ... V7: =V10+V13+V16 -> 160268
A8: 일평균 | B8: =B7/90 -> 50153.067 | C8: =C7/90 -> 131.07778 | D8: =D7/90 -> 1937.3111 | E8: =E7/90 -> 2054 | F8: =F7/90 -> 4347.1111 | G8: =G7/90 -> 3151.5444 | H8: =H7/90 -> 5006.8444 | I8: =I7/90 -> 1983.3 | ... V8: =V7/90 -> 1780.7556
A9: 비율 | B9: =B8/$B$8*100 -> 100 | C9: =C8/$B$8*100 -> 0.26135546 | D9: =D8/$B$8*100 -> 3.8627969 | E9: =E8/$B$8*100 -> 4.0954624 | F9: =F8/$B$8*100 -> 8.6676875 | G9: =G8/$B$8*100 -> 6.2838519 | H9: =H8/$B$8*100 -> 9.9831272 | I9: =I8/$B$8*100 -> 3.954494 | ... V9: =V8/$B$8*100 -> 3.5506414
A10: 1월 | B10: =SUM(C10:V10) -> 1518897 | C10: 4093 | D10: 60574 | E10: 59541 | F10: 129834 | G10: 96239 | H10: 152730 | I10: 61434 | J10: 68022 | K10: 54512 | L10: 76973 | M10: 67052 | N10: 79569 | O10: 91279 | P10: 128666 | Q10: 29278 | R10: 30503 | S10: 94557 | T10: 132167 | U10: 45940 | V10: 55934
A11: 일평균 | B11: =B10/31 -> 48996.677 | C11: 132.03226 | D11: 1954 | E11: 1920.6774 | F11: 4188.1935 | G11: 3104.4839 | H11: 4926.7742 | I11: 1981.7419 | J11: 2194.2581 | K11: 1758.4516 | L11: 2483 | M11: 2162.9677 | N11: 2566.7419 | O11: 2944.4839 | P11: 4150.5161 | Q11: 944.45161 | R11: 983.96774 | S11: 3050.2258 | T11: 4263.4516 | U11: 1481.9355 | V11: 1804.3226
A12: 비율 | B12: =B11/$B$11*100 -> 100 | C12: 0.26947186 | D12: 3.9880255 | E12: 3.9200156 | F12: 8.5479134 | G12: 6.336111 | H12: 10.055323 | I12: 4.0446456 | J12: 4.4783814 | K12: 3.5889201 | L12: 5.0676906 | M12: 4.4145192 | N12: 5.2386041 | O12: 6.0095583 | P12: 8.4710155 | Q12: 1.927583 | R12: 2.0082336 | S12: 6.2253728 | T12: 8.7015117 | U12: 3.0245632 | V12: 3.6825407
A13: 2월 | B13: =SUM(C13:V13) -> 1349037 | C13: 3619 | D13: 52447 | E13: 54795 | F13: 113028 | G13: 86740 | H13: 138199 | I13: 52236 | J13: 63206 | K13: 47322 | L13: 69529 | M13: 57976 | N13: 69020 | O13: 81243 | P13: 110509 | Q13: 25927 | R13: 27381 | S13: 83870 | T13: 124247 | U13: 41154 | V13: 46589
A14: 일평균 | B14: =B13/28 -> 48179.893 | C14: 129.25 | D14: 1873.1071 | E14: 1956.9643 | F14: 4036.7143 | G14: 3097.8571 | H14: 4935.6786 | I14: 1865.5714 | J14: 2257.3571 | K14: 1690.0714 | L14: 2483.1786 | M14: 2070.5714 | N14: 2465 | O14: 2901.5357 | P14: 3946.75 | Q14: 925.96429 | R14: 977.89286 | S14: 2995.3571 | T14: 4437.3929 | U14: 1469.7857 | V14: 1663.8929
A15: 비율 | B15: =B14/$B$14*100 -> 100 | C15: 0.26826544 | D15: 3.8877362 | E15: 4.0617863 | F15: 8.3784211 | G15: 6.4297718 | H15: 10.244271 | I15: 3.8720954 | J15: 4.6852681 | K15: 3.5078356 | L15: 5.1539728 | M15: 4.2975841 | N15: 5.1162422 | O15: 6.0222959 | P15: 8.1916953 | Q15: 1.9218895 | R15: 2.0296701 | S15: 6.2170274 | T15: 9.2100513 | U15: 3.0506206 | V15: 3.4535005
A16: 3월 | B16: =SUM(C16:V16) -> 1645842 | C16: 4085 | D16: 61337 | E16: 70524 | F16: 148378 | G16: 100660 | H16: 159687 | I16: 64827 | J16: 72422 | K16: 56047 | L16: 86297 | M16: 71177 | N16: 85819 | O16: 103622 | P16: 132224 | Q16: 35807 | R16: 33129 | S16: 110038 | T16: 139318 | U16: 52699 | V16: 57745
A17: 일평균 | B17: =B16/31 -> 53091.677 | C17: 131.77419 | D17: 1978.6129 | E17: 2274.9677 | F17: 4786.3871 | G17: 3247.0968 | H17: 5151.1935 | I17: 2091.1935 | J17: 2336.1935 | K17: 1807.9677 | L17: 2783.7742 | M17: 2296.0323 | N17: 2768.3548 | O17: 3342.6452 | P17: 4265.2903 | Q17: 1155.0645 | R17: 1068.6774 | S17: 3549.6129 | T17: 4494.129 | U17: 1699.9677 | V17: 1862.7419
A18: 비율 | B18: =B17/$B$17*100 -> 100 | C18: 0.24820122 | D18: 3.7267854 | E18: 4.28498 | F18: 9.0153247 | G18: 6.1160184 | H18: 9.7024502 | I18: 3.938835 | J18: 4.4003009 | K18: 3.4053694 | L18: 5.2433344 | M18: 4.3246557 | N18: 5.2142915 | O18: 6.2959871 | P18: 8.033821 | Q18: 2.1756037 | R18: 2.0128907 | S18: 6.685818 | T18: 8.4648466 | U18: 3.2019477 | V18: 3.5085385

Sheet 2018.2분기
A1: 2018년 2/4분기 수송 현황
U2: (단위:명,%)
A3: 구분 | B3: 합 계 | C3: 녹동역 | D3: 소태역 | E3: 학동증심사 입구역 | F3: 남광주역 | G3: 문화전당역 | H3: 금남로4가역 | I3: 금남로5가역 | J3: 양동시장역 | K3: 돌고개역 | L3: 농성역 | M3: 화정역 | N3: 쌍촌역 | O3: 운천역 | P3: 상무 | Q3: 김대중 컨벤션센터역 | R3: 공항역 | S3: 송정공원역 | T3: 광주송정역 | U3: 도산역 | V3: 평동역
A4: 년누계 | B4: =SUM(C4:V4) -> 9354441 | C4: =C7+'2018.1분기'!C4 -> 24726 | D4: =D7+'2018.1분기'!D4 -> 354334 | E4: =E7+'2018.1분기'!E4 -> 390612 | F4: =F7+'2018.1분기'!F4 -> 830006 | G4: =G7+'2018.1분기'!G4 -> 587294 | H4: =H7+'2018.1분기'!H4 -> 917427 | I4: =I7+'2018.1분기'!I4 -> 370079 | J4: =J7+'2018.1분기'!J4 -> 424298 | ... V4: =V7+'2018.1분기'!V4 -> 330355
A5: 일평균 | B5: =B4/181 -> 51681.994 | C5: =C4/181 -> 136.60773 | D5: =D4/181 -> 1957.6464 | E5: =E4/181 -> 2158.0773 | F5: =F4/181 -> 4585.6685 | G5: =G4/181 -> 3244.7182 | H5: =H4/181 -> 5068.6575 | I5: =I4/181 -> 2044.6354 | ... V5: =V4/181 -> 1825.1657
A6: 비율 | B6: =B5/$B$5*100 -> 100 | C6: =C5/$B$5*100 -> 0.26432365 | D6: =D5/$B$5*100 -> 3.7878693 | E6: =E5/$B$5*100 -> 4.1756851 | F6: =F5/$B$5*100 -> 8.8728551 | G6: =G5/$B$5*100 -> 6.2782373 | H6: =H5/$B$5*100 -> 9.8073952 | I6: =I5/$B$5*100 -> 3.9561851 | ... V6: =V5/$B$5*100 -> 3.5315312
A7: 분기누계 | B7: =SUM(C7:V7) -> 4840665 | C7: =C10+C13+C16 -> 12929 | D7: =D10+D13+D16 -> 179976 | E7: =E10+E13+E16 -> 205752 | F7: =F10+F13+F16 -> 438766 | G7: =G10+G13+G16 -> 303655 | H7: =H10+H13+H16 -> 466811 | I7: =I10+I13+I16 -> 191582 | J7: =J10+J13+J16 -> 220648 | ... V7: =V10+V13+V16 -> 170087
A8: 일평균 | B8: =B7/92 -> 52615.924 | C8: =C7/91 -> 142.07692 | D8: =D7/91 -> 1977.7582 | E8: =E7/91 -> 2261.011 | F8: =F7/91 -> 4821.6044 | G8: =G7/91 -> 3336.8681 | H8: =H7/91 -> 5129.7912 | I8: =I7/91 -> 2105.2967 | J8: =J7/91 -> 2424.7033 | ... V8: =V7/91 -> 1869.0879
A9: 비율 | B9: =B8/$B$8*100 -> 100 | C9: =C8/$B$8*100 -> 0.27002647 | D9: =D8/$B$8*100 -> 3.7588587 | E9: =E8/$B$8*100 -> 4.2971991 | F9: =F8/$B$8*100 -> 9.1637741 | G9: =G8/$B$8*100 -> 6.3419358 | H9: =H8/$B$8*100 -> 9.7495032 | I9: =I8/$B$8*100 -> 4.0012539 | ... V9: =V8/$B$8*100 -> 3.5523237
A10: 4월 | B10: =SUM(C10:V10) -> 1601431 | C10: 4366 | D10: 60051 | E10: 67968 | F10: 147975 | G10: 94809 | H10: 148984 | I10: 64217 | J10: 71013 | K10: 54418 | L10: 84006 | M10: 70373 | N10: 81259 | O10: 104867 | P10: 127142 | Q10: 34161 | R10: 32896 | S10: 105609 | T10: 138061 | U10: 51144 | V10: 58112
A11: 일평균 | B11: =B10/30 -> 53381.033 | C11: 146 | D11: 2002 | E11: 2266 | F11: 4933 | G11: 3160 | H11: 4966 | I11: 2141 | J11: 2367 | K11: 1814 | L11: 2800 | M11: 2346 | N11: 2709 | O11: 3496 | P11: 4238 | Q11: 1139 | R11: 1097 | S11: 3520 | T11: 4602 | U11: 1705 | V11: 1937
A12: 비율 | B12: =B11/$B$11*100 -> 100 | C12: 0.2 | D12: 3.7 | E12: 4.2 | F12: 9.2 | G12: 5.9 | H12: 9.3 | I12: 4 | J12: 4.4 | K12: 3.3 | L12: 5.2 | M12: 4.3 | N12: 5 | O12: 6.5 | P12: 7.9 | Q12: 2.1 | R12: 2 | S12: 6.5 | T12: 8.6 | U12: 3.1 | V12: 3.6
A13: 5월 | B13: =SUM(C13:V13) -> 1709250 | C13: 4453 | D13: 62241 | E13: 71916 | F13: 156046 | G13: 115048 | H13: 169553 | I13: 65902 | J13: 76861 | K13: 57263 | L13: 85789 | M13: 73995 | N13: 86551 | O13: 106720 | P13: 133578 | Q13: 36113 | R13: 34728 | S13: 110950 | T13: 149239 | U13: 54458 | V13: 57846
A14: 일평균 | B14: =B13/31 -> 55137.097 | C14: 144 | D14: 2008 | E14: 2320 | F14: 5034 | G14: 3711 | H14: 5469 | I14: 2126 | J14: 2479 | K14: 1847 | L14: 2767 | M14: 2387 | N14: 2792 | O14: 3443 | P14: 4309 | Q14: 1165 | R14: 1120 | S14: 3579 | T14: 4814 | U14: 1757 | V14: 1866
A15: 비율 | B15: =B14/$B$14*100 -> 100 | C15: 0.2 | D15: 3.6 | E15: 4.2 | F15: 9.1 | G15: 6.7 | H15: 9.9 | I15: 3.8 | J15: 4.4 | K15: 3.3 | L15: 5 | M15: 4.3 | N15: 5 | O15: 6.2 | P15: 7.8 | Q15: 2.1 | R15: 2 | S15: 6.4 | T15: 8.7 | U15: 3.1 | V15: 3.3
A16: 6월 | B16: =SUM(C16:V16) -> 1529984 | C16: 4110 | D16: 57684 | E16: 65868 | F16: 134745 | G16: 93798 | H16: 148274 | I16: 61463 | J16: 72774 | K16: 52547 | L16: 77817 | M16: 67645 | N16: 78643 | O16: 94992 | P16: 121022 | Q16: 32060 | R16: 31261 | S16: 97652 | T16: 134166 | U16: 49334 | V16: 54129
A17: 일평균 | B17: =B16/30 -> 50999.467 | C17: 137 | D17: 1923 | E17: 2196 | F17: 4492 | G17: 3127 | H17: 4942 | I17: 2049 | J17: 2426 | K17: 1752 | L17: 2594 | M17: 2255 | N17: 2621 | O17: 3166 | P17: 4034 | Q17: 1069 | R17: 1042 | S17: 3255 | T17: 4472 | U17: 1644 | V17: 1804
A18: 비율 | B18: =B17/$B$17*100 -> 100 | C18: 0.2 | D18: 3.7 | E18: 4.3 | F18: 8.8 | G18: 6.1 | H18: 9.6 | I18: 4 | J18: 4.7 | K18: 3.4 | L18: 5 | M18: 4.4 | N18: 5.1 | O18: 6.2 | P18: 7.9 | Q18: 2 | R18: 2 | S18: 6.3 | T18: 8.7 | U18: 3.2 | V18: 3.5

Sheet 2018.3분기
A1: 2018년 3/4분기 수송 현황
U2: (단위:명,%)
A3: 구분 | B3: 합 계 | C3: 녹동역 | D3: 소태역 | E3: 학동증심사 입구역 | F3: 남광주역 | G3: 문화전당역 | H3: 금남로4가역 | I3: 금남로5가역 | J3: 양동시장역 | K3: 돌고개역 | L3: 농성역 | M3: 화정역 | N3: 쌍촌역 | O3: 운천역 | P3: 상무 | Q3: 김대중 컨벤션센터역 | R3: 공항역 | S3: 송정공원역 | T3: 광주송정역 | U3: 도산역 | V3: 평동역
A4: 년누계 | B4: =SUM(C4:V4) -> 13805812 | C4: =C7+'2018.2분기'!C4 -> 37354 | D4: =D7+'2018.2분기'!D4 -> 522041 | E4: =E7+'2018.2분기'!E4 -> 585747 | F4: =F7+'2018.2분기'!F4 -> 1207196 | G4: =G7+'2018.2분기'!G4 -> 874359 | H4: =H7+'2018.2분기'!H4 -> 1366906 | I4: =I7+'2018.2분기'!I4 -> 548326 | J4: =J7+'2018.2분기'!J4 -> 640461 | ... V4: =V7+'2018.2분기'!V4 -> 489276
A5: 일평균 | B5: =B4/273 -> 50570.74 | C5: =C4/273 -> 136.82784 | D5: =D4/273 -> 1912.2381 | E5: =E4/273 -> 2145.5934 | F5: =F4/273 -> 4421.9634 | G5: =G4/273 -> 3202.7802 | H5: =H4/273 -> 5006.9817 | I5: =I4/273 -> 2008.5201 | ... V5: =V4/273 -> 1792.2198
A6: 비율 | B6: =B5/$B$5*100 -> 100 | C6: =C5/$B$5*100 -> 0.27056721 | D6: =D5/$B$5*100 -> 3.7813133 | E6: =E5/$B$5*100 -> 4.2427566 | F6: =F5/$B$5*100 -> 8.7441144 | G6: =G5/$B$5*100 -> 6.3332675 | H6: =H5/$B$5*100 -> 9.9009461 | I6: =I5/$B$5*100 -> 3.9717041 | ... V6: =V5/$B$5*100 -> 3.5439857
A7: 분기누계 | B7: =SUM(C7:V7) -> 4451371 | C7: =C10+C13+C16 -> 12628 | D7: =D10+D13+D16 -> 167707 | E7: =E10+E13+E16 -> 195135 | F7: =F10+F13+F16 -> 377190 | G7: =G10+G13+G16 -> 287065 | H7: =H10+H13+H16 -> 449479 | I7: =I10+I13+I16 -> 178247 | J7: =J10+J13+J16 -> 216163 | ... V7: =V10+V13+V16 -> 158921
A8: 일평균 | B8: =B7/92 -> 48384.467 | C8: =C7/92 -> 137.26087 | D8: =D7/92 -> 1822.9022 | E8: =E7/92 -> 2121.0326 | F8: =F7/92 -> 4099.8913 | G8: =G7/92 -> 3120.2717 | H8: =H7/92 -> 4885.6413 | I8: =I7/92 -> 1937.4674 | ... V8: =V7/92 -> 1727.4022
A9: 비율 | B9: =B8/$B$8*100 -> 100 | C9: =C8/$B$8*100 -> 0.28368788 | D9: =D8/$B$8*100 -> 3.7675359 | E9: =E8/$B$8*100 -> 4.3837056 | F9: =F8/$B$8*100 -> 8.4735692 | G9: =G8/$B$8*100 -> 6.448912 | H9: =H8/$B$8*100 -> 10.097541 | I9: =I8/$B$8*100 -> 4.0043169 | ... V9: =V8/$B$8*100 -> 3.5701585
A10: 7월 | B10: 1518052 | C10: 4401 | D10: 58042 | E10: 66575 | F10: 126489 | G10: 97759 | H10: 154624 | I10: 62845 | J10: 71986 | K10: 52861 | L10: 75844 | M10: 65873 | N10: 76202 | O10: 93525 | P10: 119818 | Q10: 31972 | R10: 30547 | S10: 92569 | T10: 131813 | U10: 47461 | V10: 56846
A11: 일평균 | B11: 48969 | C11: 142 | D11: 1872 | E11: 2148 | F11: 4080 | G11: 3154 | H11: 4988 | I11: 2027 | J11: 2322 | K11: 1705 | L11: 2447 | M11: 2125 | N11: 2458 | O11: 3017 | P11: 3865 | Q11: 1031 | R11: 985 | S11: 2986 | T11: 4252 | U11: 1531 | V11: 1834
A12: 비율 | B12: 100 | C12: 0.2 | D12: 3.8 | E12: 4.3 | F12: 8.3 | G12: 6.4 | H12: 10.1 | I12: 4.1 | J12: 4.7 | K12: 3.4 | L12: 4.9 | M12: 4.3 | N12: 5 | O12: 6.1 | P12: 7.8 | Q12: 2.1 | R12: 2 | S12: 6 | T12: 8.6 | U12: 3.1 | V12: 3.7
A13: 8월 | B13: 1431889 | C13: 4004 | D13: 54341 | E13: 64461 | F13: 119783 | G13: 92158 | H13: 146647 | I13: 58924 | J13: 68971 | K13: 49656 | L13: 72242 | M13: 61935 | N13: 70720 | O13: 85945 | P13: 112628 | Q13: 27366 | R13: 28611 | S13: 86942 | T13: 128767 | U13: 45419 | V13: 52369
A14: 일평균 | B14: 46190 | C14: 129 | D14: 1753 | E14: 2079 | F14: 3864 | G14: 2973 | H14: 4731 | I14: 1901 | J14: 2225 | K14: 1602 | L14: 2330 | M14: 1998 | N14: 2281 | O14: 2772 | P14: 3633 | Q14: 883 | R14: 923 | S14: 2805 | T14: 4154 | U14: 1465 | V14: 1689
A15: 비율 | B15: 100 | C15: 0.2 | D15: 3.7 | E15: 4.5 | F15: 8.3 | G15: 6.4 | H15: 10.2 | I15: 4.1 | J15: 4.8 | K15: 3.4 | L15: 5 | M15: 4.3 | N15: 4.9 | O15: 6 | P15: 7.8 | Q15: 1.9 | R15: 1.9 | S15: 6 | T15: 8.9 | U15: 3.1 | V15: 3.6
A16: 9월 | B16: 1501430 | C16: 4223 | D16: 55324 | E16: 64099 | F16: 130918 | G16: 97148 | H16: 148208 | I16: 56478 | J16: 75206 | K16: 49249 | L16: 77648 | M16: 64248 | N16: 76092 | O16: 90528 | P16: 116099 | Q16: 32548 | R16: 30944 | S16: 96173 | T16: 138292 | U16: 48299 | V16: 49706
A17: 일평균 | B17: 50048 | C17: 141 | D17: 1844 | E17: 2137 | F17: 4364 | G17: 3238 | H17: 4940 | I17: 1883 | J17: 2507 | K17: 1642 | L17: 2588 | M17: 2142 | N17: 2536 | O17: 3018 | P17: 3870 | Q17: 1085 | R17: 1031 | S17: 3206 | T17: 4610 | U17: 1610 | V17: 1657
A18: 비율 | B18: 100 | C18: 0.2 | D18: 3.6 | E18: 4.2 | F18: 8.7 | G18: 6.4 | H18: 9.8 | I18: 3.7 | J18: 5 | K18: 3.2 | L18: 5.1 | M18: 4.2 | N18: 5 | O18: 6 | P18: 7.7 | Q18: 2.1 | R18: 2 | S18: 6.4 | T18: 9.2 | U18: 3.2 | V18: 3.3

Sheet 2018.4분기
A1: 2018년 4/4분기 수송 현황
U2: (단위:명,%)
A3: 구분 | B3: 합 계 | C3: 녹동역 | D3: 소태역 | E3: 학동증심사 입구역 | F3: 남광주역 | G3: 문화전당역 | H3: 금남로4가역 | I3: 금남로5가역 | J3: 양동시장역 | K3: 돌고개역 | L3: 농성역 | M3: 화정역 | N3: 쌍촌역 | O3: 운천역 | P3: 상무 | Q3: 김대중 컨벤션센터역 | R3: 공항역 | S3: 송정공원역 | T3: 광주송정역 | U3: 도산역 | V3: 평동역
A4: 년누계 | B4: =SUM(C4:V4) -> 18883389 | C4: =C7+'2018.3분기'!C4 -> 51687 | D4: =D7+'2018.3분기'!D4 -> 704650 | E4: =E7+'2018.3분기'!E4 -> 807580 | F4: =F7+'2018.3분기'!F4 -> 1648158 | G4: =G7+'2018.3분기'!G4 -> 1198008 | H4: =H7+'2018.3분기'!H4 -> 1877064 | I4: =I7+'2018.3분기'!I4 -> 746869 | J4: =J7+'2018.3분기'!J4 -> 866984 | ... V4: =V7+'2018.3분기'!V4 -> 660586
A5: 일평균 | B5: =B4/365 -> 51735.312 | C5: =C4/365 -> 141.60822 | D5: =D4/365 -> 1930.5479 | E5: =E4/365 -> 2212.5479 | F5: =F4/365 -> 4515.5014 | G5: =G4/365 -> 3282.2137 | H5: =H4/365 -> 5142.6411 | I5: =I4/365 -> 2046.2164 | ... V5: =V4/365 -> 1809.8247
A6: 비율 | B6: =B5/$B$5*100 -> 100 | C6: =C5/$B$5*100 -> 0.27371676 | D6: =D5/$B$5*100 -> 3.7315865 | E6: =E5/$B$5*100 -> 4.2766688 | F6: =F5/$B$5*100 -> 8.7280837 | G6: =G5/$B$5*100 -> 6.3442426 | H6: =H5/$B$5*100 -> 9.940292 | I6: =I5/$B$5*100 -> 3.955164 | ... V6: =V5/$B$5*100 -> 3.4982386
A7: 분기누계 | B7: =SUM(C7:V7) -> 5077577 | C7: =C10+C13+C16 -> 14333 | D7: =D10+D13+D16 -> 182609 | E7: =E10+E13+E16 -> 221833 | F7: =F10+F13+F16 -> 440962 | G7: =G10+G13+G16 -> 323649 | H7: =H10+H13+H16 -> 510158 | I7: =I10+I13+I16 -> 198543 | J7: =J10+J13+J16 -> 226523 | ... V7: =V10+V13+V16 -> 171310
A8: 일평균 | B8: =B7/92 -> 55191.054 | C8: =C7/92 -> 155.79348 | D8: =D7/92 -> 1984.8804 | E8: =E7/92 -> 2411.2283 | F8: =F7/92 -> 4793.0652 | G8: =G7/92 -> 3517.9239 | H8: =H7/92 -> 5545.1957 | I8: =I7/92 -> 2158.0761 | ... V8: =V7/92 -> 1862.0652
A9: 비율 | B9: =B8/$B$8*100 -> 100 | C9: =C8/$B$8*100 -> 0.28228031 | D9: =D8/$B$8*100 -> 3.5963807 | E9: =E8/$B$8*100 -> 4.3688752 | F9: =F8/$B$8*100 -> 8.6844966 | G9: =G8/$B$8*100 -> 6.3740835 | H9: =H8/$B$8*100 -> 10.047273 | I9: =I8/$B$8*100 -> 3.9101918 | ... V9: =V8/$B$8*100 -> 3.3738533
A10: 10월 | B10: 1749598 | C10: 4968 | D10: 64617 | E10: 77092 | F10: 151983 | G10: 122249 | H10: 180833 | I10: 67718 | J10: 75329 | K10: 56996 | L10: 86378 | M10: 74408 | N10: 89186 | O10: 103468 | P10: 137185 | Q10: 43810 | R10: 37498 | S10: 113276 | T10: 149040 | U10: 55289 | V10: 58275
A11: 일평균 | B11: 56439 | C11: 160 | D11: 2084 | E11: 2487 | F11: 4903 | G11: 3944 | H11: 5833 | I11: 2184 | J11: 2430 | K11: 1839 | L11: 2786 | M11: 2400 | N11: 2877 | O11: 3338 | P11: 4425 | Q11: 1413 | R11: 1210 | S11: 3654 | T11: 4808 | U11: 1784 | V11: 1880
A12: 비율 | B12: 100 | C12: 0.2 | D12: 3.6 | E12: 4.4 | F12: 8.6 | G12: 6.9 | H12: 10.3 | I12: 3.8 | J12: 4.3 | K12: 3.2 | L12: 4.9 | M12: 4.2 | N12: 5 | O12: 5.9 | P12: 7.8 | Q12: 2.5 | R12: 2.1 | S12: 6.4 | T12: 8.5 | U12: 3.1 | V12: 3.3
A13: 11월 | B13: 1696248 | C13: 4828 | D13: 61128 | E13: 73814 | F13: 151846 | G13: 102824 | H13: 161773 | I13: 66223 | J13: 77321 | K13: 57661 | L13: 87914 | M13: 73612 | N13: 89438 | O13: 102450 | P13: 135760 | Q13: 40149 | R13: 36092 | S13: 109586 | T13: 149823 | U13: 55370 | V13: 58636
A14: 일평균 | B14: 56542 | C14: 161 | D14: 2038 | E14: 2460 | F14: 5062 | G14: 3427 | H14: 5392 | I14: 2207 | J14: 2577 | K14: 1922 | L14: 2930 | M14: 2454 | N14: 2981 | O14: 3415 | P14: 4525 | Q14: 1338 | R14: 1203 | S14: 3653 | T14: 4994 | U14: 1846 | V14: 1955
A15: 비율 | B15: 100 | C15: 0.2 | D15: 3.6 | E15: 4.3 | F15: 8.9 | G15: 6 | H15: 9.5 | I15: 3.9 | J15: 4.5 | K15: 3.3 | L15: 5.1 | M15: 4.3 | N15: 5.2 | O15: 6 | P15: 8 | Q15: 2.3 | R15: 2.1 | S15: 6.4 | T15: 8.8 | U15: 3.2 | V15: 3.4
A16: 12월 | B16: 1631731 | C16: 4537 | D16: 56864 | E16: 70927 | F16: 137133 | G16: 98576 | H16: 167552 | I16: 64602 | J16: 73873 | K16: 57292 | L16: 82592 | M16: 71105 | N16: 85893 | O16: 99033 | P16: 131739 | Q16: 36184 | R16: 33357 | S16: 110287 | T16: 144347 | U16: 51439 | V16: 54399
A17: 일평균 | B17: 52636 | C17: 146 | D17: 1834 | E17: 2288 | F17: 4424 | G17: 3180 | H17: 5405 | I17: 2084 | J17: 2383 | K17: 1848 | L17: 2664 | M17: 2294 | N17: 2771 | O17: 3195 | P17: 4250 | Q17: 1167 | R17: 1076 | S17: 3558 | T17: 4656 | U17: 1659 | V17: 1755
A18: 비율 | B18: 100 | C18: 0.2 | D18: 3.4 | E18: 4.3 | F18: 8.4 | G18: 6 | H18: 10.2 | I18: 3.9 | J18: 4.5 | K18: 3.5 | L18: 5 | M18: 4.3 | N18: 5.2 | O18: 6 | P18: 8 | Q18: 2.2 | R18: 2 | S18: 6.7 | T18: 8.8 | U18: 3.1 | V18: 3.3

Sheet 2019.1분기
A1: 2019년 1/4분기 수송 현황
U2: (단위:명,%)
A3: 구분 | B3: 합 계 | C3: 녹동역 | D3: 소태역 | E3: 학동증심사 입구역 | F3: 남광주역 | G3: 문화전당역 | H3: 금남로4가역 | I3: 금남로5가역 | J3: 양동시장역 | K3: 돌고개역 | L3: 농성역 | M3: 화정역 | N3: 쌍촌역 | O3: 운천역 | P3: 상무 | Q3: 김대중 컨벤션센터역 | R3: 공항역 | S3: 송정공원역 | T3: 광주송정역 | U3: 도산역 | V3: 평동역
A4: 년누계 | B4: =SUM(C4:V4) -> 4583626 | C4: =C7 -> 13523 | D4: =D7 -> 160178 | E4: =E7 -> 192455 | F4: =F7 -> 387497 | G4: =G7 -> 286659 | H4: =H7 -> 459741 | I4: =I7 -> 184881 | J4: =J7 -> 214074 | ... V4: =V7 -> 155328
A5: 일평균 | B5: =B4/90 -> 50929.178 | C5: =C4/90 -> 150.25556 | D5: =D4/90 -> 1779.7556 | E5: =E4/90 -> 2138.3889 | F5: =F4/90 -> 4305.5222 | G5: =G4/90 -> 3185.1 | H5: =H4/90 -> 5108.2333 | I5: =I4/90 -> 2054.2333 | ... V5: =V4/90 -> 1725.8667
A6: 비율 | B6: =B5/$B$5*100 -> 100 | C6: =C5/$B$5*100 -> 0.29502843 | D6: =D5/$B$5*100 -> 3.4945696 | E6: =E5/$B$5*100 -> 4.1987501 | F6: =F5/$B$5*100 -> 8.4539402 | G6: =G5/$B$5*100 -> 6.2539788 | H6: =H5/$B$5*100 -> 10.030072 | I6: =I5/$B$5*100 -> 4.0335097 | ... V6: =V5/$B$5*100 -> 3.3887582
A7: 분기누계 | B7: =B10+B13+B16 -> 4583626 | C7: =C10+C13+C16 -> 13523 | D7: =D10+D13+D16 -> 160178 | E7: =E10+E13+E16 -> 192455 | F7: =F10+F13+F16 -> 387497 | G7: =G10+G13+G16 -> 286659 | H7: =H10+H13+H16 -> 459741 | I7: =I10+I13+I16 -> 184881 | ... V7: =V10+V13+V16 -> 155328
A8: 일평균 | B8: =B7/90 -> 50929.178 | C8: =C7/90 -> 150.25556 | D8: =D7/90 -> 1779.7556 | E8: =E7/90 -> 2138.3889 | F8: =F7/90 -> 4305.5222 | G8: =G7/90 -> 3185.1 | H8: =H7/90 -> 5108.2333 | I8: =I7/90 -> 2054.2333 | ... V8: =V7/90 -> 1725.8667
A9: 비율 | B9: =B8/$B$8*100 -> 100 | C9: =C8/$B$8*100 -> 0.29502843 | D9: =D8/$B$8*100 -> 3.4945696 | E9: =E8/$B$8*100 -> 4.1987501 | F9: =F8/$B$8*100 -> 8.4539402 | G9: =G8/$B$8*100 -> 6.2539788 | H9: =H8/$B$8*100 -> 10.030072 | I9: =I8/$B$8*100 -> 4.0335097 | ... V9: =V8/$B$8*100 -> 3.3887582
A10: 1월 | B10: 1571170 | C10: 4711 | D10: 55099 | E10: 65393 | F10: 129617 | G10: 97399 | H10: 158604 | I10: 64881 | J10: 77351 | K10: 55297 | L10: 78215 | M10: 68154 | N10: 83436 | O10: 99283 | P10: 131594 | Q10: 32871 | R10: 34446 | S10: 96215 | T10: 135143 | U10: 48339 | V10: 55122
A11: 일평균 | B11: 50682.903 | C11: 151.96774 | D11: 1777.3871 | E11: 2109.4516 | F11: 4181.1935 | G11: 3141.9032 | H11: 5116.2581 | I11: 2092.9355 | J11: 2495.1935 | K11: 1783.7742 | L11: 2523.0645 | M11: 2198.5161 | N11: 2691.4839 | O11: 3202.6774 | P11: 4244.9677 | Q11: 1060.3548 | R11: 1111.1613 | S11: 3103.7097 | T11: 4359.4516 | U11: 1559.3226 | V11: 1778.129
A12: 비율 | B12: 100 | C12: =C11/$B$11*100 -> 0.29984025 | D12: =D11/$B$11*100 -> 3.506877 | E12: =E11/$B$11*100 -> 4.1620576 | F12: =F11/$B$11*100 -> 8.249712 | G12: =G11/$B$11*100 -> 6.1991382 | H12: =H11/$B$11*100 -> 10.094643 | I12: =I11/$B$11*100 -> 4.1294704 | J12: =J11/$B$11*100 -> 4.9231464 | ... V12: =V11/$B$11*100 -> 3.5083409
A13: 2월 | B13: 1360259 | C13: 4075 | D13: 49096 | E13: 56524 | F13: 110770 | G13: 89339 | H13: 141260 | I13: 53228 | J13: 62945 | K13: 46939 | L13: 68619 | M13: 58474 | N13: 70132 | O13: 83194 | P13: 110728 | Q13: 27777 | R13: 30591 | S13: 80640 | T13: 129136 | U13: 41527 | V13: 45265
A14: 일평균 | B14: 48580.679 | C14: 140.51724 | D14: 1692.9655 | E14: 1949.1034 | F14: 3819.6552 | G14: 3080.6552 | H14: 4871.0345 | I14: 1835.4483 | J14: 2170.5172 | K14: 1618.5862 | L14: 2366.1724 | M14: 2016.3448 | N14: 2418.3448 | O14: 2868.7586 | P14: 3818.2069 | Q14: 957.82759 | R14: 1054.8621 | S14: 2780.6897 | T14: 4452.9655 | U14: 1431.9655 | V14: 1560.8621
A15: 비율 | B15: 100 | C15: =C14/$B$14*100 -> 0.28924512 | D15: =D14/$B$14*100 -> 3.4848536 | E15: =E14/$B$14*100 -> 4.012096 | F15: =F14/$B$14*100 -> 7.8624986 | G15: =G14/$B$14*100 -> 6.3413177 | H15: =H14/$B$14*100 -> 10.026691 | I15: =I14/$B$14*100 -> 3.7781446 | J15: =J14/$B$14*100 -> 4.4678611 | ... V15: =V14/$B$14*100 -> 3.2129277
A16: 3월 | B16: 1652197 | C16: 4737 | D16: 55983 | E16: 70538 | F16: 147110 | G16: 99921 | H16: 159877 | I16: 66772 | J16: 73778 | K16: 55400 | L16: 84790 | M16: 71591 | N16: 87963 | O16: 105150 | P16: 132128 | Q16: 38992 | R16: 37068 | S16: 105263 | T16: 146038 | U16: 54157 | V16: 54941
A17: 일평균 | B17: 53296.677 | C17: 152.80645 | D17: 1805.9032 | E17: 2275.4194 | F17: 4745.4839 | G17: 3223.2581 | H17: 5157.3226 | I17: 2153.9355 | J17: 2379.9355 | K17: 1787.0968 | L17: 2735.1613 | M17: 2309.3871 | N17: 2837.5161 | O17: 3391.9355 | P17: 4262.1935 | Q17: 1257.8065 | R17: 1195.7419 | S17: 3395.5806 | T17: 4710.9032 | U17: 1747 | V17: 1772.2903
A18: 비율 | B18: 100 | C18: =C17/$B$17*100 -> 0.28670915 | D18: =D17/$B$17*100 -> 3.3883974 | E18: =E17/$B$17*100 -> 4.2693456 | F18: =F17/$B$17*100 -> 8.9039019 | G18: =G17/$B$17*100 -> 6.0477655 | H18: =H17/$B$17*100 -> 9.6766306 | I18: =I17/$B$17*100 -> 4.0414067 | J18: =J17/$B$17*100 -> 4.4654481 | ... V18: =V17/$B$17*100 -> 3.3253298

Sheet 2019.2분기
A1: 2019년 2/4분기 수송 현황
U2: (단위:명,%)
A3: 구분 | B3: 합 계 | C3: 녹동역 | D3: 소태역 | E3: 학동증심사 입구역 | F3: 남광주역 | G3: 문화전당역 | H3: 금남로4가역 | I3: 금남로5가역 | J3: 양동시장역 | K3: 돌고개역 | L3: 농성역 | M3: 화정역 | N3: 쌍촌역 | O3: 운천역 | P3: 상무 | Q3: 김대중 컨벤션센터역 | R3: 공항역 | S3: 송정공원역 | T3: 광주송정역 | U3: 도산역 | V3: 평동역
A4: 년누계 | B4: =SUM(C4:V4) -> 9583626 | C4: =C7+'2019.1분기'!C4 -> 28176 | D4: =D7+'2019.1분기'!D4 -> 332032 | E4: =E7+'2019.1분기'!E4 -> 405171 | F4: =F7+'2019.1분기'!F4 -> 838008 | G4: =G7+'2019.1분기'!G4 -> 594522 | H4: =H7+'2019.1분기'!H4 -> 933087 | I4: =I7+'2019.1분기'!I4 -> 387414 | J4: =J7+'2019.1분기'!J4 -> 440522 | ... V4: =V7+'2019.1분기'!V4 -> 327337
A5: 일평균 | B5: =B4/181 -> 52948.21 | C5: =C4/181 -> 155.66851 | D5: =D4/181 -> 1834.4309 | E5: =E4/181 -> 2238.5138 | F5: =F4/181 -> 4629.8785 | G5: =G4/181 -> 3284.6519 | H5: =H4/181 -> 5155.1768 | I5: =I4/181 -> 2140.4088 | ... V5: =V4/181 -> 1808.4917
A6: 비율 | B6: =B5/$B$5*100 -> 100 | C6: =C5/$B$5*100 -> 0.29400146 | D6: =D5/$B$5*100 -> 3.4645759 | E6: =E5/$B$5*100 -> 4.2277422 | F6: =F5/$B$5*100 -> 8.7441643 | G6: =G5/$B$5*100 -> 6.2035184 | H6: =H5/$B$5*100 -> 9.7362627 | I6: =I5/$B$5*100 -> 4.0424574 | ... V6: =V5/$B$5*100 -> 3.4155861
A7: 분기누계 | B7: =B10+B13+B16 -> 5000000 | C7: =C10+C13+C16 -> 14653 | D7: =D10+D13+D16 -> 171854 | E7: =E10+E13+E16 -> 212716 | F7: =F10+F13+F16 -> 450511 | G7: =G10+G13+G16 -> 307863 | H7: =H10+H13+H16 -> 473346 | I7: =I10+I13+I16 -> 202533 | ... V7: =V10+V13+V16 -> 172009
A8: 일평균 | B8: =B7/91 -> 54945.055 | C8: =C7/91 -> 161.02198 | D8: =D7/91 -> 1888.5055 | E8: =E7/91 -> 2337.5385 | F8: =F7/91 -> 4950.6703 | G8: =G7/91 -> 3383.1099 | H8: =H7/91 -> 5201.6044 | I8: =I7/91 -> 2225.6374 | ... V8: =V7/91 -> 1890.2088
A9: 비율 | B9: =B8/$B$8*100 -> 100 | C9: =C8/$B$8*100 -> 0.29306 | D9: =D8/$B$8*100 -> 3.43708 | E9: =E8/$B$8*100 -> 4.25432 | F9: =F8/$B$8*100 -> 9.01022 | G9: =G8/$B$8*100 -> 6.15726 | H9: =H8/$B$8*100 -> 9.46692 | I9: =I8/$B$8*100 -> 4.05066 | ... V9: =V8/$B$8*100 -> 3.44018
A10: 4월 | B10: 1669180 | C10: 5043 | D10: 57039 | E10: 71038 | F10: 154422 | G10: 95980 | H10: 151930 | I10: 68127 | J10: 74824 | K10: 56612 | L10: 84045 | M10: 72542 | N10: 88358 | O10: 114423 | P10: 131524 | Q10: 38041 | R10: 36410 | S10: 105385 | T10: 147146 | U10: 55523 | V10: 60768
A11: 일평균 | B11: 55639.333 | C11: 168.1 | D11: 1901.3 | E11: 2367.9333 | F11: 5147.4 | G11: 3199.3333 | H11: 5064.3333 | I11: 2270.9 | J11: 2494.1333 | K11: 1887.0667 | L11: 2801.5 | M11: 2418.0667 | N11: 2945.2667 | O11: 3814.1 | P11: 4384.1333 | Q11: 1268.0333 | R11: 1213.6667 | S11: 3512.8333 | T11: 4904.8667 | U11: 1850.7667 | V11: 2025.6
A12: 비율 | B12: 100 | C12: =C11/$B$11*100 -> 0.3021244 | D12: =D11/$B$11*100 -> 3.4171869 | E12: =E11/$B$11*100 -> 4.2558622 | F12: =F11/$B$11*100 -> 9.2513689 | G12: =G11/$B$11*100 -> 5.7501288 | H12: =H11/$B$11*100 -> 9.1020741 | I12: =I11/$B$11*100 -> 4.0814652 | J12: =J11/$B$11*100 -> 4.4826801 | ... V12: =V11/$B$11*100 -> 3.64059
A13: 5월 | B13: 1767026 | C13: 5079 | D13: 59872 | E13: 74527 | F13: 159798 | G13: 115051 | H13: 171159 | I13: 70991 | J13: 79353 | K13: 59496 | L13: 86434 | M13: 76117 | N13: 93072 | O13: 111016 | P13: 138348 | Q13: 38192 | R13: 37061 | S13: 114594 | T13: 157087 | U13: 61367 | V13: 58412
A14: 일평균 | B14: 57000.839 | C14: 163.83871 | D14: 1931.3548 | E14: 2404.0968 | F14: 5154.7742 | G14: 3711.3226 | H14: 5521.2581 | I14: 2290.0323 | J14: 2559.7742 | K14: 1919.2258 | L14: 2788.1935 | M14: 2455.3871 | N14: 3102.4 | O14: 3581.1613 | P14: 4462.8387 | Q14: 1232 | R14: 1195.5161 | S14: 3696.5806 | T14: 5067.3226 | U14: 1979.5806 | V14: 1884.2581
A15: 비율 | B15: 100 | C15: =C14/$B$14*100 -> 0.2874321 | D15: =D14/$B$14*100 -> 3.388292 | E15: =E14/$B$14*100 -> 4.2176516 | F15: =F14/$B$14*100 -> 9.0433304 | G15: =G14/$B$14*100 -> 6.5109964 | H15: =H14/$B$14*100 -> 9.6862751 | I15: =I14/$B$14*100 -> 4.0175413 | J15: =J14/$B$14*100 -> 4.4907658 | ... V15: =V14/$B$14*100 -> 3.3056673
A16: 6월 | B16: 1563794 | C16: 4531 | D16: 54943 | E16: 67151 | F16: 136291 | G16: 96832 | H16: 150257 | I16: 63415 | J16: 72271 | K16: 53674 | L16: 78392 | M16: 68279 | N16: 82315 | O16: 96680 | P16: 123550 | Q16: 34744 | R16: 34082 | S16: 97122 | T16: 142853 | U16: 53583 | V16: 52829
A17: 일평균 | B17: 52126.467 | C17: 151.03333 | D17: 1831.4333 | E17: 2238.3667 | F17: 4543.0333 | G17: 3227.7333 | H17: 5008.5667 | I17: 2113.8333 | J17: 2409.0333 | K17: 1789.1333 | L17: 2613.0667 | M17: 2275.9667 | N17: 2743.8333 | O17: 3222.6667 | P17: 4118.3333 | Q17: 1158.1333 | R17: 1136.0667 | S17: 3237.4 | T17: 4761.7667 | U17: 1786.1 | V17: 1760.9667
A18: 비율 | B18: 100 | C18: =C17/$B$17*100 -> 0.28974405 | D18: =D17/$B$17*100 -> 3.5134423 | E18: =E17/$B$17*100 -> 4.2941078 | F18: =F17/$B$17*100 -> 8.7154062 | G18: =G17/$B$17*100 -> 6.1921199 | H18: =H17/$B$17*100 -> 9.6084906 | I18: =I17/$B$17*100 -> 4.0552016 | J18: =J17/$B$17*100 -> 4.6215166 | ... V18: =V17/$B$17*100 -> 3.3782583

Sheet 2019.3분기
A1: 2019년 3/4분기 수송 현황
U2: (단위:명,%)
A3: 구분 | B3: 합 계 | C3: 녹동역 | D3: 소태역 | E3: 학동증심사 입구역 | F3: 남광주역 | G3: 문화전당역 | H3: 금남로4가역 | I3: 금남로5가역 | J3: 양동시장역 | K3: 돌고개역 | L3: 농성역 | M3: 화정역 | N3: 쌍촌역 | O3: 운천역 | P3: 상무 | Q3: 김대중 컨벤션센터역 | R3: 공항역 | S3: 송정공원역 | T3: 광주송정역 | U3: 도산역 | V3: 평동역
A4: 년누계 | B4: =SUM(C4:V4) -> 14254929 | C4: =C7+'2019.2분기'!C4 -> 42311 | D4: =D7+'2019.2분기'!D4 -> 501609 | E4: =E7+'2019.2분기'!E4 -> 608043 | F4: =F7+'2019.2분기'!F4 -> 1236966 | G4: =G7+'2019.2분기'!G4 -> 894958 | H4: =H7+'2019.2분기'!H4 -> 1389508 | I4: =I7+'2019.2분기'!I4 -> 573408 | J4: =J7+'2019.2분기'!J4 -> 662434 | ... V4: =V7+'2019.2분기'!V4 -> 486456
A5: 일평균 | B5: =B4/273 -> 52215.857 | C5: =C4/273 -> 154.98535 | D5: =D4/273 -> 1837.3956 | E5: =E4/273 -> 2227.2637 | F5: =F4/273 -> 4531.011 | G5: =G4/273 -> 3278.2344 | H5: =H4/273 -> 5089.7729 | I5: =I4/273 -> 2100.3956 | ... V5: =V4/273 -> 1781.8901
A6: 비율 | B6: =B5/$B$5*100 -> 100 | C6: =C5/$B$5*100 -> 0.29681663 | D6: =D5/$B$5*100 -> 3.518846 | E6: =E5/$B$5*100 -> 4.265493 | F6: =F5/$B$5*100 -> 8.6774617 | G6: =G5/$B$5*100 -> 6.2782354 | H6: =H5/$B$5*100 -> 9.7475617 | I6: =I5/$B$5*100 -> 4.0225244 | ... V6: =V5/$B$5*100 -> 3.4125459
A7: 분기누계 | B7: =B10+B13+B16 -> 4671303 | C7: =C10+C13+C16 -> 14135 | D7: =D10+D13+D16 -> 169577 | E7: =E10+E13+E16 -> 202872 | F7: =F10+F13+F16 -> 398958 | G7: =G10+G13+G16 -> 300436 | H7: =H10+H13+H16 -> 456421 | I7: =I10+I13+I16 -> 185994 | ... V7: =V10+V13+V16 -> 159119
A8: 일평균 | B8: =B7/92 -> 50775.033 | C8: =C7/92 -> 153.6413 | D8: =D7/92 -> 1843.2283 | E8: =E7/92 -> 2205.1304 | F8: =F7/92 -> 4336.5 | G8: =G7/92 -> 3265.6087 | H8: =H7/92 -> 4961.0978 | I8: =I7/92 -> 2021.6739 | ... V8: =V7/92 -> 1729.5543
A9: 비율 | B9: =B8/$B$8*100 -> 100 | C9: =C8/$B$8*100 -> 0.30259223 | D9: =D8/$B$8*100 -> 3.6301863 | E9: =E8/$B$8*100 -> 4.3429424 | F9: =F8/$B$8*100 -> 8.5406149 | G9: =G8/$B$8*100 -> 6.4315246 | H9: =H8/$B$8*100 -> 9.7707428 | I9: =I8/$B$8*100 -> 3.98163 | ... V9: =V8/$B$8*100 -> 3.4063087
A10: 7월 | B10: 1626697 | C10: 4883 | D10: 58067 | E10: 68860 | F10: 133184 | G10: 106548 | H10: 162070 | I10: 66234 | J10: 75425 | K10: 55825 | L10: 80115 | M10: 71359 | N10: 84493 | O10: 101154 | P10: 130851 | Q10: 35032 | R10: 36584 | S10: 100922 | T10: 143373 | U10: 54844 | V10: 56874
A11: 일평균 | B11: 52474.097 | C11: 157.51613 | D11: 1873.129 | E11: 2221.2903 | F11: 4296.2581 | G11: 3437.0323 | H11: 5228.0645 | I11: 2136.5806 | J11: 2433.0645 | K11: 1800.8065 | L11: 2584.3548 | M11: 2301.9032 | N11: 2725.5806 | O11: 3263.0323 | P11: 4221 | Q11: 1130.0645 | R11: 1180.129 | S11: 3255.5484 | T11: 4624.9355 | U11: 1769.1613 | V11: 1834.6452
A12: 비율 | B12: 100 | C12: =C11/$B$11*100 -> 0.30017883 | D12: =D11/$B$11*100 -> 3.5696261 | E12: =E11/$B$11*100 -> 4.2331178 | F12: =F11/$B$11*100 -> 8.1873883 | G12: =G11/$B$11*100 -> 6.5499598 | H12: =H11/$B$11*100 -> 9.9631339 | I12: =I11/$B$11*100 -> 4.0716864 | J12: =J11/$B$11*100 -> 4.6366963 | ... V12: =V11/$B$11*100 -> 3.4962873
A13: 8월 | B13: 1518567 | C13: 4728 | D13: 55524 | E13: 67587 | F13: 125675 | G13: 100392 | H13: 151103 | I13: 60849 | J13: 72644 | K13: 51590 | L13: 74414 | M13: 65841 | N13: 76528 | O13: 91416 | P13: 120697 | Q13: 32356 | R13: 33692 | S13: 90617 | T13: 141038 | U13: 50533 | V13: 51343
A14: 일평균 | B14: 48986.032 | C14: 152.51613 | D14: 1791.0968 | E14: 2180.2258 | F14: 4054.0323 | G14: 3238.4516 | H14: 4874.2903 | I14: 1962.871 | J14: 2343.3548 | K14: 1664.1935 | L14: 2400.4516 | M14: 2123.9032 | N14: 2468.6452 | O14: 2948.9032 | P14: 3893.4516 | Q14: 1043.7419 | R14: 1086.8387 | S14: 2923.129 | T14: 4549.6129 | U14: 1630.0968 | V14: 1656.2258
A15: 비율 | B15: 100 | C15: =C14/$B$14*100 -> 0.31134616 | D15: =D14/$B$14*100 -> 3.6563418 | E15: =E14/$B$14*100 -> 4.4507091 | F15: =F14/$B$14*100 -> 8.2758943 | G15: =G14/$B$14*100 -> 6.6109694 | H15: =H14/$B$14*100 -> 9.9503677 | I15: =I14/$B$14*100 -> 4.0070013 | J15: =J14/$B$14*100 -> 4.7837204 | ... V15: =V14/$B$14*100 -> 3.3810164
A16: 9월 | B16: 1526039 | C16: 4524 | D16: 55986 | E16: 66425 | F16: 140099 | G16: 93496 | H16: 143248 | I16: 58911 | J16: 73843 | K16: 50306 | L16: 75381 | M16: 66662 | N16: 79905 | O16: 91625 | P16: 119361 | Q16: 31413 | R16: 31770 | S16: 97025 | T16: 142927 | U16: 52230 | V16: 50902
A17: 일평균 | B17: 50867.967 | C17: 150.8 | D17: 1866.2 | E17: 2214.1667 | F17: 4669.9667 | G17: 3116.5333 | H17: 4774.9333 | I17: 1963.7 | J17: 2461.4333 | K17: 1676.8667 | L17: 2512.7 | M17: 2222.0667 | N17: 2663.5 | O17: 3054.1667 | P17: 3978.7 | Q17: 1047.1 | R17: 1059 | S17: 3234.1667 | T17: 4764.2333 | U17: 1741 | V17: 1696.7333
A18: 비율 | B18: 100 | C18: =C17/$B$17*100 -> 0.29645376 | D18: =D17/$B$17*100 -> 3.6687136 | E18: =E17/$B$17*100 -> 4.3527721 | F18: =F17/$B$17*100 -> 9.1805648 | G18: =G17/$B$17*100 -> 6.126711 | H18: =H17/$B$17*100 -> 9.3869161 | I18: =I17/$B$17*100 -> 3.8603863 | J18: =J17/$B$17*100 -> 4.8388672 | ... V18: =V17/$B$17*100 -> 3.3355635

Sheet 2019.4분기
A1: 2019년 4/4분기 수송 현황
U2: (단위:명,%)
A3: 구분 | B3: 합 계 | C3: 녹동역 | D3: 소태역 | E3: 학동증심사 입구역 | F3: 남광주역 | G3: 문화전당역 | H3: 금남로4가역 | I3: 금남로5가역 | J3: 양동시장역 | K3: 돌고개역 | L3: 농성역 | M3: 화정역 | N3: 쌍촌역 | O3: 운천역 | P3: 상무 | Q3: 김대중 컨벤션센터역 | R3: 공항역 | S3: 송정공원역 | T3: 광주송정역 | U3: 도산역 | V3: 평동역
A4: 년누계 | B4: =SUM(C4:V4) -> 19319090 | C4: =C7+'2019.3분기'!C4 -> 56097 | D4: =D7+'2019.3분기'!D4 -> 689923 | E4: =E7+'2019.3분기'!E4 -> 820234 | F4: =F7+'2019.3분기'!F4 -> 1687076 | G4: =G7+'2019.3분기'!G4 -> 1215670 | H4: =H7+'2019.3분기'!H4 -> 1872880 | I4: =I7+'2019.3분기'!I4 -> 773565 | J4: =J7+'2019.3분기'!J4 -> 890048 | ... V4: =V7+'2019.3분기'!V4 -> 648544
A5: 일평균 | B5: =B4/365 -> 52929.014 | C5: =C4/365 -> 153.69041 | D5: =D4/365 -> 1890.2 | E5: =E4/365 -> 2247.2164 | F5: =F4/365 -> 4622.126 | G5: =G4/365 -> 3330.6027 | H5: =H4/365 -> 5131.1781 | I5: =I4/365 -> 2119.3562 | ... V5: =V4/365 -> 1776.8329
A6: 비율 | B6: =B5/$B$5*100 -> 100 | C6: =C5/$B$5*100 -> 0.29037082 | D6: =D5/$B$5*100 -> 3.5711982 | E6: =E5/$B$5*100 -> 4.2457176 | F6: =F5/$B$5*100 -> 8.7326888 | G6: =G5/$B$5*100 -> 6.2925842 | H6: =H5/$B$5*100 -> 9.6944525 | I6: =I5/$B$5*100 -> 4.0041482 | ... V6: =V5/$B$5*100 -> 3.3570111
A7: 분기누계 | B7: =B10+B13+B16 -> 5064161 | C7: =C10+C13+C16 -> 13786 | D7: =D10+D13+D16 -> 188314 | E7: =E10+E13+E16 -> 212191 | F7: =F10+F13+F16 -> 450110 | G7: =G10+G13+G16 -> 320712 | H7: =H10+H13+H16 -> 483372 | I7: =I10+I13+I16 -> 200157 | ... V7: =V10+V13+V16 -> 162088
A8: 일평균 | B8: =B7/92 -> 55045.228 | C8: =C7/92 -> 149.84783 | D8: =D7/92 -> 2046.8913 | E8: =E7/92 -> 2306.4239 | F8: =F7/92 -> 4892.5 | G8: =G7/92 -> 3486 | H8: =H7/92 -> 5254.0435 | I8: =I7/92 -> 2175.6196 | ... V8: =V7/92 -> 1761.8261
A9: 비율 | B9: =B8/$B$8*100 -> 100 | C9: =C8/$B$8*100 -> 0.27222673 | D9: =D8/$B$8*100 -> 3.7185627 | E9: =E8/$B$8*100 -> 4.1900524 | F9: =F8/$B$8*100 -> 8.8881455 | G9: =G8/$B$8*100 -> 6.332974 | H9: =H8/$B$8*100 -> 9.5449572 | I9: =I8/$B$8*100 -> 3.9524217 | ... V9: =V8/$B$8*100 -> 3.2006881
A10: 10월 | B10: 1733309 | C10: 4900 | D10: 64720 | E10: 73418 | F10: 154678 | G10: 118770 | H10: 168733 | I10: 67664 | J10: 76987 | K10: 56950 | L10: 88707 | M10: 75164 | N10: 90141 | O10: 104487 | P10: 135986 | Q10: 39953 | R10: 36820 | S10: 108526 | T10: 153145 | U10: 58205 | V10: 55355
A11: 일평균 | B11: 55913.194 | C11: 158.06452 | D11: 2087.7419 | E11: 2368.3226 | F11: 4989.6129 | G11: 3831.2903 | H11: 5443 | I11: 2182.7097 | J11: 2483.4516 | K11: 1837.0968 | L11: 2861.5161 | M11: 2424.6452 | N11: 2907.7742 | O11: 3370.5484 | P11: 4386.6452 | Q11: 1288.8065 | R11: 1187.7419 | S11: 3500.8387 | T11: 4940.1613 | U11: 1877.5806 | V11: 1785.6452
A12: 비율 | B12: 100 | C12: =C11/$B$11*100 -> 0.28269628 | D12: =D11/$B$11*100 -> 3.7338986 | E12: =E11/$B$11*100 -> 4.2357133 | F12: =F11/$B$11*100 -> 8.923856 | G12: =G11/$B$11*100 -> 6.8522116 | H12: =H11/$B$11*100 -> 9.7347328 | I12: =I11/$B$11*100 -> 3.9037471 | J12: =J11/$B$11*100 -> 4.44162 | ... V12: =V11/$B$11*100 -> 3.1936025
A13: 11월 | B13: 1673033 | C13: 4570 | D13: 62561 | E13: 69713 | F13: 152301 | G13: 99896 | H13: 153751 | I13: 65379 | J13: 77013 | K13: 55529 | L13: 89774 | M13: 72982 | N13: 86723 | O13: 102926 | P13: 134068 | Q13: 40021 | R13: 34895 | S13: 105985 | T13: 153380 | U13: 57725 | V13: 53841
A14: 일평균 | B14: 55767.767 | C14: 152.33333 | D14: 2085.3667 | E14: 2323.7667 | F14: 5076.7 | G14: 3329.8667 | H14: 5125.0333 | I14: 2179.3 | J14: 2567.1 | K14: 1850.9667 | L14: 2992.4667 | M14: 2432.7333 | N14: 2890.7667 | O14: 3430.8667 | P14: 4468.9333 | Q14: 1334.0333 | R14: 1163.1667 | S14: 3532.8333 | T14: 5112.6667 | U14: 1924.1667 | V14: 1794.7
A15: 비율 | B15: 100 | C15: =C14/$B$14*100 -> 0.2731566 | D15: =D14/$B$14*100 -> 3.7393763 | E15: =E14/$B$14*100 -> 4.1668634 | F15: =F14/$B$14*100 -> 9.1032873 | G15: =G14/$B$14*100 -> 5.9709522 | H15: =H14/$B$14*100 -> 9.1899562 | I15: =I14/$B$14*100 -> 3.9078129 | J15: =J14/$B$14*100 -> 4.6031967 | ... V15: =V14/$B$14*100 -> 3.2181672
A16: 12월 | B16: 1657819 | C16: 4316 | D16: 61033 | E16: 69060 | F16: 143131 | G16: 102046 | H16: 160888 | I16: 67114 | J16: 73614 | K16: 55193 | L16: 90514 | M16: 71921 | N16: 86432 | O16: 102147 | P16: 134623 | Q16: 36492 | R16: 34473 | S16: 102090 | T16: 152696 | U16: 57144 | V16: 52892
A17: 일평균 | B17: 53478.032 | C17: 139.22581 | D17: 1968.8065 | E17: 2227.7419 | F17: 4617.129 | G17: 3291.8065 | H17: 5189.9355 | I17: 2164.9677 | J17: 2374.6452 | K17: 1780.4194 | L17: 2919.8065 | M17: 2320.0323 | N17: 2788.129 | O17: 3295.0645 | P17: 4342.6774 | Q17: 1177.1613 | R17: 1112.0323 | S17: 3293.2258 | T17: 4925.6774 | U17: 1843.3548 | V17: 1706.1935
A18: 비율 | B18: 100 | C18: =C17/$B$17*100 -> 0.26034205 | D18: =D17/$B$17*100 -> 3.6815237 | E18: =E17/$B$17*100 -> 4.1657141 | F18: =F17/$B$17*100 -> 8.6336928 | G18: =G17/$B$17*100 -> 6.1554368 | H18: =H17/$B$17*100 -> 9.7047989 | I18: =I17/$B$17*100 -> 4.048331 | J18: =J17/$B$17*100 -> 4.4404124 | ... V18: =V17/$B$17*100 -> 3.1904569

Sheet 2020.1분기
A1: 2020년 1/4분기 수송 현황
U2: (단위:명,%)
A3: 구분 | B3: 합 계 | C3: 녹동역 | D3: 소태역 | E3: 학동증심사 입구역 | F3: 남광주역 | G3: 문화전당역 | H3: 금남로4가역 | I3: 금남로5가역 | J3: 양동시장역 | K3: 돌고개역 | L3: 농성역 | M3: 화정역 | N3: 쌍촌역 | O3: 운천역 | P3: 상무 | Q3: 김대중 컨벤션센터역 | R3: 공항역 | S3: 송정공원역 | T3: 광주송정역 | U3: 도산역 | V3: 평동역
A4: 년누계 | B4: =SUM(C4:V4) -> 3601289 | C4: =C7 -> 11476 | D4: =D7 -> 137307 | E4: =E7 -> 143390 | F4: =F7 -> 289766 | G4: =G7 -> 226063 | H4: =H7 -> 336210 | I4: =I7 -> 145132 | J4: =J7 -> 174668 | ... V4: =V7 -> 136173
A5: 일평균 | B5: =B4/91 -> 39574.604 | C5: =C4/91 -> 126.10989 | D5: =D4/91 -> 1508.8681 | E5: =E4/91 -> 1575.7143 | F5: =F4/91 -> 3184.2418 | G5: =G4/91 -> 2484.2088 | H5: =H4/91 -> 3694.6154 | I5: =I4/91 -> 1594.8571 | ... V5: =V4/91 -> 1496.4066
A6: 비율 | B6: =B5/$B$5*100 -> 100 | C6: =C5/$B$5*100 -> 0.31866368 | D6: =D5/$B$5*100 -> 3.8127182 | E6: =E5/$B$5*100 -> 3.9816299 | F6: =F5/$B$5*100 -> 8.0461746 | G6: =G5/$B$5*100 -> 6.2772802 | H6: =H5/$B$5*100 -> 9.3358239 | I6: =I5/$B$5*100 -> 4.0300015 | ... V6: =V5/$B$5*100 -> 3.7812294
A7: 분기누계 | B7: =B10+B13+B16 -> 3601289 | C7: =C10+C13+C16 -> 11476 | D7: =D10+D13+D16 -> 137307 | E7: =E10+E13+E16 -> 143390 | F7: =F10+F13+F16 -> 289766 | G7: =G10+G13+G16 -> 226063 | H7: =H10+H13+H16 -> 336210 | I7: =I10+I13+I16 -> 145132 | ... V7: =V10+V13+V16 -> 136173
A8: 일평균 | B8: =B7/91 -> 39574.604 | C8: =C7/91 -> 126.10989 | D8: =D7/91 -> 1508.8681 | E8: =E7/91 -> 1575.7143 | F8: =F7/91 -> 3184.2418 | G8: =G7/91 -> 2484.2088 | H8: =H7/91 -> 3694.6154 | I8: =I7/91 -> 1594.8571 | ... V8: =V7/91 -> 1496.4066
A9: 비율 | B9: =B8/$B$8*100 -> 100 | C9: =C8/$B$8*100 -> 0.31866368 | D9: =D8/$B$8*100 -> 3.8127182 | E9: =E8/$B$8*100 -> 3.9816299 | F9: =F8/$B$8*100 -> 8.0461746 | G9: =G8/$B$8*100 -> 6.2772802 | H9: =H8/$B$8*100 -> 9.3358239 | I9: =I8/$B$8*100 -> 4.0300015 | ... V9: =V8/$B$8*100 -> 3.7812294
A10: 1월 | B10: 1501279 | C10: 4122 | D10: 57638 | E10: 61276 | F10: 123597 | G10: 96359 | H10: 147625 | I10: 60385 | J10: 73362 | K10: 50559 | L10: 81231 | M10: 64157 | N10: 78636 | O10: 91417 | P10: 122394 | Q10: 30066 | R10: 31265 | S10: 87875 | T10: 140358 | U10: 49868 | V10: 49089
A11: 일평균 | B11: =B10/31 -> 48428.355 | C11: =C10/31 -> 132.96774 | D11: =D10/31 -> 1859.2903 | E11: =E10/31 -> 1976.6452 | F11: =F10/31 -> 3987 | G11: =G10/31 -> 3108.3548 | H11: =H10/31 -> 4762.0968 | I11: =I10/31 -> 1947.9032 | ... V11: =V10/31 -> 1583.5161
A12: 비율 | B12: 100 | C12: =C11/$B$11*100 -> 0.27456589 | D12: =D11/$B$11*100 -> 3.8392597 | E12: =E11/$B$11*100 -> 4.0815864 | F12: =F11/$B$11*100 -> 8.2327802 | G12: =G11/$B$11*100 -> 6.4184605 | H12: =H11/$B$11*100 -> 9.8332822 | I12: =I11/$B$11*100 -> 4.022237 | J12: =J11/$B$11*100 -> 4.8866333 | ... V12: =V11/$B$11*100 -> 3.2698119
A13: 2월 | B13: 1124611 | C13: 3512 | D13: 43180 | E13: 44811 | F13: 89237 | G13: 71768 | H13: 104156 | I13: 46423 | J13: 52054 | K13: 39358 | L13: 60585 | M13: 50051 | N13: 60499 | O13: 74037 | P13: 95360 | Q13: 23036 | R13: 22781 | S13: 67676 | T13: 93387 | U13: 39105 | V13: 43595
A14: 일평균 | B14: =B13/29 -> 38779.69 | C14: =C13/29 -> 121.10345 | D14: =D13/29 -> 1488.9655 | E14: =E13/29 -> 1545.2069 | F14: =F13/29 -> 3077.1379 | G14: =G13/29 -> 2474.7586 | H14: =H13/29 -> 3591.5862 | I14: =I13/29 -> 1600.7931 | ... V14: =V13/29 -> 1503.2759
A15: 비율 | B15: 100 | C15: =C14/$B$14*100 -> 0.31228576 | D15: =D14/$B$14*100 -> 3.8395499 | E15: =E14/$B$14*100 -> 3.9845778 | F15: =F14/$B$14*100 -> 7.9349215 | G15: =G14/$B$14*100 -> 6.3815844 | H15: =H14/$B$14*100 -> 9.2615135 | I15: =I14/$B$14*100 -> 4.1279162 | J15: =J14/$B$14*100 -> 4.6286227 | ... V15: =V14/$B$14*100 -> 3.8764515
A16: 3월 | B16: 975399 | C16: 3842 | D16: 36489 | E16: 37303 | F16: 76932 | G16: 57936 | H16: 84429 | I16: 38324 | J16: 49252 | K16: 36105 | L16: 52492 | M16: 43401 | N16: 53597 | O16: 68499 | P16: 83503 | Q16: 19663 | R16: 20515 | S16: 59499 | T16: 74407 | U16: 35722 | V16: 43489
A17: 일평균 | B17: =B16/31 -> 31464.484 | C17: =C16/31 -> 123.93548 | D17: =D16/31 -> 1177.0645 | E17: =E16/31 -> 1203.3226 | F17: =F16/31 -> 2481.6774 | G17: =G16/31 -> 1868.9032 | H17: =H16/31 -> 2723.5161 | I17: =I16/31 -> 1236.2581 | ... V17: =V16/31 -> 1402.871
A18: 비율 | B18: 100 | C18: =C17/$B$17*100 -> 0.39389009 | D18: =D17/$B$17*100 -> 3.7409306 | E18: =E17/$B$17*100 -> 3.8243837 | F18: =F17/$B$17*100 -> 7.8872338 | G18: =G17/$B$17*100 -> 5.9397231 | H18: =H17/$B$17*100 -> 8.6558424 | I18: =I17/$B$17*100 -> 3.9290588 | J18: =J17/$B$17*100 -> 5.0494208 | ... V18: =V17/$B$17*100 -> 4.4585857

Sheet 2020.2분기
A1: 2020년 2/4분기 수송 현황
U2: (단위:명,%)
A3: 구분 | B3: 합 계 | C3: 녹동역 | D3: 소태역 | E3: 학동증심사 입구역 | F3: 남광주역 | G3: 문화전당역 | H3: 금남로4가역 | I3: 금남로5가역 | J3: 양동시장역 | K3: 돌고개역 | L3: 농성역 | M3: 화정역 | N3: 쌍촌역 | O3: 운천역 | P3: 상무 | Q3: 김대중 컨벤션센터역 | R3: 공항역 | S3: 송정공원역 | T3: 광주송정역 | U3: 도산역 | V3: 평동역
A4: 년누계 | B4: =SUM(C4:V4) -> 7195830 | C4: =C7+'2020.1분기'!C4 -> 25157 | D4: =D7+'2020.1분기'!D4 -> 273210 | E4: =E7+'2020.1분기'!E4 -> 292914 | F4: =F7+'2020.1분기'!F4 -> 587936 | G4: =G7+'2020.1분기'!G4 -> 449806 | H4: =H7+'2020.1분기'!H4 -> 655161 | I4: =I7+'2020.1분기'!I4 -> 281908 | J4: =J7+'2020.1분기'!J4 -> 354421 | ... V4: =V7+'2020.1분기'!V4 -> 265493
A5: 일평균 | B5: =B4/182 -> 39537.527 | C5: =C4/182 -> 138.22527 | D5: =D4/182 -> 1501.1538 | E5: =E4/182 -> 1609.4176 | F5: =F4/182 -> 3230.4176 | G5: =G4/182 -> 2471.4615 | H5: =H4/182 -> 3599.7857 | I5: =I4/182 -> 1548.9451 | ... V5: =V4/182 -> 1458.7527
A6: 비율 | B6: =B5/$B$5*100 -> 100 | C6: =C5/$B$5*100 -> 0.34960526 | D6: =D5/$B$5*100 -> 3.7967823 | E6: =E5/$B$5*100 -> 4.0706076 | F6: =F5/$B$5*100 -> 8.1705099 | G6: =G5/$B$5*100 -> 6.2509259 | H6: =H5/$B$5*100 -> 9.1047315 | I6: =I5/$B$5*100 -> 3.9176579 | ... V6: =V5/$B$5*100 -> 3.6895396
A7: 분기누계 | B7: =B10+B13+B16 -> 3594541 | C7: =C10+C13+C16 -> 13681 | D7: =D10+D13+D16 -> 135903 | E7: =E10+E13+E16 -> 149524 | F7: =F10+F13+F16 -> 298170 | G7: =G10+G13+G16 -> 223743 | H7: =H10+H13+H16 -> 318951 | I7: =I10+I13+I16 -> 136776 | ... V7: =V10+V13+V16 -> 129320
A8: 일평균 | B8: =B7/91 -> 39500.451 | C8: =C7/91 -> 150.34066 | D8: =D7/91 -> 1493.4396 | E8: =E7/91 -> 1643.1209 | F8: =F7/91 -> 3276.5934 | G8: =G7/91 -> 2458.7143 | H8: =H7/91 -> 3504.956 | I8: =I7/91 -> 1503.033 | ... V8: =V7/91 -> 1421.0989
A9: 비율 | B9: =B8/$B$8*100 -> 100 | C9: =C8/$B$8*100 -> 0.38060492 | D9: =D8/$B$8*100 -> 3.7808165 | E9: =E8/$B$8*100 -> 4.1597522 | F9: =F8/$B$8*100 -> 8.2950786 | G9: =G8/$B$8*100 -> 6.2245221 | H9: =H8/$B$8*100 -> 8.8732052 | I9: =I8/$B$8*100 -> 3.8051033 | ... V9: =V8/$B$8*100 -> 3.5976777
A10: 4월 | B10: 1054621 | C10: 4239 | D10: 40325 | E10: 42316 | F10: 85071 | G10: 64548 | H10: 93102 | I10: 39519 | J10: 53996 | K10: 37865 | L10: 56794 | M10: 46374 | N10: 56700 | O10: 72370 | P10: 89673 | Q10: 21785 | R10: 22945 | S10: 63461 | T10: 84566 | U10: 37564 | V10: 41408
A11: 일평균 | B11: =B10/30 -> 35154.033 | C11: =C10/30 -> 141.3 | D11: =D10/30 -> 1344.1667 | E11: =E10/30 -> 1410.5333 | F11: =F10/30 -> 2835.7 | G11: =G10/30 -> 2151.6 | H11: =H10/30 -> 3103.4 | I11: =I10/30 -> 1317.3 | ... V11: =V10/30 -> 1380.2667
A12: 비율 | B12: 100 | C12: =C11/$B$11*100 -> 0.40194534 | D12: =D11/$B$11*100 -> 3.8236485 | E12: =E11/$B$11*100 -> 4.0124367 | F12: =F11/$B$11*100 -> 8.0664997 | G12: =G11/$B$11*100 -> 6.1204926 | H12: =H11/$B$11*100 -> 8.8280055 | I12: =I11/$B$11*100 -> 3.7472229 | J12: =J11/$B$11*100 -> 5.1199436 | ... V12: =V11/$B$11*100 -> 3.9263394
A13: 5월 | B13: 1247238 | C13: 4666 | D13: 47221 | E13: 50948 | F13: 103529 | G13: 81409 | H13: 114365 | I13: 45245 | J13: 62994 | K13: 43323 | L13: 67429 | M13: 54372 | N13: 66892 | O13: 78769 | P13: 106246 | Q13: 25956 | R13: 28686 | S13: 72789 | T13: 108073 | U13: 42566 | V13: 41760
A14: 일평균 | B14: =B13/31 -> 40233.484 | C14: =C13/31 -> 150.51613 | D14: =D13/31 -> 1523.2581 | E14: =E13/31 -> 1643.4839 | F14: =F13/31 -> 3339.6452 | G14: =G13/31 -> 2626.0968 | H14: =H13/31 -> 3689.1935 | I14: =I13/31 -> 1459.5161 | ... V14: =V13/31 -> 1347.0968
A15: 비율 | B15: 100 | C15: =C14/$B$14*100 -> 0.37410663 | D15: =D14/$B$14*100 -> 3.7860456 | E15: =E14/$B$14*100 -> 4.0848659 | F15: =F14/$B$14*100 -> 8.3006611 | G15: =G14/$B$14*100 -> 6.5271424 | H15: =H14/$B$14*100 -> 9.1694608 | I15: =I14/$B$14*100 -> 3.6276156 | J15: =J14/$B$14*100 -> 5.05068 | ... V15: =V14/$B$14*100 -> 3.3481982
A16: 6월 | B16: 1292682 | C16: 4776 | D16: 48357 | E16: 56260 | F16: 109570 | G16: 77786 | H16: 111484 | I16: 52012 | J16: 62763 | K16: 45380 | L16: 67964 | M16: 56995 | N16: 71488 | O16: 83527 | P16: 108515 | Q16: 29051 | R16: 32472 | S16: 77375 | T16: 105603 | U16: 45152 | V16: 46152
A17: 일평균 | B17: =B16/30 -> 43089.4 | C17: =C16/30 -> 159.2 | D17: =D16/30 -> 1611.9 | E17: =E16/30 -> 1875.3333 | F17: =F16/30 -> 3652.3333 | G17: =G16/30 -> 2592.8667 | H17: =H16/30 -> 3716.1333 | I17: =I16/30 -> 1733.7333 | ... V17: =V16/30 -> 1538.4
A18: 비율 | B18: 100 | C18: =C17/$B$17*100 -> 0.36946442 | D18: =D17/$B$17*100 -> 3.7408272 | E18: =E17/$B$17*100 -> 4.3521918 | F18: =F17/$B$17*100 -> 8.4761759 | G18: =G17/$B$17*100 -> 6.0174119 | H18: =H17/$B$17*100 -> 8.6242401 | I18: =I17/$B$17*100 -> 4.0235727 | J18: =J17/$B$17*100 -> 4.8552544 | ... V18: =V17/$B$17*100 -> 3.5702516

Sheet 2020.3분기
A1: 2020년 3/4분기 수송 현황
U2: (단위:명,%)
A3: 구분 | B3: 합 계 | C3: 녹동역 | D3: 소태역 | E3: 학동증심사 입구역 | F3: 남광주역 | G3: 문화전당역 | H3: 금남로4가역 | I3: 금남로5가역 | J3: 양동시장역 | K3: 돌고개역 | L3: 농성역 | M3: 화정역 | N3: 쌍촌역 | O3: 운천역 | P3: 상무 | Q3: 김대중 컨벤션센터역 | R3: 공항역 | S3: 송정공원역 | T3: 광주송정역 | U3: 도산역 | V3: 평동역
A4: 년누계 | B4: 10151416 | C4: 36921 | D4: 387056 | E4: 415170 | F4: 840748 | G4: 621674 | H4: 895356 | I4: 398781 | J4: 505387 | K4: 355899 | L4: 542177 | M4: 444228 | N4: 548884 | O4: 663142 | P4: 849247 | Q4: 211461 | R4: 238119 | S4: 605053 | T4: 854435 | U4: 352135 | V4: 385543
A5: 일평균 | B5: 37048.964 | C5: 134.74818 | D5: 1412.6131 | E5: 1515.219 | F5: 3068.4234 | G5: 2268.8832 | H5: 3267.7226 | I5: 1455.4051 | J5: 1844.4781 | K5: 1298.9015 | L5: 1978.7482 | M5: 1621.2701 | N5: 2003.2263 | O5: 2420.2263 | P5: 3099.4416 | Q5: 771.75547 | R5: 869.04745 | S5: 2208.2226 | T5: 3118.3759 | U5: 1285.1642 | V5: 1407.0912
A6: 비율 | B6: =B5/$B$5*100 -> 100 | C6: =C5/$B$5*100 -> 0.36370296 | D6: =D5/$B$5*100 -> 3.8128277 | E6: =E5/$B$5*100 -> 4.0897743 | F6: =F5/$B$5*100 -> 8.2820761 | G6: =G5/$B$5*100 -> 6.1240127 | H6: =H5/$B$5*100 -> 8.8200109 | I6: =I5/$B$5*100 -> 3.9283288 | ... V6: =V5/$B$5*100 -> 3.7979234
A7: 분기누계 | B7: =B10+B13+B16 -> 2955586 | C7: =C10+C13+C16 -> 11764 | D7: =D10+D13+D16 -> 113846 | E7: =E10+E13+E16 -> 122256 | F7: =F10+F13+F16 -> 252812 | G7: =G10+G13+G16 -> 171868 | H7: =H10+H13+H16 -> 240195 | I7: =I10+I13+I16 -> 116873 | ... V7: =V10+V13+V16 -> 120050
A8: 일평균 | B8: =B7/92 -> 32125.935 | C8: =C7/92 -> 127.86957 | D8: =D7/92 -> 1237.4565 | E8: =E7/92 -> 1328.8696 | F8: =F7/92 -> 2747.9565 | G8: =G7/92 -> 1868.1304 | H8: =H7/92 -> 2610.8152 | I8: =I7/92 -> 1270.3587 | ... V8: =V7/92 -> 1304.8913
A9: 비율 | B9: =B8/$B$8*100 -> 100 | C9: =C8/$B$8*100 -> 0.39802598 | D9: =D8/$B$8*100 -> 3.8518927 | E9: =E8/$B$8*100 -> 4.1364386 | F9: =F8/$B$8*100 -> 8.5537014 | G9: =G8/$B$8*100 -> 5.8150228 | H9: =H8/$B$8*100 -> 8.1268148 | I9: =I8/$B$8*100 -> 3.9543089 | ... V9: =V8/$B$8*100 -> 4.0618003
A10: 7월 | B10: 1010853 | C10: 4026 | D10: 37594 | E10: 41088 | F10: 83617 | G10: 58690 | H10: 80266 | I10: 41179 | J10: 48444 | K10: 35496 | L10: 53740 | M10: 44858 | N10: 56220 | O10: 68811 | P10: 84814 | Q10: 20925 | R10: 28861 | S10: 60584 | T10: 82989 | U10: 35102 | V10: 43549
A11: 일평균 | B11: 32608.161 | C11: 129.87097 | D11: 1212.7097 | E11: 1325.4194 | F11: 2697.3226 | G11: 1893.2258 | H11: 2589.2258 | I11: 1328.3548 | J11: 1562.7097 | K11: 1145.0323 | L11: 1733.5484 | M11: 1447.0323 | N11: 1813.5484 | O11: 2219.7097 | P11: 2735.9355 | Q11: 675 | R11: 931 | S11: 1954.3226 | T11: 2677.0645 | U11: 1132.3226 | V11: 1404.8065
A12: 비율 | B12: 100 | C12: =C11/$B$11*100 -> 0.39827749 | D12: =D11/$B$11*100 -> 3.7190373 | E12: =E11/$B$11*100 -> 4.064686 | F12: =F11/$B$11*100 -> 8.2719248 | G12: =G11/$B$11*100 -> 5.8059876 | H12: =H11/$B$11*100 -> 7.9404226 | I12: =I11/$B$11*100 -> 4.0736883 | J12: =J11/$B$11*100 -> 4.7923882 | ... V12: =V11/$B$11*100 -> 4.3081437
A13: 8월 | B13: 982962 | C13: 3891 | D13: 37865 | E13: 41272 | F13: 83614 | G13: 60082 | H13: 83899 | I13: 38016 | J13: 49167 | K13: 34505 | L13: 51485 | M13: 41776 | N13: 52057 | O13: 62767 | P13: 80216 | Q13: 21575 | R13: 25853 | S13: 57751 | T13: 87522 | U13: 33952 | V13: 35697
A14: 일평균 | B14: 31708.452 | C14: 125.51613 | D14: 1221.4516 | E14: 1331.3548 | F14: 2697.2258 | G14: 1938.129 | H14: 2706.4194 | I14: 1226.3226 | J14: 1586.0323 | K14: 1113.0645 | L14: 1660.8065 | M14: 1347.6129 | N14: 1679.2581 | O14: 2024.7419 | P14: 2587.6129 | Q14: 695.96774 | R14: 833.96774 | S14: 1862.9355 | T14: 2823.2903 | U14: 1095.2258 | V14: 1151.5161
A15: 비율 | B15: 100 | C15: =C14/$B$14*100 -> 0.3958444 | D15: =D14/$B$14*100 -> 3.8521326 | E15: =E14/$B$14*100 -> 4.1987381 | F15: =F14/$B$14*100 -> 8.5063309 | G15: =G14/$B$14*100 -> 6.1123421 | H15: =H14/$B$14*100 -> 8.5353249 | I15: =I14/$B$14*100 -> 3.8674944 | J15: =J14/$B$14*100 -> 5.0019228 | ... V15: =V14/$B$14*100 -> 3.6315748
A16: 9월 | B16: 961771 | C16: 3847 | D16: 38387 | E16: 39896 | F16: 85581 | G16: 53096 | H16: 76030 | I16: 37678 | J16: 53355 | K16: 33308 | L16: 50457 | M16: 42244 | N16: 52795 | O16: 62945 | P16: 78526 | Q16: 19404 | R16: 24741 | S16: 58043 | T16: 77530 | U16: 33104 | V16: 40804
A17: 일평균 | B17: 32059.033 | C17: 128.23333 | D17: 1279.5667 | E17: 1329.8667 | F17: 2852.7 | G17: 1769.8667 | H17: 2534.3333 | I17: 1255.9333 | J17: 1778.5 | K17: 1110.2667 | L17: 1681.9 | M17: 1408.1333 | N17: 1759.8333 | O17: 2098.1667 | P17: 2617.5333 | Q17: 646.8 | R17: 824.7 | S17: 1934.7667 | T17: 2584.3333 | U17: 1103.4667 | V17: 1360.1333
A18: 비율 | B18: 100 | C18: =C17/$B$17*100 -> 0.39999127 | D18: =D17/$B$17*100 -> 3.9912827 | E18: =E17/$B$17*100 -> 4.1481808 | F18: =F17/$B$17*100 -> 8.898272 | G18: =G17/$B$17*100 -> 5.5206489 | H18: =H17/$B$17*100 -> 7.9052082 | I18: =I17/$B$17*100 -> 3.9175646 | J18: =J17/$B$17*100 -> 5.5475784 | ... V18: =V17/$B$17*100 -> 4.24259

Sheet 2020.4분기
A1: 2020년 4/4분기 수송 현황
U2: (단위:명,%)
A3: 구분 | B3: 합 계 | C3: 녹동역 | D3: 소태역 | E3: 학동증심사 입구역 | F3: 남광주역 | G3: 문화전당역 | H3: 금남로4가역 | I3: 금남로5가역 | J3: 양동시장역 | K3: 돌고개역 | L3: 농성역 | M3: 화정역 | N3: 쌍촌역 | O3: 운천역 | P3: 상무 | Q3: 김대중 컨벤션센터역 | R3: 공항역 | S3: 송정공원역 | T3: 광주송정역 | U3: 도산역 | V3: 평동역
A4: 년누계 | B4: =SUM(C4:V4) -> 13582875 | C4: 49418 | D4: 517993 | E4: 553454 | F4: 1137218 | G4: 822705 | H4: 1173201 | I4: 536777 | J4: 664563 | K4: 473219 | L4: 724024 | M4: 595507 | N4: 740098 | O4: 887536 | P4: 1140141 | Q4: 287912 | R4: 326703 | S4: 812874 | T4: 1146090 | U4: 471769 | V4: 521673
A5: 일평균 | B5: =SUM(C5:V5) -> 37111.68 | C5: 135.02186 | D5: 1415.2814 | E5: 1512.1694 | F5: 3107.153 | G5: 2247.8279 | H5: 3205.4672 | I5: 1466.6038 | J5: 1815.7459 | K5: 1292.9481 | L5: 1978.2077 | M5: 1627.0683 | N5: 2022.1257 | O5: 2424.9617 | P5: 3115.1393 | Q5: 786.64481 | R5: 892.63115 | S5: 2220.9672 | T5: 3131.3934 | U5: 1288.9863 | V5: 1425.3361
A6: 비율 | B6: =B5/$B$5*100 -> 100 | C6: =C5/$B$5*100 -> 0.36382577 | D6: =D5/$B$5*100 -> 3.8135741 | E6: =E5/$B$5*100 -> 4.0746455 | F6: =F5/$B$5*100 -> 8.3724396 | G6: =G5/$B$5*100 -> 6.0569283 | H6: =H5/$B$5*100 -> 8.637354 | I6: =I5/$B$5*100 -> 3.9518659 | ... V6: =V5/$B$5*100 -> 3.840667
A7: 분기누계 | B7: =B10+B13+B16 -> 3431459 | C7: =C10+C13+C16 -> 12497 | D7: =D10+D13+D16 -> 130937 | E7: =E10+E13+E16 -> 138284 | F7: =F10+F13+F16 -> 296470 | G7: =G10+G13+G16 -> 201031 | H7: =H10+H13+H16 -> 277845 | I7: =I10+I13+I16 -> 137996 | ... V7: =V10+V13+V16 -> 136130
A8: 일평균 | B8: =B7/92 -> 37298.467 | C8: =C7/92 -> 135.83696 | D8: =D7/92 -> 1423.2283 | E8: =E7/92 -> 1503.087 | F8: =F7/92 -> 3222.5 | G8: =G7/92 -> 2185.1196 | H8: =H7/92 -> 3020.0543 | I8: =I7/92 -> 1499.9565 | ... V8: =V7/92 -> 1479.6739
A9: 비율 | B9: =B8/$B$8*100 -> 100 | C9: =C8/$B$8*100 -> 0.36418911 | D9: =D8/$B$8*100 -> 3.8157821 | E9: =E8/$B$8*100 -> 4.0298893 | F9: =F8/$B$8*100 -> 8.6397652 | G9: =G8/$B$8*100 -> 5.8584701 | H9: =H8/$B$8*100 -> 8.0969931 | I9: =I8/$B$8*100 -> 4.0214964 | ... V9: =V8/$B$8*100 -> 3.9671172
A10: 10월 | B10: 1176512 | C10: 4315 | D10: 44935 | E10: 48497 | F10: 100191 | G10: 71770 | H10: 99272 | I10: 46895 | J10: 53181 | K10: 39538 | L10: 61406 | M10: 51294 | N10: 64381 | O10: 75395 | P10: 97273 | Q10: 26970 | R10: 30725 | S10: 71343 | T10: 102745 | U10: 41253 | V10: 45133
A11: 일평균 | B11: 37952 | C11: 139.19355 | D11: 1449.5161 | E11: 1564.4194 | F11: 3231.9677 | G11: 2315.1613 | H11: 3202.3226 | I11: 1512.7419 | J11: 1715.5161 | K11: 1275.4194 | L11: 1980.8387 | M11: 1654.6452 | N11: 2076.8065 | O11: 2432.0968 | P11: 3137.8387 | Q11: 870 | R11: 991.12903 | S11: 2301.3871 | T11: 3314.3548 | U11: 1330.7419 | V11: 1455.9032
A12: 비율 | B12: 100 | C12: =C11/$B$11*100 -> 0.36676209 | D12: =D11/$B$11*100 -> 3.8193406 | E12: =E11/$B$11*100 -> 4.1220999 | F12: =F11/$B$11*100 -> 8.5159352 | G12: =G11/$B$11*100 -> 6.1002353 | H12: =H11/$B$11*100 -> 8.437823 | I12: =I11/$B$11*100 -> 3.9859347 | J12: =J11/$B$11*100 -> 4.5202259 | ... V12: =V11/$B$11*100 -> 3.83617
A13: 11월 | B13: 1193694 | C13: 4211 | D13: 44922 | E13: 48271 | F13: 104070 | G13: 69720 | H13: 94599 | I13: 48197 | J13: 55177 | K13: 40647 | L13: 63134 | M13: 52166 | N13: 66822 | O13: 77635 | P13: 100941 | Q13: 27045 | R13: 30683 | S13: 72417 | T13: 105278 | U13: 41530 | V13: 46229
A14: 일평균 | B14: 39789.8 | C14: 140.36667 | D14: 1497.4 | E14: 1609.0333 | F14: 3469 | G14: 2324 | H14: 3153.3 | I14: 1606.5667 | J14: 1839.2333 | K14: 1354.9 | L14: 2104.4667 | M14: 1738.8667 | N14: 2227.4 | O14: 2587.8333 | P14: 3364.7 | Q14: 901.5 | R14: 1022.7667 | S14: 2413.9 | T14: 3509.2667 | U14: 1384.3333 | V14: 1540.9667
A15: 비율 | B15: 100 | C15: =C14/$B$14*100 -> 0.35277048 | D15: =D14/$B$14*100 -> 3.763276 | E15: =E14/$B$14*100 -> 4.0438337 | F15: =F14/$B$14*100 -> 8.7183147 | G15: =G14/$B$14*100 -> 5.8406928 | H15: =H14/$B$14*100 -> 7.9248953 | I15: =I14/$B$14*100 -> 4.0376344 | J15: =J14/$B$14*100 -> 4.6223739 | ... V15: =V14/$B$14*100 -> 3.8727681
A16: 12월 | B16: 1061253 | C16: 3971 | D16: 41080 | E16: 41516 | F16: 92209 | G16: 59541 | H16: 83974 | I16: 42904 | J16: 50818 | K16: 37135 | L16: 57307 | M16: 47819 | N16: 60011 | O16: 71364 | P16: 92680 | Q16: 22436 | R16: 27176 | S16: 64061 | T16: 83632 | U16: 36851 | V16: 44768
A17: 일평균 | B17: 34233.968 | C17: 128.09677 | D17: 1325.1613 | E17: 1339.2258 | F17: 2974.4839 | G17: 1920.6774 | H17: 2708.8387 | I17: 1384 | J17: 1639.2903 | K17: 1197.9032 | L17: 1848.6129 | M17: 1542.5484 | N17: 1935.8387 | O17: 2302.0645 | P17: 2989.6774 | Q17: 723.74194 | R17: 876.64516 | S17: 2066.4839 | T17: 2697.8065 | U17: 1188.7419 | V17: 1444.129
A18: 비율 | B18: 100 | C18: =C17/$B$17*100 -> 0.37418033 | D18: =D17/$B$17*100 -> 3.870896 | E18: =E17/$B$17*100 -> 3.9119795 | F18: =F17/$B$17*100 -> 8.6886916 | G18: =G17/$B$17*100 -> 5.6104435 | H18: =H17/$B$17*100 -> 7.912722 | I18: =I17/$B$17*100 -> 4.0427683 | J18: =J17/$B$17*100 -> 4.7884906 | ... V18: =V17/$B$17*100 -> 4.2184097

Sheet 2021.1분기
A1: 2021년 1/4분기 수송 현황
U2: (단위:명,%)
A3: 구분 | B3: 합 계 | C3: 녹동역 | D3: 소태역 | E3: 학동증심사 입구역 | F3: 남광주역 | G3: 문화전당역 | H3: 금남로4가역 | I3: 금남로5가역 | J3: 양동시장역 | K3: 돌고개역 | L3: 농성역 | M3: 화정역 | N3: 쌍촌역 | O3: 운천역 | P3: 상무 | Q3: 김대중 컨벤션센터역 | R3: 공항역 | S3: 송정공원역 | T3: 광주송정역 | U3: 도산역 | V3: 평동역
A4: 년누계 | B4: =SUM(C4:V4) -> 3276118 | C4: =C7 -> 12166 | D4: =D7 -> 121373 | E4: =E7 -> 126802 | F4: =F7 -> 286024 | G4: =G7 -> 196560 | H4: =H7 -> 261943 | I4: =I7 -> 130266 | J4: =J7 -> 150170 | ... V4: =V7 -> 139329
A5: 일평균 | B5: =B4/90 -> 36401.311 | C5: =C4/90 -> 135.17778 | D5: =D4/90 -> 1348.5889 | E5: =E4/90 -> 1408.9111 | F5: =F4/90 -> 3178.0444 | G5: =G4/90 -> 2184 | H5: =H4/90 -> 2910.4778 | I5: =I4/90 -> 1447.4 | ... V5: =V4/90 -> 1548.1
A6: 비율 | B6: =B5/$B$5*100 -> 100 | C6: =C5/$B$5*100 -> 0.37135415 | D6: =D5/$B$5*100 -> 3.7047811 | E6: =E5/$B$5*100 -> 3.8704955 | F6: =F5/$B$5*100 -> 8.7305769 | G6: =G5/$B$5*100 -> 5.9997839 | H6: =H5/$B$5*100 -> 7.9955301 | I6: =I5/$B$5*100 -> 3.9762304 | ... V6: =V5/$B$5*100 -> 4.2528688
A7: 분기누계 | B7: =B10+B13+B16 -> 3276118 | C7: =C10+C13+C16 -> 12166 | D7: =D10+D13+D16 -> 121373 | E7: =E10+E13+E16 -> 126802 | F7: =F10+F13+F16 -> 286024 | G7: =G10+G13+G16 -> 196560 | H7: =H10+H13+H16 -> 261943 | I7: =I10+I13+I16 -> 130266 | ... V7: =V10+V13+V16 -> 139329
A8: 일평균 | B8: =B7/90 -> 36401.311 | C8: =C7/90 -> 135.17778 | D8: =D7/90 -> 1348.5889 | E8: =E7/90 -> 1408.9111 | F8: =F7/90 -> 3178.0444 | G8: =G7/90 -> 2184 | H8: =H7/90 -> 2910.4778 | I8: =I7/90 -> 1447.4 | ... V8: =V7/90 -> 1548.1
A9: 비율 | B9: =B8/$B$8*100 -> 100 | C9: =C8/$B$8*100 -> 0.37135415 | D9: =D8/$B$8*100 -> 3.7047811 | E9: =E8/$B$8*100 -> 3.8704955 | F9: =F8/$B$8*100 -> 8.7305769 | G9: =G8/$B$8*100 -> 5.9997839 | H9: =H8/$B$8*100 -> 7.9955301 | I9: =I8/$B$8*100 -> 3.9762304 | ... V9: =V8/$B$8*100 -> 4.2528688
A10: 1월 | B10: 1044674 | C10: 3976 | D10: 39320 | E10: 38940 | F10: 88564 | G10: 62688 | H10: 82341 | I10: 42644 | J10: 47114 | K10: 35477 | L10: 56555 | M10: 47149 | N10: 59016 | O10: 72081 | P10: 93488 | Q10: 22412 | R10: 25839 | S10: 61457 | T10: 84434 | U10: 36012 | V10: 45167
A11: 일평균 | B11: =B10/31 -> 33699.161 | C11: =C10/31 -> 128.25806 | D11: =D10/31 -> 1268.3871 | E11: =E10/31 -> 1256.129 | F11: =F10/31 -> 2856.9032 | G11: =G10/31 -> 2022.1935 | H11: =H10/31 -> 2656.1613 | I11: =I10/31 -> 1375.6129 | ... V11: =V10/31 -> 1457
A12: 비율 | B12: 100 | C12: =C11/$B$11*100 -> 0.3805972 | D12: =D11/$B$11*100 -> 3.7638536 | E12: =E11/$B$11*100 -> 3.7274786 | F12: =F11/$B$11*100 -> 8.4776686 | G12: =G11/$B$11*100 -> 6.0007237 | H12: =H11/$B$11*100 -> 7.8819804 | I12: =I11/$B$11*100 -> 4.082039 | J12: =J11/$B$11*100 -> 4.5099237 | ... V12: =V11/$B$11*100 -> 4.3235497
A13: 2월 | B13: 981349 | C13: 3599 | D13: 36751 | E13: 37612 | F13: 82575 | G13: 61593 | H13: 80166 | I13: 37690 | J13: 46842 | K13: 32696 | L13: 53132 | M13: 42529 | N13: 54590 | O13: 63955 | P13: 83271 | Q13: 21560 | R13: 26431 | S13: 56884 | T13: 84006 | U13: 33243 | V13: 42224
A14: 일평균 | B14: =B13/28 -> 35048.179 | C14: =C13/28 -> 128.53571 | D14: =D13/28 -> 1312.5357 | E14: =E13/28 -> 1343.2857 | F14: =F13/28 -> 2949.1071 | G14: =G13/28 -> 2199.75 | H14: =H13/28 -> 2863.0714 | I14: =I13/28 -> 1346.0714 | ... V14: =V13/28 -> 1508
A15: 비율 | B15: 100 | C15: =C14/$B$14*100 -> 0.36674007 | D15: =D14/$B$14*100 -> 3.744947 | E15: =E14/$B$14*100 -> 3.8326834 | F15: =F14/$B$14*100 -> 8.4144377 | G15: =G14/$B$14*100 -> 6.2763604 | H15: =H14/$B$14*100 -> 8.1689593 | I15: =I14/$B$14*100 -> 3.8406316 | J15: =J14/$B$14*100 -> 4.7732254 | ... V15: =V14/$B$14*100 -> 4.3026487
A16: 3월 | B16: 1250095 | C16: 4591 | D16: 45302 | E16: 50250 | F16: 114885 | G16: 72279 | H16: 99436 | I16: 49932 | J16: 56214 | K16: 41046 | L16: 65524 | M16: 54474 | N16: 70368 | O16: 83067 | P16: 104232 | Q16: 27063 | R16: 33276 | S16: 75949 | T16: 106747 | U16: 43522 | V16: 51938
A17: 일평균 | B17: =B16/31 -> 40325.645 | C17: =C16/31 -> 148.09677 | D17: =D16/31 -> 1461.3548 | E17: =E16/31 -> 1620.9677 | F17: =F16/31 -> 3705.9677 | G17: =G16/31 -> 2331.5806 | H17: =H16/31 -> 3207.6129 | I17: =I16/31 -> 1610.7097 | ... V17: =V16/31 -> 1675.4194
A18: 비율 | B18: 100 | C18: =C17/$B$17*100 -> 0.36725209 | D18: =D17/$B$17*100 -> 3.6238846 | E18: =E17/$B$17*100 -> 4.0196945 | F18: =F17/$B$17*100 -> 9.1901016 | G18: =G17/$B$17*100 -> 5.7818806 | H18: =H17/$B$17*100 -> 7.9542755 | I18: =I17/$B$17*100 -> 3.9942564 | J18: =J17/$B$17*100 -> 4.4967782 | ... V18: =V17/$B$17*100 -> 4.1547242

Sheet 2021.2분기
A1: 2021년 2/4분기 수송 현황
U2: (단위:명,%)
A3: 구분 | B3: 합 계 | C3: 녹동역 | D3: 소태역 | E3: 학동증심사 입구역 | F3: 남광주역 | G3: 문화전당역 | H3: 금남로4가역 | I3: 금남로5가역 | J3: 양동시장역 | K3: 돌고개역 | L3: 농성역 | M3: 화정역 | N3: 쌍촌역 | O3: 운천역 | P3: 상무 | Q3: 김대중 컨벤션센터역 | R3: 공항역 | S3: 송정공원역 | T3: 광주송정역 | U3: 도산역 | V3: 평동역
A4: 년누계 | B4: =SUM(C4:V4) -> 6991782 | C4: ='2021.1분기'!C4+'2021.2분기'!C7 -> 25859 | D4: ='2021.1분기'!D4+'2021.2분기'!D7 -> 258315 | E4: ='2021.1분기'!E4+'2021.2분기'!E7 -> 280029 | F4: ='2021.1분기'!F4+'2021.2분기'!F7 -> 625372 | G4: ='2021.1분기'!G4+'2021.2분기'!G7 -> 416330 | H4: ='2021.1분기'!H4+'2021.2분기'!H7 -> 563963 | I4: ='2021.1분기'!I4+'2021.2분기'!I7 -> 276999 | J4: ='2021.1분기'!J4+'2021.2분기'!J7 -> 319239 | ... V4: ='2021.1분기'!V4+'2021.2분기'!V7 -> 294135
A5: 일평균 | B5: =B4/181 -> 38628.63 | C5: =C4/181 -> 142.8674 | D5: =D4/181 -> 1427.1547 | E5: =E4/181 -> 1547.1215 | F5: =F4/181 -> 3455.0939 | G5: =G4/181 -> 2300.1657 | H5: =H4/181 -> 3115.8177 | I5: =I4/181 -> 1530.3812 | ... V5: =V4/181 -> 1625.0552
A6: 비율 | B6: =B5/$B$5*100 -> 100 | C6: =C5/$B$5*100 -> 0.36984849 | D6: =D5/$B$5*100 -> 3.6945517 | E6: =E5/$B$5*100 -> 4.0051163 | F6: =F5/$B$5*100 -> 8.9443864 | G6: =G5/$B$5*100 -> 5.9545621 | H6: =H5/$B$5*100 -> 8.0660839 | I6: =I5/$B$5*100 -> 3.9617797 | ... V6: =V5/$B$5*100 -> 4.2068674
A7: 분기누계 | B7: =B10+B13+B16 -> 3715664 | C7: =C10+C13+C16 -> 13693 | D7: =D10+D13+D16 -> 136942 | E7: =E10+E13+E16 -> 153227 | F7: =F10+F13+F16 -> 339348 | G7: =G10+G13+G16 -> 219770 | H7: =H10+H13+H16 -> 302020 | I7: =I10+I13+I16 -> 146733 | ... V7: =V10+V13+V16 -> 154806
A8: 일평균 | B8: =B7/91 -> 40831.473 | C8: =C7/91 -> 150.47253 | D8: =D7/91 -> 1504.8571 | E8: =E7/91 -> 1683.8132 | F8: =F7/91 -> 3729.0989 | G8: =G7/91 -> 2415.0549 | H8: =H7/91 -> 3318.9011 | I8: =I7/91 -> 1612.4505 | ... V8: =V7/91 -> 1701.1648
A9: 비율 | B9: =B8/$B$8*100 -> 100 | C9: =C8/$B$8*100 -> 0.36852094 | D9: =D8/$B$8*100 -> 3.6855324 | E9: =E8/$B$8*100 -> 4.1238121 | F9: =F8/$B$8*100 -> 9.1329033 | G9: =G8/$B$8*100 -> 5.9146898 | H9: =H8/$B$8*100 -> 8.1282915 | I9: =I8/$B$8*100 -> 3.9490384 | ... V9: =V8/$B$8*100 -> 4.1663078
A10: 4월 | B10: 1251265 | C10: 4673 | D10: 45722 | E10: 50543 | F10: 116514 | G10: 71667 | H10: 99733 | I10: 50110 | J10: 56617 | K10: 40683 | L10: 65490 | M10: 54771 | N10: 69074 | O10: 81727 | P10: 103469 | Q10: 28010 | R10: 33263 | S10: 74678 | T10: 108357 | U10: 43118 | V10: 53046
A11: 일평균 | B11: =B10/30 -> 41708.833 | C11: =C10/30 -> 155.76667 | D11: =D10/30 -> 1524.0667 | E11: =E10/30 -> 1684.7667 | F11: =F10/30 -> 3883.8 | G11: =G10/30 -> 2388.9 | H11: =H10/30 -> 3324.4333 | I11: =I10/30 -> 1670.3333 | ... V11: =V10/30 -> 1768.2
A12: 비율 | B12: 100 | C12: =C11/$B$11*100 -> 0.37346206 | D12: =D11/$B$11*100 -> 3.6540621 | E12: =E11/$B$11*100 -> 4.0393522 | F12: =F11/$B$11*100 -> 9.3116966 | G12: =G11/$B$11*100 -> 5.7275637 | H12: =H11/$B$11*100 -> 7.9705738 | I12: =I11/$B$11*100 -> 4.0047472 | J12: =J11/$B$11*100 -> 4.5247809 | ... V12: =V11/$B$11*100 -> 4.2393897
A13: 5월 | B13: 1223126 | C13: 4370 | D13: 44407 | E13: 49861 | F13: 111274 | G13: 75894 | H13: 100994 | I13: 46909 | J13: 55784 | K13: 39406 | L13: 62552 | M13: 52909 | N13: 65991 | O13: 78937 | P13: 100482 | Q13: 26271 | R13: 33329 | S13: 70689 | T13: 112200 | U13: 41157 | V13: 49710
A14: 일평균 | B14: =B13/31 -> 39455.677 | C14: =C13/31 -> 140.96774 | D14: =D13/31 -> 1432.4839 | E14: =E13/31 -> 1608.4194 | F14: =F13/31 -> 3589.4839 | G14: =G13/31 -> 2448.1935 | H14: =H13/31 -> 3257.871 | I14: =I13/31 -> 1513.1935 | ... V14: =V13/31 -> 1603.5484
A15: 비율 | B15: 100 | C15: =C14/$B$14*100 -> 0.35728126 | D15: =D14/$B$14*100 -> 3.6306153 | E15: =E14/$B$14*100 -> 4.076522 | F15: =F14/$B$14*100 -> 9.0975092 | G15: =G14/$B$14*100 -> 6.2049208 | H15: =H14/$B$14*100 -> 8.2570397 | I15: =I14/$B$14*100 -> 3.8351732 | J15: =J14/$B$14*100 -> 4.560773 | ... V15: =V14/$B$14*100 -> 4.0641765
A16: 6월 | B16: 1241273 | C16: 4650 | D16: 46813 | E16: 52823 | F16: 111560 | G16: 72209 | H16: 101293 | I16: 49714 | J16: 56668 | K16: 40960 | L16: 63248 | M16: 53777 | N16: 67197 | O16: 78390 | P16: 103079 | Q16: 30428 | R16: 32911 | S16: 72172 | T16: 109284 | U16: 42047 | V16: 52050
A17: 일평균 | B17: =B16/30 -> 41375.767 | C17: =C16/30 -> 155 | D17: =D16/30 -> 1560.4333 | E17: =E16/30 -> 1760.7667 | F17: =F16/30 -> 3718.6667 | G17: =G16/30 -> 2406.9667 | H17: =H16/30 -> 3376.4333 | I17: =I16/30 -> 1657.1333 | ... V17: =V16/30 -> 1735
A18: 비율 | B18: 100 | C18: =C17/$B$17*100 -> 0.37461541 | D18: =D17/$B$17*100 -> 3.7713702 | E18: =E17/$B$17*100 -> 4.2555506 | F18: =F17/$B$17*100 -> 8.9875475 | G18: =G17/$B$17*100 -> 5.8173343 | H18: =H17/$B$17*100 -> 8.1604127 | I18: =I17/$B$17*100 -> 4.0050819 | J18: =J17/$B$17*100 -> 4.5653132 | ... V18: =V17/$B$17*100 -> 4.1932758

Sheet 2021.3분기
A1: 2021년 3/4분기 수송 현황
U2: (단위:명,%)
A3: 구분 | B3: 합 계 | C3: 녹동역 | D3: 소태역 | E3: 학동증심사 입구역 | F3: 남광주역 | G3: 문화전당역 | H3: 금남로4가역 | I3: 금남로5가역 | J3: 양동시장역 | K3: 돌고개역 | L3: 농성역 | M3: 화정역 | N3: 쌍촌역 | O3: 운천역 | P3: 상무 | Q3: 김대중 컨벤션센터역 | R3: 공항역 | S3: 송정공원역 | T3: 광주송정역 | U3: 도산역 | V3: 평동역
A4: 년누계 | B4: =SUM(C4:V4) -> 10424549 | C4: ='2021.1분기'!C7+'2021.2분기'!C7+'2021.3분기'!C7 -> 38326 | D4: ='2021.1분기'!D7+'2021.2분기'!D7+'2021.3분기'!D7 -> 392631 | E4: ='2021.1분기'!E7+'2021.2분기'!E7+'2021.3분기'!E7 -> 423779 | F4: ='2021.1분기'!F7+'2021.2분기'!F7+'2021.3분기'!F7 -> 914036 | G4: ='2021.1분기'!G7+'2021.2분기'!G7+'2021.3분기'!G7 -> 626741 | H4: ='2021.1분기'!H7+'2021.2분기'!H7+'2021.3분기'!H7 -> 854089 | I4: ='2021.1분기'!I7+'2021.2분기'!I7+'2021.3분기'!I7 -> 414320 | J4: ='2021.1분기'!J7+'2021.2분기'!J7+'2021.3분기'!J7 -> 484846 | ... V4: ='2021.1분기'!V7+'2021.2분기'!V7+'2021.3분기'!V7 -> 438419
A5: 일평균 | B5: =B4/273 -> 38185.161 | C5: =C4/273 -> 140.38828 | D5: =D4/273 -> 1438.2088 | E5: =E4/273 -> 1552.304 | F5: =F4/273 -> 3348.1172 | G5: =G4/273 -> 2295.7546 | H5: =H4/273 -> 3128.5311 | I5: =I4/273 -> 1517.6557 | ... V5: =V4/273 -> 1605.9304
A6: 비율 | B6: =B5/$B$5*100 -> 100 | C6: =C5/$B$5*100 -> 0.3676514 | D6: =D5/$B$5*100 -> 3.7664075 | E6: =E5/$B$5*100 -> 4.0652022 | F6: =F5/$B$5*100 -> 8.7681107 | G6: =G5/$B$5*100 -> 6.0121642 | H6: =H5/$B$5*100 -> 8.1930547 | I6: =I5/$B$5*100 -> 3.9744645 | ... V6: =V5/$B$5*100 -> 4.20564
A7: 분기누계 | B7: =B10+B13+B16 -> 3432767 | C7: =C10+C13+C16 -> 12467 | D7: =D10+D13+D16 -> 134316 | E7: =E10+E13+E16 -> 143750 | F7: =F10+F13+F16 -> 288664 | G7: =G10+G13+G16 -> 210411 | H7: =H10+H13+H16 -> 290126 | I7: =I10+I13+I16 -> 137321 | ... V7: =V10+V13+V16 -> 144284
A8: 일평균 | B8: =B7/92 -> 37312.685 | C8: =C7/92 -> 135.51087 | D8: =D7/92 -> 1459.9565 | E8: =E7/92 -> 1562.5 | F8: =F7/92 -> 3137.6522 | G8: =G7/92 -> 2287.0761 | H8: =H7/92 -> 3153.5435 | I8: =I7/92 -> 1492.6196 | ... V8: =V7/92 -> 1568.3043
A9: 비율 | B9: =B8/$B$8*100 -> 100 | C9: =C8/$B$8*100 -> 0.36317641 | D9: =D8/$B$8*100 -> 3.9127619 | E9: =E8/$B$8*100 -> 4.187584 | F9: =F8/$B$8*100 -> 8.4090764 | G9: =G8/$B$8*100 -> 6.1294868 | H9: =H8/$B$8*100 -> 8.451666 | I9: =I8/$B$8*100 -> 4.0003006 | ... V9: =V8/$B$8*100 -> 4.2031399
A10: 7월 | B10: 1175570 | C10: 4324 | D10: 44622 | E10: 49365 | F10: 98579 | G10: 71659 | H10: 100615 | I10: 48004 | J10: 54106 | K10: 39659 | L10: 59237 | M10: 51063 | N10: 62581 | O10: 74718 | P10: 98818 | Q10: 27470 | R10: 29906 | S10: 68087 | T10: 100810 | U10: 40312 | V10: 51635
A11: 일평균 | B11: =B10/31 -> 37921.613 | C11: =C10/31 -> 139.48387 | D11: =D10/31 -> 1439.4194 | E11: =E10/31 -> 1592.4194 | F11: =F10/31 -> 3179.9677 | G11: =G10/31 -> 2311.5806 | H11: =H10/31 -> 3245.6452 | I11: =I10/31 -> 1548.5161 | ... V11: =V10/31 -> 1665.6452
A12: 비율 | B12: 100 | C12: =C11/$B$11*100 -> 0.36782157 | D12: =D11/$B$11*100 -> 3.7957757 | E12: =E11/$B$11*100 -> 4.1992395 | F12: =F11/$B$11*100 -> 8.3856342 | G12: =G11/$B$11*100 -> 6.0956812 | H12: =H11/$B$11*100 -> 8.5588268 | I12: =I11/$B$11*100 -> 4.0834659 | J12: =J11/$B$11*100 -> 4.6025332 | ... V12: =V11/$B$11*100 -> 4.3923373
A13: 8월 | B13: 1088830 | C13: 4049 | D13: 42568 | E13: 45578 | F13: 92025 | G13: 67424 | H13: 93028 | I13: 43825 | J13: 52429 | K13: 37062 | L13: 56507 | M13: 46760 | N13: 57537 | O13: 68155 | P13: 90383 | Q13: 23727 | R13: 27387 | S13: 61145 | T13: 96204 | U13: 36755 | V13: 46282
A14: 일평균 | B14: =B13/31 -> 35123.548 | C14: =C13/31 -> 130.6129 | D14: =D13/31 -> 1373.1613 | E14: =E13/31 -> 1470.2581 | F14: =F13/31 -> 2968.5484 | G14: =G13/31 -> 2174.9677 | H14: =H13/31 -> 3000.9032 | I14: =I13/31 -> 1413.7097 | ... V14: =V13/31 -> 1492.9677
A15: 비율 | B15: 100 | C15: =C14/$B$14*100 -> 0.37186705 | D15: =D14/$B$14*100 -> 3.9095176 | E15: =E14/$B$14*100 -> 4.1859611 | F15: =F14/$B$14*100 -> 8.4517326 | G15: =G14/$B$14*100 -> 6.1923349 | H15: =H14/$B$14*100 -> 8.5438498 | I15: =I14/$B$14*100 -> 4.0249626 | J15: =J14/$B$14*100 -> 4.8151686 | ... V15: =V14/$B$14*100 -> 4.2506176
A16: 9월 | B16: 1168367 | C16: 4094 | D16: 47126 | E16: 48807 | F16: 98060 | G16: 71328 | H16: 96483 | I16: 45492 | J16: 59072 | K16: 39033 | L16: 60195 | M16: 50510 | N16: 62800 | O16: 73427 | P16: 95101 | Q16: 27418 | R16: 31519 | S16: 67897 | T16: 101706 | U16: 41932 | V16: 46367
A17: 일평균 | B17: =B16/30 -> 38945.567 | C17: =C16/30 -> 136.46667 | D17: =D16/30 -> 1570.8667 | E17: =E16/30 -> 1626.9 | F17: =F16/30 -> 3268.6667 | G17: =G16/30 -> 2377.6 | H17: =H16/30 -> 3216.1 | I17: =I16/30 -> 1516.4 | ... V17: =V16/30 -> 1545.5667
A18: 비율 | B18: 100 | C18: =C17/$B$17*100 -> 0.3504036 | D18: =D17/$B$17*100 -> 4.0334929 | E18: =E17/$B$17*100 -> 4.1773689 | F18: =F17/$B$17*100 -> 8.3929108 | G18: =G17/$B$17*100 -> 6.1049311 | H18: =H17/$B$17*100 -> 8.2579361 | I18: =I17/$B$17*100 -> 3.8936396 | J18: =J17/$B$17*100 -> 5.0559456 | ... V18: =V17/$B$17*100 -> 3.9685304

Sheet 2021.4분기
A1: 2021년 4/4분기 수송 현황
U2: (단위:명,%)
A3: 구분 | B3: 합 계 | C3: 녹동역 | D3: 소태역 | E3: 학동증심사 입구역 | F3: 남광주역 | G3: 문화전당역 | H3: 금남로4가역 | I3: 금남로5가역 | J3: 양동시장역 | K3: 돌고개역 | L3: 농성역 | M3: 화정역 | N3: 쌍촌역 | O3: 운천역 | P3: 상무 | Q3: 김대중 컨벤션센터역 | R3: 공항역 | S3: 송정공원역 | T3: 광주송정역 | U3: 도산역 | V3: 평동역
A4: 년누계 | B4: =SUM(C4:V4) -> 14400546 | C4: ='2021.1분기'!C7+'2021.2분기'!C7+'2021.3분기'!C7+'2021.4분기'!C7 -> 53760 | D4: ='2021.1분기'!D7+'2021.2분기'!D7+'2021.3분기'!D7+'2021.4분기'!D7 -> 558727 | E4: ='2021.1분기'!E7+'2021.2분기'!E7+'2021.3분기'!E7+'2021.4분기'!E7 -> 582625 | F4: ='2021.1분기'!F7+'2021.2분기'!F7+'2021.3분기'!F7+'2021.4분기'!F7 -> 1249111 | G4: ='2021.1분기'!G7+'2021.2분기'!G7+'2021.3분기'!G7+'2021.4분기'!G7 -> 865658 | H4: ='2021.1분기'!H7+'2021.2분기'!H7+'2021.3분기'!H7+'2021.4분기'!H7 -> 1180750 | I4: ='2021.1분기'!I7+'2021.2분기'!I7+'2021.3분기'!I7+'2021.4분기'!I7 -> 568259 | J4: ='2021.1분기'!J7+'2021.2분기'!J7+'2021.3분기'!J7+'2021.4분기'!J7 -> 662513 | ... V4: ='2021.1분기'!V7+'2021.2분기'!V7+'2021.3분기'!V7+'2021.4분기'!V7 -> 598060
A5: 일평균 | B5: =B4/365 -> 39453.551 | C5: =C4/365 -> 147.28767 | D5: =D4/365 -> 1530.7589 | E5: =E4/365 -> 1596.2329 | F5: =F4/365 -> 3422.2219 | G5: =G4/365 -> 2371.6658 | H5: =H4/365 -> 3234.9315 | I5: =I4/365 -> 1556.874 | ... V5: =V4/365 -> 1638.5205
A6: 비율 | B6: =B5/$B$5*100 -> 100 | C6: =C5/$B$5*100 -> 0.37331918 | D6: =D5/$B$5*100 -> 3.8799015 | E6: =E5/$B$5*100 -> 4.0458535 | F6: =F5/$B$5*100 -> 8.6740531 | G6: =G5/$B$5*100 -> 6.011286 | H6: =H5/$B$5*100 -> 8.1993419 | I6: =I5/$B$5*100 -> 3.9460934 | ... V6: =V5/$B$5*100 -> 4.153037
A7: 분기누계 | B7: =B10+B13+B16 -> 3975997 | C7: =C10+C13+C16 -> 15434 | D7: =D10+D13+D16 -> 166096 | E7: =E10+E13+E16 -> 158846 | F7: =F10+F13+F16 -> 335075 | G7: =G10+G13+G16 -> 238917 | H7: =H10+H13+H16 -> 326661 | I7: =I10+I13+I16 -> 153939 | ... V7: =V10+V13+V16 -> 159641
A8: 일평균 | B8: =B7/92 -> 43217.359 | C8: =C7/92 -> 167.76087 | D8: =D7/92 -> 1805.3913 | E8: =E7/92 -> 1726.587 | F8: =F7/92 -> 3642.1196 | G8: =G7/92 -> 2596.9239 | H8: =H7/92 -> 3550.663 | I8: =I7/92 -> 1673.25 | ... V8: =V7/92 -> 1735.2283
A9: 비율 | B9: =B8/$B$8*100 -> 100 | C9: =C8/$B$8*100 -> 0.38817937 | D9: =D8/$B$8*100 -> 4.1774679 | E9: =E8/$B$8*100 -> 3.9951237 | F9: =F8/$B$8*100 -> 8.427446 | G9: =G8/$B$8*100 -> 6.0089834 | H9: =H8/$B$8*100 -> 8.2158261 | I9: =I8/$B$8*100 -> 3.8717082 | ... V9: =V8/$B$8*100 -> 4.0151187
A10: 10월 | B10: 1290456 | C10: 5142 | D10: 51266 | E10: 52312 | F10: 107742 | G10: 77638 | H10: 107964 | I10: 50900 | J10: 59022 | K10: 44017 | L10: 68278 | M10: 54316 | N10: 67730 | O10: 81013 | P10: 105111 | Q10: 33202 | R10: 35043 | S10: 73547 | T10: 120339 | U10: 44549 | V10: 51325
A11: 일평균 | B11: =B10/31 -> 41627.613 | C11: =C10/31 -> 165.87097 | D11: =D10/31 -> 1653.7419 | E11: =E10/31 -> 1687.4839 | F11: =F10/31 -> 3475.5484 | G11: =G10/31 -> 2504.4516 | H11: =H10/31 -> 3482.7097 | I11: =I10/31 -> 1641.9355 | ... V11: =V10/31 -> 1655.6452
A12: 비율 | B12: 100 | C12: =C11/$B$11*100 -> 0.3984638 | D12: =D11/$B$11*100 -> 3.9727042 | E12: =E11/$B$11*100 -> 4.0537608 | F12: =F11/$B$11*100 -> 8.3491417 | G12: =G11/$B$11*100 -> 6.0163229 | H12: =H11/$B$11*100 -> 8.3663449 | I12: =I11/$B$11*100 -> 3.9443422 | J12: =J11/$B$11*100 -> 4.5737321 | ... V12: =V11/$B$11*100 -> 3.9772762
A13: 11월 | B13: 1364707 | C13: 5379 | D13: 57973 | E13: 53574 | F13: 117544 | G13: 83111 | H13: 109987 | I13: 51572 | J13: 61255 | K13: 46887 | L13: 71326 | M13: 58128 | N13: 72293 | O13: 85636 | P13: 112448 | Q13: 35790 | R13: 35834 | S13: 78285 | T13: 126498 | U13: 46930 | V13: 54257
A14: 일평균 | B14: =B13/30 -> 45490.233 | C14: =C13/30 -> 179.3 | D14: =D13/30 -> 1932.4333 | E14: =E13/30 -> 1785.8 | F14: =F13/30 -> 3918.1333 | G14: =G13/30 -> 2770.3667 | H14: =H13/30 -> 3666.2333 | I14: =I13/30 -> 1719.0667 | ... V14: =V13/30 -> 1808.5667
A15: 비율 | B15: 100 | C15: =C14/$B$14*100 -> 0.39415054 | D15: =D14/$B$14*100 -> 4.2480181 | E15: =E14/$B$14*100 -> 3.9256778 | F15: =F14/$B$14*100 -> 8.6131309 | G15: =G14/$B$14*100 -> 6.0900252 | H15: =H14/$B$14*100 -> 8.0593856 | I15: =I14/$B$14*100 -> 3.7789797 | J15: =J14/$B$14*100 -> 4.4885093 | ... V15: =V14/$B$14*100 -> 3.9757252
A16: 12월 | B16: 1320834 | C16: 4913 | D16: 56857 | E16: 52960 | F16: 109789 | G16: 78168 | H16: 108710 | I16: 51467 | J16: 57390 | K16: 46909 | L16: 69829 | M16: 56143 | N16: 70995 | O16: 86238 | P16: 109815 | Q16: 32465 | R16: 33619 | S16: 74729 | T16: 120805 | U16: 44974 | V16: 54059
A17: 일평균 | B17: =B16/31 -> 42607.548 | C17: =C16/31 -> 158.48387 | D17: =D16/31 -> 1834.0968 | E17: =E16/31 -> 1708.3871 | F17: =F16/31 -> 3541.5806 | G17: =G16/31 -> 2521.5484 | H17: =H16/31 -> 3506.7742 | I17: =I16/31 -> 1660.2258 | ... V17: =V16/31 -> 1743.8387
A18: 비율 | B18: 100 | C18: =C17/$B$17*100 -> 0.37196196 | D18: =D17/$B$17*100 -> 4.3046287 | E18: =E17/$B$17*100 -> 4.0095879 | F18: =F17/$B$17*100 -> 8.3120968 | G18: =G17/$B$17*100 -> 5.918079 | H18: =H17/$B$17*100 -> 8.2304059 | I18: =I17/$B$17*100 -> 3.8965532 | J18: =J17/$B$17*100 -> 4.344982 | ... V18: =V17/$B$17*100 -> 4.0927929

Sheet 2022.1분기
A1: 2022년 1/4분기 수송 현황
U2: (단위:명,%)
A3: 구분 | B3: 합 계 | C3: 녹동역 | D3: 소태역 | E3: 학동증심사 입구역 | F3: 남광주역 | G3: 문화전당역 | H3: 금남로4가역 | I3: 금남로5가역 | J3: 양동시장역 | K3: 돌고개역 | L3: 농성역 | M3: 화정역 | N3: 쌍촌역 | O3: 운천역 | P3: 상무 | Q3: 김대중 컨벤션센터역 | R3: 공항역 | S3: 송정공원역 | T3: 광주송정역 | U3: 도산역 | V3: 평동역
A4: 년누계 | B4: =SUM(C4:V4) -> 3378543 | C4: =C7 -> 12823 | D4: =D7 -> 129436 | E4: =E7 -> 130702 | F4: =F7 -> 279423 | G4: =G7 -> 206172 | H4: =H7 -> 275951 | I4: =I7 -> 131458 | J4: =J7 -> 154852 | ... V4: =V7 -> 150064
A5: 일평균 | B5: =B4/90 -> 37539.367 | C5: =C4/90 -> 142.47778 | D5: =D4/90 -> 1438.1778 | E5: =E4/90 -> 1452.2444 | F5: =F4/90 -> 3104.7 | G5: =G4/90 -> 2290.8 | H5: =H4/90 -> 3066.1222 | I5: =I4/90 -> 1460.6444 | ... V5: =V4/90 -> 1667.3778
A6: 비율 | B6: =B5/$B$5*100 -> 100 | C6: =C5/$B$5*100 -> 0.37954231 | D6: =D5/$B$5*100 -> 3.8311189 | E6: =E5/$B$5*100 -> 3.8685907 | F6: =F5/$B$5*100 -> 8.2705178 | G6: =G5/$B$5*100 -> 6.1023938 | H6: =H5/$B$5*100 -> 8.1677516 | I6: =I5/$B$5*100 -> 3.8909672 | ... V6: =V5/$B$5*100 -> 4.441678
A7: 분기누계 | B7: =B10+B13+B16 -> 3378543 | C7: =C10+C13+C16 -> 12823 | D7: =D10+D13+D16 -> 129436 | E7: =E10+E13+E16 -> 130702 | F7: =F10+F13+F16 -> 279423 | G7: =G10+G13+G16 -> 206172 | H7: =H10+H13+H16 -> 275951 | I7: =I10+I13+I16 -> 131458 | ... V7: =V10+V13+V16 -> 150064
