Workbook

Sheet 2011.1분기
A1: 2011년 1/4분기 수송 현황
T2: (단위:명,%)
A3: 구분 | B3: 합 계 | C3: 소태역 | D3: 학동증심사 입구역 | E3: 남광주역 | F3: 문화전당역 (구도청) | G3: 금남로4가역 | H3: 금남로5가역 | I3: 양동시장역 | J3: 돌고개역 | K3: 농성역 | L3: 화정역 | M3: 쌍촌역 | N3: 운천역 (호남대입구) | O3: 상무 | P3: 김대중 컨벤션센터역 | Q3: 공항역 | R3: 송정공원역 | S3: 송정리역 | T3: 도산역 | U3: 평동역
A4: 누계 | B4: 4337694 | C4: 173740 | D4: 169992 | E4: 384330 | F4: 288531 | G4: 485071 | H4: 201374 | I4: 218068 | J4: 147483 | K4: 222511 | L4: 191146 | M4: 262733 | N4: 264793 | O4: 355305 | P4: 81377 | Q4: 102962 | R4: 305379 | S4: 231712 | T4: 127514 | U4: 123673
A5: 일평균 | B5: 48196.6 | C5: 1930.4444 | D5: 1888.8 | E5: 4270.3333 | F5: 3205.9 | G5: 5389.6778 | H5: 2237.4889 | I5: 2422.9778 | J5: 1638.7 | K5: 2472.3444 | L5: 2123.8444 | M5: 2919.2556 | N5: 2942.1444 | O5: 3947.8333 | P5: 904.18889 | Q5: 1144.0222 | R5: 3393.1 | S5: 2574.5778 | T5: 1416.8222 | U5: 1374.1444
A6: 비율 | B6: 100 | C6: 4.005354 | D6: 3.9189486 | E6: 8.8602377 | F6: 6.651714 | G6: 11.182693 | H6: 4.6424206 | I6: 5.0272795 | J6: 3.4000324 | K6: 5.1297072 | L6: 4.4066271 | M6: 6.0569741 | N6: 6.1044647 | O6: 8.1911034 | P6: 1.8760429 | Q6: 2.3736575 | R6: 7.0401232 | S6: 5.3418245 | T6: 2.9396726 | U6: 2.8511232
A7: 1월 | B7: 1459285 | C7: 59689 | D7: 54713 | E7: 124800 | F7: 99388 | G7: 164224 | H7: 70219 | I7: 78003 | J7: 50413 | K7: 74589 | L7: 64202 | M7: 88898 | N7: 87503 | O7: 121494 | P7: 26093 | Q7: 34032 | R7: 98085 | S7: 79520 | T7: 41883 | U7: 41537
A8: 일평균 | B8: 47073.71 | C8: 1925.4516 | D8: 1764.9355 | E8: 4025.8065 | F8: 3206.0645 | G8: 5297.5484 | H8: 2265.129 | I8: 2516.2258 | J8: 1626.2258 | K8: 2406.0968 | L8: 2071.0323 | M8: 2867.6774 | N8: 2822.6774 | O8: 3919.1613 | P8: 841.70968 | Q8: 1097.8065 | R8: 3164.0323 | S8: 2565.1613 | T8: 1351.0645 | U8: 1339.9032
A9: 비율 | B9: 100 | C9: 4.0902908 | D9: 3.7493019 | E9: 8.5521334 | F9: 6.8107327 | G9: 11.25373 | H9: 4.811877 | I9: 5.345289 | J9: 3.454637 | K9: 5.1113388 | L9: 4.3995518 | M9: 6.0918875 | N9: 5.9962927 | O9: 8.3255841 | P9: 1.7880674 | Q9: 2.332101 | R9: 6.7214424 | S9: 5.449244 | T9: 2.8701042 | U9: 2.846394
A10: 2월 | B10: 1270539 | C10: 51458 | D10: 49221 | E10: 106852 | F10: 89362 | G10: 147868 | H10: 58719 | I10: 61546 | J10: 43133 | K10: 67061 | L10: 55237 | M10: 74919 | N10: 76139 | O10: 105461 | P10: 24643 | Q10: 30483 | R10: 86962 | S10: 69411 | T10: 36833 | U10: 35231
A11: 일평균 | B11: 45376.393 | C11: 1837.7857 | D11: 1757.8929 | E11: 3816.1429 | F11: 3191.5 | G11: 5281 | H11: 2097.1071 | I11: 2198.0714 | J11: 1540.4643 | K11: 2395.0357 | L11: 1972.75 | M11: 2675.6786 | N11: 2719.25 | O11: 3766.4643 | P11: 880.10714 | Q11: 1088.6786 | R11: 3105.7857 | S11: 2478.9643 | T11: 1315.4643 | U11: 1258.25
A12: 비율 | B12: 100 | C12: 4.0500921 | D12: 3.8740251 | E12: 8.409974 | F12: 7.0333929 | G12: 11.63821 | H12: 4.6215819 | I12: 4.8440859 | J12: 3.3948584 | K12: 5.2781536 | L12: 4.3475249 | M12: 5.8966313 | N12: 5.9926535 | O12: 8.3004929 | P12: 1.9395705 | Q12: 2.399218 | R12: 6.8444967 | S12: 5.4631145 | T12: 2.8990059 | U12: 2.7729176
A13: 3월 | B13: 1607870 | C13: 62593 | D13: 66058 | E13: 152678 | F13: 99781 | G13: 172979 | H13: 72436 | I13: 78519 | J13: 53937 | K13: 80861 | L13: 71707 | M13: 98916 | N13: 101151 | O13: 128350 | P13: 30641 | Q13: 38447 | R13: 120332 | S13: 82781 | T13: 48798 | U13: 46905
A14: 일평균 | B14: 51866.774 | C14: 2019.129 | D14: 2130.9032 | E14: 4925.0968 | F14: 3218.7419 | G14: 5579.9677 | H14: 2336.6452 | I14: 2532.871 | J14: 1739.9032 | K14: 2608.4194 | L14: 2313.129 | M14: 3190.8387 | N14: 3262.9355 | O14: 4140.3226 | P14: 988.41935 | Q14: 1240.2258 | R14: 3881.6774 | S14: 2670.3548 | T14: 1574.129 | U14: 1513.0645
A15: 비율 | B15: 100 | C15: 3.8929142 | D15: 4.1084167 | E15: 9.4956682 | F15: 6.2057878 | G15: 10.75827 | H15: 4.5050906 | I15: 4.8834172 | J15: 3.3545622 | K15: 5.0290757 | L15: 4.4597511 | M15: 6.1519899 | N15: 6.2909937 | O15: 7.9826105 | P15: 1.9056889 | Q15: 2.3911759 | R15: 7.4839384 | S15: 5.1484884 | T15: 3.0349469 | U15: 2.9172135

Sheet 2011.2분기
A1: 2011년 2/4분기 수송 현황
T2: (단위:명,%)
A3: 구분 | B3: 합 계 | C3: 소태역 | D3: 학동증심사 입구역 | E3: 남광주역 | F3: 문화전당역 (구도청) | G3: 금남로4가역 | H3: 금남로5가역 | I3: 양동시장역 | J3: 돌고개역 | K3: 농성역 | L3: 화정역 | M3: 쌍촌역 | N3: 운천역 (호남대입구) | O3: 상무 | P3: 김대중 컨벤션센터역 | Q3: 공항역 | R3: 송정공원역 | S3: 송정리역 | T3: 도산역 | U3: 평동역
A4: 년누계 | B4: 8935078 | C4: 356593 | D4: 360776 | E4: 814273 | F4: 568789 | G4: 971070 | H4: 400659 | I4: 446195 | J4: 301393 | K4: 465120 | L4: 395605 | M4: 545023 | N4: 555758 | O4: 719505 | P4: 169795 | Q4: 217478 | R4: 645838 | S4: 476158 | T4: 263005 | U4: 262045
A5: 일평균 | B5: 49365.072 | C5: 1970.1271 | D5: 1993.2376 | E5: 4498.7459 | F5: 3142.4807 | G5: 5365.0276 | H5: 2213.5856 | I5: 2465.1657 | J5: 1665.1547 | K5: 2569.7238 | L5: 2185.663 | M5: 3011.1768 | N5: 3070.4862 | O5: 3975.1657 | P5: 938.09392 | Q5: 1201.5359 | R5: 3568.1657 | S5: 2630.7072 | T5: 1453.0663 | U5: 1447.7624
A6: 비 율 | B6: 100 | C6: 3.9909333 | D6: 4.0377487 | E6: 9.1132165 | F6: 6.3657978 | G6: 10.868064 | H6: 4.4841131 | I6: 4.9937449 | J6: 3.3731435 | K6: 5.2055505 | L6: 4.4275495 | M6: 6.0998124 | N6: 6.2199569 | O6: 8.0525878 | P6: 1.9003192 | Q6: 2.4339799 | R6: 7.2281182 | S6: 5.3290861 | T6: 2.943511 | U6: 2.9327668
A7: 분기누계 | B7: 4597384 | C7: 182853 | D7: 190784 | E7: 429943 | F7: 280258 | G7: 485999 | H7: 199285 | I7: 228127 | J7: 153910 | K7: 242609 | L7: 204459 | M7: 282290 | N7: 290965 | O7: 364200 | P7: 88418 | Q7: 114516 | R7: 340459 | S7: 244446 | T7: 135491 | U7: 138372
A8: 일평균 | B8: 50520.703 | C8: 2009.3736 | D8: 2096.5275 | E8: 4724.6484 | F8: 3079.7582 | G8: 5340.6484 | H8: 2189.9451 | I8: 2506.8901 | J8: 1691.3187 | K8: 2666.033 | L8: 2246.8022 | M8: 3102.0879 | N8: 3197.4176 | O8: 4002.1978 | P8: 971.62637 | Q8: 1258.4176 | R8: 3741.3077 | S8: 2686.2198 | T8: 1488.9121 | U8: 1520.5714
A9: 비 율 | B9: 100 | C9: 3.9773271 | D9: 4.1498383 | E9: 9.3519053 | F9: 6.096032 | G9: 10.571207 | H9: 4.3347478 | I9: 4.9621045 | J9: 3.3477734 | K9: 5.2771098 | L9: 4.44729 | M9: 6.1402311 | N9: 6.3289253 | O9: 7.9218965 | P9: 1.9232242 | Q9: 2.4908948 | R9: 7.4054941 | S9: 5.3170673 | T9: 2.9471325 | U9: 3.0097986
A10: 4 월 | B10: 1562051 | C10: 61543 | D10: 63403 | E10: 148092 | F10: 93040 | G10: 160998 | H10: 68348 | I10: 77087 | J10: 52038 | K10: 87620 | L10: 69296 | M10: 95962 | N10: 99064 | O10: 123103 | P10: 31178 | Q10: 39110 | R10: 116307 | S10: 81996 | T10: 47331 | U10: 46535
A11: 일평균 | B11: 52068.367 | C11: 2051.4333 | D11: 2113.4333 | E11: 4936.4 | F11: 3101.3333 | G11: 5366.6 | H11: 2278.2667 | I11: 2569.5667 | J11: 1734.6 | K11: 2920.6667 | L11: 2309.8667 | M11: 3198.7333 | N11: 3302.1333 | O11: 4103.4333 | P11: 1039.2667 | Q11: 1303.6667 | R11: 3876.9 | S11: 2733.2 | T11: 1577.7 | U11: 1551.1667
A12: 비 율 | B12: 100 | C12: 3.9398842 | D12: 4.0589584 | E12: 9.4806123 | F12: 5.9562716 | G12: 10.306834 | H12: 4.3755294 | I12: 4.9349861 | J12: 3.3313893 | K12: 5.6092919 | L12: 4.4362188 | M12: 6.1433333 | N12: 6.3419184 | O12: 7.8808566 | P12: 1.9959656 | Q12: 2.5037595 | R12: 7.4457876 | S12: 5.2492524 | T12: 3.0300547 | U12: 2.9790961
A13: 5 월 | B13: 1577304 | C13: 62953 | D13: 65130 | E13: 147978 | F13: 101655 | G13: 170588 | H13: 66667 | I13: 77735 | J13: 51772 | K13: 80207 | L13: 68411 | M13: 96010 | N13: 99527 | O13: 124732 | P13: 31318 | Q13: 38967 | R13: 118014 | S13: 84651 | T13: 45049 | U13: 45940
A14: 일평균 | B14: 50880.774 | C14: 2030.7419 | D14: 2100.9677 | E14: 4773.4839 | F14: 3279.1935 | G14: 5502.8387 | H14: 2150.5484 | I14: 2507.5806 | J14: 1670.0645 | K14: 2587.3226 | L14: 2206.8065 | M14: 3097.0968 | N14: 3210.5484 | O14: 4023.6129 | P14: 1010.2581 | Q14: 1257 | R14: 3806.9032 | S14: 2730.6774 | T14: 1453.1935 | U14: 1481.9355
A15: 비 율 | B15: 100 | C15: 3.9911774 | D15: 4.1291977 | E15: 9.3817045 | F15: 6.4448578 | G15: 10.815163 | H15: 4.2266424 | I15: 4.9283461 | J15: 3.2823096 | K15: 5.0850692 | L15: 4.3372108 | M15: 6.0869687 | N15: 6.3099441 | O15: 7.9079239 | P15: 1.9855399 | Q15: 2.4704813 | R15: 7.4820073 | S15: 5.3668158 | T15: 2.8560759 | U15: 2.9125647
... A18: 비 율 | B18: 100 | C18: 4.0024581 | D18: 4.269531 | E18: 9.181779 | F18: 5.8684018 | G18: 10.59053 | H18: 4.4080056 | I18: 5.0276778 | J18: 3.4361456 | K18: 5.1289789 | L18: 4.5782354 | M18: 6.194527 | N18: 6.3355393 | O18: 7.9809798 | P18: 1.7778796 | Q18: 2.4991958 | R18: 7.2795534 | S18: 5.3359021 | T18: 2.9567999 | U18: 3.1478798

Sheet 2011.3분기
A1: 2011년 3/4분기 수송 현황
T2: (단위:명,%)
A3: 구분 | B3: 합 계 | C3: 소태역 | D3: 학동증심사 입구역 | E3: 남광주역 | F3: 문화전당역 (구도청) | G3: 금남로4가역 | H3: 금남로5가역 | I3: 양동시장역 | J3: 돌고개역 | K3: 농성역 | L3: 화정역 | M3: 쌍촌역 | N3: 운천역 (호남대입구) | O3: 상무 | P3: 김대중 컨벤션센터역 | Q3: 공항역 | R3: 송정공원역 | S3: 송정리역 | T3: 도산역 | U3: 평동역
A4: 년누계 | B4: 13170897 | C4: 529437 | D4: 531906 | E4: 1186095 | F4: 840969 | G4: 1441939 | H4: 586757 | I4: 666347 | J4: 445070 | K4: 679647 | L4: 579731 | M4: 795606 | N4: 815852 | O4: 1057714 | P4: 252868 | Q4: 321475 | R4: 942947 | S4: 713322 | T4: 388009 | U4: 395206
A5: 일평균 | B5: 48245.044 | C5: 1939.3297 | D5: 1948.3736 | E5: 4344.6703 | F5: 3080.4725 | G5: 5281.8278 | H5: 2149.293 | I5: 2440.8315 | J5: 1630.293 | K5: 2489.5495 | L5: 2123.5568 | M5: 2914.3077 | N5: 2988.4689 | O5: 3874.4103 | P5: 926.25641 | Q5: 1177.5641 | R5: 3454.0183 | S5: 2612.9011 | T5: 1421.2784 | U5: 1447.641
A6: 비 율 | B6: 100 | C6: 4.019749 | D6: 4.0384949 | E6: 9.0054231 | F6: 6.3850549 | G6: 10.947918 | H6: 4.4549509 | I6: 5.0592378 | J6: 3.3791928 | K6: 5.160218 | L6: 4.4016061 | M6: 6.0406364 | N6: 6.1943541 | O6: 8.0306907 | P6: 1.9198996 | Q6: 2.4407981 | R6: 7.1593226 | S6: 5.4158954 | T6: 2.9459573 | U6: 3.0006005
A7: 분기누계 | B7: 4235819 | C7: 172844 | D7: 171130 | E7: 371822 | F7: 272180 | G7: 470869 | H7: 186098 | I7: 220152 | J7: 143677 | K7: 214527 | L7: 184126 | M7: 250583 | N7: 260094 | O7: 338209 | P7: 83073 | Q7: 103997 | R7: 297109 | S7: 237164 | T7: 125004 | U7: 133161
A8: 일평균 | B8: 46041.511 | C8: 1878.7391 | D8: 1860.1087 | E8: 4041.5435 | F8: 2958.4783 | G8: 5118.1413 | H8: 2022.8043 | I8: 2392.9565 | J8: 1561.7065 | K8: 2331.8152 | L8: 2001.3696 | M8: 2723.7283 | N8: 2827.1087 | O8: 3676.1848 | P8: 902.96739 | Q8: 1130.4022 | R8: 3229.4457 | S8: 2577.8696 | T8: 1358.7391 | U8: 1447.4022
A9: 비 율 | B9: 100 | C9: 4.0805332 | D9: 4.0400688 | E9: 8.7780427 | F9: 6.4256759 | G9: 11.116363 | H9: 4.3934361 | I9: 5.1973892 | J9: 3.3919532 | K9: 5.0645932 | L9: 4.3468807 | M9: 5.9158099 | N9: 6.1403474 | O9: 7.9845008 | P9: 1.9612028 | Q9: 2.4551805 | R9: 7.0142043 | S9: 5.5990117 | T9: 2.9511176 | U9: 3.1436896
A10: 7 월 | B10: 1429187 | C10: 58700 | D10: 57357 | E10: 121598 | F10: 92240 | G10: 159976 | H10: 63851 | I10: 73914 | J10: 49117 | K10: 72248 | L10: 63652 | M10: 86039 | N10: 87753 | O10: 114382 | P10: 26962 | Q10: 35011 | R10: 98512 | S10: 77956 | T10: 42596 | U10: 47323
A11: 일평균 | B11: 46102.806 | C11: 1893.5484 | D11: 1850.2258 | E11: 3922.5161 | F11: 2975.4839 | G11: 5160.5161 | H11: 2059.7097 | I11: 2384.3226 | J11: 1584.4194 | K11: 2330.5806 | L11: 2053.2903 | M11: 2775.4516 | N11: 2830.7419 | O11: 3689.7419 | P11: 869.74194 | Q11: 1129.3871 | R11: 3177.8065 | S11: 2514.7097 | T11: 1374.0645 | U11: 1526.5484
A12: 비 율 | B12: 100 | C12: 4.1072302 | D12: 4.0132607 | E12: 8.5081938 | F12: 6.454019 | G12: 11.193497 | H12: 4.4676449 | I12: 5.1717515 | J12: 3.4367091 | K12: 5.0551817 | L12: 4.4537209 | M12: 6.0201359 | N12: 6.1400642 | O12: 8.0032914 | P12: 1.8865271 | Q12: 2.4497144 | R12: 6.8928699 | S12: 5.4545696 | T12: 2.9804357 | U12: 3.3111832
A13: 8 월 | B13: 1362646 | C13: 55980 | D13: 54084 | E13: 118366 | F13: 87065 | G13: 152712 | H13: 61132 | I13: 72029 | J13: 47063 | K13: 69814 | L13: 59006 | M13: 79861 | N13: 83633 | O13: 109255 | P13: 25296 | Q13: 32914 | R13: 93335 | S13: 78488 | T13: 40369 | U13: 42244
A14: 일평균 | B14: 43956.323 | C14: 1805.8065 | D14: 1744.6452 | E14: 3818.2581 | F14: 2808.5484 | G14: 4926.1935 | H14: 1972 | I14: 2323.5161 | J14: 1518.1613 | K14: 2252.0645 | L14: 1903.4194 | M14: 2576.1613 | N14: 2697.8387 | O14: 3524.3548 | P14: 816 | Q14: 1061.7419 | R14: 3010.8065 | S14: 2531.871 | T14: 1302.2258 | U14: 1362.7097
A15: 비 율 | B15: 100 | C15: 4.1081836 | D15: 3.9690426 | E15: 8.686482 | F15: 6.3894071 | G15: 11.207019 | H15: 4.4862716 | I15: 5.2859657 | J15: 3.453795 | K15: 5.1234143 | L15: 4.3302516 | M15: 5.8607298 | N15: 6.1375442 | O15: 8.0178564 | P15: 1.8563882 | Q15: 2.4154476 | R15: 6.8495413 | S15: 5.7599699 | T15: 2.9625449 | U15: 3.1001449
... A18: 비 율 | B18: 100 | C18: 4.0280169 | D18: 4.1336273 | E18: 9.131529 | F18: 6.4318491 | G18: 10.954469 | H18: 4.2323818 | I18: 5.1391772 | J18: 3.2892978 | K18: 5.0184005 | L18: 4.256828 | M18: 5.8645305 | N18: 6.1432729 | O18: 7.934426 | P18: 2.1340235 | Q18: 2.4980852 | R18: 7.2896829 | S18: 5.5900819 | T18: 2.9113163 | U18: 3.0190043

Sheet 2011.4분기
A1: 2011년 4/4분기 수송 현황
T2: (단위:명,%)
A3: 구분 | B3: 합 계 | C3: 소태역 | D3: 학동증심사 입구역 | E3: 남광주역 | F3: 문화전당역 (구도청) | G3: 금남로4가역 | H3: 금남로5가역 | I3: 양동시장역 | J3: 돌고개역 | K3: 농성역 | L3: 화정역 | M3: 쌍촌역 | N3: 운천역 (호남대입구) | O3: 상무 | P3: 김대중 컨벤션센터역 | Q3: 공항역 | R3: 송정공원역 | S3: 송정리역 | T3: 도산역 | U3: 평동역
A4: 년누계 | B4: =SUM(C4:U4) -> 17708983 | C4: ='[1].xls].xls].xls].xls].xls].xls].xls].'!C4+'[1].xls].xls].xls].xls].xls].xls].xls].'!C7 -> 710375 | D4: ='[1].xls].xls].xls].xls].xls].xls].xls].'!D4+'[1].xls].xls].xls].xls].xls].xls].xls].'!D7 -> 722267 | E4: ='[1].xls].xls].xls].xls].xls].xls].xls].'!E4+'[1].xls].xls].xls].xls].xls].xls].xls].'!E7 -> 1600204 | F4: ='[1].xls].xls].xls].xls].xls].xls].xls].'!F4+'[1].xls].xls].xls].xls].xls].xls].xls].'!F7 -> 1116487 | G4: ='[1].xls].xls].xls].xls].xls].xls].xls].'!G4+'[1].xls].xls].xls].xls].xls].xls].xls].'!G7 -> 1935429 | H4: ='[1].xls].xls].xls].xls].xls].xls].xls].'!H4+'[1].xls].xls].xls].xls].xls].xls].xls].'!H7 -> 781948 | I4: ='[1].xls].xls].xls].xls].xls].xls].xls].'!I4+'[1].xls].xls].xls].xls].xls].xls].xls].'!I7 -> 890382 | J4: ='[1].xls].xls].xls].xls].xls].xls].xls].'!J4+'[1].xls].xls].xls].xls].xls].xls].xls].'!J7 -> 593723 | ... U4: ='[1].xls].xls].xls].xls].xls].xls].xls].'!U4+'[1].xls].xls].xls].xls].xls].xls].xls].'!U7 -> 532878
A5: 일평균 | B5: =B4/365 -> 48517.762 | C5: =C4/365 -> 1946.2329 | D5: =D4/365 -> 1978.8137 | E5: =E4/365 -> 4384.1205 | F5: =F4/365 -> 3058.8685 | G5: =G4/365 -> 5302.5452 | H5: =H4/365 -> 2142.3233 | I5: =I4/365 -> 2439.4027 | ... U5: =U4/365 -> 1459.9397
A6: 비 율 | B6: =B5/$B$5*100 -> 100 | C6: =C5/$B$5*100 -> 4.0113822 | D6: =D5/$B$5*100 -> 4.0785346 | E6: =E5/$B$5*100 -> 9.0361146 | F6: =F5/$B$5*100 -> 6.3046365 | G6: =G5/$B$5*100 -> 10.92908 | H6: =H5/$B$5*100 -> 4.4155444 | I6: =I5/$B$5*100 -> 5.0278551 | ... U6: =U5/$B$5*100 -> 3.009083
A7: 분기누계 | B7: =SUM(C7:U7) -> 4538086 | C7: =SUM(C10,C13,C16) -> 180938 | D7: =SUM(D10,D13,D16) -> 190361 | E7: =SUM(E10,E13,E16) -> 414109 | F7: =SUM(F10,F13,F16) -> 275518 | G7: =SUM(G10,G13,G16) -> 493490 | H7: =SUM(H10,H13,H16) -> 195191 | I7: =SUM(I10,I13,I16) -> 224035 | J7: =SUM(J10,J13,J16) -> 148653 | ... U7: =SUM(U10,U13,U16) -> 137672
A8: 일평균 | B8: =B7/92 -> 49327.022 | C8: =C7/92 -> 1966.7174 | D8: =D7/92 -> 2069.1413 | E8: =E7/92 -> 4501.1848 | F8: =F7/92 -> 2994.7609 | G8: =G7/92 -> 5364.0217 | H8: =H7/92 -> 2121.6413 | I8: =I7/92 -> 2435.163 | ... U8: =U7/92 -> 1496.4348
A9: 비 율 | B9: =B8/$B$8*100 -> 100 | C9: =C8/$B$8*100 -> 3.9870994 | D9: =D8/$B$8*100 -> 4.194742 | E9: =E8/$B$8*100 -> 9.1251907 | F9: =F8/$B$8*100 -> 6.071238 | G9: =G8/$B$8*100 -> 10.874408 | H9: =H8/$B$8*100 -> 4.3011745 | I9: =I8/$B$8*100 -> 4.9367729 | ... U9: =U8/$B$8*100 -> 3.0337019
A10: 10 월 | B10: =SUM(C10:U10) -> 1528029 | C10: 61435 | D10: 64712 | E10: 139539 | F10: 94298 | G10: 163733 | H10: 64834 | I10: 76136 | J10: 49741 | K10: 81478 | L10: 65692 | M10: 91810 | N10: 94997 | O10: 123153 | P10: 33444 | Q10: 38713 | R10: 110147 | S10: 83836 | T10: 44009 | U10: 46322
A11: 일평균 | B11: =B10/31 -> 49291.258 | C11: 1981.7742 | D11: 2087.4839 | E11: 4501.2581 | F11: 3041.871 | G11: 5281.7097 | H11: 2091.4194 | I11: 2456 | J11: 1604.5484 | K11: 2628.3226 | L11: 2119.0968 | M11: 2961.6129 | N11: 3064.4194 | O11: 3972.6774 | P11: 1078.8387 | Q11: 1248.8065 | R11: 3553.129 | S11: 2704.3871 | T11: 1419.6452 | U11: 1494.2581
A12: 비 율 | B12: =B11/$B$11*100 -> 100 | C12: 4.0205389 | D12: 4.2349982 | E12: 9.1319602 | F12: 6.171218 | G12: 10.715307 | H12: 4.2429823 | I12: 4.9826279 | J12: 3.2552393 | K12: 5.3322286 | L12: 4.2991331 | M12: 6.0083938 | N12: 6.2169632 | O12: 8.0595983 | P12: 2.1887019 | Q12: 2.5335252 | R12: 7.2084365 | S12: 5.4865451 | T12: 2.8801155 | U12: 3.031487
A13: 11 월 | B13: =SUM(C13:U13) -> 1488071 | C13: 58909 | D13: 62339 | E13: 140363 | F13: 86857 | G13: 160170 | H13: 63380 | I13: 73553 | J13: 48838 | K13: 78268 | L13: 64152 | M13: 91098 | N13: 92169 | O13: 120231 | P13: 34319 | Q13: 37077 | R13: 106650 | S13: 80980 | T13: 43207 | U13: 45511
A14: 일평균 | B14: =B13/30 -> 49602.367 | C14: 1963.6333 | D14: 2077.9667 | E14: 4678.7667 | F14: 2895.2333 | G14: 5339 | H14: 2112.6667 | I14: 2451.7667 | J14: 1627.9333 | K14: 2608.9333 | L14: 2138.4 | M14: 3036.6 | N14: 3072.3 | O14: 4007.7 | P14: 1143.9667 | Q14: 1235.9 | R14: 3555 | S14: 2699.3333 | T14: 1440.2333 | U14: 1517.0333
A15: 비 율 | B15: =B14/$B$14*100 -> 100 | C15: 3.9587493 | D15: 4.189249 | E15: 9.4325472 | F15: 5.8368855 | G15: 10.763599 | H15: 4.2592054 | I15: 4.9428421 | J15: 3.2819671 | K15: 5.2596953 | L15: 4.3110846 | M15: 6.1218853 | N15: 6.1938577 | O15: 8.0796548 | P15: 2.3062744 | Q15: 2.491615 | R15: 7.1669967 | S15: 5.4419446 | T15: 2.9035577 | U15: 3.058389
A16: 12 월 | B16: =SUM(C16:U16) -> 1521986 | C16: 60594 | D16: 63310 | E16: 134207 | F16: 94363 | G16: 169587 | H16: 66977 | I16: 74346 | J16: 50074 | K16: 80651 | L16: 65399 | M16: 92004 | N16: 95455 | O16: 126169 | P16: 29110 | Q16: 37406 | R16: 108183 | S16: 83507 | T16: 44805 | U16: 45839
A17: 일평균 | B17: =B16/31 -> 49096.323 | C17: 1954.6452 | D17: 2042.2581 | E17: 4329.2581 | F17: 3043.9677 | G17: 5470.5484 | H17: 2160.5484 | I17: 2398.2581 | J17: 1615.2903 | K17: 2601.6452 | L17: 2109.6452 | M17: 2967.871 | N17: 3079.1935 | O17: 4069.9677 | P17: 939.03226 | Q17: 1206.6452 | R17: 3489.7742 | S17: 2693.7742 | T17: 1445.3226 | U17: 1478.6774
A18: 비 율 | B18: =B17/$B$17*100 -> 100 | C18: 3.9812456 | D18: 4.1596966 | E18: 8.8178866 | F18: 6.1999913 | G18: 11.142481 | H18: 4.4006318 | I18: 4.8848018 | J18: 3.2900434 | K18: 5.2990632 | L18: 4.2969515 | M18: 6.0449965 | N18: 6.2717397 | O18: 8.2897609 | P18: 1.9126326 | Q18: 2.4577099 | R18: 7.1080154 | S18: 5.4867128 | T18: 2.943851 | U18: 3.0117885

Sheet 2012.1분기
A1: 2012년 1/4분기 수송 현황
T2: (단위:명,%)
A3: 구분 | B3: 합 계 | C3: 소태역 | D3: 학동증심사 입구역 | E3: 남광주역 | F3: 문화전당역 (구도청) | G3: 금남로4가역 | H3: 금남로5가역 | I3: 양동시장역 | J3: 돌고개역 | K3: 농성역 | L3: 화정역 | M3: 쌍촌역 | N3: 운천역 (호남대입구) | O3: 상무 | P3: 김대중 컨벤션센터역 | Q3: 공항역 | R3: 송정공원역 | S3: 송정리역 | T3: 도산역 | U3: 평동역
A4: 누계 | B4: 4410639 | C4: 174501 | D4: 186317 | E4: 388105 | F4: 283052 | G4: 486550 | H4: 197829 | I4: 218404 | J4: 144405 | K4: 229821 | L4: 182821 | M4: 266262 | N4: 276398 | O4: 363373 | P4: 81851 | Q4: 105840 | R4: 316876 | S4: 239712 | T4: 127520 | U4: 141002
A5: 일평균 | B5: 48468.56 | C5: 1917.5934 | D5: 2047.4396 | E5: 4264.8901 | F5: 3110.4615 | G5: 5346.7033 | H5: 2173.9451 | I5: 2400.044 | J5: 1586.8681 | K5: 2525.5055 | L5: 2009.022 | M5: 2925.956 | N5: 3037.3407 | O5: 3993.1099 | P5: 899.46154 | Q5: 1163.0769 | R5: 3482.1538 | S5: 2634.1978 | T5: 1401.3187 | U5: 1549.4725
A6: 비율 | B6: 100 | C6: 3.9563655 | D6: 4.2242632 | E6: 8.7992919 | F6: 6.4174828 | G6: 11.031281 | H6: 4.4852685 | I6: 4.9517542 | J6: 3.2740154 | K6: 5.2106055 | L6: 4.1450003 | M6: 6.0368124 | N6: 6.2666203 | O6: 8.2385568 | P6: 1.8557628 | Q6: 2.3996523 | R6: 7.1843558 | S6: 5.4348588 | T6: 2.891191 | U6: 3.196861
A7: 1월 | B7: 1409198 | C7: 56166 | D7: 57086 | E7: 120996 | F7: 95273 | G7: 157917 | H7: 63086 | I7: 73875 | J7: 46918 | K7: 73384 | L7: 57881 | M7: 85176 | N7: 86618 | O7: 117569 | P7: 24994 | Q7: 33244 | R7: 95989 | S7: 77782 | T7: 40624 | U7: 44620
A8: 일평균 | B8: 45458 | C8: 1811.8065 | D8: 1841.4839 | E8: 3903.0968 | F8: 3073.3226 | G8: 5094.0968 | H8: 2035.0323 | I8: 2383.0645 | J8: 1513.4839 | K8: 2367.2258 | L8: 1867.129 | M8: 2747.6129 | N8: 2794.129 | O8: 3792.5484 | P8: 806.25806 | Q8: 1072.3871 | R8: 3096.4194 | S8: 2509.0968 | T8: 1310.4516 | U8: 1439.3548
A9: 비율 | B9: 100 | C9: 3.8709961 | D9: 4.0509566 | E9: 8.5861604 | F9: 6.7607959 | G9: 11.206161 | H9: 4.4767307 | I9: 5.2423435 | J9: 3.3294115 | K9: 5.207501 | L9: 4.1073717 | M9: 6.044289 | N9: 6.1466167 | O9: 8.3429724 | P9: 1.7736329 | Q9: 2.3590723 | R9: 6.8116049 | S9: 5.5195934 | T9: 2.8827745 | U9: 3.16634
A10: 2월 | B10: 1407087 | C10: 56200 | D10: 58326 | E10: 118660 | F10: 92092 | G10: 158005 | H10: 65556 | I10: 67448 | J10: 46530 | K10: 73953 | L10: 58469 | M10: 83759 | N10: 88594 | O10: 118362 | P10: 26426 | Q10: 34302 | R10: 98364 | S10: 75591 | T10: 40635 | U10: 45815
A11: 일평균 | B11: 50253.107 | C11: 1937.931 | D11: 2011.2414 | E11: 4091.7241 | F11: 3175.5862 | G11: 5448.4483 | H11: 2260.5517 | I11: 2325.7931 | J11: 1604.4828 | K11: 2550.1034 | L11: 2016.1724 | M11: 2888.2414 | N11: 3054.9655 | O11: 4081.4483 | P11: 911.24138 | Q11: 1182.8276 | R11: 3391.8621 | S11: 2606.5862 | T11: 1401.2069 | U11: 1579.8276
A12: 비율 | B12: 100 | C12: 3.8563407 | D12: 4.0022229 | E12: 8.1422311 | F12: 6.3191838 | G12: 10.842013 | H12: 4.4983322 | I12: 4.6281578 | J12: 3.1928031 | K12: 5.074519 | L12: 4.0120353 | M12: 5.7473887 | N12: 6.0791575 | O12: 8.1217829 | P12: 1.8133036 | Q12: 2.3537402 | R12: 6.7495569 | S12: 5.1869155 | T12: 2.788299 | U12: 3.1437411
A13: 3월 | B13: 1594354 | C13: 62135 | D13: 70905 | E13: 148449 | F13: 95687 | G13: 170628 | H13: 69187 | I13: 77081 | J13: 50957 | K13: 82484 | L13: 66471 | M13: 97327 | N13: 101186 | O13: 127442 | P13: 30431 | Q13: 38294 | R13: 122523 | S13: 86339 | T13: 46261 | U13: 50567
A14: 일평균 | B14: 51430.774 | C14: 2004.3548 | D14: 2287.2581 | E14: 4788.6774 | F14: 3086.6774 | G14: 5504.129 | H14: 2231.8387 | I14: 2486.4839 | J14: 1643.7742 | K14: 2660.7742 | L14: 2144.2258 | M14: 3139.5806 | N14: 3264.0645 | O14: 4111.0323 | P14: 981.64516 | Q14: 1235.2903 | R14: 3952.3548 | S14: 2785.129 | T14: 1492.2903 | U14: 1631.1935
A15: 비율 | B15: 100 | C15: 3.8971897 | D15: 4.4472558 | E15: 9.3109184 | F15: 6.0016157 | G15: 10.702015 | H15: 4.3395005 | I15: 4.8346227 | J15: 3.1960907 | K15: 5.173506 | L15: 4.1691494 | M15: 6.1044787 | N15: 6.3465203 | O15: 7.9933315 | P15: 1.9086727 | Q15: 2.4018505 | R15: 7.6848053 | S15: 5.4152967 | T15: 2.9015513 | U15: 3.1716294

Sheet 2012.2분기
A1: 2012년 2/4분기 수송 현황
T2: (단위:명,%)
A3: 구분 | B3: 합 계 | C3: 소태역 | D3: 학동증심사 입구역 | E3: 남광주역 | F3: 문화전당역 (구도청) | G3: 금남로4가역 | H3: 금남로5가역 | I3: 양동시장역 | J3: 돌고개역 | K3: 농성역 | L3: 화정역 | M3: 쌍촌역 | N3: 운천역 (호남대입구) | O3: 상무 | P3: 김대중 컨벤션센터역 | Q3: 공항역 | R3: 송정공원역 | S3: 송정리역 | T3: 도산역 | U3: 평동역
A4: 누계 | B4: =SUM(C4:U4) -> 4710190 | C4: =SUM(C7,C10,C13) -> 180564 | D4: =SUM(D7,D10,D13) -> 213087 | E4: =SUM(E7,E10,E13) -> 438691 | F4: =SUM(F7,F10,F13) -> 275096 | G4: =SUM(G7,G10,G13) -> 487441 | H4: =SUM(H7,H10,H13) -> 205249 | I4: =SUM(I7,I10,I13) -> 237789 | J4: =SUM(J7,J10,J13) -> 148290 | ... U4: =SUM(U7,U10,U13) -> 156993
A5: 일평균 | B5: =B4/91 -> 51760.33 | C5: =C4/91 -> 1984.2198 | D5: =D4/91 -> 2341.6154 | E5: =E4/91 -> 4820.7802 | F5: =F4/91 -> 3023.033 | G5: =G4/91 -> 5356.4945 | H5: =H4/91 -> 2255.4835 | I5: =I4/91 -> 2613.0659 | ... U5: =U4/91 -> 1725.1978
A6: 비율 | B6: =B5/$B$5*100 -> 100 | C6: =C5/$B$5*100 -> 3.8334759 | D6: =D5/$B$5*100 -> 4.5239576 | E6: =E5/$B$5*100 -> 9.3136583 | F6: =F5/$B$5*100 -> 5.8404438 | G6: =G5/$B$5*100 -> 10.348648 | H6: =H5/$B$5*100 -> 4.3575525 | I6: =I5/$B$5*100 -> 5.0483951 | ... U6: =U5/$B$5*100 -> 3.3330503
A7: 4월 | B7: =SUM(C7:U7) -> 1556132 | C7: 59097 | D7: 68927 | E7: 147144 | F7: 88793 | G7: 157712 | H7: 68081 | I7: 76488 | J7: 48858 | K7: 89962 | L7: 63438 | M7: 93568 | N7: 101733 | O7: 122071 | P7: 32515 | Q7: 38562 | R7: 119036 | S7: 85152 | T7: 44571 | U7: 50424
A8: 일평균 | B8: =B7/30 -> 51871.067 | C8: =C7/30 -> 1969.9 | D8: =D7/30 -> 2297.5667 | E8: =E7/30 -> 4904.8 | F8: =F7/30 -> 2959.7667 | G8: =G7/30 -> 5257.0667 | H8: =H7/30 -> 2269.3667 | I8: =I7/30 -> 2549.6 | ... U8: =U7/30 -> 1680.8
A9: 비율 | B9: =B8/$B$8*100 -> 100 | C9: =C7/$B$7*100 -> 3.7976855 | D9: =D7/$B$7*100 -> 4.42938 | E9: =E7/$B$7*100 -> 9.4557531 | F9: =F7/$B$7*100 -> 5.7060069 | G9: =G7/$B$7*100 -> 10.134873 | H9: =H7/$B$7*100 -> 4.3750145 | I9: =I7/$B$7*100 -> 4.9152643 | J9: =J7/$B$7*100 -> 3.1397079 | ... U9: =U7/$B$7*100 -> 3.2403421
A10: 5월 | B10: =SUM(C10:U10) -> 1647377 | C10: 61063 | D10: 74656 | E10: 155636 | F10: 100568 | G10: 173980 | H10: 70651 | I10: 82756 | J10: 51542 | K10: 84650 | L10: 67109 | M10: 99684 | N10: 104434 | O10: 129434 | P10: 32750 | Q10: 41253 | R10: 126238 | S10: 89690 | T10: 47579 | U10: 53704
A11: 일평균 | B11: =B10/31 -> 53141.194 | C11: =C10/31 -> 1969.7742 | D11: =D10/31 -> 2408.2581 | E11: =E10/31 -> 5020.5161 | F11: =F10/31 -> 3244.129 | G11: =G10/31 -> 5612.2581 | H11: =H10/31 -> 2279.0645 | I11: =I10/31 -> 2669.5484 | ... U11: =U10/31 -> 1732.3871
A12: 비율 | B12: =B11/$B$11*100 -> 100 | C12: =C11/$B$11*100 -> 3.7066804 | D12: =D11/$B$11*100 -> 4.5318103 | E12: =E11/$B$11*100 -> 9.4475035 | F12: =F11/$B$11*100 -> 6.104735 | G12: =G11/$B$11*100 -> 10.561031 | H12: =H11/$B$11*100 -> 4.2886965 | I12: =I11/$B$11*100 -> 5.023501 | ... U12: =U11/$B$11*100 -> 3.2599702
A13: 6월 | B13: =SUM(C13:U13) -> 1506681 | C13: 60404 | D13: 69504 | E13: 135911 | F13: 85735 | G13: 155749 | H13: 66517 | I13: 78545 | J13: 47890 | K13: 78983 | L13: 63771 | M13: 91000 | N13: 94903 | O13: 118043 | P13: 31584 | Q13: 37023 | R13: 112541 | S13: 81271 | T13: 44442 | U13: 52865
A14: 일평균 | B14: =B13/30 -> 50222.7 | C14: =C13/30 -> 2013.4667 | D14: =D13/30 -> 2316.8 | E14: =E13/30 -> 4530.3667 | F14: =F13/30 -> 2857.8333 | G14: =G13/30 -> 5191.6333 | H14: =H13/30 -> 2217.2333 | I14: =I13/30 -> 2618.1667 | ... U14: =U13/30 -> 1762.1667
A15: 비율 | B15: =B14/$B$14*100 -> 100 | C15: =C14/$B$14*100 -> 4.0090769 | D15: =D14/$B$14*100 -> 4.6130535 | E15: =E14/$B$14*100 -> 9.0205558 | F15: =F14/$B$14*100 -> 5.690322 | G15: =G14/$B$14*100 -> 10.337225 | H15: =H14/$B$14*100 -> 4.4148031 | I15: =I14/$B$14*100 -> 5.2131141 | ... U15: =U14/$B$14*100 -> 3.5087056

Sheet 2012.3분기
A1: 2012년 3/4분기 수송 현황
T2: (단위:명,%)
A3: 구분 | B3: 합 계 | C3: 소태역 | D3: 학동증심사 입구역 | E3: 남광주역 | F3: 문화전당역 (구도청) | G3: 금남로4가역 | H3: 금남로5가역 | I3: 양동시장역 | J3: 돌고개역 | K3: 농성역 | L3: 화정역 | M3: 쌍촌역 | N3: 운천역 (호남대입구) | O3: 상무 | P3: 김대중 컨벤션센터역 | Q3: 공항역 | R3: 송정공원역 | S3: 송정리역 | T3: 도산역 | U3: 평동역
A4: 누계 | B4: =SUM(C4:U4) -> 4236914 | C4: =SUM(C7,C10,C13) -> 168381 | D4: =SUM(D7,D10,D13) -> 189162 | E4: =SUM(E7,E10,E13) -> 368862 | F4: =SUM(F7,F10,F13) -> 254297 | G4: =SUM(G7,G10,G13) -> 455014 | H4: =SUM(H7,H10,H13) -> 186598 | I4: =SUM(I7,I10,I13) -> 221630 | J4: =SUM(J7,J10,J13) -> 136132 | ... U4: =SUM(U7,U10,U13) -> 149682
A5: 일평균 | B5: =B4/92 -> 46053.413 | C5: =C4/92 -> 1830.2283 | D5: =D4/92 -> 2056.1087 | E5: =E4/92 -> 4009.3696 | F5: =F4/92 -> 2764.0978 | G5: =G4/92 -> 4945.8043 | H5: =H4/92 -> 2028.2391 | I5: =I4/92 -> 2409.0217 | ... U5: =U4/92 -> 1626.9783
A6: 비율 | B6: =B5/$B$5*100 -> 100 | C6: =C5/$B$5*100 -> 3.9741425 | D6: =D5/$B$5*100 -> 4.4646174 | E6: =E5/$B$5*100 -> 8.7059119 | F6: =F5/$B$5*100 -> 6.0019391 | G6: =G5/$B$5*100 -> 10.739279 | H6: =H5/$B$5*100 -> 4.4041017 | I6: =I5/$B$5*100 -> 5.2309299 | ... U6: =U5/$B$5*100 -> 3.5328071
A7: 7월 | B7: =SUM(C7:U7) -> 1469133 | C7: 58568 | D7: 65276 | E7: 123171 | F7: 90578 | G7: 160964 | H7: 66263 | I7: 74598 | J7: 47173 | K7: 75887 | L7: 62171 | M7: 86926 | N7: 90517 | O7: 116794 | P7: 34057 | Q7: 35417 | R7: 106523 | S7: 78152 | T7: 44184 | U7: 51914
A8: 일평균 | B8: =B7/31 -> 47391.387 | C8: =C7/31 -> 1889.2903 | D8: =D7/31 -> 2105.6774 | E8: =E7/31 -> 3973.2581 | F8: =F7/31 -> 2921.871 | G8: =G7/31 -> 5192.3871 | H8: =H7/31 -> 2137.5161 | I8: =I7/31 -> 2406.3871 | ... U8: =U7/31 -> 1674.6452
A9: 비율 | B9: =B8/$B$8*100 -> 100 | C9: =C7/$B$7*100 -> 3.9865689 | D9: =D7/$B$7*100 -> 4.4431648 | E9: =E7/$B$7*100 -> 8.3839244 | F9: =F7/$B$7*100 -> 6.165405 | G9: =G7/$B$7*100 -> 10.956394 | H9: =H7/$B$7*100 -> 4.5103473 | I9: =I7/$B$7*100 -> 5.0776887 | J9: =J7/$B$7*100 -> 3.2109414 | ... U9: =U7/$B$7*100 -> 3.5336488
A10: 8월 | B10: =SUM(C10:U10) -> 1316793 | C10: 53408 | D10: 58732 | E10: 109337 | F10: 80741 | G10: 146235 | H10: 59649 | I10: 68416 | J10: 43458 | K10: 69684 | L10: 55055 | M10: 76828 | N10: 79736 | O10: 103770 | P10: 24388 | Q10: 31452 | R10: 93900 | S10: 74462 | T10: 39889 | U10: 47653
A11: 일평균 | B11: =B10/31 -> 42477.194 | C11: =C10/31 -> 1722.8387 | D11: =D10/31 -> 1894.5806 | E11: =E10/31 -> 3527 | F11: =F10/31 -> 2604.5484 | G11: =G10/31 -> 4717.2581 | H11: =H10/31 -> 1924.1613 | I11: =I10/31 -> 2206.9677 | ... U11: =U10/31 -> 1537.1935
A12: 비율 | B12: =B11/$B$11*100 -> 100 | C12: =C11/$B$11*100 -> 4.0559146 | D12: =D11/$B$11*100 -> 4.4602303 | E12: =E11/$B$11*100 -> 8.3032793 | F12: =F11/$B$11*100 -> 6.1316395 | G12: =G11/$B$11*100 -> 11.10539 | H12: =H11/$B$11*100 -> 4.5298692 | I12: =I11/$B$11*100 -> 5.1956534 | ... U12: =U11/$B$11*100 -> 3.618868
A13: 9월 | B13: =SUM(C13:U13) -> 1450988 | C13: 56405 | D13: 65154 | E13: 136354 | F13: 82978 | G13: 147815 | H13: 60686 | I13: 78616 | J13: 45501 | K13: 75330 | L13: 61881 | M13: 89006 | N13: 89727 | O13: 113093 | P13: 31251 | Q13: 35128 | R13: 109199 | S13: 79951 | T13: 42798 | U13: 50115
A14: 일평균 | B14: =B13/30 -> 48366.267 | C14: =C13/30 -> 1880.1667 | D14: =D13/30 -> 2171.8 | E14: =E13/30 -> 4545.1333 | F14: =F13/30 -> 2765.9333 | G14: =G13/30 -> 4927.1667 | H14: =H13/30 -> 2022.8667 | I14: =I13/30 -> 2620.5333 | ... U14: =U13/30 -> 1670.5
A15: 비율 | B15: =B14/$B$14*100 -> 100 | C15: =C14/$B$14*100 -> 3.8873512 | D15: =D14/$B$14*100 -> 4.4903197 | E15: =E14/$B$14*100 -> 9.397321 | F15: =F14/$B$14*100 -> 5.7187241 | G15: =G14/$B$14*100 -> 10.187197 | H15: =H14/$B$14*100 -> 4.1823916 | I15: =I14/$B$14*100 -> 5.4181013 | ... U15: =U14/$B$14*100 -> 3.4538535

Sheet 2012.4분기
A1: 2012년 4/4분기 수송 현황
T2: (단위:명,%)
A3: 구분 | B3: 합 계 | C3: 소태역 | D3: 학동증심사 입구역 | E3: 남광주역 | F3: 문화전당역 (구도청) | G3: 금남로4가역 | H3: 금남로5가역 | I3: 양동시장역 | J3: 돌고개역 | K3: 농성역 | L3: 화정역 | M3: 쌍촌역 | N3: 운천역 (호남대입구) | O3: 상무 | P3: 김대중 컨벤션센터역 | Q3: 공항역 | R3: 송정공원역 | S3: 송정리역 | T3: 도산역 | U3: 평동역
A4: 누계 | B4: =SUM(C4:U4) -> 4678418 | C4: =SUM(C7,C10,C13) -> 187926 | D4: =SUM(D7,D10,D13) -> 213176 | E4: =SUM(E7,E10,E13) -> 414106 | F4: =SUM(F7,F10,F13) -> 287632 | G4: =SUM(G7,G10,G13) -> 499237 | H4: =SUM(H7,H10,H13) -> 197756 | I4: =SUM(I7,I10,I13) -> 225459 | J4: =SUM(J7,J10,J13) -> 147779 | ... U4: =SUM(U7,U10,U13) -> 164098
A5: 일평균 | B5: =B4/92 -> 50852.37 | C5: =C4/92 -> 2042.6739 | D5: =D4/92 -> 2317.1304 | E5: =E4/92 -> 4501.1522 | F5: =F4/92 -> 3126.4348 | G5: =G4/92 -> 5426.4891 | H5: =H4/92 -> 2149.5217 | I5: =I4/92 -> 2450.6413 | ... U5: =U4/92 -> 1783.6739
A6: 비율 | B6: =B5/$B$5*100 -> 100 | C6: =C5/$B$5*100 -> 4.0168707 | D6: =D5/$B$5*100 -> 4.556583 | E6: =E5/$B$5*100 -> 8.8514109 | F6: =F5/$B$5*100 -> 6.1480612 | G6: =G5/$B$5*100 -> 10.671064 | H6: =H5/$B$5*100 -> 4.2269844 | I6: =I5/$B$5*100 -> 4.819129 | ... U6: =U5/$B$5*100 -> 3.5075532
A7: 10월 | B7: =SUM(C7:U7) -> 1591466 | C7: 62556 | D7: 73683 | E7: 141655 | F7: 101858 | G7: 176625 | H7: 66277 | I7: 75435 | J7: 49950 | K7: 82765 | L7: 66384 | M7: 96009 | N7: 97707 | O7: 124727 | P7: 34786 | Q7: 39460 | R7: 118293 | S7: 86075 | T7: 46378 | U7: 50843
A8: 일평균 | B8: =B7/31 -> 51337.613 | C8: =C7/31 -> 2017.9355 | D8: =D7/31 -> 2376.871 | E8: =E7/31 -> 4569.5161 | F8: =F7/31 -> 3285.7419 | G8: =G7/31 -> 5697.5806 | H8: =H7/31 -> 2137.9677 | I8: =I7/31 -> 2433.3871 | ... U8: =U7/31 -> 1640.0968
A9: 비율 | B9: =B8/$B$8*100 -> 100 | C9: =C7/$B$7*100 -> 3.9307155 | D9: =D7/$B$7*100 -> 4.6298821 | E9: =E7/$B$7*100 -> 8.9009127 | F9: =F7/$B$7*100 -> 6.4002624 | G9: =G7/$B$7*100 -> 11.098258 | H9: =H7/$B$7*100 -> 4.164525 | I9: =I7/$B$7*100 -> 4.7399693 | J9: =J7/$B$7*100 -> 3.1386156 | ... U9: =U7/$B$7*100 -> 3.1947274
A10: 11월 | B10: =SUM(C10:U10) -> 1559763 | C10: 64660 | D10: 70278 | E10: 142519 | F10: 90090 | G10: 159871 | H10: 66162 | I10: 76407 | J10: 48919 | K10: 80545 | L10: 65021 | M10: 95665 | N10: 98009 | O10: 124352 | P10: 33414 | Q10: 38723 | R10: 116972 | S10: 83333 | T10: 45412 | U10: 59411
A11: 일평균 | B11: =B10/30 -> 51992.1 | C11: =C10/30 -> 2155.3333 | D11: =D10/30 -> 2342.6 | E11: =E10/30 -> 4750.6333 | F11: =F10/30 -> 3003 | G11: =G10/30 -> 5329.0333 | H11: =H10/30 -> 2205.4 | I11: =I10/30 -> 2546.9 | ... U11: =U10/30 -> 1980.3667
A12: 비율 | B12: =B11/$B$11*100 -> 100 | C12: =C11/$B$11*100 -> 4.1455016 | D12: =D11/$B$11*100 -> 4.5056845 | E12: =E11/$B$11*100 -> 9.1372215 | F12: =F11/$B$11*100 -> 5.7758775 | G12: =G11/$B$11*100 -> 10.249698 | H12: =H11/$B$11*100 -> 4.2417983 | I12: =I11/$B$11*100 -> 4.8986288 | ... U12: =U11/$B$11*100 -> 3.8089761
A13: 12월 | B13: =SUM(C13:U13) -> 1527189 | C13: 60710 | D13: 69215 | E13: 129932 | F13: 95684 | G13: 162741 | H13: 65317 | I13: 73617 | J13: 48910 | K13: 79045 | L13: 63021 | M13: 92476 | N13: 96616 | O13: 123390 | P13: 30705 | Q13: 37134 | R13: 113227 | S13: 85866 | T13: 45739 | U13: 53844
A14: 일평균 | B14: =B13/31 -> 49264.161 | C14: =C13/31 -> 1958.3871 | D14: =D13/31 -> 2232.7419 | E14: =E13/31 -> 4191.3548 | F14: =F13/31 -> 3086.5806 | G14: =G13/31 -> 5249.7097 | H14: =H13/31 -> 2107 | I14: =I13/31 -> 2374.7419 | ... U14: =U13/31 -> 1736.9032
A15: 비율 | B15: =B14/$B$14*100 -> 100 | C15: =C14/$B$14*100 -> 3.9752775 | D15: =D14/$B$14*100 -> 4.532183 | E15: =E14/$B$14*100 -> 8.5079188 | F15: =F14/$B$14*100 -> 6.2653673 | G15: =G14/$B$14*100 -> 10.656245 | H15: =H14/$B$14*100 -> 4.2769428 | I15: =I14/$B$14*100 -> 4.820425 | ... U15: =U14/$B$14*100 -> 3.5256933

Sheet 2013.1분기
A1: 2013년 1/4분기 수송 현황
T2: (단위:명,%)
A3: 구분 | B3: 합 계 | C3: 소태역 | D3: 학동증심사 입구역 | E3: 남광주역 | F3: 문화전당역 (구도청) | G3: 금남로4가역 | H3: 금남로5가역 | I3: 양동시장역 | J3: 돌고개역 | K3: 농성역 | L3: 화정역 | M3: 쌍촌역 | N3: 운천역 (호남대입구) | O3: 상무 | P3: 김대중 컨벤션센터역 | Q3: 공항역 | R3: 송정공원역 | S3: 송정리역 | T3: 도산역 | U3: 평동역
A4: 누계 | B4: =SUM(C4:U4) -> 4357248 | C4: =SUM(C7,C10,C13) -> 165600 | D4: =SUM(D7,D10,D13) -> 190359 | E4: =SUM(E7,E10,E13) -> 374405 | F4: =SUM(F7,F10,F13) -> 272244 | G4: =SUM(G7,G10,G13) -> 465661 | H4: =SUM(H7,H10,H13) -> 191411 | I4: =SUM(I7,I10,I13) -> 219461 | J4: =SUM(J7,J10,J13) -> 144694 | ... U4: =SUM(U7,U10,U13) -> 152057
A5: 일평균 | B5: =B4/90 -> 48413.867 | C5: =C4/90 -> 1840 | D5: =D4/90 -> 2115.1 | E5: =E4/90 -> 4160.0556 | F5: =F4/90 -> 3024.9333 | G5: =G4/90 -> 5174.0111 | H5: =H4/90 -> 2126.7889 | I5: =I4/90 -> 2438.4556 | ... U5: =U4/90 -> 1689.5222
A6: 비율 | B6: =B5/$B$5*100 -> 100 | C6: =C5/$B$5*100 -> 3.800564 | D6: =D5/$B$5*100 -> 4.3687897 | E6: =E5/$B$5*100 -> 8.5926943 | F6: =F5/$B$5*100 -> 6.2480722 | G6: =G5/$B$5*100 -> 10.687044 | H6: =H5/$B$5*100 -> 4.3929333 | I6: =I5/$B$5*100 -> 5.0366883 | ... U6: =U5/$B$5*100 -> 3.4897486
A7: 1월 | B7: =SUM(C7:U7) -> 1474076 | C7: 56564 | D7: 63313 | E7: 123740 | F7: 93521 | G7: 160879 | H7: 65618 | I7: 76113 | J7: 50368 | K7: 77897 | L7: 60902 | M7: 87965 | N7: 93617 | O7: 119939 | P7: 28078 | Q7: 35682 | R7: 103759 | S7: 80552 | T7: 42744 | U7: 52825
A8: 일평균 | B8: =B7/31 -> 47550.839 | C8: =C7/31 -> 1824.6452 | D8: =D7/31 -> 2042.3548 | E8: =E7/31 -> 3991.6129 | F8: =F7/31 -> 3016.8065 | G8: =G7/31 -> 5189.6452 | H8: =H7/31 -> 2116.7097 | I8: =I7/31 -> 2455.2581 | ... U8: =U7/31 -> 1704.0323
A9: 비율 | B9: =B8/$B$8*100 -> 100 | C9: =C8/$B$14*100 -> 3.5576118 | D9: =D8/$B$14*100 -> 3.9820924 | E9: =E8/$B$14*100 -> 7.7826689 | F9: =F8/$B$14*100 -> 5.8820348 | G9: =G8/$B$14*100 -> 10.118539 | H9: =H8/$B$14*100 -> 4.1270662 | I9: =I8/$B$14*100 -> 4.7871527 | J9: =J8/$B$14*100 -> 3.1679123 | ... U9: =U8/$B$14*100 -> 3.3224462
A10: 2월 | B10: =SUM(C10:U10) -> 1293229 | C10: 50553 | D10: 55438 | E10: 105285 | F10: 84096 | G10: 142304 | H10: 56542 | I10: 66502 | J10: 43468 | K10: 68825 | L10: 53709 | M10: 76308 | N10: 80822 | O10: 105538 | P10: 23472 | Q10: 31215 | R10: 92832 | S10: 73921 | T10: 37624 | U10: 44775
A11: 일평균 | B11: =B10/28 -> 46186.75 | C11: =C10/28 -> 1805.4643 | D11: =D10/28 -> 1979.9286 | E11: =E10/28 -> 3760.1786 | F11: =F10/28 -> 3003.4286 | G11: =G10/28 -> 5082.2857 | H11: =H10/28 -> 2019.3571 | I11: =I10/28 -> 2375.0714 | ... U11: =U10/28 -> 1599.1071
A12: 비율 | B12: =B11/$B$11*100 -> 100 | C12: =C11/$B$14*100 -> 3.5202138 | D12: =D11/$B$14*100 -> 3.8603765 | E12: =E11/$B$14*100 -> 7.3314286 | F12: =F11/$B$14*100 -> 5.8559512 | G12: =G11/$B$14*100 -> 9.9092142 | H12: =H11/$B$14*100 -> 3.9372526 | I12: =I11/$B$14*100 -> 4.6308084 | J12: =J11/$B$14*100 -> 3.026856 | ... U12: =U11/$B$14*100 -> 3.1178678
A13: 3월 | B13: =SUM(C13:U13) -> 1589943 | C13: 58483 | D13: 71608 | E13: 145380 | F13: 94627 | G13: 162478 | H13: 69251 | I13: 76846 | J13: 50858 | K13: 85566 | L13: 65359 | M13: 96275 | N13: 103235 | O13: 124756 | P13: 33464 | Q13: 38560 | R13: 125040 | S13: 86663 | T13: 47037 | U13: 54457
A14: 일평균 | B14: =B13/31 -> 51288.484 | C14: =C13/31 -> 1886.5484 | D14: =D13/31 -> 2309.9355 | E14: =E13/31 -> 4689.6774 | F14: =F13/31 -> 3052.4839 | G14: =G13/31 -> 5241.2258 | H14: =H13/31 -> 2233.9032 | I14: =I13/31 -> 2478.9032 | ... U14: =U13/31 -> 1756.6774
A15: 비율 | B15: =B14/$B$14*100 -> 100 | C15: =C14/$B$14*100 -> 3.678308 | D15: =D14/$B$14*100 -> 4.5038093 | E15: =E14/$B$14*100 -> 9.143724 | F15: =F14/$B$14*100 -> 5.951597 | G15: =G14/$B$14*100 -> 10.219108 | H15: =H14/$B$14*100 -> 4.3555649 | I15: =I14/$B$14*100 -> 4.833255 | ... U15: =U14/$B$14*100 -> 3.4250913

Sheet 2013.2분기
A1: 2013년 2/4분기 수송 현황
T2: (단위:명,%)
A3: 구분 | B3: 합 계 | C3: 소태역 | D3: 학동증심사 입구역 | E3: 남광주역 | F3: 문화전당역 (구도청) | G3: 금남로4가역 | H3: 금남로5가역 | I3: 양동시장역 | J3: 돌고개역 | K3: 농성역 | L3: 화정역 | M3: 쌍촌역 | N3: 운천역 (호남대입구) | O3: 상무 | P3: 김대중 컨벤션센터역 | Q3: 공항역 | R3: 송정공원역 | S3: 송정리역 | T3: 도산역 | U3: 평동역
A4: 누계 | B4: =SUM(C4:U4) -> 4754896 | C4: =SUM(C7,C10,C13) -> 179277 | D4: =SUM(D7,D10,D13) -> 215873 | E4: =SUM(E7,E10,E13) -> 436831 | F4: =SUM(F7,F10,F13) -> 274202 | G4: =SUM(G7,G10,G13) -> 481992 | H4: =SUM(H7,H10,H13) -> 207032 | I4: =SUM(I7,I10,I13) -> 235073 | J4: =SUM(J7,J10,J13) -> 152838 | ... U4: =SUM(U7,U10,U13) -> 168537
A5: 일평균 | B5: =B4/91 -> 52251.604 | C5: =C4/91 -> 1970.0769 | D5: =D4/91 -> 2372.2308 | E5: =E4/91 -> 4800.3407 | F5: =F4/91 -> 3013.2088 | G5: =G4/91 -> 5296.6154 | H5: =H4/91 -> 2275.0769 | I5: =I4/91 -> 2583.2198 | ... U5: =U4/91 -> 1852.0549
A6: 비율 | B6: =B5/$B$5*100 -> 100 | C6: =C5/$B$5*100 -> 3.7703664 | D6: =D5/$B$5*100 -> 4.5400152 | E6: =E5/$B$5*100 -> 9.1869728 | F6: =F5/$B$5*100 -> 5.7667297 | G6: =G5/$B$5*100 -> 10.136752 | H6: =H5/$B$5*100 -> 4.3540805 | I6: =I5/$B$5*100 -> 4.9438095 | ... U6: =U5/$B$5*100 -> 3.5444939
A7: 4월 | B7: =SUM(C7:U7) -> 1601118 | C7: 59534 | D7: 71265 | E7: 150914 | F7: 88584 | G7: 157064 | H7: 70252 | I7: 77531 | J7: 51526 | K7: 91795 | L7: 65417 | M7: 98521 | N7: 106950 | O7: 124274 | P7: 33437 | Q7: 39487 | R7: 125411 | S7: 86457 | T7: 46443 | U7: 56256
A8: 일평균 | B8: =B7/30 -> 53370.6 | C8: =C7/30 -> 1984.4667 | D8: =D7/30 -> 2375.5 | E8: =E7/30 -> 5030.4667 | F8: =F7/30 -> 2952.8 | G8: =G7/30 -> 5235.4667 | H8: =H7/30 -> 2341.7333 | I8: =I7/30 -> 2584.3667 | ... U8: =U7/30 -> 1875.2
A9: 비율 | B9: =B8/$B$8*100 -> 100 | C9: =C8/$B$14*100 -> 4.0192354 | D9: =D8/$B$14*100 -> 4.8112139 | E9: =E8/$B$14*100 -> 10.188445 | F9: =F8/$B$14*100 -> 5.9804473 | G9: =G8/$B$14*100 -> 10.603641 | H9: =H8/$B$14*100 -> 4.7428247 | I9: =I8/$B$14*100 -> 5.2342416 | J9: =J8/$B$14*100 -> 3.4786025 | ... U9: =U8/$B$14*100 -> 3.7979324
A10: 5월 | B10: =SUM(C10:U10) -> 1672551 | C10: 62954 | D10: 75572 | E10: 154553 | F10: 100327 | G10: 173116 | H10: 71630 | I10: 81906 | J10: 53179 | K10: 87792 | L10: 68840 | M10: 100990 | N10: 109314 | O10: 129192 | P10: 33679 | Q10: 41037 | R10: 129606 | S10: 91644 | T10: 49029 | U10: 58191
A11: 일평균 | B11: =B10/31 -> 53953.258 | C11: =C10/31 -> 2030.7742 | D11: =D10/31 -> 2437.8065 | E11: =E10/31 -> 4985.5806 | F11: =F10/31 -> 3236.3548 | G11: =G10/31 -> 5584.3871 | H11: =H10/31 -> 2310.6452 | I11: =I10/31 -> 2642.129 | ... U11: =U10/31 -> 1877.129
A12: 비율 | B12: =B11/$B$11*100 -> 100 | C12: =C11/$B$14*100 -> 4.1130243 | D12: =D11/$B$14*100 -> 4.9374062 | E12: =E11/$B$14*100 -> 10.097535 | F12: =F11/$B$14*100 -> 6.5547445 | G12: =G11/$B$14*100 -> 11.310327 | H12: =H11/$B$14*100 -> 4.6798603 | I12: =I11/$B$14*100 -> 5.3512305 | J12: =J11/$B$14*100 -> 3.4743863 | ... U12: =U11/$B$14*100 -> 3.8018394
A13: 6월 | B13: =SUM(C13:U13) -> 1481227 | C13: 56789 | D13: 69036 | E13: 131364 | F13: 85291 | G13: 151812 | H13: 65150 | I13: 75636 | J13: 48133 | K13: 77891 | L13: 63035 | M13: 90679 | N13: 94895 | O13: 116900 | P13: 31048 | Q13: 35422 | R13: 110449 | S13: 80386 | T13: 43221 | U13: 54090
A14: 일평균 | B14: =B13/30 -> 49374.233 | C14: =C13/30 -> 1892.9667 | D14: =D13/30 -> 2301.2 | E14: =E13/30 -> 4378.8 | F14: =F13/30 -> 2843.0333 | G14: =G13/30 -> 5060.4 | H14: =H13/30 -> 2171.6667 | I14: =I13/30 -> 2521.2 | ... U14: =U13/30 -> 1803
A15: 비율 | B15: =B14/$B$14*100 -> 100 | C15: =C14/$B$14*100 -> 3.8339161 | D15: =D14/$B$14*100 -> 4.6607306 | E15: =E14/$B$14*100 -> 8.8685934 | F15: =F14/$B$14*100 -> 5.7581316 | G15: =G14/$B$14*100 -> 10.249071 | H15: =H14/$B$14*100 -> 4.3983805 | I15: =I14/$B$14*100 -> 5.1063071 | ... U15: =U14/$B$14*100 -> 3.6517023

Sheet 2013.3분기
A1: 2013년 3/4분기 수송 현황
T2: (단위:명,%)
A3: 구분 | B3: 합 계 | C3: 소태역 | D3: 학동증심사 입구역 | E3: 남광주역 | F3: 문화전당역 (구도청) | G3: 금남로4가역 | H3: 금남로5가역 | I3: 양동시장역 | J3: 돌고개역 | K3: 농성역 | L3: 화정역 | M3: 쌍촌역 | N3: 운천역 (호남대입구) | O3: 상무 | P3: 김대중 컨벤션센터역 | Q3: 공항역 | R3: 송정공원역 | S3: 송정리역 | T3: 도산역 | U3: 평동역
A4: 누계 | B4: =SUM(C4:U4) -> 4204561 | C4: =SUM(C7,C10,C13) -> 164125 | D4: =SUM(D7,D10,D13) -> 194097 | E4: =SUM(E7,E10,E13) -> 357286 | F4: =SUM(F7,F10,F13) -> 250777 | G4: =SUM(G7,G10,G13) -> 449554 | H4: =SUM(H7,H10,H13) -> 186937 | I4: =SUM(I7,I10,I13) -> 217766 | J4: =SUM(J7,J10,J13) -> 139020 | ... U4: =SUM(U7,U10,U13) -> 155835
A5: 일평균 | B5: =B4/92 -> 45701.75 | C5: =C4/92 -> 1783.9674 | D5: =D4/92 -> 2109.75 | E5: =E4/92 -> 3883.5435 | F5: =F4/92 -> 2725.837 | G5: =G4/92 -> 4886.4565 | H5: =H4/92 -> 2031.9239 | I5: =I4/92 -> 2367.0217 | ... U5: =U4/92 -> 1693.8587
A6: 비율 | B6: =B5/$B$5*100 -> 100 | C6: =C5/$B$5*100 -> 3.9034991 | D6: =D5/$B$5*100 -> 4.616344 | E6: =E5/$B$5*100 -> 8.4975816 | F6: =F5/$B$5*100 -> 5.9644039 | G6: =G5/$B$5*100 -> 10.692056 | H6: =H5/$B$5*100 -> 4.4460528 | I6: =I5/$B$5*100 -> 5.1792803 | ... U6: =U5/$B$5*100 -> 3.7063322
A7: 7월 | B7: =SUM(C7:U7) -> 1480014 | C7: 57298 | D7: 67889 | E7: 123004 | F7: 88080 | G7: 159540 | H7: 67714 | I7: 74997 | J7: 49623 | K7: 77911 | L7: 63437 | M7: 88231 | N7: 93263 | O7: 118937 | P7: 34045 | Q7: 34233 | R7: 105360 | S7: 78063 | T7: 42907 | U7: 55482
A8: 일평균 | B8: =B7/31 -> 47742.387 | C8: =C7/31 -> 1848.3226 | D8: =D7/31 -> 2189.9677 | E8: =E7/31 -> 3967.871 | F8: =F7/31 -> 2841.2903 | G8: =G7/31 -> 5146.4516 | H8: =H7/31 -> 2184.3226 | I8: =I7/31 -> 2419.2581 | ... U8: =U7/31 -> 1789.7419
A9: 비율 | B9: =B8/$B$8*100 -> 100 | C9: =C8/$B$14*100 -> 4.0044137 | D9: =D8/$B$14*100 -> 4.7445922 | E9: =E8/$B$14*100 -> 8.5964415 | F9: =F8/$B$14*100 -> 6.1556906 | G9: =G8/$B$14*100 -> 11.149851 | H9: =H8/$B$14*100 -> 4.7323619 | I9: =I8/$B$14*100 -> 5.2413525 | J9: =J8/$B$14*100 -> 3.4680272 | ... U9: =U8/$B$14*100 -> 3.877498
A10: 8월 | B10: =SUM(C10:U10) -> 1339833 | C10: 53042 | D10: 62161 | E10: 108446 | F10: 81222 | G10: 147074 | H10: 60680 | I10: 69855 | J10: 44902 | K10: 70796 | L10: 55431 | M10: 76785 | N10: 81657 | O10: 106408 | P10: 28119 | Q10: 31948 | R10: 93704 | S10: 74953 | T10: 40802 | U10: 51848
A11: 일평균 | B11: =B10/31 -> 43220.419 | C11: =C10/31 -> 1711.0323 | D11: =D10/31 -> 2005.1935 | E11: =E10/31 -> 3498.2581 | F11: =F10/31 -> 2620.0645 | G11: =G10/31 -> 4744.3226 | H11: =H10/31 -> 1957.4194 | I11: =I10/31 -> 2253.3871 | ... U11: =U10/31 -> 1672.5161
A12: 비율 | B12: =B11/$B$11*100 -> 100 | C12: =C11/$B$14*100 -> 3.7069725 | D12: =D11/$B$14*100 -> 4.3442766 | E12: =E11/$B$14*100 -> 7.5790193 | F12: =F11/$B$14*100 -> 5.6764022 | G12: =G11/$B$14*100 -> 10.278634 | H12: =H11/$B$14*100 -> 4.2407732 | I12: =I11/$B$14*100 -> 4.881991 | J12: =J11/$B$14*100 -> 3.1380883 | ... U12: =U11/$B$14*100 -> 3.6235269
A13: 9월 | B13: =SUM(C13:U13) -> 1384714 | C13: 53785 | D13: 64047 | E13: 125836 | F13: 81475 | G13: 142940 | H13: 58543 | I13: 72914 | J13: 44495 | K13: 71473 | L13: 57879 | M13: 82967 | N13: 86650 | O13: 107100 | P13: 29562 | Q13: 33368 | R13: 105564 | S13: 75520 | T13: 42091 | U13: 48505
A14: 일평균 | B14: =B13/30 -> 46157.133 | C14: =C13/30 -> 1792.8333 | D14: =D13/30 -> 2134.9 | E14: =E13/30 -> 4194.5333 | F14: =F13/30 -> 2715.8333 | G14: =G13/30 -> 4764.6667 | H14: =H13/30 -> 1951.4333 | I14: =I13/30 -> 2430.4667 | ... U14: =U13/30 -> 1616.8333
A15: 비율 | B15: =B14/$B$14*100 -> 100 | C15: =C14/$B$14*100 -> 3.8841956 | D15: =D14/$B$14*100 -> 4.6252872 | E15: =E14/$B$14*100 -> 9.0875083 | F15: =F14/$B$14*100 -> 5.8838865 | G15: =G14/$B$14*100 -> 10.322709 | H15: =H14/$B$14*100 -> 4.2278044 | I15: =I14/$B$14*100 -> 5.2656361 | ... U15: =U14/$B$14*100 -> 3.5028894

Sheet 2013.4분기
A1: 2013년 4/4분기 수송 현황
T2: (단위:명,%)
A3: 구분 | B3: 합 계 | C3: 소태역 | D3: 학동증심사 입구역 | E3: 남광주역 | F3: 문화전당역 (구도청) | G3: 금남로4가역 | H3: 금남로5가역 | I3: 양동시장역 | J3: 돌고개역 | K3: 농성역 | L3: 화정역 | M3: 쌍촌역 | N3: 운천역 (호남대입구) | O3: 상무 | P3: 김대중 컨벤션센터역 | Q3: 공항역 | R3: 송정공원역 | S3: 송정리역 | T3: 도산역 | U3: 평동역
A4: 누계 | B4: =SUM(C4:U4) -> 4689274 | C4: =SUM(C7,C10,C13) -> 184676 | D4: =SUM(D7,D10,D13) -> 216299 | E4: =SUM(E7,E10,E13) -> 410538 | F4: =SUM(F7,F10,F13) -> 272313 | G4: =SUM(G7,G10,G13) -> 498487 | H4: =SUM(H7,H10,H13) -> 205971 | I4: =SUM(I7,I10,I13) -> 220013 | J4: =SUM(J7,J10,J13) -> 147735 | ... U4: =SUM(U7,U10,U13) -> 179175
A5: 일평균 | B5: =B4/92 -> 50970.37 | C5: =C4/92 -> 2007.3478 | D5: =D4/92 -> 2351.0761 | E5: =E4/92 -> 4462.3696 | F5: =F4/92 -> 2959.9239 | G5: =G4/92 -> 5418.337 | H5: =H4/92 -> 2238.8152 | I5: =I4/92 -> 2391.4457 | ... U5: =U4/92 -> 1947.5543
A6: 비율 | B6: =B5/$B$5*100 -> 100 | C6: =C5/$B$5*100 -> 3.9382642 | D6: =D5/$B$5*100 -> 4.612633 | E6: =E5/$B$5*100 -> 8.7548307 | F6: =F5/$B$5*100 -> 5.8071463 | G6: =G5/$B$5*100 -> 10.630366 | H6: =H5/$B$5*100 -> 4.3923857 | I6: =I5/$B$5*100 -> 4.691835 | ... U6: =U5/$B$5*100 -> 3.8209539
A7: 10월 | B7: =SUM(C7:U7) -> 1595028 | C7: 61623 | D7: 73505 | E7: 140459 | F7: 97041 | G7: 174173 | H7: 68392 | I7: 74447 | J7: 50089 | K7: 85465 | L7: 65544 | M7: 95379 | N7: 100954 | O7: 124992 | P7: 36471 | Q7: 39100 | R7: 119157 | S7: 82518 | T7: 47587 | U7: 58132
A8: 일평균 | B8: =B7/31 -> 51452.516 | C8: =C7/31 -> 1987.8387 | D8: =D7/31 -> 2371.129 | E8: =E7/31 -> 4530.9355 | F8: =F7/31 -> 3130.3548 | G8: =G7/31 -> 5618.4839 | H8: =H7/31 -> 2206.1935 | I8: =I7/31 -> 2401.5161 | ... U8: =U7/31 -> 1875.2258
A9: 비율 | B9: =B8/$B$8*100 -> 100 | C9: =C8/$B$14*100 -> 3.9693751 | D9: =D8/$B$14*100 -> 4.7347405 | E9: =E8/$B$14*100 -> 9.0475059 | F9: =F8/$B$14*100 -> 6.250785 | G9: =G8/$B$14*100 -> 11.219155 | H9: =H8/$B$14*100 -> 4.4053925 | I9: =I8/$B$14*100 -> 4.7954184 | J9: =J8/$B$14*100 -> 3.2264257 | ... U9: =U8/$B$14*100 -> 3.7445063
A10: 11월 | B10: =SUM(C10:U10) -> 1541785 | C10: 61925 | D10: 70577 | E10: 138151 | F10: 85572 | G10: 156888 | H10: 66469 | I10: 72854 | J10: 48408 | K10: 84350 | L10: 63396 | M10: 92350 | N10: 98347 | O10: 122996 | P10: 38460 | Q10: 37769 | R10: 114490 | S10: 80186 | T10: 46195 | U10: 62402
A11: 일평균 | B11: =B10/30 -> 51392.833 | C11: =C10/30 -> 2064.1667 | D11: =D10/30 -> 2352.5667 | E11: =E10/30 -> 4605.0333 | F11: =F10/30 -> 2852.4 | G11: =G10/30 -> 5229.6 | H11: =H10/30 -> 2215.6333 | I11: =I10/30 -> 2428.4667 | ... U11: =U10/30 -> 2080.0667
A12: 비율 | B12: =B11/$B$11*100 -> 100 | C12: =C11/$B$14*100 -> 4.121789 | D12: =D11/$B$14*100 -> 4.6976746 | E12: =E11/$B$14*100 -> 9.1954666 | F12: =F11/$B$14*100 -> 5.6957566 | G12: =G11/$B$14*100 -> 10.44262 | H12: =H11/$B$14*100 -> 4.4242421 | I12: =I11/$B$14*100 -> 4.849234 | J12: =J11/$B$14*100 -> 3.2220842 | ... U12: =U11/$B$14*100 -> 4.1535386
A13: 12월 | B13: =SUM(C13:U13) -> 1552461 | C13: 61128 | D13: 72217 | E13: 131928 | F13: 89700 | G13: 167426 | H13: 71110 | I13: 72712 | J13: 49238 | K13: 82707 | L13: 64720 | M13: 90943 | N13: 100380 | O13: 127980 | P13: 32517 | Q13: 37545 | R13: 114485 | S13: 79994 | T13: 47090 | U13: 58641
A14: 일평균 | B14: =B13/31 -> 50079.387 | C14: =C13/31 -> 1971.871 | D14: =D13/31 -> 2329.5806 | E14: =E13/31 -> 4255.7419 | F14: =F13/31 -> 2893.5484 | G14: =G13/31 -> 5400.8387 | H14: =H13/31 -> 2293.871 | I14: =I13/31 -> 2345.5484 | ... U14: =U13/31 -> 1891.6452
A15: 비율 | B15: =B14/$B$14*100 -> 100 | C15: =C14/$B$14*100 -> 3.9374902 | D15: =D14/$B$14*100 -> 4.6517755 | E15: =E14/$B$14*100 -> 8.4979913 | F15: =F14/$B$14*100 -> 5.7779229 | G15: =G14/$B$14*100 -> 10.784554 | H15: =H14/$B$14*100 -> 4.5804693 | I15: =I14/$B$14*100 -> 4.6836603 | ... U15: =U14/$B$14*100 -> 3.777293

Sheet 2014.1분기
A1: 2014년 1/4분기 수송 현황
T2: (단위:명,%)
A3: 구분 | B3: 합 계 | C3: 소태역 | D3: 학동증심사 입구역 | E3: 남광주역 | F3: 문화전당역 (구도청) | G3: 금남로4가역 | H3: 금남로5가역 | I3: 양동시장역 | J3: 돌고개역 | K3: 농성역 | L3: 화정역 | M3: 쌍촌역 | N3: 운천역 (호남대입구) | O3: 상무 | P3: 김대중 컨벤션센터역 | Q3: 공항역 | R3: 송정공원역 | S3: 송정리역 | T3: 도산역 | U3: 평동역
A4: 누계 | B4: =SUM(C4:U4) -> 4340103 | C4: =SUM(C7,C10,C13) -> 170691 | D4: =SUM(D7,D10,D13) -> 189109 | E4: =SUM(E7,E10,E13) -> 371170 | F4: =SUM(F7,F10,F13) -> 262608 | G4: =SUM(G7,G10,G13) -> 467453 | H4: =SUM(H7,H10,H13) -> 196569 | I4: =SUM(I7,I10,I13) -> 207667 | J4: =SUM(J7,J10,J13) -> 144923 | ... U4: =SUM(U7,U10,U13) -> 163873
A5: 일평균 | B5: =B4/90 -> 48223.367 | C5: =C4/90 -> 1896.5667 | D5: =D4/90 -> 2101.2111 | E5: =E4/90 -> 4124.1111 | F5: =F4/90 -> 2917.8667 | G5: =G4/90 -> 5193.9222 | H5: =H4/90 -> 2184.1 | I5: =I4/90 -> 2307.4111 | ... U5: =U4/90 -> 1820.8111
A6: 비율 | B6: =B5/$B$5*100 -> 100 | C6: =C5/$B$5*100 -> 3.932879 | D6: =D5/$B$5*100 -> 4.3572468 | E6: =E5/$B$5*100 -> 8.5521012 | F6: =F5/$B$5*100 -> 6.050732 | G6: =G5/$B$5*100 -> 10.770551 | H6: =H5/$B$5*100 -> 4.5291321 | I6: =I5/$B$5*100 -> 4.7848404 | ... U6: =U5/$B$5*100 -> 3.775786
A7: 1월 | B7: =SUM(C7:U7) -> 1405288 | C7: 56157 | D7: 60555 | E7: 117976 | F7: 87207 | G7: 152315 | H7: 63831 | I7: 73916 | J7: 46420 | K7: 76896 | L7: 57481 | M7: 83440 | N7: 89571 | O7: 114437 | P7: 26557 | Q7: 33337 | R7: 96612 | S7: 73658 | T7: 41491 | U7: 53431
A8: 일평균 | B8: =B7/31 -> 45331.871 | C8: =C7/31 -> 1811.5161 | D8: =D7/31 -> 1953.3871 | E8: =E7/31 -> 3805.6774 | F8: =F7/31 -> 2813.129 | G8: =G7/31 -> 4913.3871 | H8: =H7/31 -> 2059.0645 | I8: =I7/31 -> 2384.3871 | ... U8: =U7/31 -> 1723.5806
A9: 비율 | B9: =B8/$B$8*100 -> 100 | C9: =C8/$B$14*100 -> 3.5383203 | D9: =D8/$B$14*100 -> 3.8154279 | E9: =E8/$B$14*100 -> 7.4333899 | F9: =F8/$B$14*100 -> 5.4947077 | G9: =G8/$B$14*100 -> 9.5970094 | H9: =H8/$B$14*100 -> 4.021841 | I9: =I8/$B$14*100 -> 4.6572731 | J9: =J8/$B$14*100 -> 2.9248149 | ... U9: =U8/$B$14*100 -> 3.3665615
A10: 2월 | B10: =SUM(C10:U10) -> 1347706 | C10: 53627 | D10: 58236 | E10: 108535 | F10: 85080 | G10: 151891 | H10: 63031 | I10: 60935 | J10: 45293 | K10: 74323 | L10: 54860 | M10: 78141 | N10: 86358 | O10: 109274 | P10: 29135 | Q10: 31841 | R10: 95173 | S10: 70343 | T10: 40902 | U10: 50728
A11: 일평균 | B11: =B10/28 -> 48132.357 | C11: =C10/28 -> 1915.25 | D11: =D10/28 -> 2079.8571 | E11: =E10/28 -> 3876.25 | F11: =F10/28 -> 3038.5714 | G11: =G10/28 -> 5424.6786 | H11: =H10/28 -> 2251.1071 | I11: =I10/28 -> 2176.25 | ... U11: =U10/28 -> 1811.7143
A12: 비율 | B12: =B11/$B$11*100 -> 100 | C12: =C11/$B$14*100 -> 3.7409371 | D12: =D11/$B$14*100 -> 4.0624539 | E12: =E11/$B$14*100 -> 7.5712349 | F12: =F11/$B$14*100 -> 5.9350501 | G12: =G11/$B$14*100 -> 10.595683 | H12: =H11/$B$14*100 -> 4.3969457 | I12: =I11/$B$14*100 -> 4.250732 | J12: =J11/$B$14*100 -> 3.1595701 | ... U12: =U11/$B$14*100 -> 3.5387074
A13: 3월 | B13: =SUM(C13:U13) -> 1587109 | C13: 60907 | D13: 70318 | E13: 144659 | F13: 90321 | G13: 163247 | H13: 69707 | I13: 72816 | J13: 53210 | K13: 91856 | L13: 65748 | M13: 93985 | N13: 104314 | O13: 124333 | P13: 34513 | Q13: 37729 | R13: 120731 | S13: 80914 | T13: 48087 | U13: 59714
A14: 일평균 | B14: =B13/31 -> 51197.065 | C14: =C13/31 -> 1964.7419 | D14: =D13/31 -> 2268.3226 | E14: =E13/31 -> 4666.4194 | F14: =F13/31 -> 2913.5806 | G14: =G13/31 -> 5266.0323 | H14: =H13/31 -> 2248.6129 | I14: =I13/31 -> 2348.9032 | ... U14: =U13/31 -> 1926.2581
A15: 비율 | B15: =B14/$B$14*100 -> 100 | C15: =C14/$B$14*100 -> 3.8376066 | D15: =D14/$B$14*100 -> 4.4305716 | E15: =E14/$B$14*100 -> 9.1146229 | F15: =F14/$B$14*100 -> 5.6909135 | G15: =G14/$B$14*100 -> 10.285809 | H15: =H14/$B$14*100 -> 4.3920739 | I15: =I14/$B$14*100 -> 4.5879647 | ... U15: =U14/$B$14*100 -> 3.7624385

Sheet 2014.2분기
A1: 2014년 2/4분기 수송 현황
T2: (단위:명,%)
A3: 구분 | B3: 합 계 | C3: 소태역 | D3: 학동증심사 입구역 | E3: 남광주역 | F3: 문화전당역 (구도청) | G3: 금남로4가역 | H3: 금남로5가역 | I3: 양동시장역 | J3: 돌고개역 | K3: 농성역 | L3: 화정역 | M3: 쌍촌역 | N3: 운천역 (호남대입구) | O3: 상무 | P3: 김대중 컨벤션센터역 | Q3: 공항역 | R3: 송정공원역 | S3: 송정리역 | T3: 도산역 | U3: 평동역
A4: 년누계 | B4: ='2014.1분기'!B4+'2014.2분기'!B7 -> 9010742 | C4: ='2014.1분기'!C4+'2014.2분기'!C7 -> 352513 | D4: ='2014.1분기'!D4+'2014.2분기'!D7 -> 400571 | E4: ='2014.1분기'!E4+'2014.2분기'!E7 -> 796599 | F4: ='2014.1분기'!F4+'2014.2분기'!F7 -> 527577 | G4: ='2014.1분기'!G4+'2014.2분기'!G7 -> 943540 | H4: ='2014.1분기'!H4+'2014.2분기'!H7 -> 397027 | I4: ='2014.1분기'!I4+'2014.2분기'!I7 -> 432843 | ... U4: ='2014.1분기'!U4+'2014.2분기'!U7 -> 344038
A5: 일평균 | B5: =B4/181 -> 49783.105 | C5: =C4/181 -> 1947.5856 | D5: =D4/181 -> 2213.0994 | E5: =E4/181 -> 4401.0994 | F5: =F4/181 -> 2914.7901 | G5: =G4/181 -> 5212.9282 | H5: =H4/181 -> 2193.5193 | I5: =I4/181 -> 2391.3978 | ... U5: =U4/181 -> 1900.7624
A6: 비 율 | B6: =B5/$B$5*100 -> 100 | C6: =C5/$B$5*100 -> 3.9121418 | D6: =D5/$B$5*100 -> 4.445483 | E6: =E5/$B$5*100 -> 8.8405483 | F6: =F5/$B$5*100 -> 5.8549784 | G6: =G5/$B$5*100 -> 10.47128 | H6: =H5/$B$5*100 -> 4.4061521 | I6: =I5/$B$5*100 -> 4.8036333 | ... U6: =U5/$B$5*100 -> 3.8180873
A7: 분기누계 | B7: =SUM(B16,B13,B10) -> 4670639 | C7: =SUM(C16,C13,C10) -> 181822 | D7: =SUM(D16,D13,D10) -> 211462 | E7: =SUM(E16,E13,E10) -> 425429 | F7: =SUM(F16,F13,F10) -> 264969 | G7: =SUM(G16,G13,G10) -> 476087 | H7: =SUM(H16,H13,H10) -> 200458 | I7: =SUM(I16,I13,I10) -> 225176 | ... U7: =SUM(U16,U13,U10) -> 180165
A8: 일평균 | B8: =B7/91 -> 51325.703 | C8: =C7/91 -> 1998.044 | D8: =D7/91 -> 2323.7582 | E8: =E7/91 -> 4675.044 | F8: =F7/91 -> 2911.7473 | G8: =G7/91 -> 5231.7253 | H8: =H7/91 -> 2202.8352 | I8: =I7/91 -> 2474.4615 | ... U8: =U7/91 -> 1979.8352
A9: 비 율 | B9: =B8/$B$8*100 -> 100 | C9: =C8/$B$8*100 -> 3.892872 | D9: =D8/$B$8*100 -> 4.5274747 | E9: =E8/$B$8*100 -> 9.1085824 | F9: =F8/$B$8*100 -> 5.6730781 | G9: =G8/$B$8*100 -> 10.193188 | H9: =H8/$B$8*100 -> 4.2918753 | I9: =I8/$B$8*100 -> 4.8210962 | ... U9: =U8/$B$8*100 -> 3.8573951
A10: 4 월 | B10: =SUM(C10:U10) -> 1590863 | C10: =59445+2146 -> 61591 | D10: 70876 | E10: 149581 | F10: 85852 | G10: 155463 | H10: 68434 | I10: 75481 | J10: 53429 | K10: 92995 | L10: 65330 | M10: 93633 | N10: 107963 | O10: 124511 | P10: 33555 | Q10: 39668 | R10: 122460 | S10: 80512 | T10: 47703 | U10: 61826
A11: 일평균 | B11: =B10/30 -> 53028.767 | C11: =C10/30 -> 2053.0333 | D11: =D10/30 -> 2362.5333 | E11: =E10/30 -> 4986.0333 | F11: =F10/30 -> 2861.7333 | G11: =G10/30 -> 5182.1 | H11: =H10/30 -> 2281.1333 | I11: =I10/30 -> 2516.0333 | ... U11: =U10/30 -> 2060.8667
A12: 비 율 | B12: =B11/$B$11*100 -> 100 | C12: =C11/$B$11*100 -> 3.8715464 | D12: =D11/$B$11*100 -> 4.4551919 | E12: =E11/$B$11*100 -> 9.4025067 | F12: =F11/$B$11*100 -> 5.3965678 | G12: =G11/$B$11*100 -> 9.7722431 | H12: =H11/$B$11*100 -> 4.3016903 | I12: =I11/$B$11*100 -> 4.7446575 | ... U12: =U11/$B$11*100 -> 3.8863183
A13: 5 월 | B13: =SUM(C13:U13) -> 1597378 | C13: =59347+2238 -> 61585 | D13: 72572 | E13: 146118 | F13: 94038 | G13: 165451 | H13: 67338 | I13: 76625 | J13: 53500 | K13: 88641 | L13: 65286 | M13: 92797 | N13: 104299 | O13: 125113 | P13: 31986 | Q13: 38449 | R13: 121746 | S13: 82775 | T13: 48551 | U13: 60508
A14: 일평균 | B14: =B13/31 -> 51528.323 | C14: =C13/31 -> 1986.6129 | D14: =D13/31 -> 2341.0323 | E14: =E13/31 -> 4713.4839 | F14: =F13/31 -> 3033.4839 | G14: =G13/31 -> 5337.129 | H14: =H13/31 -> 2172.1935 | I14: =I13/31 -> 2471.7742 | ... U14: =U13/31 -> 1951.871
A15: 비 율 | B15: =B14/$B$14*100 -> 100 | C15: =C14/$B$14*100 -> 3.8553805 | D15: =D14/$B$14*100 -> 4.5431952 | E15: =E14/$B$14*100 -> 9.1473652 | F15: =F14/$B$14*100 -> 5.8870224 | G15: =G14/$B$14*100 -> 10.357661 | H15: =H14/$B$14*100 -> 4.2155332 | I15: =I14/$B$14*100 -> 4.7969235 | ... U15: =U14/$B$14*100 -> 3.7879575
A16: 6 월 | B16: =SUM(C16:U16) -> 1482398 | C16: =56458+2188 -> 58646 | D16: 68014 | E16: 129730 | F16: 85079 | G16: 155173 | H16: 64686 | I16: 73070 | J16: 50938 | K16: 85352 | L16: 61484 | M16: 86522 | N16: 94754 | O16: 116450 | P16: 29738 | Q16: 35614 | R16: 109188 | S16: 74627 | T16: 45502 | U16: 57831
A17: 일평균 | B17: =B16/30 -> 49413.267 | C17: =C16/30 -> 1954.8667 | D17: =D16/30 -> 2267.1333 | E17: =E16/30 -> 4324.3333 | F17: =F16/30 -> 2835.9667 | G17: =G16/30 -> 5172.4333 | H17: =H16/30 -> 2156.2 | I17: =I16/30 -> 2435.6667 | ... U17: =U16/30 -> 1927.7
A18: 비 율 | B18: =B17/$B$17*100 -> 100 | C18: =C17/$B$17*100 -> 3.9561575 | D18: =D17/$B$17*100 -> 4.5881066 | E18: =E17/$B$17*100 -> 8.751361 | F18: =F17/$B$17*100 -> 5.7392819 | G18: =G17/$B$17*100 -> 10.467702 | H18: =H17/$B$17*100 -> 4.3636055 | I18: =I17/$B$17*100 -> 4.9291756 | ... U18: =U17/$B$17*100 -> 3.901179

Sheet 2014.3분기
A1: 2014년 3/4분기 수송 현황
T2: (단위:명,%)
A3: 구분 | B3: 합 계 | C3: 소태역 | D3: 학동증심사 입구역 | E3: 남광주역 | F3: 문화전당역 (구도청) | G3: 금남로4가역 | H3: 금남로5가역 | I3: 양동시장역 | J3: 돌고개역 | K3: 농성역 | L3: 화정역 | M3: 쌍촌역 | N3: 운천역 (호남대입구) | O3: 상무 | P3: 김대중 컨벤션센터역 | Q3: 공항역 | R3: 송정공원역 | S3: 송정리역 | T3: 도산역 | U3: 평동역
A4: 년누계 | B4: ='2014.2분기'!B4+'2014.3분기'!B7 -> 13324895 | C4: ='2014.2분기'!C4+'2014.3분기'!C7 -> 522375 | D4: ='2014.2분기'!D4+'2014.3분기'!D7 -> 597485 | E4: ='2014.2분기'!E4+'2014.3분기'!E7 -> 1161854 | F4: ='2014.2분기'!F4+'2014.3분기'!F7 -> 779342 | G4: ='2014.2분기'!G4+'2014.3분기'!G7 -> 1404185 | H4: ='2014.2분기'!H4+'2014.3분기'!H7 -> 588316 | I4: ='2014.2분기'!I4+'2014.3분기'!I7 -> 652462 | ... U4: ='2014.2분기'!U4+'2014.3분기'!U7 -> 511082
A5: 일평균 | B5: =B4/273 -> 48809.139 | C5: =C4/273 -> 1913.4615 | D5: =D4/273 -> 2188.5897 | E5: =E4/273 -> 4255.8755 | F5: =F4/273 -> 2854.7326 | G5: =G4/273 -> 5143.5348 | H5: =H4/273 -> 2155.0037 | I5: =I4/273 -> 2389.9707 | ... U5: =U4/273 -> 1872.0952
A6: 비 율 | B6: =B5/$B$5*100 -> 100 | C6: =C5/$B$5*100 -> 3.9202936 | D6: =D5/$B$5*100 -> 4.4839753 | E6: =E5/$B$5*100 -> 8.7194233 | F6: =F5/$B$5*100 -> 5.8487665 | G6: =G5/$B$5*100 -> 10.538057 | H6: =H5/$B$5*100 -> 4.4151642 | I6: =I5/$B$5*100 -> 4.8965639 | ... U6: =U5/$B$5*100 -> 3.8355424
A7: 분기누계 | B7: =SUM(B16,B13,B10) -> 4314153 | C7: =SUM(C16,C13,C10) -> 169862 | D7: =SUM(D16,D13,D10) -> 196914 | E7: =SUM(E16,E13,E10) -> 365255 | F7: =SUM(F16,F13,F10) -> 251765 | G7: =SUM(G16,G13,G10) -> 460645 | H7: =SUM(H16,H13,H10) -> 191289 | I7: =SUM(I16,I13,I10) -> 219619 | ... U7: =SUM(U16,U13,U10) -> 167044
A8: 일평균 | B8: =B7/92 -> 46892.967 | C8: =C7/92 -> 1846.3261 | D8: =D7/92 -> 2140.3696 | E8: =E7/92 -> 3970.163 | F8: =F7/92 -> 2736.5761 | G8: =G7/92 -> 5007.0109 | H8: =H7/92 -> 2079.2283 | I8: =I7/92 -> 2387.163 | ... U8: =U7/92 -> 1815.6957
A9: 비 율 | B9: =B8/$B$8*100 -> 100 | C9: =C8/$B$8*100 -> 3.9373198 | D9: =D8/$B$8*100 -> 4.5643722 | E9: =E8/$B$8*100 -> 8.4664359 | F9: =F8/$B$8*100 -> 5.8357921 | G9: =G8/$B$8*100 -> 10.67753 | H9: =H8/$B$8*100 -> 4.4339874 | I9: =I8/$B$8*100 -> 5.0906632 | ... U9: =U8/$B$8*100 -> 3.8719999
