Workbook
Name Goods: #REF!

Sheet 참고
B6: ※ 작성시 참고사항
B8: 1. 의무구매 범위
B9: 1) 직접 상품을 구매하는 경우
B10: 2) 용역(서비스) 계약을 통해 구매하는 경우
B11: 3) 건설공사 시 시공회사가 구매하는 사급자재의 경우에도 녹색제품이 있는 경우 녹색제품을 구매하여야 합니다.
B13: 2. 특히 다음의 경우에도 녹색제품 구매 및 실적집계가 누락되는 일이 없도록 주의하여 주시고,
B14: 1) 인쇄 : 인쇄업체에서 구매하는 인쇄용지
B15: 2) 청소 및 건물 유지보수 : 용역업체에서 구매하는 화장지, 세제, 비누, 형광등, 수도꼭지, 양변기 등
B16: 3) 사무기기 유지보수 : 사무기기 유지보수 계약업체에서 구매하는 토너 카트리지, 프린터 등
B17: 4) 사무기기 렌탈, 리스 : 복합기, 컴퓨터 등을 렌탈, 리스하는 경우
B18: 5) 그밖에 구매가 가능한 용역 : 용역업체에서 구입하는 녹색제품
B19: 6) 건설공사 : 건설공사의 시공회사가 직접 구입하는 아스콘, 창호 등 녹색건설자재
... B36: 5. 1,2월에 구매한 실적도 계획에 포함하여 제출

Sheet 취합본
A1: 2018년 녹색제품 구매계획
A3: □ 계획 작성표
A4: (단위 : 천원)
D5: 계획(1) | H5: 조정계획(2) | L5: 총합계(A+B) | S5: 전년대비 감액사유 (10%이상시 작성)
A6: 녹색제품 분류 | D6: 총구매 | F6: 녹색구매 | H6: 총구매 | J6: 녹색구매 | L6: 총구매(A) | N6: 녹색구매(B) | P6: 비율(%, B/A) | R6: 세부 포함 제품
D7: 수량 | E7: 금액 | F7: 수량 | G7: 금액 | H7: 수량 | I7: 금액 | J7: 수량 | K7: 금액 | L7: 수량 | M7: 금액 | N7: 수량 | O7: 금액 | P7: 수량 | Q7: 금액
A8: 합계 | D8: =SUM(D9:D121) -> 3418 | E8: =SUM(E9:E121) -> 289034 | F8: =SUM(F9:F121) -> 3335 | G8: =SUM(G9:G121) -> 287524 | H8: =SUM(H9:H121) -> 0 | I8: =SUM(I9:I121) -> 0 | J8: =SUM(J9:J121) -> 0 | K8: =SUM(K9:K121) -> 0 | ... O8: =SUM(O9:O121) -> 287524 | P8: =IF(AND(L8=0,N8=0),"0",IF(AND(L8<N8),"error",(N8/L8)*100)) -> 97.571679 | Q8: =IF(AND(M8=0,O8=0),"0",IF(AND(M8<O8),"error",(O8/M8)*100)) -> 99.47757
A9: 사무/교육/영상/가전 | B9: 사무기기 | C9: 복사기 | D9: =안전관리실!D9+SE사업팀!D9+철도사업팀!D9+기획팀!D9+성과예산팀!D9+정보화팀!D9+총무팀!D9+노무복지팀!D9+자산회계팀!D9+인재개발팀!D9+차량팀!D9+승무팀!D9+신호팀!D9+통신팀!D9+전기팀!D9+기계환경팀!D9+토목팀!D9+건축팀!D9+영업팀!D9+고객만족팀!D9+문화홍보팀!D9+부대사업팀!D9+역무자동화팀!D9+종합관제실!D9+감사실!D9 -> 0 | E9: =안전관리실!E9+SE사업팀!E9+철도사업팀!E9+기획팀!E9+성과예산팀!E9+정보화팀!E9+총무팀!E9+노무복지팀!E9+자산회계팀!E9+인재개발팀!E9+차량팀!E9+승무팀!E9+신호팀!E9+통신팀!E9+전기팀!E9+기계환경팀!E9+토목팀!E9+건축팀!E9+영업팀!E9+고객만족팀!E9+문화홍보팀!E9+부대사업팀!E9+역무자동화팀!E9+종합관제실!E9+감사실!E9 -> 0 | F9: =안전관리실!F9+SE사업팀!F9+철도사업팀!F9+기획팀!F9+성과예산팀!F9+정보화팀!F9+총무팀!F9+노무복지팀!F9+자산회계팀!F9+인재개발팀!F9+차량팀!F9+승무팀!F9+신호팀!F9+통신팀!F9+전기팀!F9+기계환경팀!F9+토목팀!F9+건축팀!F9+영업팀!F9+고객만족팀!F9+문화홍보팀!F9+부대사업팀!F9+역무자동화팀!F9+종합관제실!F9+감사실!F9 -> 0 | G9: =안전관리실!G9+SE사업팀!G9+철도사업팀!G9+기획팀!G9+성과예산팀!G9+정보화팀!G9+총무팀!G9+노무복지팀!G9+자산회계팀!G9+인재개발팀!G9+차량팀!G9+승무팀!G9+신호팀!G9+통신팀!G9+전기팀!G9+기계환경팀!G9+토목팀!G9+건축팀!G9+영업팀!G9+고객만족팀!G9+문화홍보팀!G9+부대사업팀!G9+역무자동화팀!G9+종합관제실!G9+감사실!G9 -> 0 | H9: =안전관리실!H9+SE사업팀!H9+철도사업팀!H9+기획팀!H9+성과예산팀!H9+정보화팀!H9+총무팀!H9+노무복지팀!H9+자산회계팀!H9+인재개발팀!H9+차량팀!H9+승무팀!H9+신호팀!H9+통신팀!H9+전기팀!H9+기계환경팀!H9+토목팀!H9+건축팀!H9+영업팀!H9+고객만족팀!H9+문화홍보팀!H9+부대사업팀!H9+역무자동화팀!H9+종합관제실!H9+감사실!H9 -> 0 | I9: =안전관리실!I9+SE사업팀!I9+철도사업팀!I9+기획팀!I9+성과예산팀!I9+정보화팀!I9+총무팀!I9+노무복지팀!I9+자산회계팀!I9+인재개발팀!I9+차량팀!I9+승무팀!I9+신호팀!I9+통신팀!I9+전기팀!I9+기계환경팀!I9+토목팀!I9+건축팀!I9+영업팀!I9+고객만족팀!I9+문화홍보팀!I9+부대사업팀!I9+역무자동화팀!I9+종합관제실!I9+감사실!I9 -> 0 | J9: =안전관리실!J9+SE사업팀!J9+철도사업팀!J9+기획팀!J9+성과예산팀!J9+정보화팀!J9+총무팀!J9+노무복지팀!J9+자산회계팀!J9+인재개발팀!J9+차량팀!J9+승무팀!J9+신호팀!J9+통신팀!J9+전기팀!J9+기계환경팀!J9+토목팀!J9+건축팀!J9+영업팀!J9+고객만족팀!J9+문화홍보팀!J9+부대사업팀!J9+역무자동화팀!J9+종합관제실!J9+감사실!J9 -> 0 | K9: =안전관리실!K9+SE사업팀!K9+철도사업팀!K9+기획팀!K9+성과예산팀!K9+정보화팀!K9+총무팀!K9+노무복지팀!K9+자산회계팀!K9+인재개발팀!K9+차량팀!K9+승무팀!K9+신호팀!K9+통신팀!K9+전기팀!K9+기계환경팀!K9+토목팀!K9+건축팀!K9+영업팀!K9+고객만족팀!K9+문화홍보팀!K9+부대사업팀!K9+역무자동화팀!K9+종합관제실!K9+감사실!K9 -> 0 | ... Q9: =안전관리실!Q9+SE사업팀!Q9+철도사업팀!Q9+기획팀!Q9+성과예산팀!Q9+정보화팀!Q9+총무팀!Q9+노무복지팀!Q9+자산회계팀!Q9+인재개발팀!Q9+차량팀!Q9+승무팀!Q9+신호팀!Q9+통신팀!Q9+전기팀!Q9+기계환경팀!Q9+토목팀!Q9+건축팀!Q9+영업팀!Q9+고객만족팀!Q9+문화홍보팀!Q9+부대사업팀!Q9+역무자동화팀!Q9+종합관제실!Q9+감사실!Q9 -> 0 | R9: 복합기, 전자복사기, 사무기기트레이 또는 지급장치 | AH9: 01 | AI9: 001 | AJ9: 00002
C10: 팩시밀리 | D10: =안전관리실!D10+SE사업팀!D10+철도사업팀!D10+기획팀!D10+성과예산팀!D10+정보화팀!D10+총무팀!D10+노무복지팀!D10+자산회계팀!D10+인재개발팀!D10+차량팀!D10+승무팀!D10+신호팀!D10+통신팀!D10+전기팀!D10+기계환경팀!D10+토목팀!D10+건축팀!D10+영업팀!D10+고객만족팀!D10+문화홍보팀!D10+부대사업팀!D10+역무자동화팀!D10+종합관제실!D10+감사실!D10 -> 1 | E10: =안전관리실!E10+SE사업팀!E10+철도사업팀!E10+기획팀!E10+성과예산팀!E10+정보화팀!E10+총무팀!E10+노무복지팀!E10+자산회계팀!E10+인재개발팀!E10+차량팀!E10+승무팀!E10+신호팀!E10+통신팀!E10+전기팀!E10+기계환경팀!E10+토목팀!E10+건축팀!E10+영업팀!E10+고객만족팀!E10+문화홍보팀!E10+부대사업팀!E10+역무자동화팀!E10+종합관제실!E10+감사실!E10 -> 350 | F10: =안전관리실!F10+SE사업팀!F10+철도사업팀!F10+기획팀!F10+성과예산팀!F10+정보화팀!F10+총무팀!F10+노무복지팀!F10+자산회계팀!F10+인재개발팀!F10+차량팀!F10+승무팀!F10+신호팀!F10+통신팀!F10+전기팀!F10+기계환경팀!F10+토목팀!F10+건축팀!F10+영업팀!F10+고객만족팀!F10+문화홍보팀!F10+부대사업팀!F10+역무자동화팀!F10+종합관제실!F10+감사실!F10 -> 1 | G10: =안전관리실!G10+SE사업팀!G10+철도사업팀!G10+기획팀!G10+성과예산팀!G10+정보화팀!G10+총무팀!G10+노무복지팀!G10+자산회계팀!G10+인재개발팀!G10+차량팀!G10+승무팀!G10+신호팀!G10+통신팀!G10+전기팀!G10+기계환경팀!G10+토목팀!G10+건축팀!G10+영업팀!G10+고객만족팀!G10+문화홍보팀!G10+부대사업팀!G10+역무자동화팀!G10+종합관제실!G10+감사실!G10 -> 350 | H10: =안전관리실!H10+SE사업팀!H10+철도사업팀!H10+기획팀!H10+성과예산팀!H10+정보화팀!H10+총무팀!H10+노무복지팀!H10+자산회계팀!H10+인재개발팀!H10+차량팀!H10+승무팀!H10+신호팀!H10+통신팀!H10+전기팀!H10+기계환경팀!H10+토목팀!H10+건축팀!H10+영업팀!H10+고객만족팀!H10+문화홍보팀!H10+부대사업팀!H10+역무자동화팀!H10+종합관제실!H10+감사실!H10 -> 0 | I10: =안전관리실!I10+SE사업팀!I10+철도사업팀!I10+기획팀!I10+성과예산팀!I10+정보화팀!I10+총무팀!I10+노무복지팀!I10+자산회계팀!I10+인재개발팀!I10+차량팀!I10+승무팀!I10+신호팀!I10+통신팀!I10+전기팀!I10+기계환경팀!I10+토목팀!I10+건축팀!I10+영업팀!I10+고객만족팀!I10+문화홍보팀!I10+부대사업팀!I10+역무자동화팀!I10+종합관제실!I10+감사실!I10 -> 0 | J10: =안전관리실!J10+SE사업팀!J10+철도사업팀!J10+기획팀!J10+성과예산팀!J10+정보화팀!J10+총무팀!J10+노무복지팀!J10+자산회계팀!J10+인재개발팀!J10+차량팀!J10+승무팀!J10+신호팀!J10+통신팀!J10+전기팀!J10+기계환경팀!J10+토목팀!J10+건축팀!J10+영업팀!J10+고객만족팀!J10+문화홍보팀!J10+부대사업팀!J10+역무자동화팀!J10+종합관제실!J10+감사실!J10 -> 0 | K10: =안전관리실!K10+SE사업팀!K10+철도사업팀!K10+기획팀!K10+성과예산팀!K10+정보화팀!K10+총무팀!K10+노무복지팀!K10+자산회계팀!K10+인재개발팀!K10+차량팀!K10+승무팀!K10+신호팀!K10+통신팀!K10+전기팀!K10+기계환경팀!K10+토목팀!K10+건축팀!K10+영업팀!K10+고객만족팀!K10+문화홍보팀!K10+부대사업팀!K10+역무자동화팀!K10+종합관제실!K10+감사실!K10 -> 0 | ... Q10: =안전관리실!Q10+SE사업팀!Q10+철도사업팀!Q10+기획팀!Q10+성과예산팀!Q10+정보화팀!Q10+총무팀!Q10+노무복지팀!Q10+자산회계팀!Q10+인재개발팀!Q10+차량팀!Q10+승무팀!Q10+신호팀!Q10+통신팀!Q10+전기팀!Q10+기계환경팀!Q10+토목팀!Q10+건축팀!Q10+영업팀!Q10+고객만족팀!Q10+문화홍보팀!Q10+부대사업팀!Q10+역무자동화팀!Q10+종합관제실!Q10+감사실!Q10 -> 100 | R10: 팩시밀리 | AH10: 01 | AI10: 001 | AJ10: 00047
B11: 가전제품 | C11: 세탁기 | D11: =안전관리실!D11+SE사업팀!D11+철도사업팀!D11+기획팀!D11+성과예산팀!D11+정보화팀!D11+총무팀!D11+노무복지팀!D11+자산회계팀!D11+인재개발팀!D11+차량팀!D11+승무팀!D11+신호팀!D11+통신팀!D11+전기팀!D11+기계환경팀!D11+토목팀!D11+건축팀!D11+영업팀!D11+고객만족팀!D11+문화홍보팀!D11+부대사업팀!D11+역무자동화팀!D11+종합관제실!D11+감사실!D11 -> 0 | E11: =안전관리실!E11+SE사업팀!E11+철도사업팀!E11+기획팀!E11+성과예산팀!E11+정보화팀!E11+총무팀!E11+노무복지팀!E11+자산회계팀!E11+인재개발팀!E11+차량팀!E11+승무팀!E11+신호팀!E11+통신팀!E11+전기팀!E11+기계환경팀!E11+토목팀!E11+건축팀!E11+영업팀!E11+고객만족팀!E11+문화홍보팀!E11+부대사업팀!E11+역무자동화팀!E11+종합관제실!E11+감사실!E11 -> 0 | F11: =안전관리실!F11+SE사업팀!F11+철도사업팀!F11+기획팀!F11+성과예산팀!F11+정보화팀!F11+총무팀!F11+노무복지팀!F11+자산회계팀!F11+인재개발팀!F11+차량팀!F11+승무팀!F11+신호팀!F11+통신팀!F11+전기팀!F11+기계환경팀!F11+토목팀!F11+건축팀!F11+영업팀!F11+고객만족팀!F11+문화홍보팀!F11+부대사업팀!F11+역무자동화팀!F11+종합관제실!F11+감사실!F11 -> 0 | G11: =안전관리실!G11+SE사업팀!G11+철도사업팀!G11+기획팀!G11+성과예산팀!G11+정보화팀!G11+총무팀!G11+노무복지팀!G11+자산회계팀!G11+인재개발팀!G11+차량팀!G11+승무팀!G11+신호팀!G11+통신팀!G11+전기팀!G11+기계환경팀!G11+토목팀!G11+건축팀!G11+영업팀!G11+고객만족팀!G11+문화홍보팀!G11+부대사업팀!G11+역무자동화팀!G11+종합관제실!G11+감사실!G11 -> 0 | H11: =안전관리실!H11+SE사업팀!H11+철도사업팀!H11+기획팀!H11+성과예산팀!H11+정보화팀!H11+총무팀!H11+노무복지팀!H11+자산회계팀!H11+인재개발팀!H11+차량팀!H11+승무팀!H11+신호팀!H11+통신팀!H11+전기팀!H11+기계환경팀!H11+토목팀!H11+건축팀!H11+영업팀!H11+고객만족팀!H11+문화홍보팀!H11+부대사업팀!H11+역무자동화팀!H11+종합관제실!H11+감사실!H11 -> 0 | I11: =안전관리실!I11+SE사업팀!I11+철도사업팀!I11+기획팀!I11+성과예산팀!I11+정보화팀!I11+총무팀!I11+노무복지팀!I11+자산회계팀!I11+인재개발팀!I11+차량팀!I11+승무팀!I11+신호팀!I11+통신팀!I11+전기팀!I11+기계환경팀!I11+토목팀!I11+건축팀!I11+영업팀!I11+고객만족팀!I11+문화홍보팀!I11+부대사업팀!I11+역무자동화팀!I11+종합관제실!I11+감사실!I11 -> 0 | J11: =안전관리실!J11+SE사업팀!J11+철도사업팀!J11+기획팀!J11+성과예산팀!J11+정보화팀!J11+총무팀!J11+노무복지팀!J11+자산회계팀!J11+인재개발팀!J11+차량팀!J11+승무팀!J11+신호팀!J11+통신팀!J11+전기팀!J11+기계환경팀!J11+토목팀!J11+건축팀!J11+영업팀!J11+고객만족팀!J11+문화홍보팀!J11+부대사업팀!J11+역무자동화팀!J11+종합관제실!J11+감사실!J11 -> 0 | K11: =안전관리실!K11+SE사업팀!K11+철도사업팀!K11+기획팀!K11+성과예산팀!K11+정보화팀!K11+총무팀!K11+노무복지팀!K11+자산회계팀!K11+인재개발팀!K11+차량팀!K11+승무팀!K11+신호팀!K11+통신팀!K11+전기팀!K11+기계환경팀!K11+토목팀!K11+건축팀!K11+영업팀!K11+고객만족팀!K11+문화홍보팀!K11+부대사업팀!K11+역무자동화팀!K11+종합관제실!K11+감사실!K11 -> 0 | ... Q11: =안전관리실!Q11+SE사업팀!Q11+철도사업팀!Q11+기획팀!Q11+성과예산팀!Q11+정보화팀!Q11+총무팀!Q11+노무복지팀!Q11+자산회계팀!Q11+인재개발팀!Q11+차량팀!Q11+승무팀!Q11+신호팀!Q11+통신팀!Q11+전기팀!Q11+기계환경팀!Q11+토목팀!Q11+건축팀!Q11+영업팀!Q11+고객만족팀!Q11+문화홍보팀!Q11+부대사업팀!Q11+역무자동화팀!Q11+종합관제실!Q11+감사실!Q11 -> 0 | R11: 세탁기 | AH11: 01 | AI11: 002 | AJ11: 00003
C12: 식기세척기 | D12: =안전관리실!D12+SE사업팀!D12+철도사업팀!D12+기획팀!D12+성과예산팀!D12+정보화팀!D12+총무팀!D12+노무복지팀!D12+자산회계팀!D12+인재개발팀!D12+차량팀!D12+승무팀!D12+신호팀!D12+통신팀!D12+전기팀!D12+기계환경팀!D12+토목팀!D12+건축팀!D12+영업팀!D12+고객만족팀!D12+문화홍보팀!D12+부대사업팀!D12+역무자동화팀!D12+종합관제실!D12+감사실!D12 -> 0 | E12: =안전관리실!E12+SE사업팀!E12+철도사업팀!E12+기획팀!E12+성과예산팀!E12+정보화팀!E12+총무팀!E12+노무복지팀!E12+자산회계팀!E12+인재개발팀!E12+차량팀!E12+승무팀!E12+신호팀!E12+통신팀!E12+전기팀!E12+기계환경팀!E12+토목팀!E12+건축팀!E12+영업팀!E12+고객만족팀!E12+문화홍보팀!E12+부대사업팀!E12+역무자동화팀!E12+종합관제실!E12+감사실!E12 -> 0 | F12: =안전관리실!F12+SE사업팀!F12+철도사업팀!F12+기획팀!F12+성과예산팀!F12+정보화팀!F12+총무팀!F12+노무복지팀!F12+자산회계팀!F12+인재개발팀!F12+차량팀!F12+승무팀!F12+신호팀!F12+통신팀!F12+전기팀!F12+기계환경팀!F12+토목팀!F12+건축팀!F12+영업팀!F12+고객만족팀!F12+문화홍보팀!F12+부대사업팀!F12+역무자동화팀!F12+종합관제실!F12+감사실!F12 -> 0 | G12: =안전관리실!G12+SE사업팀!G12+철도사업팀!G12+기획팀!G12+성과예산팀!G12+정보화팀!G12+총무팀!G12+노무복지팀!G12+자산회계팀!G12+인재개발팀!G12+차량팀!G12+승무팀!G12+신호팀!G12+통신팀!G12+전기팀!G12+기계환경팀!G12+토목팀!G12+건축팀!G12+영업팀!G12+고객만족팀!G12+문화홍보팀!G12+부대사업팀!G12+역무자동화팀!G12+종합관제실!G12+감사실!G12 -> 0 | H12: =안전관리실!H12+SE사업팀!H12+철도사업팀!H12+기획팀!H12+성과예산팀!H12+정보화팀!H12+총무팀!H12+노무복지팀!H12+자산회계팀!H12+인재개발팀!H12+차량팀!H12+승무팀!H12+신호팀!H12+통신팀!H12+전기팀!H12+기계환경팀!H12+토목팀!H12+건축팀!H12+영업팀!H12+고객만족팀!H12+문화홍보팀!H12+부대사업팀!H12+역무자동화팀!H12+종합관제실!H12+감사실!H12 -> 0 | I12: =안전관리실!I12+SE사업팀!I12+철도사업팀!I12+기획팀!I12+성과예산팀!I12+정보화팀!I12+총무팀!I12+노무복지팀!I12+자산회계팀!I12+인재개발팀!I12+차량팀!I12+승무팀!I12+신호팀!I12+통신팀!I12+전기팀!I12+기계환경팀!I12+토목팀!I12+건축팀!I12+영업팀!I12+고객만족팀!I12+문화홍보팀!I12+부대사업팀!I12+역무자동화팀!I12+종합관제실!I12+감사실!I12 -> 0 | J12: =안전관리실!J12+SE사업팀!J12+철도사업팀!J12+기획팀!J12+성과예산팀!J12+정보화팀!J12+총무팀!J12+노무복지팀!J12+자산회계팀!J12+인재개발팀!J12+차량팀!J12+승무팀!J12+신호팀!J12+통신팀!J12+전기팀!J12+기계환경팀!J12+토목팀!J12+건축팀!J12+영업팀!J12+고객만족팀!J12+문화홍보팀!J12+부대사업팀!J12+역무자동화팀!J12+종합관제실!J12+감사실!J12 -> 0 | K12: =안전관리실!K12+SE사업팀!K12+철도사업팀!K12+기획팀!K12+성과예산팀!K12+정보화팀!K12+총무팀!K12+노무복지팀!K12+자산회계팀!K12+인재개발팀!K12+차량팀!K12+승무팀!K12+신호팀!K12+통신팀!K12+전기팀!K12+기계환경팀!K12+토목팀!K12+건축팀!K12+영업팀!K12+고객만족팀!K12+문화홍보팀!K12+부대사업팀!K12+역무자동화팀!K12+종합관제실!K12+감사실!K12 -> 0 | ... Q12: =안전관리실!Q12+SE사업팀!Q12+철도사업팀!Q12+기획팀!Q12+성과예산팀!Q12+정보화팀!Q12+총무팀!Q12+노무복지팀!Q12+자산회계팀!Q12+인재개발팀!Q12+차량팀!Q12+승무팀!Q12+신호팀!Q12+통신팀!Q12+전기팀!Q12+기계환경팀!Q12+토목팀!Q12+건축팀!Q12+영업팀!Q12+고객만족팀!Q12+문화홍보팀!Q12+부대사업팀!Q12+역무자동화팀!Q12+종합관제실!Q12+감사실!Q12 -> 0 | R12: 식기세척기 | AH12: 01 | AI12: 002 | AJ12: 00004
C13: 냉장고 | D13: =안전관리실!D13+SE사업팀!D13+철도사업팀!D13+기획팀!D13+성과예산팀!D13+정보화팀!D13+총무팀!D13+노무복지팀!D13+자산회계팀!D13+인재개발팀!D13+차량팀!D13+승무팀!D13+신호팀!D13+통신팀!D13+전기팀!D13+기계환경팀!D13+토목팀!D13+건축팀!D13+영업팀!D13+고객만족팀!D13+문화홍보팀!D13+부대사업팀!D13+역무자동화팀!D13+종합관제실!D13+감사실!D13 -> 0 | E13: =안전관리실!E13+SE사업팀!E13+철도사업팀!E13+기획팀!E13+성과예산팀!E13+정보화팀!E13+총무팀!E13+노무복지팀!E13+자산회계팀!E13+인재개발팀!E13+차량팀!E13+승무팀!E13+신호팀!E13+통신팀!E13+전기팀!E13+기계환경팀!E13+토목팀!E13+건축팀!E13+영업팀!E13+고객만족팀!E13+문화홍보팀!E13+부대사업팀!E13+역무자동화팀!E13+종합관제실!E13+감사실!E13 -> 0 | F13: =안전관리실!F13+SE사업팀!F13+철도사업팀!F13+기획팀!F13+성과예산팀!F13+정보화팀!F13+총무팀!F13+노무복지팀!F13+자산회계팀!F13+인재개발팀!F13+차량팀!F13+승무팀!F13+신호팀!F13+통신팀!F13+전기팀!F13+기계환경팀!F13+토목팀!F13+건축팀!F13+영업팀!F13+고객만족팀!F13+문화홍보팀!F13+부대사업팀!F13+역무자동화팀!F13+종합관제실!F13+감사실!F13 -> 0 | G13: =안전관리실!G13+SE사업팀!G13+철도사업팀!G13+기획팀!G13+성과예산팀!G13+정보화팀!G13+총무팀!G13+노무복지팀!G13+자산회계팀!G13+인재개발팀!G13+차량팀!G13+승무팀!G13+신호팀!G13+통신팀!G13+전기팀!G13+기계환경팀!G13+토목팀!G13+건축팀!G13+영업팀!G13+고객만족팀!G13+문화홍보팀!G13+부대사업팀!G13+역무자동화팀!G13+종합관제실!G13+감사실!G13 -> 0 | H13: =안전관리실!H13+SE사업팀!H13+철도사업팀!H13+기획팀!H13+성과예산팀!H13+정보화팀!H13+총무팀!H13+노무복지팀!H13+자산회계팀!H13+인재개발팀!H13+차량팀!H13+승무팀!H13+신호팀!H13+통신팀!H13+전기팀!H13+기계환경팀!H13+토목팀!H13+건축팀!H13+영업팀!H13+고객만족팀!H13+문화홍보팀!H13+부대사업팀!H13+역무자동화팀!H13+종합관제실!H13+감사실!H13 -> 0 | I13: =안전관리실!I13+SE사업팀!I13+철도사업팀!I13+기획팀!I13+성과예산팀!I13+정보화팀!I13+총무팀!I13+노무복지팀!I13+자산회계팀!I13+인재개발팀!I13+차량팀!I13+승무팀!I13+신호팀!I13+통신팀!I13+전기팀!I13+기계환경팀!I13+토목팀!I13+건축팀!I13+영업팀!I13+고객만족팀!I13+문화홍보팀!I13+부대사업팀!I13+역무자동화팀!I13+종합관제실!I13+감사실!I13 -> 0 | J13: =안전관리실!J13+SE사업팀!J13+철도사업팀!J13+기획팀!J13+성과예산팀!J13+정보화팀!J13+총무팀!J13+노무복지팀!J13+자산회계팀!J13+인재개발팀!J13+차량팀!J13+승무팀!J13+신호팀!J13+통신팀!J13+전기팀!J13+기계환경팀!J13+토목팀!J13+건축팀!J13+영업팀!J13+고객만족팀!J13+문화홍보팀!J13+부대사업팀!J13+역무자동화팀!J13+종합관제실!J13+감사실!J13 -> 0 | K13: =안전관리실!K13+SE사업팀!K13+철도사업팀!K13+기획팀!K13+성과예산팀!K13+정보화팀!K13+총무팀!K13+노무복지팀!K13+자산회계팀!K13+인재개발팀!K13+차량팀!K13+승무팀!K13+신호팀!K13+통신팀!K13+전기팀!K13+기계환경팀!K13+토목팀!K13+건축팀!K13+영업팀!K13+고객만족팀!K13+문화홍보팀!K13+부대사업팀!K13+역무자동화팀!K13+종합관제실!K13+감사실!K13 -> 0 | ... Q13: =안전관리실!Q13+SE사업팀!Q13+철도사업팀!Q13+기획팀!Q13+성과예산팀!Q13+정보화팀!Q13+총무팀!Q13+노무복지팀!Q13+자산회계팀!Q13+인재개발팀!Q13+차량팀!Q13+승무팀!Q13+신호팀!Q13+통신팀!Q13+전기팀!Q13+기계환경팀!Q13+토목팀!Q13+건축팀!Q13+영업팀!Q13+고객만족팀!Q13+문화홍보팀!Q13+부대사업팀!Q13+역무자동화팀!Q13+종합관제실!Q13+감사실!Q13 -> 0 | R13: 냉장고 | AH13: 01 | AI13: 002 | AJ13: 00005
C14: 공기청정기 | D14: =안전관리실!D14+SE사업팀!D14+철도사업팀!D14+기획팀!D14+성과예산팀!D14+정보화팀!D14+총무팀!D14+노무복지팀!D14+자산회계팀!D14+인재개발팀!D14+차량팀!D14+승무팀!D14+신호팀!D14+통신팀!D14+전기팀!D14+기계환경팀!D14+토목팀!D14+건축팀!D14+영업팀!D14+고객만족팀!D14+문화홍보팀!D14+부대사업팀!D14+역무자동화팀!D14+종합관제실!D14+감사실!D14 -> 0 | E14: =안전관리실!E14+SE사업팀!E14+철도사업팀!E14+기획팀!E14+성과예산팀!E14+정보화팀!E14+총무팀!E14+노무복지팀!E14+자산회계팀!E14+인재개발팀!E14+차량팀!E14+승무팀!E14+신호팀!E14+통신팀!E14+전기팀!E14+기계환경팀!E14+토목팀!E14+건축팀!E14+영업팀!E14+고객만족팀!E14+문화홍보팀!E14+부대사업팀!E14+역무자동화팀!E14+종합관제실!E14+감사실!E14 -> 0 | F14: =안전관리실!F14+SE사업팀!F14+철도사업팀!F14+기획팀!F14+성과예산팀!F14+정보화팀!F14+총무팀!F14+노무복지팀!F14+자산회계팀!F14+인재개발팀!F14+차량팀!F14+승무팀!F14+신호팀!F14+통신팀!F14+전기팀!F14+기계환경팀!F14+토목팀!F14+건축팀!F14+영업팀!F14+고객만족팀!F14+문화홍보팀!F14+부대사업팀!F14+역무자동화팀!F14+종합관제실!F14+감사실!F14 -> 0 | G14: =안전관리실!G14+SE사업팀!G14+철도사업팀!G14+기획팀!G14+성과예산팀!G14+정보화팀!G14+총무팀!G14+노무복지팀!G14+자산회계팀!G14+인재개발팀!G14+차량팀!G14+승무팀!G14+신호팀!G14+통신팀!G14+전기팀!G14+기계환경팀!G14+토목팀!G14+건축팀!G14+영업팀!G14+고객만족팀!G14+문화홍보팀!G14+부대사업팀!G14+역무자동화팀!G14+종합관제실!G14+감사실!G14 -> 0 | H14: =안전관리실!H14+SE사업팀!H14+철도사업팀!H14+기획팀!H14+성과예산팀!H14+정보화팀!H14+총무팀!H14+노무복지팀!H14+자산회계팀!H14+인재개발팀!H14+차량팀!H14+승무팀!H14+신호팀!H14+통신팀!H14+전기팀!H14+기계환경팀!H14+토목팀!H14+건축팀!H14+영업팀!H14+고객만족팀!H14+문화홍보팀!H14+부대사업팀!H14+역무자동화팀!H14+종합관제실!H14+감사실!H14 -> 0 | I14: =안전관리실!I14+SE사업팀!I14+철도사업팀!I14+기획팀!I14+성과예산팀!I14+정보화팀!I14+총무팀!I14+노무복지팀!I14+자산회계팀!I14+인재개발팀!I14+차량팀!I14+승무팀!I14+신호팀!I14+통신팀!I14+전기팀!I14+기계환경팀!I14+토목팀!I14+건축팀!I14+영업팀!I14+고객만족팀!I14+문화홍보팀!I14+부대사업팀!I14+역무자동화팀!I14+종합관제실!I14+감사실!I14 -> 0 | J14: =안전관리실!J14+SE사업팀!J14+철도사업팀!J14+기획팀!J14+성과예산팀!J14+정보화팀!J14+총무팀!J14+노무복지팀!J14+자산회계팀!J14+인재개발팀!J14+차량팀!J14+승무팀!J14+신호팀!J14+통신팀!J14+전기팀!J14+기계환경팀!J14+토목팀!J14+건축팀!J14+영업팀!J14+고객만족팀!J14+문화홍보팀!J14+부대사업팀!J14+역무자동화팀!J14+종합관제실!J14+감사실!J14 -> 0 | K14: =안전관리실!K14+SE사업팀!K14+철도사업팀!K14+기획팀!K14+성과예산팀!K14+정보화팀!K14+총무팀!K14+노무복지팀!K14+자산회계팀!K14+인재개발팀!K14+차량팀!K14+승무팀!K14+신호팀!K14+통신팀!K14+전기팀!K14+기계환경팀!K14+토목팀!K14+건축팀!K14+영업팀!K14+고객만족팀!K14+문화홍보팀!K14+부대사업팀!K14+역무자동화팀!K14+종합관제실!K14+감사실!K14 -> 0 | ... Q14: =안전관리실!Q14+SE사업팀!Q14+철도사업팀!Q14+기획팀!Q14+성과예산팀!Q14+정보화팀!Q14+총무팀!Q14+노무복지팀!Q14+자산회계팀!Q14+인재개발팀!Q14+차량팀!Q14+승무팀!Q14+신호팀!Q14+통신팀!Q14+전기팀!Q14+기계환경팀!Q14+토목팀!Q14+건축팀!Q14+영업팀!Q14+고객만족팀!Q14+문화홍보팀!Q14+부대사업팀!Q14+역무자동화팀!Q14+종합관제실!Q14+감사실!Q14 -> 0 | R14: 공기청정기 | AH14: 01 | AI14: 002 | AJ14: 00006
C15: 텔레비전 및 비디오 프로젝터 | D15: =안전관리실!D15+SE사업팀!D15+철도사업팀!D15+기획팀!D15+성과예산팀!D15+정보화팀!D15+총무팀!D15+노무복지팀!D15+자산회계팀!D15+인재개발팀!D15+차량팀!D15+승무팀!D15+신호팀!D15+통신팀!D15+전기팀!D15+기계환경팀!D15+토목팀!D15+건축팀!D15+영업팀!D15+고객만족팀!D15+문화홍보팀!D15+부대사업팀!D15+역무자동화팀!D15+종합관제실!D15+감사실!D15 -> 0 | E15: =안전관리실!E15+SE사업팀!E15+철도사업팀!E15+기획팀!E15+성과예산팀!E15+정보화팀!E15+총무팀!E15+노무복지팀!E15+자산회계팀!E15+인재개발팀!E15+차량팀!E15+승무팀!E15+신호팀!E15+통신팀!E15+전기팀!E15+기계환경팀!E15+토목팀!E15+건축팀!E15+영업팀!E15+고객만족팀!E15+문화홍보팀!E15+부대사업팀!E15+역무자동화팀!E15+종합관제실!E15+감사실!E15 -> 0 | F15: =안전관리실!F15+SE사업팀!F15+철도사업팀!F15+기획팀!F15+성과예산팀!F15+정보화팀!F15+총무팀!F15+노무복지팀!F15+자산회계팀!F15+인재개발팀!F15+차량팀!F15+승무팀!F15+신호팀!F15+통신팀!F15+전기팀!F15+기계환경팀!F15+토목팀!F15+건축팀!F15+영업팀!F15+고객만족팀!F15+문화홍보팀!F15+부대사업팀!F15+역무자동화팀!F15+종합관제실!F15+감사실!F15 -> 0 | G15: =안전관리실!G15+SE사업팀!G15+철도사업팀!G15+기획팀!G15+성과예산팀!G15+정보화팀!G15+총무팀!G15+노무복지팀!G15+자산회계팀!G15+인재개발팀!G15+차량팀!G15+승무팀!G15+신호팀!G15+통신팀!G15+전기팀!G15+기계환경팀!G15+토목팀!G15+건축팀!G15+영업팀!G15+고객만족팀!G15+문화홍보팀!G15+부대사업팀!G15+역무자동화팀!G15+종합관제실!G15+감사실!G15 -> 0 | H15: =안전관리실!H15+SE사업팀!H15+철도사업팀!H15+기획팀!H15+성과예산팀!H15+정보화팀!H15+총무팀!H15+노무복지팀!H15+자산회계팀!H15+인재개발팀!H15+차량팀!H15+승무팀!H15+신호팀!H15+통신팀!H15+전기팀!H15+기계환경팀!H15+토목팀!H15+건축팀!H15+영업팀!H15+고객만족팀!H15+문화홍보팀!H15+부대사업팀!H15+역무자동화팀!H15+종합관제실!H15+감사실!H15 -> 0 | I15: =안전관리실!I15+SE사업팀!I15+철도사업팀!I15+기획팀!I15+성과예산팀!I15+정보화팀!I15+총무팀!I15+노무복지팀!I15+자산회계팀!I15+인재개발팀!I15+차량팀!I15+승무팀!I15+신호팀!I15+통신팀!I15+전기팀!I15+기계환경팀!I15+토목팀!I15+건축팀!I15+영업팀!I15+고객만족팀!I15+문화홍보팀!I15+부대사업팀!I15+역무자동화팀!I15+종합관제실!I15+감사실!I15 -> 0 | J15: =안전관리실!J15+SE사업팀!J15+철도사업팀!J15+기획팀!J15+성과예산팀!J15+정보화팀!J15+총무팀!J15+노무복지팀!J15+자산회계팀!J15+인재개발팀!J15+차량팀!J15+승무팀!J15+신호팀!J15+통신팀!J15+전기팀!J15+기계환경팀!J15+토목팀!J15+건축팀!J15+영업팀!J15+고객만족팀!J15+문화홍보팀!J15+부대사업팀!J15+역무자동화팀!J15+종합관제실!J15+감사실!J15 -> 0 | K15: =안전관리실!K15+SE사업팀!K15+철도사업팀!K15+기획팀!K15+성과예산팀!K15+정보화팀!K15+총무팀!K15+노무복지팀!K15+자산회계팀!K15+인재개발팀!K15+차량팀!K15+승무팀!K15+신호팀!K15+통신팀!K15+전기팀!K15+기계환경팀!K15+토목팀!K15+건축팀!K15+영업팀!K15+고객만족팀!K15+문화홍보팀!K15+부대사업팀!K15+역무자동화팀!K15+종합관제실!K15+감사실!K15 -> 0 | ... Q15: =안전관리실!Q15+SE사업팀!Q15+철도사업팀!Q15+기획팀!Q15+성과예산팀!Q15+정보화팀!Q15+총무팀!Q15+노무복지팀!Q15+자산회계팀!Q15+인재개발팀!Q15+차량팀!Q15+승무팀!Q15+신호팀!Q15+통신팀!Q15+전기팀!Q15+기계환경팀!Q15+토목팀!Q15+건축팀!Q15+영업팀!Q15+고객만족팀!Q15+문화홍보팀!Q15+부대사업팀!Q15+역무자동화팀!Q15+종합관제실!Q15+감사실!Q15 -> 0 | R15: 텔레비전, 비디오프로젝터, 일체형 VCR·DVD | AH15: 01 | AI15: 002 | AJ15: 00007
C16: 음식물쓰레기 감량화기 | D16: =안전관리실!D16+SE사업팀!D16+철도사업팀!D16+기획팀!D16+성과예산팀!D16+정보화팀!D16+총무팀!D16+노무복지팀!D16+자산회계팀!D16+인재개발팀!D16+차량팀!D16+승무팀!D16+신호팀!D16+통신팀!D16+전기팀!D16+기계환경팀!D16+토목팀!D16+건축팀!D16+영업팀!D16+고객만족팀!D16+문화홍보팀!D16+부대사업팀!D16+역무자동화팀!D16+종합관제실!D16+감사실!D16 -> 0 | E16: =안전관리실!E16+SE사업팀!E16+철도사업팀!E16+기획팀!E16+성과예산팀!E16+정보화팀!E16+총무팀!E16+노무복지팀!E16+자산회계팀!E16+인재개발팀!E16+차량팀!E16+승무팀!E16+신호팀!E16+통신팀!E16+전기팀!E16+기계환경팀!E16+토목팀!E16+건축팀!E16+영업팀!E16+고객만족팀!E16+문화홍보팀!E16+부대사업팀!E16+역무자동화팀!E16+종합관제실!E16+감사실!E16 -> 0 | F16: =안전관리실!F16+SE사업팀!F16+철도사업팀!F16+기획팀!F16+성과예산팀!F16+정보화팀!F16+총무팀!F16+노무복지팀!F16+자산회계팀!F16+인재개발팀!F16+차량팀!F16+승무팀!F16+신호팀!F16+통신팀!F16+전기팀!F16+기계환경팀!F16+토목팀!F16+건축팀!F16+영업팀!F16+고객만족팀!F16+문화홍보팀!F16+부대사업팀!F16+역무자동화팀!F16+종합관제실!F16+감사실!F16 -> 0 | G16: =안전관리실!G16+SE사업팀!G16+철도사업팀!G16+기획팀!G16+성과예산팀!G16+정보화팀!G16+총무팀!G16+노무복지팀!G16+자산회계팀!G16+인재개발팀!G16+차량팀!G16+승무팀!G16+신호팀!G16+통신팀!G16+전기팀!G16+기계환경팀!G16+토목팀!G16+건축팀!G16+영업팀!G16+고객만족팀!G16+문화홍보팀!G16+부대사업팀!G16+역무자동화팀!G16+종합관제실!G16+감사실!G16 -> 0 | H16: =안전관리실!H16+SE사업팀!H16+철도사업팀!H16+기획팀!H16+성과예산팀!H16+정보화팀!H16+총무팀!H16+노무복지팀!H16+자산회계팀!H16+인재개발팀!H16+차량팀!H16+승무팀!H16+신호팀!H16+통신팀!H16+전기팀!H16+기계환경팀!H16+토목팀!H16+건축팀!H16+영업팀!H16+고객만족팀!H16+문화홍보팀!H16+부대사업팀!H16+역무자동화팀!H16+종합관제실!H16+감사실!H16 -> 0 | I16: =안전관리실!I16+SE사업팀!I16+철도사업팀!I16+기획팀!I16+성과예산팀!I16+정보화팀!I16+총무팀!I16+노무복지팀!I16+자산회계팀!I16+인재개발팀!I16+차량팀!I16+승무팀!I16+신호팀!I16+통신팀!I16+전기팀!I16+기계환경팀!I16+토목팀!I16+건축팀!I16+영업팀!I16+고객만족팀!I16+문화홍보팀!I16+부대사업팀!I16+역무자동화팀!I16+종합관제실!I16+감사실!I16 -> 0 | J16: =안전관리실!J16+SE사업팀!J16+철도사업팀!J16+기획팀!J16+성과예산팀!J16+정보화팀!J16+총무팀!J16+노무복지팀!J16+자산회계팀!J16+인재개발팀!J16+차량팀!J16+승무팀!J16+신호팀!J16+통신팀!J16+전기팀!J16+기계환경팀!J16+토목팀!J16+건축팀!J16+영업팀!J16+고객만족팀!J16+문화홍보팀!J16+부대사업팀!J16+역무자동화팀!J16+종합관제실!J16+감사실!J16 -> 0 | K16: =안전관리실!K16+SE사업팀!K16+철도사업팀!K16+기획팀!K16+성과예산팀!K16+정보화팀!K16+총무팀!K16+노무복지팀!K16+자산회계팀!K16+인재개발팀!K16+차량팀!K16+승무팀!K16+신호팀!K16+통신팀!K16+전기팀!K16+기계환경팀!K16+토목팀!K16+건축팀!K16+영업팀!K16+고객만족팀!K16+문화홍보팀!K16+부대사업팀!K16+역무자동화팀!K16+종합관제실!K16+감사실!K16 -> 0 | ... Q16: =안전관리실!Q16+SE사업팀!Q16+철도사업팀!Q16+기획팀!Q16+성과예산팀!Q16+정보화팀!Q16+총무팀!Q16+노무복지팀!Q16+자산회계팀!Q16+인재개발팀!Q16+차량팀!Q16+승무팀!Q16+신호팀!Q16+통신팀!Q16+전기팀!Q16+기계환경팀!Q16+토목팀!Q16+건축팀!Q16+영업팀!Q16+고객만족팀!Q16+문화홍보팀!Q16+부대사업팀!Q16+역무자동화팀!Q16+종합관제실!Q16+감사실!Q16 -> 0 | R16: 음식물 쓰레기 감량화기, 음식물쓰레기처리기 | AH16: 01 | AI16: 002 | AJ16: 00008
C17: 에어컨디셔너 | D17: =안전관리실!D17+SE사업팀!D17+철도사업팀!D17+기획팀!D17+성과예산팀!D17+정보화팀!D17+총무팀!D17+노무복지팀!D17+자산회계팀!D17+인재개발팀!D17+차량팀!D17+승무팀!D17+신호팀!D17+통신팀!D17+전기팀!D17+기계환경팀!D17+토목팀!D17+건축팀!D17+영업팀!D17+고객만족팀!D17+문화홍보팀!D17+부대사업팀!D17+역무자동화팀!D17+종합관제실!D17+감사실!D17 -> 0 | E17: =안전관리실!E17+SE사업팀!E17+철도사업팀!E17+기획팀!E17+성과예산팀!E17+정보화팀!E17+총무팀!E17+노무복지팀!E17+자산회계팀!E17+인재개발팀!E17+차량팀!E17+승무팀!E17+신호팀!E17+통신팀!E17+전기팀!E17+기계환경팀!E17+토목팀!E17+건축팀!E17+영업팀!E17+고객만족팀!E17+문화홍보팀!E17+부대사업팀!E17+역무자동화팀!E17+종합관제실!E17+감사실!E17 -> 0 | F17: =안전관리실!F17+SE사업팀!F17+철도사업팀!F17+기획팀!F17+성과예산팀!F17+정보화팀!F17+총무팀!F17+노무복지팀!F17+자산회계팀!F17+인재개발팀!F17+차량팀!F17+승무팀!F17+신호팀!F17+통신팀!F17+전기팀!F17+기계환경팀!F17+토목팀!F17+건축팀!F17+영업팀!F17+고객만족팀!F17+문화홍보팀!F17+부대사업팀!F17+역무자동화팀!F17+종합관제실!F17+감사실!F17 -> 0 | G17: =안전관리실!G17+SE사업팀!G17+철도사업팀!G17+기획팀!G17+성과예산팀!G17+정보화팀!G17+총무팀!G17+노무복지팀!G17+자산회계팀!G17+인재개발팀!G17+차량팀!G17+승무팀!G17+신호팀!G17+통신팀!G17+전기팀!G17+기계환경팀!G17+토목팀!G17+건축팀!G17+영업팀!G17+고객만족팀!G17+문화홍보팀!G17+부대사업팀!G17+역무자동화팀!G17+종합관제실!G17+감사실!G17 -> 0 | H17: =안전관리실!H17+SE사업팀!H17+철도사업팀!H17+기획팀!H17+성과예산팀!H17+정보화팀!H17+총무팀!H17+노무복지팀!H17+자산회계팀!H17+인재개발팀!H17+차량팀!H17+승무팀!H17+신호팀!H17+통신팀!H17+전기팀!H17+기계환경팀!H17+토목팀!H17+건축팀!H17+영업팀!H17+고객만족팀!H17+문화홍보팀!H17+부대사업팀!H17+역무자동화팀!H17+종합관제실!H17+감사실!H17 -> 0 | I17: =안전관리실!I17+SE사업팀!I17+철도사업팀!I17+기획팀!I17+성과예산팀!I17+정보화팀!I17+총무팀!I17+노무복지팀!I17+자산회계팀!I17+인재개발팀!I17+차량팀!I17+승무팀!I17+신호팀!I17+통신팀!I17+전기팀!I17+기계환경팀!I17+토목팀!I17+건축팀!I17+영업팀!I17+고객만족팀!I17+문화홍보팀!I17+부대사업팀!I17+역무자동화팀!I17+종합관제실!I17+감사실!I17 -> 0 | J17: =안전관리실!J17+SE사업팀!J17+철도사업팀!J17+기획팀!J17+성과예산팀!J17+정보화팀!J17+총무팀!J17+노무복지팀!J17+자산회계팀!J17+인재개발팀!J17+차량팀!J17+승무팀!J17+신호팀!J17+통신팀!J17+전기팀!J17+기계환경팀!J17+토목팀!J17+건축팀!J17+영업팀!J17+고객만족팀!J17+문화홍보팀!J17+부대사업팀!J17+역무자동화팀!J17+종합관제실!J17+감사실!J17 -> 0 | K17: =안전관리실!K17+SE사업팀!K17+철도사업팀!K17+기획팀!K17+성과예산팀!K17+정보화팀!K17+총무팀!K17+노무복지팀!K17+자산회계팀!K17+인재개발팀!K17+차량팀!K17+승무팀!K17+신호팀!K17+통신팀!K17+전기팀!K17+기계환경팀!K17+토목팀!K17+건축팀!K17+영업팀!K17+고객만족팀!K17+문화홍보팀!K17+부대사업팀!K17+역무자동화팀!K17+종합관제실!K17+감사실!K17 -> 0 | ... Q17: =안전관리실!Q17+SE사업팀!Q17+철도사업팀!Q17+기획팀!Q17+성과예산팀!Q17+정보화팀!Q17+총무팀!Q17+노무복지팀!Q17+자산회계팀!Q17+인재개발팀!Q17+차량팀!Q17+승무팀!Q17+신호팀!Q17+통신팀!Q17+전기팀!Q17+기계환경팀!Q17+토목팀!Q17+건축팀!Q17+영업팀!Q17+고객만족팀!Q17+문화홍보팀!Q17+부대사업팀!Q17+역무자동화팀!Q17+종합관제실!Q17+감사실!Q17 -> 0 | R17: 에어컨디셔너, 히트펌프냉난방기 | AH17: 01 | AI17: 002 | AJ17: 00161
B18: 가구 | C18: 책상(탁자) | D18: =안전관리실!D18+SE사업팀!D18+철도사업팀!D18+기획팀!D18+성과예산팀!D18+정보화팀!D18+총무팀!D18+노무복지팀!D18+자산회계팀!D18+인재개발팀!D18+차량팀!D18+승무팀!D18+신호팀!D18+통신팀!D18+전기팀!D18+기계환경팀!D18+토목팀!D18+건축팀!D18+영업팀!D18+고객만족팀!D18+문화홍보팀!D18+부대사업팀!D18+역무자동화팀!D18+종합관제실!D18+감사실!D18 -> 0 | E18: =안전관리실!E18+SE사업팀!E18+철도사업팀!E18+기획팀!E18+성과예산팀!E18+정보화팀!E18+총무팀!E18+노무복지팀!E18+자산회계팀!E18+인재개발팀!E18+차량팀!E18+승무팀!E18+신호팀!E18+통신팀!E18+전기팀!E18+기계환경팀!E18+토목팀!E18+건축팀!E18+영업팀!E18+고객만족팀!E18+문화홍보팀!E18+부대사업팀!E18+역무자동화팀!E18+종합관제실!E18+감사실!E18 -> 0 | F18: =안전관리실!F18+SE사업팀!F18+철도사업팀!F18+기획팀!F18+성과예산팀!F18+정보화팀!F18+총무팀!F18+노무복지팀!F18+자산회계팀!F18+인재개발팀!F18+차량팀!F18+승무팀!F18+신호팀!F18+통신팀!F18+전기팀!F18+기계환경팀!F18+토목팀!F18+건축팀!F18+영업팀!F18+고객만족팀!F18+문화홍보팀!F18+부대사업팀!F18+역무자동화팀!F18+종합관제실!F18+감사실!F18 -> 0 | G18: =안전관리실!G18+SE사업팀!G18+철도사업팀!G18+기획팀!G18+성과예산팀!G18+정보화팀!G18+총무팀!G18+노무복지팀!G18+자산회계팀!G18+인재개발팀!G18+차량팀!G18+승무팀!G18+신호팀!G18+통신팀!G18+전기팀!G18+기계환경팀!G18+토목팀!G18+건축팀!G18+영업팀!G18+고객만족팀!G18+문화홍보팀!G18+부대사업팀!G18+역무자동화팀!G18+종합관제실!G18+감사실!G18 -> 0 | H18: =안전관리실!H18+SE사업팀!H18+철도사업팀!H18+기획팀!H18+성과예산팀!H18+정보화팀!H18+총무팀!H18+노무복지팀!H18+자산회계팀!H18+인재개발팀!H18+차량팀!H18+승무팀!H18+신호팀!H18+통신팀!H18+전기팀!H18+기계환경팀!H18+토목팀!H18+건축팀!H18+영업팀!H18+고객만족팀!H18+문화홍보팀!H18+부대사업팀!H18+역무자동화팀!H18+종합관제실!H18+감사실!H18 -> 0 | I18: =안전관리실!I18+SE사업팀!I18+철도사업팀!I18+기획팀!I18+성과예산팀!I18+정보화팀!I18+총무팀!I18+노무복지팀!I18+자산회계팀!I18+인재개발팀!I18+차량팀!I18+승무팀!I18+신호팀!I18+통신팀!I18+전기팀!I18+기계환경팀!I18+토목팀!I18+건축팀!I18+영업팀!I18+고객만족팀!I18+문화홍보팀!I18+부대사업팀!I18+역무자동화팀!I18+종합관제실!I18+감사실!I18 -> 0 | J18: =안전관리실!J18+SE사업팀!J18+철도사업팀!J18+기획팀!J18+성과예산팀!J18+정보화팀!J18+총무팀!J18+노무복지팀!J18+자산회계팀!J18+인재개발팀!J18+차량팀!J18+승무팀!J18+신호팀!J18+통신팀!J18+전기팀!J18+기계환경팀!J18+토목팀!J18+건축팀!J18+영업팀!J18+고객만족팀!J18+문화홍보팀!J18+부대사업팀!J18+역무자동화팀!J18+종합관제실!J18+감사실!J18 -> 0 | K18: =안전관리실!K18+SE사업팀!K18+철도사업팀!K18+기획팀!K18+성과예산팀!K18+정보화팀!K18+총무팀!K18+노무복지팀!K18+자산회계팀!K18+인재개발팀!K18+차량팀!K18+승무팀!K18+신호팀!K18+통신팀!K18+전기팀!K18+기계환경팀!K18+토목팀!K18+건축팀!K18+영업팀!K18+고객만족팀!K18+문화홍보팀!K18+부대사업팀!K18+역무자동화팀!K18+종합관제실!K18+감사실!K18 -> 0 | ... Q18: =안전관리실!Q18+SE사업팀!Q18+철도사업팀!Q18+기획팀!Q18+성과예산팀!Q18+정보화팀!Q18+총무팀!Q18+노무복지팀!Q18+자산회계팀!Q18+인재개발팀!Q18+차량팀!Q18+승무팀!Q18+신호팀!Q18+통신팀!Q18+전기팀!Q18+기계환경팀!Q18+토목팀!Q18+건축팀!Q18+영업팀!Q18+고객만족팀!Q18+문화홍보팀!Q18+부대사업팀!Q18+역무자동화팀!Q18+종합관제실!Q18+감사실!Q18 -> 0 | R18: 책상(컴퓨터 책상, 교육용 책상, 금속제 책상, 보조 책상), 탁자(회의용 탁자, 전화탁자), 열람대, 검색대, 실험대, 붙박이형 책상, 교탁, 실험대, 화장대, 실험실용 싱크대 | AH18: 01 | AI18: 004 | AJ18: 00013
C19: 의자 | D19: =안전관리실!D19+SE사업팀!D19+철도사업팀!D19+기획팀!D19+성과예산팀!D19+정보화팀!D19+총무팀!D19+노무복지팀!D19+자산회계팀!D19+인재개발팀!D19+차량팀!D19+승무팀!D19+신호팀!D19+통신팀!D19+전기팀!D19+기계환경팀!D19+토목팀!D19+건축팀!D19+영업팀!D19+고객만족팀!D19+문화홍보팀!D19+부대사업팀!D19+역무자동화팀!D19+종합관제실!D19+감사실!D19 -> 0 | E19: =안전관리실!E19+SE사업팀!E19+철도사업팀!E19+기획팀!E19+성과예산팀!E19+정보화팀!E19+총무팀!E19+노무복지팀!E19+자산회계팀!E19+인재개발팀!E19+차량팀!E19+승무팀!E19+신호팀!E19+통신팀!E19+전기팀!E19+기계환경팀!E19+토목팀!E19+건축팀!E19+영업팀!E19+고객만족팀!E19+문화홍보팀!E19+부대사업팀!E19+역무자동화팀!E19+종합관제실!E19+감사실!E19 -> 0 | F19: =안전관리실!F19+SE사업팀!F19+철도사업팀!F19+기획팀!F19+성과예산팀!F19+정보화팀!F19+총무팀!F19+노무복지팀!F19+자산회계팀!F19+인재개발팀!F19+차량팀!F19+승무팀!F19+신호팀!F19+통신팀!F19+전기팀!F19+기계환경팀!F19+토목팀!F19+건축팀!F19+영업팀!F19+고객만족팀!F19+문화홍보팀!F19+부대사업팀!F19+역무자동화팀!F19+종합관제실!F19+감사실!F19 -> 0 | G19: =안전관리실!G19+SE사업팀!G19+철도사업팀!G19+기획팀!G19+성과예산팀!G19+정보화팀!G19+총무팀!G19+노무복지팀!G19+자산회계팀!G19+인재개발팀!G19+차량팀!G19+승무팀!G19+신호팀!G19+통신팀!G19+전기팀!G19+기계환경팀!G19+토목팀!G19+건축팀!G19+영업팀!G19+고객만족팀!G19+문화홍보팀!G19+부대사업팀!G19+역무자동화팀!G19+종합관제실!G19+감사실!G19 -> 0 | H19: =안전관리실!H19+SE사업팀!H19+철도사업팀!H19+기획팀!H19+성과예산팀!H19+정보화팀!H19+총무팀!H19+노무복지팀!H19+자산회계팀!H19+인재개발팀!H19+차량팀!H19+승무팀!H19+신호팀!H19+통신팀!H19+전기팀!H19+기계환경팀!H19+토목팀!H19+건축팀!H19+영업팀!H19+고객만족팀!H19+문화홍보팀!H19+부대사업팀!H19+역무자동화팀!H19+종합관제실!H19+감사실!H19 -> 0 | I19: =안전관리실!I19+SE사업팀!I19+철도사업팀!I19+기획팀!I19+성과예산팀!I19+정보화팀!I19+총무팀!I19+노무복지팀!I19+자산회계팀!I19+인재개발팀!I19+차량팀!I19+승무팀!I19+신호팀!I19+통신팀!I19+전기팀!I19+기계환경팀!I19+토목팀!I19+건축팀!I19+영업팀!I19+고객만족팀!I19+문화홍보팀!I19+부대사업팀!I19+역무자동화팀!I19+종합관제실!I19+감사실!I19 -> 0 | J19: =안전관리실!J19+SE사업팀!J19+철도사업팀!J19+기획팀!J19+성과예산팀!J19+정보화팀!J19+총무팀!J19+노무복지팀!J19+자산회계팀!J19+인재개발팀!J19+차량팀!J19+승무팀!J19+신호팀!J19+통신팀!J19+전기팀!J19+기계환경팀!J19+토목팀!J19+건축팀!J19+영업팀!J19+고객만족팀!J19+문화홍보팀!J19+부대사업팀!J19+역무자동화팀!J19+종합관제실!J19+감사실!J19 -> 0 | K19: =안전관리실!K19+SE사업팀!K19+철도사업팀!K19+기획팀!K19+성과예산팀!K19+정보화팀!K19+총무팀!K19+노무복지팀!K19+자산회계팀!K19+인재개발팀!K19+차량팀!K19+승무팀!K19+신호팀!K19+통신팀!K19+전기팀!K19+기계환경팀!K19+토목팀!K19+건축팀!K19+영업팀!K19+고객만족팀!K19+문화홍보팀!K19+부대사업팀!K19+역무자동화팀!K19+종합관제실!K19+감사실!K19 -> 0 | ... Q19: =안전관리실!Q19+SE사업팀!Q19+철도사업팀!Q19+기획팀!Q19+성과예산팀!Q19+정보화팀!Q19+총무팀!Q19+노무복지팀!Q19+자산회계팀!Q19+인재개발팀!Q19+차량팀!Q19+승무팀!Q19+신호팀!Q19+통신팀!Q19+전기팀!Q19+기계환경팀!Q19+토목팀!Q19+건축팀!Q19+영업팀!Q19+고객만족팀!Q19+문화홍보팀!Q19+부대사업팀!Q19+역무자동화팀!Q19+종합관제실!Q19+감사실!Q19 -> 0 | R19: 의자, 학생용 의자, 연결의자, 벤치, 접이식의자책상용콤비의자 | AH19: 01 | AI19: 004 | AJ19: 00015
C20: 보관용 가구 | D20: =안전관리실!D20+SE사업팀!D20+철도사업팀!D20+기획팀!D20+성과예산팀!D20+정보화팀!D20+총무팀!D20+노무복지팀!D20+자산회계팀!D20+인재개발팀!D20+차량팀!D20+승무팀!D20+신호팀!D20+통신팀!D20+전기팀!D20+기계환경팀!D20+토목팀!D20+건축팀!D20+영업팀!D20+고객만족팀!D20+문화홍보팀!D20+부대사업팀!D20+역무자동화팀!D20+종합관제실!D20+감사실!D20 -> 0 | E20: =안전관리실!E20+SE사업팀!E20+철도사업팀!E20+기획팀!E20+성과예산팀!E20+정보화팀!E20+총무팀!E20+노무복지팀!E20+자산회계팀!E20+인재개발팀!E20+차량팀!E20+승무팀!E20+신호팀!E20+통신팀!E20+전기팀!E20+기계환경팀!E20+토목팀!E20+건축팀!E20+영업팀!E20+고객만족팀!E20+문화홍보팀!E20+부대사업팀!E20+역무자동화팀!E20+종합관제실!E20+감사실!E20 -> 0 | F20: =안전관리실!F20+SE사업팀!F20+철도사업팀!F20+기획팀!F20+성과예산팀!F20+정보화팀!F20+총무팀!F20+노무복지팀!F20+자산회계팀!F20+인재개발팀!F20+차량팀!F20+승무팀!F20+신호팀!F20+통신팀!F20+전기팀!F20+기계환경팀!F20+토목팀!F20+건축팀!F20+영업팀!F20+고객만족팀!F20+문화홍보팀!F20+부대사업팀!F20+역무자동화팀!F20+종합관제실!F20+감사실!F20 -> 0 | G20: =안전관리실!G20+SE사업팀!G20+철도사업팀!G20+기획팀!G20+성과예산팀!G20+정보화팀!G20+총무팀!G20+노무복지팀!G20+자산회계팀!G20+인재개발팀!G20+차량팀!G20+승무팀!G20+신호팀!G20+통신팀!G20+전기팀!G20+기계환경팀!G20+토목팀!G20+건축팀!G20+영업팀!G20+고객만족팀!G20+문화홍보팀!G20+부대사업팀!G20+역무자동화팀!G20+종합관제실!G20+감사실!G20 -> 0 | H20: =안전관리실!H20+SE사업팀!H20+철도사업팀!H20+기획팀!H20+성과예산팀!H20+정보화팀!H20+총무팀!H20+노무복지팀!H20+자산회계팀!H20+인재개발팀!H20+차량팀!H20+승무팀!H20+신호팀!H20+통신팀!H20+전기팀!H20+기계환경팀!H20+토목팀!H20+건축팀!H20+영업팀!H20+고객만족팀!H20+문화홍보팀!H20+부대사업팀!H20+역무자동화팀!H20+종합관제실!H20+감사실!H20 -> 0 | I20: =안전관리실!I20+SE사업팀!I20+철도사업팀!I20+기획팀!I20+성과예산팀!I20+정보화팀!I20+총무팀!I20+노무복지팀!I20+자산회계팀!I20+인재개발팀!I20+차량팀!I20+승무팀!I20+신호팀!I20+통신팀!I20+전기팀!I20+기계환경팀!I20+토목팀!I20+건축팀!I20+영업팀!I20+고객만족팀!I20+문화홍보팀!I20+부대사업팀!I20+역무자동화팀!I20+종합관제실!I20+감사실!I20 -> 0 | J20: =안전관리실!J20+SE사업팀!J20+철도사업팀!J20+기획팀!J20+성과예산팀!J20+정보화팀!J20+총무팀!J20+노무복지팀!J20+자산회계팀!J20+인재개발팀!J20+차량팀!J20+승무팀!J20+신호팀!J20+통신팀!J20+전기팀!J20+기계환경팀!J20+토목팀!J20+건축팀!J20+영업팀!J20+고객만족팀!J20+문화홍보팀!J20+부대사업팀!J20+역무자동화팀!J20+종합관제실!J20+감사실!J20 -> 0 | K20: =안전관리실!K20+SE사업팀!K20+철도사업팀!K20+기획팀!K20+성과예산팀!K20+정보화팀!K20+총무팀!K20+노무복지팀!K20+자산회계팀!K20+인재개발팀!K20+차량팀!K20+승무팀!K20+신호팀!K20+통신팀!K20+전기팀!K20+기계환경팀!K20+토목팀!K20+건축팀!K20+영업팀!K20+고객만족팀!K20+문화홍보팀!K20+부대사업팀!K20+역무자동화팀!K20+종합관제실!K20+감사실!K20 -> 0 | ... Q20: =안전관리실!Q20+SE사업팀!Q20+철도사업팀!Q20+기획팀!Q20+성과예산팀!Q20+정보화팀!Q20+총무팀!Q20+노무복지팀!Q20+자산회계팀!Q20+인재개발팀!Q20+차량팀!Q20+승무팀!Q20+신호팀!Q20+통신팀!Q20+전기팀!Q20+기계환경팀!Q20+토목팀!Q20+건축팀!Q20+영업팀!Q20+고객만족팀!Q20+문화홍보팀!Q20+부대사업팀!Q20+역무자동화팀!Q20+종합관제실!Q20+감사실!Q20 -> 0 | R20: 보관장,교구장, 사물함, 신발장, 서가, 책꽂이, 책선반, 교구장, 이동식 서가, 진열장,책장, 청소도구함, 기구장, 서랍, 수납장, 캐비닛, TV장, 보관함, 로커, 옷장, 장식대, 장롱, 거실장, 거울장 | AH20: 01 | AI20: 004 | AJ20: 00016
C21: 침대 및 침대매트리스 | D21: =안전관리실!D21+SE사업팀!D21+철도사업팀!D21+기획팀!D21+성과예산팀!D21+정보화팀!D21+총무팀!D21+노무복지팀!D21+자산회계팀!D21+인재개발팀!D21+차량팀!D21+승무팀!D21+신호팀!D21+통신팀!D21+전기팀!D21+기계환경팀!D21+토목팀!D21+건축팀!D21+영업팀!D21+고객만족팀!D21+문화홍보팀!D21+부대사업팀!D21+역무자동화팀!D21+종합관제실!D21+감사실!D21 -> 0 | E21: =안전관리실!E21+SE사업팀!E21+철도사업팀!E21+기획팀!E21+성과예산팀!E21+정보화팀!E21+총무팀!E21+노무복지팀!E21+자산회계팀!E21+인재개발팀!E21+차량팀!E21+승무팀!E21+신호팀!E21+통신팀!E21+전기팀!E21+기계환경팀!E21+토목팀!E21+건축팀!E21+영업팀!E21+고객만족팀!E21+문화홍보팀!E21+부대사업팀!E21+역무자동화팀!E21+종합관제실!E21+감사실!E21 -> 0 | F21: =안전관리실!F21+SE사업팀!F21+철도사업팀!F21+기획팀!F21+성과예산팀!F21+정보화팀!F21+총무팀!F21+노무복지팀!F21+자산회계팀!F21+인재개발팀!F21+차량팀!F21+승무팀!F21+신호팀!F21+통신팀!F21+전기팀!F21+기계환경팀!F21+토목팀!F21+건축팀!F21+영업팀!F21+고객만족팀!F21+문화홍보팀!F21+부대사업팀!F21+역무자동화팀!F21+종합관제실!F21+감사실!F21 -> 0 | G21: =안전관리실!G21+SE사업팀!G21+철도사업팀!G21+기획팀!G21+성과예산팀!G21+정보화팀!G21+총무팀!G21+노무복지팀!G21+자산회계팀!G21+인재개발팀!G21+차량팀!G21+승무팀!G21+신호팀!G21+통신팀!G21+전기팀!G21+기계환경팀!G21+토목팀!G21+건축팀!G21+영업팀!G21+고객만족팀!G21+문화홍보팀!G21+부대사업팀!G21+역무자동화팀!G21+종합관제실!G21+감사실!G21 -> 0 | H21: =안전관리실!H21+SE사업팀!H21+철도사업팀!H21+기획팀!H21+성과예산팀!H21+정보화팀!H21+총무팀!H21+노무복지팀!H21+자산회계팀!H21+인재개발팀!H21+차량팀!H21+승무팀!H21+신호팀!H21+통신팀!H21+전기팀!H21+기계환경팀!H21+토목팀!H21+건축팀!H21+영업팀!H21+고객만족팀!H21+문화홍보팀!H21+부대사업팀!H21+역무자동화팀!H21+종합관제실!H21+감사실!H21 -> 0 | I21: =안전관리실!I21+SE사업팀!I21+철도사업팀!I21+기획팀!I21+성과예산팀!I21+정보화팀!I21+총무팀!I21+노무복지팀!I21+자산회계팀!I21+인재개발팀!I21+차량팀!I21+승무팀!I21+신호팀!I21+통신팀!I21+전기팀!I21+기계환경팀!I21+토목팀!I21+건축팀!I21+영업팀!I21+고객만족팀!I21+문화홍보팀!I21+부대사업팀!I21+역무자동화팀!I21+종합관제실!I21+감사실!I21 -> 0 | J21: =안전관리실!J21+SE사업팀!J21+철도사업팀!J21+기획팀!J21+성과예산팀!J21+정보화팀!J21+총무팀!J21+노무복지팀!J21+자산회계팀!J21+인재개발팀!J21+차량팀!J21+승무팀!J21+신호팀!J21+통신팀!J21+전기팀!J21+기계환경팀!J21+토목팀!J21+건축팀!J21+영업팀!J21+고객만족팀!J21+문화홍보팀!J21+부대사업팀!J21+역무자동화팀!J21+종합관제실!J21+감사실!J21 -> 0 | K21: =안전관리실!K21+SE사업팀!K21+철도사업팀!K21+기획팀!K21+성과예산팀!K21+정보화팀!K21+총무팀!K21+노무복지팀!K21+자산회계팀!K21+인재개발팀!K21+차량팀!K21+승무팀!K21+신호팀!K21+통신팀!K21+전기팀!K21+기계환경팀!K21+토목팀!K21+건축팀!K21+영업팀!K21+고객만족팀!K21+문화홍보팀!K21+부대사업팀!K21+역무자동화팀!K21+종합관제실!K21+감사실!K21 -> 0 | ... Q21: =안전관리실!Q21+SE사업팀!Q21+철도사업팀!Q21+기획팀!Q21+성과예산팀!Q21+정보화팀!Q21+총무팀!Q21+노무복지팀!Q21+자산회계팀!Q21+인재개발팀!Q21+차량팀!Q21+승무팀!Q21+신호팀!Q21+통신팀!Q21+전기팀!Q21+기계환경팀!Q21+토목팀!Q21+건축팀!Q21+영업팀!Q21+고객만족팀!Q21+문화홍보팀!Q21+부대사업팀!Q21+역무자동화팀!Q21+종합관제실!Q21+감사실!Q21 -> 0 | R21: 침대 및 침대매트리스, 조합형 침대 | AH21: 01 | AI21: 004 | AJ21: 00176
C22: 주방가구 | D22: =안전관리실!D22+SE사업팀!D22+철도사업팀!D22+기획팀!D22+성과예산팀!D22+정보화팀!D22+총무팀!D22+노무복지팀!D22+자산회계팀!D22+인재개발팀!D22+차량팀!D22+승무팀!D22+신호팀!D22+통신팀!D22+전기팀!D22+기계환경팀!D22+토목팀!D22+건축팀!D22+영업팀!D22+고객만족팀!D22+문화홍보팀!D22+부대사업팀!D22+역무자동화팀!D22+종합관제실!D22+감사실!D22 -> 0 | E22: =안전관리실!E22+SE사업팀!E22+철도사업팀!E22+기획팀!E22+성과예산팀!E22+정보화팀!E22+총무팀!E22+노무복지팀!E22+자산회계팀!E22+인재개발팀!E22+차량팀!E22+승무팀!E22+신호팀!E22+통신팀!E22+전기팀!E22+기계환경팀!E22+토목팀!E22+건축팀!E22+영업팀!E22+고객만족팀!E22+문화홍보팀!E22+부대사업팀!E22+역무자동화팀!E22+종합관제실!E22+감사실!E22 -> 0 | F22: =안전관리실!F22+SE사업팀!F22+철도사업팀!F22+기획팀!F22+성과예산팀!F22+정보화팀!F22+총무팀!F22+노무복지팀!F22+자산회계팀!F22+인재개발팀!F22+차량팀!F22+승무팀!F22+신호팀!F22+통신팀!F22+전기팀!F22+기계환경팀!F22+토목팀!F22+건축팀!F22+영업팀!F22+고객만족팀!F22+문화홍보팀!F22+부대사업팀!F22+역무자동화팀!F22+종합관제실!F22+감사실!F22 -> 0 | G22: =안전관리실!G22+SE사업팀!G22+철도사업팀!G22+기획팀!G22+성과예산팀!G22+정보화팀!G22+총무팀!G22+노무복지팀!G22+자산회계팀!G22+인재개발팀!G22+차량팀!G22+승무팀!G22+신호팀!G22+통신팀!G22+전기팀!G22+기계환경팀!G22+토목팀!G22+건축팀!G22+영업팀!G22+고객만족팀!G22+문화홍보팀!G22+부대사업팀!G22+역무자동화팀!G22+종합관제실!G22+감사실!G22 -> 0 | H22: =안전관리실!H22+SE사업팀!H22+철도사업팀!H22+기획팀!H22+성과예산팀!H22+정보화팀!H22+총무팀!H22+노무복지팀!H22+자산회계팀!H22+인재개발팀!H22+차량팀!H22+승무팀!H22+신호팀!H22+통신팀!H22+전기팀!H22+기계환경팀!H22+토목팀!H22+건축팀!H22+영업팀!H22+고객만족팀!H22+문화홍보팀!H22+부대사업팀!H22+역무자동화팀!H22+종합관제실!H22+감사실!H22 -> 0 | I22: =안전관리실!I22+SE사업팀!I22+철도사업팀!I22+기획팀!I22+성과예산팀!I22+정보화팀!I22+총무팀!I22+노무복지팀!I22+자산회계팀!I22+인재개발팀!I22+차량팀!I22+승무팀!I22+신호팀!I22+통신팀!I22+전기팀!I22+기계환경팀!I22+토목팀!I22+건축팀!I22+영업팀!I22+고객만족팀!I22+문화홍보팀!I22+부대사업팀!I22+역무자동화팀!I22+종합관제실!I22+감사실!I22 -> 0 | J22: =안전관리실!J22+SE사업팀!J22+철도사업팀!J22+기획팀!J22+성과예산팀!J22+정보화팀!J22+총무팀!J22+노무복지팀!J22+자산회계팀!J22+인재개발팀!J22+차량팀!J22+승무팀!J22+신호팀!J22+통신팀!J22+전기팀!J22+기계환경팀!J22+토목팀!J22+건축팀!J22+영업팀!J22+고객만족팀!J22+문화홍보팀!J22+부대사업팀!J22+역무자동화팀!J22+종합관제실!J22+감사실!J22 -> 0 | K22: =안전관리실!K22+SE사업팀!K22+철도사업팀!K22+기획팀!K22+성과예산팀!K22+정보화팀!K22+총무팀!K22+노무복지팀!K22+자산회계팀!K22+인재개발팀!K22+차량팀!K22+승무팀!K22+신호팀!K22+통신팀!K22+전기팀!K22+기계환경팀!K22+토목팀!K22+건축팀!K22+영업팀!K22+고객만족팀!K22+문화홍보팀!K22+부대사업팀!K22+역무자동화팀!K22+종합관제실!K22+감사실!K22 -> 0 | ... Q22: =안전관리실!Q22+SE사업팀!Q22+철도사업팀!Q22+기획팀!Q22+성과예산팀!Q22+정보화팀!Q22+총무팀!Q22+노무복지팀!Q22+자산회계팀!Q22+인재개발팀!Q22+차량팀!Q22+승무팀!Q22+신호팀!Q22+통신팀!Q22+전기팀!Q22+기계환경팀!Q22+토목팀!Q22+건축팀!Q22+영업팀!Q22+고객만족팀!Q22+문화홍보팀!Q22+부대사업팀!Q22+역무자동화팀!Q22+종합관제실!Q22+감사실!Q22 -> 0 | R22: 주방가구, 붙박이형 주방가구, 식탁 | AH22: 01 | AI22: 004 | AJ22: 00029
C23: 기타 가구 및 부속품 | D23: =안전관리실!D23+SE사업팀!D23+철도사업팀!D23+기획팀!D23+성과예산팀!D23+정보화팀!D23+총무팀!D23+노무복지팀!D23+자산회계팀!D23+인재개발팀!D23+차량팀!D23+승무팀!D23+신호팀!D23+통신팀!D23+전기팀!D23+기계환경팀!D23+토목팀!D23+건축팀!D23+영업팀!D23+고객만족팀!D23+문화홍보팀!D23+부대사업팀!D23+역무자동화팀!D23+종합관제실!D23+감사실!D23 -> 0 | E23: =안전관리실!E23+SE사업팀!E23+철도사업팀!E23+기획팀!E23+성과예산팀!E23+정보화팀!E23+총무팀!E23+노무복지팀!E23+자산회계팀!E23+인재개발팀!E23+차량팀!E23+승무팀!E23+신호팀!E23+통신팀!E23+전기팀!E23+기계환경팀!E23+토목팀!E23+건축팀!E23+영업팀!E23+고객만족팀!E23+문화홍보팀!E23+부대사업팀!E23+역무자동화팀!E23+종합관제실!E23+감사실!E23 -> 0 | F23: =안전관리실!F23+SE사업팀!F23+철도사업팀!F23+기획팀!F23+성과예산팀!F23+정보화팀!F23+총무팀!F23+노무복지팀!F23+자산회계팀!F23+인재개발팀!F23+차량팀!F23+승무팀!F23+신호팀!F23+통신팀!F23+전기팀!F23+기계환경팀!F23+토목팀!F23+건축팀!F23+영업팀!F23+고객만족팀!F23+문화홍보팀!F23+부대사업팀!F23+역무자동화팀!F23+종합관제실!F23+감사실!F23 -> 0 | G23: =안전관리실!G23+SE사업팀!G23+철도사업팀!G23+기획팀!G23+성과예산팀!G23+정보화팀!G23+총무팀!G23+노무복지팀!G23+자산회계팀!G23+인재개발팀!G23+차량팀!G23+승무팀!G23+신호팀!G23+통신팀!G23+전기팀!G23+기계환경팀!G23+토목팀!G23+건축팀!G23+영업팀!G23+고객만족팀!G23+문화홍보팀!G23+부대사업팀!G23+역무자동화팀!G23+종합관제실!G23+감사실!G23 -> 0 | H23: =안전관리실!H23+SE사업팀!H23+철도사업팀!H23+기획팀!H23+성과예산팀!H23+정보화팀!H23+총무팀!H23+노무복지팀!H23+자산회계팀!H23+인재개발팀!H23+차량팀!H23+승무팀!H23+신호팀!H23+통신팀!H23+전기팀!H23+기계환경팀!H23+토목팀!H23+건축팀!H23+영업팀!H23+고객만족팀!H23+문화홍보팀!H23+부대사업팀!H23+역무자동화팀!H23+종합관제실!H23+감사실!H23 -> 0 | I23: =안전관리실!I23+SE사업팀!I23+철도사업팀!I23+기획팀!I23+성과예산팀!I23+정보화팀!I23+총무팀!I23+노무복지팀!I23+자산회계팀!I23+인재개발팀!I23+차량팀!I23+승무팀!I23+신호팀!I23+통신팀!I23+전기팀!I23+기계환경팀!I23+토목팀!I23+건축팀!I23+영업팀!I23+고객만족팀!I23+문화홍보팀!I23+부대사업팀!I23+역무자동화팀!I23+종합관제실!I23+감사실!I23 -> 0 | J23: =안전관리실!J23+SE사업팀!J23+철도사업팀!J23+기획팀!J23+성과예산팀!J23+정보화팀!J23+총무팀!J23+노무복지팀!J23+자산회계팀!J23+인재개발팀!J23+차량팀!J23+승무팀!J23+신호팀!J23+통신팀!J23+전기팀!J23+기계환경팀!J23+토목팀!J23+건축팀!J23+영업팀!J23+고객만족팀!J23+문화홍보팀!J23+부대사업팀!J23+역무자동화팀!J23+종합관제실!J23+감사실!J23 -> 0 | K23: =안전관리실!K23+SE사업팀!K23+철도사업팀!K23+기획팀!K23+성과예산팀!K23+정보화팀!K23+총무팀!K23+노무복지팀!K23+자산회계팀!K23+인재개발팀!K23+차량팀!K23+승무팀!K23+신호팀!K23+통신팀!K23+전기팀!K23+기계환경팀!K23+토목팀!K23+건축팀!K23+영업팀!K23+고객만족팀!K23+문화홍보팀!K23+부대사업팀!K23+역무자동화팀!K23+종합관제실!K23+감사실!K23 -> 0 | ... Q23: =안전관리실!Q23+SE사업팀!Q23+철도사업팀!Q23+기획팀!Q23+성과예산팀!Q23+정보화팀!Q23+총무팀!Q23+노무복지팀!Q23+자산회계팀!Q23+인재개발팀!Q23+차량팀!Q23+승무팀!Q23+신호팀!Q23+통신팀!Q23+전기팀!Q23+기계환경팀!Q23+토목팀!Q23+건축팀!Q23+영업팀!Q23+고객만족팀!Q23+문화홍보팀!Q23+부대사업팀!Q23+역무자동화팀!Q23+종합관제실!Q23+감사실!Q23 -> 0 | R23: 기표용구, 카운터, 화일박스, 모빌랙, 신문걸이대, 강연대, 책걸상 부분품, 책운반기, 우편함, 우산꽂이, 잡지꽂이 등 | AH23: 01 | AI23: 004 | AJ23: 00030
B24: OA칸막이(파티션) | C24: OA칸막이 | D24: =안전관리실!D24+SE사업팀!D24+철도사업팀!D24+기획팀!D24+성과예산팀!D24+정보화팀!D24+총무팀!D24+노무복지팀!D24+자산회계팀!D24+인재개발팀!D24+차량팀!D24+승무팀!D24+신호팀!D24+통신팀!D24+전기팀!D24+기계환경팀!D24+토목팀!D24+건축팀!D24+영업팀!D24+고객만족팀!D24+문화홍보팀!D24+부대사업팀!D24+역무자동화팀!D24+종합관제실!D24+감사실!D24 -> 0 | E24: =안전관리실!E24+SE사업팀!E24+철도사업팀!E24+기획팀!E24+성과예산팀!E24+정보화팀!E24+총무팀!E24+노무복지팀!E24+자산회계팀!E24+인재개발팀!E24+차량팀!E24+승무팀!E24+신호팀!E24+통신팀!E24+전기팀!E24+기계환경팀!E24+토목팀!E24+건축팀!E24+영업팀!E24+고객만족팀!E24+문화홍보팀!E24+부대사업팀!E24+역무자동화팀!E24+종합관제실!E24+감사실!E24 -> 0 | F24: =안전관리실!F24+SE사업팀!F24+철도사업팀!F24+기획팀!F24+성과예산팀!F24+정보화팀!F24+총무팀!F24+노무복지팀!F24+자산회계팀!F24+인재개발팀!F24+차량팀!F24+승무팀!F24+신호팀!F24+통신팀!F24+전기팀!F24+기계환경팀!F24+토목팀!F24+건축팀!F24+영업팀!F24+고객만족팀!F24+문화홍보팀!F24+부대사업팀!F24+역무자동화팀!F24+종합관제실!F24+감사실!F24 -> 0 | G24: =안전관리실!G24+SE사업팀!G24+철도사업팀!G24+기획팀!G24+성과예산팀!G24+정보화팀!G24+총무팀!G24+노무복지팀!G24+자산회계팀!G24+인재개발팀!G24+차량팀!G24+승무팀!G24+신호팀!G24+통신팀!G24+전기팀!G24+기계환경팀!G24+토목팀!G24+건축팀!G24+영업팀!G24+고객만족팀!G24+문화홍보팀!G24+부대사업팀!G24+역무자동화팀!G24+종합관제실!G24+감사실!G24 -> 0 | H24: =안전관리실!H24+SE사업팀!H24+철도사업팀!H24+기획팀!H24+성과예산팀!H24+정보화팀!H24+총무팀!H24+노무복지팀!H24+자산회계팀!H24+인재개발팀!H24+차량팀!H24+승무팀!H24+신호팀!H24+통신팀!H24+전기팀!H24+기계환경팀!H24+토목팀!H24+건축팀!H24+영업팀!H24+고객만족팀!H24+문화홍보팀!H24+부대사업팀!H24+역무자동화팀!H24+종합관제실!H24+감사실!H24 -> 0 | I24: =안전관리실!I24+SE사업팀!I24+철도사업팀!I24+기획팀!I24+성과예산팀!I24+정보화팀!I24+총무팀!I24+노무복지팀!I24+자산회계팀!I24+인재개발팀!I24+차량팀!I24+승무팀!I24+신호팀!I24+통신팀!I24+전기팀!I24+기계환경팀!I24+토목팀!I24+건축팀!I24+영업팀!I24+고객만족팀!I24+문화홍보팀!I24+부대사업팀!I24+역무자동화팀!I24+종합관제실!I24+감사실!I24 -> 0 | J24: =안전관리실!J24+SE사업팀!J24+철도사업팀!J24+기획팀!J24+성과예산팀!J24+정보화팀!J24+총무팀!J24+노무복지팀!J24+자산회계팀!J24+인재개발팀!J24+차량팀!J24+승무팀!J24+신호팀!J24+통신팀!J24+전기팀!J24+기계환경팀!J24+토목팀!J24+건축팀!J24+영업팀!J24+고객만족팀!J24+문화홍보팀!J24+부대사업팀!J24+역무자동화팀!J24+종합관제실!J24+감사실!J24 -> 0 | K24: =안전관리실!K24+SE사업팀!K24+철도사업팀!K24+기획팀!K24+성과예산팀!K24+정보화팀!K24+총무팀!K24+노무복지팀!K24+자산회계팀!K24+인재개발팀!K24+차량팀!K24+승무팀!K24+신호팀!K24+통신팀!K24+전기팀!K24+기계환경팀!K24+토목팀!K24+건축팀!K24+영업팀!K24+고객만족팀!K24+문화홍보팀!K24+부대사업팀!K24+역무자동화팀!K24+종합관제실!K24+감사실!K24 -> 0 | ... Q24: =안전관리실!Q24+SE사업팀!Q24+철도사업팀!Q24+기획팀!Q24+성과예산팀!Q24+정보화팀!Q24+총무팀!Q24+노무복지팀!Q24+자산회계팀!Q24+인재개발팀!Q24+차량팀!Q24+승무팀!Q24+신호팀!Q24+통신팀!Q24+전기팀!Q24+기계환경팀!Q24+토목팀!Q24+건축팀!Q24+영업팀!Q24+고객만족팀!Q24+문화홍보팀!Q24+부대사업팀!Q24+역무자동화팀!Q24+종합관제실!Q24+감사실!Q24 -> 0 | R24: OA칸막이, 블럭형 칸막이, 타일교체형 칸막이 | AH24: 01 | AI24: 005 | AJ24: 00031
B25: 지류 | C25: 인쇄용지 | D25: =안전관리실!D25+SE사업팀!D25+철도사업팀!D25+기획팀!D25+성과예산팀!D25+정보화팀!D25+총무팀!D25+노무복지팀!D25+자산회계팀!D25+인재개발팀!D25+차량팀!D25+승무팀!D25+신호팀!D25+통신팀!D25+전기팀!D25+기계환경팀!D25+토목팀!D25+건축팀!D25+영업팀!D25+고객만족팀!D25+문화홍보팀!D25+부대사업팀!D25+역무자동화팀!D25+종합관제실!D25+감사실!D25 -> 200 | E25: =안전관리실!E25+SE사업팀!E25+철도사업팀!E25+기획팀!E25+성과예산팀!E25+정보화팀!E25+총무팀!E25+노무복지팀!E25+자산회계팀!E25+인재개발팀!E25+차량팀!E25+승무팀!E25+신호팀!E25+통신팀!E25+전기팀!E25+기계환경팀!E25+토목팀!E25+건축팀!E25+영업팀!E25+고객만족팀!E25+문화홍보팀!E25+부대사업팀!E25+역무자동화팀!E25+종합관제실!E25+감사실!E25 -> 4547 | F25: =안전관리실!F25+SE사업팀!F25+철도사업팀!F25+기획팀!F25+성과예산팀!F25+정보화팀!F25+총무팀!F25+노무복지팀!F25+자산회계팀!F25+인재개발팀!F25+차량팀!F25+승무팀!F25+신호팀!F25+통신팀!F25+전기팀!F25+기계환경팀!F25+토목팀!F25+건축팀!F25+영업팀!F25+고객만족팀!F25+문화홍보팀!F25+부대사업팀!F25+역무자동화팀!F25+종합관제실!F25+감사실!F25 -> 200 | G25: =안전관리실!G25+SE사업팀!G25+철도사업팀!G25+기획팀!G25+성과예산팀!G25+정보화팀!G25+총무팀!G25+노무복지팀!G25+자산회계팀!G25+인재개발팀!G25+차량팀!G25+승무팀!G25+신호팀!G25+통신팀!G25+전기팀!G25+기계환경팀!G25+토목팀!G25+건축팀!G25+영업팀!G25+고객만족팀!G25+문화홍보팀!G25+부대사업팀!G25+역무자동화팀!G25+종합관제실!G25+감사실!G25 -> 4547 | H25: =안전관리실!H25+SE사업팀!H25+철도사업팀!H25+기획팀!H25+성과예산팀!H25+정보화팀!H25+총무팀!H25+노무복지팀!H25+자산회계팀!H25+인재개발팀!H25+차량팀!H25+승무팀!H25+신호팀!H25+통신팀!H25+전기팀!H25+기계환경팀!H25+토목팀!H25+건축팀!H25+영업팀!H25+고객만족팀!H25+문화홍보팀!H25+부대사업팀!H25+역무자동화팀!H25+종합관제실!H25+감사실!H25 -> 0 | I25: =안전관리실!I25+SE사업팀!I25+철도사업팀!I25+기획팀!I25+성과예산팀!I25+정보화팀!I25+총무팀!I25+노무복지팀!I25+자산회계팀!I25+인재개발팀!I25+차량팀!I25+승무팀!I25+신호팀!I25+통신팀!I25+전기팀!I25+기계환경팀!I25+토목팀!I25+건축팀!I25+영업팀!I25+고객만족팀!I25+문화홍보팀!I25+부대사업팀!I25+역무자동화팀!I25+종합관제실!I25+감사실!I25 -> 0 | J25: =안전관리실!J25+SE사업팀!J25+철도사업팀!J25+기획팀!J25+성과예산팀!J25+정보화팀!J25+총무팀!J25+노무복지팀!J25+자산회계팀!J25+인재개발팀!J25+차량팀!J25+승무팀!J25+신호팀!J25+통신팀!J25+전기팀!J25+기계환경팀!J25+토목팀!J25+건축팀!J25+영업팀!J25+고객만족팀!J25+문화홍보팀!J25+부대사업팀!J25+역무자동화팀!J25+종합관제실!J25+감사실!J25 -> 0 | K25: =안전관리실!K25+SE사업팀!K25+철도사업팀!K25+기획팀!K25+성과예산팀!K25+정보화팀!K25+총무팀!K25+노무복지팀!K25+자산회계팀!K25+인재개발팀!K25+차량팀!K25+승무팀!K25+신호팀!K25+통신팀!K25+전기팀!K25+기계환경팀!K25+토목팀!K25+건축팀!K25+영업팀!K25+고객만족팀!K25+문화홍보팀!K25+부대사업팀!K25+역무자동화팀!K25+종합관제실!K25+감사실!K25 -> 0 | ... Q25: =안전관리실!Q25+SE사업팀!Q25+철도사업팀!Q25+기획팀!Q25+성과예산팀!Q25+정보화팀!Q25+총무팀!Q25+노무복지팀!Q25+자산회계팀!Q25+인재개발팀!Q25+차량팀!Q25+승무팀!Q25+신호팀!Q25+통신팀!Q25+전기팀!Q25+기계환경팀!Q25+토목팀!Q25+건축팀!Q25+영업팀!Q25+고객만족팀!Q25+문화홍보팀!Q25+부대사업팀!Q25+역무자동화팀!Q25+종합관제실!Q25+감사실!Q25 -> 600 | R25: 비도공지(중질지), 신문용지류, 아트지류, 사무용지 원지, 인쇄용지, 인쇄라벨지 | AH25: 01 | AI25: 006 | AJ25: 00032
C26: 사무용지 | D26: =안전관리실!D26+SE사업팀!D26+철도사업팀!D26+기획팀!D26+성과예산팀!D26+정보화팀!D26+총무팀!D26+노무복지팀!D26+자산회계팀!D26+인재개발팀!D26+차량팀!D26+승무팀!D26+신호팀!D26+통신팀!D26+전기팀!D26+기계환경팀!D26+토목팀!D26+건축팀!D26+영업팀!D26+고객만족팀!D26+문화홍보팀!D26+부대사업팀!D26+역무자동화팀!D26+종합관제실!D26+감사실!D26 -> 169 | E26: =안전관리실!E26+SE사업팀!E26+철도사업팀!E26+기획팀!E26+성과예산팀!E26+정보화팀!E26+총무팀!E26+노무복지팀!E26+자산회계팀!E26+인재개발팀!E26+차량팀!E26+승무팀!E26+신호팀!E26+통신팀!E26+전기팀!E26+기계환경팀!E26+토목팀!E26+건축팀!E26+영업팀!E26+고객만족팀!E26+문화홍보팀!E26+부대사업팀!E26+역무자동화팀!E26+종합관제실!E26+감사실!E26 -> 3651 | F26: =안전관리실!F26+SE사업팀!F26+철도사업팀!F26+기획팀!F26+성과예산팀!F26+정보화팀!F26+총무팀!F26+노무복지팀!F26+자산회계팀!F26+인재개발팀!F26+차량팀!F26+승무팀!F26+신호팀!F26+통신팀!F26+전기팀!F26+기계환경팀!F26+토목팀!F26+건축팀!F26+영업팀!F26+고객만족팀!F26+문화홍보팀!F26+부대사업팀!F26+역무자동화팀!F26+종합관제실!F26+감사실!F26 -> 103 | G26: =안전관리실!G26+SE사업팀!G26+철도사업팀!G26+기획팀!G26+성과예산팀!G26+정보화팀!G26+총무팀!G26+노무복지팀!G26+자산회계팀!G26+인재개발팀!G26+차량팀!G26+승무팀!G26+신호팀!G26+통신팀!G26+전기팀!G26+기계환경팀!G26+토목팀!G26+건축팀!G26+영업팀!G26+고객만족팀!G26+문화홍보팀!G26+부대사업팀!G26+역무자동화팀!G26+종합관제실!G26+감사실!G26 -> 2314 | H26: =안전관리실!H26+SE사업팀!H26+철도사업팀!H26+기획팀!H26+성과예산팀!H26+정보화팀!H26+총무팀!H26+노무복지팀!H26+자산회계팀!H26+인재개발팀!H26+차량팀!H26+승무팀!H26+신호팀!H26+통신팀!H26+전기팀!H26+기계환경팀!H26+토목팀!H26+건축팀!H26+영업팀!H26+고객만족팀!H26+문화홍보팀!H26+부대사업팀!H26+역무자동화팀!H26+종합관제실!H26+감사실!H26 -> 0 | I26: =안전관리실!I26+SE사업팀!I26+철도사업팀!I26+기획팀!I26+성과예산팀!I26+정보화팀!I26+총무팀!I26+노무복지팀!I26+자산회계팀!I26+인재개발팀!I26+차량팀!I26+승무팀!I26+신호팀!I26+통신팀!I26+전기팀!I26+기계환경팀!I26+토목팀!I26+건축팀!I26+영업팀!I26+고객만족팀!I26+문화홍보팀!I26+부대사업팀!I26+역무자동화팀!I26+종합관제실!I26+감사실!I26 -> 0 | J26: =안전관리실!J26+SE사업팀!J26+철도사업팀!J26+기획팀!J26+성과예산팀!J26+정보화팀!J26+총무팀!J26+노무복지팀!J26+자산회계팀!J26+인재개발팀!J26+차량팀!J26+승무팀!J26+신호팀!J26+통신팀!J26+전기팀!J26+기계환경팀!J26+토목팀!J26+건축팀!J26+영업팀!J26+고객만족팀!J26+문화홍보팀!J26+부대사업팀!J26+역무자동화팀!J26+종합관제실!J26+감사실!J26 -> 0 | K26: =안전관리실!K26+SE사업팀!K26+철도사업팀!K26+기획팀!K26+성과예산팀!K26+정보화팀!K26+총무팀!K26+노무복지팀!K26+자산회계팀!K26+인재개발팀!K26+차량팀!K26+승무팀!K26+신호팀!K26+통신팀!K26+전기팀!K26+기계환경팀!K26+토목팀!K26+건축팀!K26+영업팀!K26+고객만족팀!K26+문화홍보팀!K26+부대사업팀!K26+역무자동화팀!K26+종합관제실!K26+감사실!K26 -> 0 | ... Q26: =안전관리실!Q26+SE사업팀!Q26+철도사업팀!Q26+기획팀!Q26+성과예산팀!Q26+정보화팀!Q26+총무팀!Q26+노무복지팀!Q26+자산회계팀!Q26+인재개발팀!Q26+차량팀!Q26+승무팀!Q26+신호팀!Q26+통신팀!Q26+전기팀!Q26+기계환경팀!Q26+토목팀!Q26+건축팀!Q26+영업팀!Q26+고객만족팀!Q26+문화홍보팀!Q26+부대사업팀!Q26+역무자동화팀!Q26+종합관제실!Q26+감사실!Q26 -> 735.84216 | R26: 프린트 및 복사용지, 전산용지 | AH26: 01 | AI26: 006 | AJ26: 00033
C27: 기타지류 | D27: =안전관리실!D27+SE사업팀!D27+철도사업팀!D27+기획팀!D27+성과예산팀!D27+정보화팀!D27+총무팀!D27+노무복지팀!D27+자산회계팀!D27+인재개발팀!D27+차량팀!D27+승무팀!D27+신호팀!D27+통신팀!D27+전기팀!D27+기계환경팀!D27+토목팀!D27+건축팀!D27+영업팀!D27+고객만족팀!D27+문화홍보팀!D27+부대사업팀!D27+역무자동화팀!D27+종합관제실!D27+감사실!D27 -> 0 | E27: =안전관리실!E27+SE사업팀!E27+철도사업팀!E27+기획팀!E27+성과예산팀!E27+정보화팀!E27+총무팀!E27+노무복지팀!E27+자산회계팀!E27+인재개발팀!E27+차량팀!E27+승무팀!E27+신호팀!E27+통신팀!E27+전기팀!E27+기계환경팀!E27+토목팀!E27+건축팀!E27+영업팀!E27+고객만족팀!E27+문화홍보팀!E27+부대사업팀!E27+역무자동화팀!E27+종합관제실!E27+감사실!E27 -> 0 | F27: =안전관리실!F27+SE사업팀!F27+철도사업팀!F27+기획팀!F27+성과예산팀!F27+정보화팀!F27+총무팀!F27+노무복지팀!F27+자산회계팀!F27+인재개발팀!F27+차량팀!F27+승무팀!F27+신호팀!F27+통신팀!F27+전기팀!F27+기계환경팀!F27+토목팀!F27+건축팀!F27+영업팀!F27+고객만족팀!F27+문화홍보팀!F27+부대사업팀!F27+역무자동화팀!F27+종합관제실!F27+감사실!F27 -> 0 | G27: =안전관리실!G27+SE사업팀!G27+철도사업팀!G27+기획팀!G27+성과예산팀!G27+정보화팀!G27+총무팀!G27+노무복지팀!G27+자산회계팀!G27+인재개발팀!G27+차량팀!G27+승무팀!G27+신호팀!G27+통신팀!G27+전기팀!G27+기계환경팀!G27+토목팀!G27+건축팀!G27+영업팀!G27+고객만족팀!G27+문화홍보팀!G27+부대사업팀!G27+역무자동화팀!G27+종합관제실!G27+감사실!G27 -> 0 | H27: =안전관리실!H27+SE사업팀!H27+철도사업팀!H27+기획팀!H27+성과예산팀!H27+정보화팀!H27+총무팀!H27+노무복지팀!H27+자산회계팀!H27+인재개발팀!H27+차량팀!H27+승무팀!H27+신호팀!H27+통신팀!H27+전기팀!H27+기계환경팀!H27+토목팀!H27+건축팀!H27+영업팀!H27+고객만족팀!H27+문화홍보팀!H27+부대사업팀!H27+역무자동화팀!H27+종합관제실!H27+감사실!H27 -> 0 | I27: =안전관리실!I27+SE사업팀!I27+철도사업팀!I27+기획팀!I27+성과예산팀!I27+정보화팀!I27+총무팀!I27+노무복지팀!I27+자산회계팀!I27+인재개발팀!I27+차량팀!I27+승무팀!I27+신호팀!I27+통신팀!I27+전기팀!I27+기계환경팀!I27+토목팀!I27+건축팀!I27+영업팀!I27+고객만족팀!I27+문화홍보팀!I27+부대사업팀!I27+역무자동화팀!I27+종합관제실!I27+감사실!I27 -> 0 | J27: =안전관리실!J27+SE사업팀!J27+철도사업팀!J27+기획팀!J27+성과예산팀!J27+정보화팀!J27+총무팀!J27+노무복지팀!J27+자산회계팀!J27+인재개발팀!J27+차량팀!J27+승무팀!J27+신호팀!J27+통신팀!J27+전기팀!J27+기계환경팀!J27+토목팀!J27+건축팀!J27+영업팀!J27+고객만족팀!J27+문화홍보팀!J27+부대사업팀!J27+역무자동화팀!J27+종합관제실!J27+감사실!J27 -> 0 | K27: =안전관리실!K27+SE사업팀!K27+철도사업팀!K27+기획팀!K27+성과예산팀!K27+정보화팀!K27+총무팀!K27+노무복지팀!K27+자산회계팀!K27+인재개발팀!K27+차량팀!K27+승무팀!K27+신호팀!K27+통신팀!K27+전기팀!K27+기계환경팀!K27+토목팀!K27+건축팀!K27+영업팀!K27+고객만족팀!K27+문화홍보팀!K27+부대사업팀!K27+역무자동화팀!K27+종합관제실!K27+감사실!K27 -> 0 | ... Q27: =안전관리실!Q27+SE사업팀!Q27+철도사업팀!Q27+기획팀!Q27+성과예산팀!Q27+정보화팀!Q27+총무팀!Q27+노무복지팀!Q27+자산회계팀!Q27+인재개발팀!Q27+차량팀!Q27+승무팀!Q27+신호팀!Q27+통신팀!Q27+전기팀!Q27+기계환경팀!Q27+토목팀!Q27+건축팀!Q27+영업팀!Q27+고객만족팀!Q27+문화홍보팀!Q27+부대사업팀!Q27+역무자동화팀!Q27+종합관제실!Q27+감사실!Q27 -> 0 | R27: 박리지, 박리지 원지, 인쇄출판물 등 | AH27: 01 | AI27: 006 | AJ27: 00205
B28: 일반사무용품 | C28: 필기구 및 필기구 소모품 | D28: =안전관리실!D28+SE사업팀!D28+철도사업팀!D28+기획팀!D28+성과예산팀!D28+정보화팀!D28+총무팀!D28+노무복지팀!D28+자산회계팀!D28+인재개발팀!D28+차량팀!D28+승무팀!D28+신호팀!D28+통신팀!D28+전기팀!D28+기계환경팀!D28+토목팀!D28+건축팀!D28+영업팀!D28+고객만족팀!D28+문화홍보팀!D28+부대사업팀!D28+역무자동화팀!D28+종합관제실!D28+감사실!D28 -> 12 | E28: =안전관리실!E28+SE사업팀!E28+철도사업팀!E28+기획팀!E28+성과예산팀!E28+정보화팀!E28+총무팀!E28+노무복지팀!E28+자산회계팀!E28+인재개발팀!E28+차량팀!E28+승무팀!E28+신호팀!E28+통신팀!E28+전기팀!E28+기계환경팀!E28+토목팀!E28+건축팀!E28+영업팀!E28+고객만족팀!E28+문화홍보팀!E28+부대사업팀!E28+역무자동화팀!E28+종합관제실!E28+감사실!E28 -> 240 | F28: =안전관리실!F28+SE사업팀!F28+철도사업팀!F28+기획팀!F28+성과예산팀!F28+정보화팀!F28+총무팀!F28+노무복지팀!F28+자산회계팀!F28+인재개발팀!F28+차량팀!F28+승무팀!F28+신호팀!F28+통신팀!F28+전기팀!F28+기계환경팀!F28+토목팀!F28+건축팀!F28+영업팀!F28+고객만족팀!F28+문화홍보팀!F28+부대사업팀!F28+역무자동화팀!F28+종합관제실!F28+감사실!F28 -> 12 | G28: =안전관리실!G28+SE사업팀!G28+철도사업팀!G28+기획팀!G28+성과예산팀!G28+정보화팀!G28+총무팀!G28+노무복지팀!G28+자산회계팀!G28+인재개발팀!G28+차량팀!G28+승무팀!G28+신호팀!G28+통신팀!G28+전기팀!G28+기계환경팀!G28+토목팀!G28+건축팀!G28+영업팀!G28+고객만족팀!G28+문화홍보팀!G28+부대사업팀!G28+역무자동화팀!G28+종합관제실!G28+감사실!G28 -> 240 | H28: =안전관리실!H28+SE사업팀!H28+철도사업팀!H28+기획팀!H28+성과예산팀!H28+정보화팀!H28+총무팀!H28+노무복지팀!H28+자산회계팀!H28+인재개발팀!H28+차량팀!H28+승무팀!H28+신호팀!H28+통신팀!H28+전기팀!H28+기계환경팀!H28+토목팀!H28+건축팀!H28+영업팀!H28+고객만족팀!H28+문화홍보팀!H28+부대사업팀!H28+역무자동화팀!H28+종합관제실!H28+감사실!H28 -> 0 | I28: =안전관리실!I28+SE사업팀!I28+철도사업팀!I28+기획팀!I28+성과예산팀!I28+정보화팀!I28+총무팀!I28+노무복지팀!I28+자산회계팀!I28+인재개발팀!I28+차량팀!I28+승무팀!I28+신호팀!I28+통신팀!I28+전기팀!I28+기계환경팀!I28+토목팀!I28+건축팀!I28+영업팀!I28+고객만족팀!I28+문화홍보팀!I28+부대사업팀!I28+역무자동화팀!I28+종합관제실!I28+감사실!I28 -> 0 | J28: =안전관리실!J28+SE사업팀!J28+철도사업팀!J28+기획팀!J28+성과예산팀!J28+정보화팀!J28+총무팀!J28+노무복지팀!J28+자산회계팀!J28+인재개발팀!J28+차량팀!J28+승무팀!J28+신호팀!J28+통신팀!J28+전기팀!J28+기계환경팀!J28+토목팀!J28+건축팀!J28+영업팀!J28+고객만족팀!J28+문화홍보팀!J28+부대사업팀!J28+역무자동화팀!J28+종합관제실!J28+감사실!J28 -> 0 | K28: =안전관리실!K28+SE사업팀!K28+철도사업팀!K28+기획팀!K28+성과예산팀!K28+정보화팀!K28+총무팀!K28+노무복지팀!K28+자산회계팀!K28+인재개발팀!K28+차량팀!K28+승무팀!K28+신호팀!K28+통신팀!K28+전기팀!K28+기계환경팀!K28+토목팀!K28+건축팀!K28+영업팀!K28+고객만족팀!K28+문화홍보팀!K28+부대사업팀!K28+역무자동화팀!K28+종합관제실!K28+감사실!K28 -> 0 | ... Q28: =안전관리실!Q28+SE사업팀!Q28+철도사업팀!Q28+기획팀!Q28+성과예산팀!Q28+정보화팀!Q28+총무팀!Q28+노무복지팀!Q28+자산회계팀!Q28+인재개발팀!Q28+차량팀!Q28+승무팀!Q28+신호팀!Q28+통신팀!Q28+전기팀!Q28+기계환경팀!Q28+토목팀!Q28+건축팀!Q28+영업팀!Q28+고객만족팀!Q28+문화홍보팀!Q28+부대사업팀!Q28+역무자동화팀!Q28+종합관제실!Q28+감사실!Q28 -> 200 | R28: 잉크, 물펜지우개, 칠판지우개, 마킹펜, 유성펜, 볼펜, 연필 | AH28: 01 | AI28: 008 | AJ28: 00037
C29: 기타 사무용품 | D29: =안전관리실!D29+SE사업팀!D29+철도사업팀!D29+기획팀!D29+성과예산팀!D29+정보화팀!D29+총무팀!D29+노무복지팀!D29+자산회계팀!D29+인재개발팀!D29+차량팀!D29+승무팀!D29+신호팀!D29+통신팀!D29+전기팀!D29+기계환경팀!D29+토목팀!D29+건축팀!D29+영업팀!D29+고객만족팀!D29+문화홍보팀!D29+부대사업팀!D29+역무자동화팀!D29+종합관제실!D29+감사실!D29 -> 322 | E29: =안전관리실!E29+SE사업팀!E29+철도사업팀!E29+기획팀!E29+성과예산팀!E29+정보화팀!E29+총무팀!E29+노무복지팀!E29+자산회계팀!E29+인재개발팀!E29+차량팀!E29+승무팀!E29+신호팀!E29+통신팀!E29+전기팀!E29+기계환경팀!E29+토목팀!E29+건축팀!E29+영업팀!E29+고객만족팀!E29+문화홍보팀!E29+부대사업팀!E29+역무자동화팀!E29+종합관제실!E29+감사실!E29 -> 992 | F29: =안전관리실!F29+SE사업팀!F29+철도사업팀!F29+기획팀!F29+성과예산팀!F29+정보화팀!F29+총무팀!F29+노무복지팀!F29+자산회계팀!F29+인재개발팀!F29+차량팀!F29+승무팀!F29+신호팀!F29+통신팀!F29+전기팀!F29+기계환경팀!F29+토목팀!F29+건축팀!F29+영업팀!F29+고객만족팀!F29+문화홍보팀!F29+부대사업팀!F29+역무자동화팀!F29+종합관제실!F29+감사실!F29 -> 308 | G29: =안전관리실!G29+SE사업팀!G29+철도사업팀!G29+기획팀!G29+성과예산팀!G29+정보화팀!G29+총무팀!G29+노무복지팀!G29+자산회계팀!G29+인재개발팀!G29+차량팀!G29+승무팀!G29+신호팀!G29+통신팀!G29+전기팀!G29+기계환경팀!G29+토목팀!G29+건축팀!G29+영업팀!G29+고객만족팀!G29+문화홍보팀!G29+부대사업팀!G29+역무자동화팀!G29+종합관제실!G29+감사실!G29 -> 849 | H29: =안전관리실!H29+SE사업팀!H29+철도사업팀!H29+기획팀!H29+성과예산팀!H29+정보화팀!H29+총무팀!H29+노무복지팀!H29+자산회계팀!H29+인재개발팀!H29+차량팀!H29+승무팀!H29+신호팀!H29+통신팀!H29+전기팀!H29+기계환경팀!H29+토목팀!H29+건축팀!H29+영업팀!H29+고객만족팀!H29+문화홍보팀!H29+부대사업팀!H29+역무자동화팀!H29+종합관제실!H29+감사실!H29 -> 0 | I29: =안전관리실!I29+SE사업팀!I29+철도사업팀!I29+기획팀!I29+성과예산팀!I29+정보화팀!I29+총무팀!I29+노무복지팀!I29+자산회계팀!I29+인재개발팀!I29+차량팀!I29+승무팀!I29+신호팀!I29+통신팀!I29+전기팀!I29+기계환경팀!I29+토목팀!I29+건축팀!I29+영업팀!I29+고객만족팀!I29+문화홍보팀!I29+부대사업팀!I29+역무자동화팀!I29+종합관제실!I29+감사실!I29 -> 0 | J29: =안전관리실!J29+SE사업팀!J29+철도사업팀!J29+기획팀!J29+성과예산팀!J29+정보화팀!J29+총무팀!J29+노무복지팀!J29+자산회계팀!J29+인재개발팀!J29+차량팀!J29+승무팀!J29+신호팀!J29+통신팀!J29+전기팀!J29+기계환경팀!J29+토목팀!J29+건축팀!J29+영업팀!J29+고객만족팀!J29+문화홍보팀!J29+부대사업팀!J29+역무자동화팀!J29+종합관제실!J29+감사실!J29 -> 0 | K29: =안전관리실!K29+SE사업팀!K29+철도사업팀!K29+기획팀!K29+성과예산팀!K29+정보화팀!K29+총무팀!K29+노무복지팀!K29+자산회계팀!K29+인재개발팀!K29+차량팀!K29+승무팀!K29+신호팀!K29+통신팀!K29+전기팀!K29+기계환경팀!K29+토목팀!K29+건축팀!K29+영업팀!K29+고객만족팀!K29+문화홍보팀!K29+부대사업팀!K29+역무자동화팀!K29+종합관제실!K29+감사실!K29 -> 0 | ... Q29: =안전관리실!Q29+SE사업팀!Q29+철도사업팀!Q29+기획팀!Q29+성과예산팀!Q29+정보화팀!Q29+총무팀!Q29+노무복지팀!Q29+자산회계팀!Q29+인재개발팀!Q29+차량팀!Q29+승무팀!Q29+신호팀!Q29+통신팀!Q29+전기팀!Q29+기계환경팀!Q29+토목팀!Q29+건축팀!Q29+영업팀!Q29+고객만족팀!Q29+문화홍보팀!Q29+부대사업팀!Q29+역무자동화팀!Q29+종합관제실!Q29+감사실!Q29 -> 390.65041 | R29: 라벨지(인쇄용 점착라벨 스티커, 사무·서류관리 라벨지, 택배라벨지, 주소표기용 점착운송장), 종이테이프, 봉투, 클리어파일, 바인더, 보존용표지, 액자 및 프레임, 결재함 등 | AH29: 01 | AI29: 008 | AJ29: 00039
A30: 전자/정보/통신 | B30: 개인용컴퓨터 | C30: 개인용컴퓨터 | D30: =안전관리실!D30+SE사업팀!D30+철도사업팀!D30+기획팀!D30+성과예산팀!D30+정보화팀!D30+총무팀!D30+노무복지팀!D30+자산회계팀!D30+인재개발팀!D30+차량팀!D30+승무팀!D30+신호팀!D30+통신팀!D30+전기팀!D30+기계환경팀!D30+토목팀!D30+건축팀!D30+영업팀!D30+고객만족팀!D30+문화홍보팀!D30+부대사업팀!D30+역무자동화팀!D30+종합관제실!D30+감사실!D30 -> 69 | E30: =안전관리실!E30+SE사업팀!E30+철도사업팀!E30+기획팀!E30+성과예산팀!E30+정보화팀!E30+총무팀!E30+노무복지팀!E30+자산회계팀!E30+인재개발팀!E30+차량팀!E30+승무팀!E30+신호팀!E30+통신팀!E30+전기팀!E30+기계환경팀!E30+토목팀!E30+건축팀!E30+영업팀!E30+고객만족팀!E30+문화홍보팀!E30+부대사업팀!E30+역무자동화팀!E30+종합관제실!E30+감사실!E30 -> 59899 | F30: =안전관리실!F30+SE사업팀!F30+철도사업팀!F30+기획팀!F30+성과예산팀!F30+정보화팀!F30+총무팀!F30+노무복지팀!F30+자산회계팀!F30+인재개발팀!F30+차량팀!F30+승무팀!F30+신호팀!F30+통신팀!F30+전기팀!F30+기계환경팀!F30+토목팀!F30+건축팀!F30+영업팀!F30+고객만족팀!F30+문화홍보팀!F30+부대사업팀!F30+역무자동화팀!F30+종합관제실!F30+감사실!F30 -> 69 | G30: =안전관리실!G30+SE사업팀!G30+철도사업팀!G30+기획팀!G30+성과예산팀!G30+정보화팀!G30+총무팀!G30+노무복지팀!G30+자산회계팀!G30+인재개발팀!G30+차량팀!G30+승무팀!G30+신호팀!G30+통신팀!G30+전기팀!G30+기계환경팀!G30+토목팀!G30+건축팀!G30+영업팀!G30+고객만족팀!G30+문화홍보팀!G30+부대사업팀!G30+역무자동화팀!G30+종합관제실!G30+감사실!G30 -> 59899 | H30: =안전관리실!H30+SE사업팀!H30+철도사업팀!H30+기획팀!H30+성과예산팀!H30+정보화팀!H30+총무팀!H30+노무복지팀!H30+자산회계팀!H30+인재개발팀!H30+차량팀!H30+승무팀!H30+신호팀!H30+통신팀!H30+전기팀!H30+기계환경팀!H30+토목팀!H30+건축팀!H30+영업팀!H30+고객만족팀!H30+문화홍보팀!H30+부대사업팀!H30+역무자동화팀!H30+종합관제실!H30+감사실!H30 -> 0 | I30: =안전관리실!I30+SE사업팀!I30+철도사업팀!I30+기획팀!I30+성과예산팀!I30+정보화팀!I30+총무팀!I30+노무복지팀!I30+자산회계팀!I30+인재개발팀!I30+차량팀!I30+승무팀!I30+신호팀!I30+통신팀!I30+전기팀!I30+기계환경팀!I30+토목팀!I30+건축팀!I30+영업팀!I30+고객만족팀!I30+문화홍보팀!I30+부대사업팀!I30+역무자동화팀!I30+종합관제실!I30+감사실!I30 -> 0 | J30: =안전관리실!J30+SE사업팀!J30+철도사업팀!J30+기획팀!J30+성과예산팀!J30+정보화팀!J30+총무팀!J30+노무복지팀!J30+자산회계팀!J30+인재개발팀!J30+차량팀!J30+승무팀!J30+신호팀!J30+통신팀!J30+전기팀!J30+기계환경팀!J30+토목팀!J30+건축팀!J30+영업팀!J30+고객만족팀!J30+문화홍보팀!J30+부대사업팀!J30+역무자동화팀!J30+종합관제실!J30+감사실!J30 -> 0 | K30: =안전관리실!K30+SE사업팀!K30+철도사업팀!K30+기획팀!K30+성과예산팀!K30+정보화팀!K30+총무팀!K30+노무복지팀!K30+자산회계팀!K30+인재개발팀!K30+차량팀!K30+승무팀!K30+신호팀!K30+통신팀!K30+전기팀!K30+기계환경팀!K30+토목팀!K30+건축팀!K30+영업팀!K30+고객만족팀!K30+문화홍보팀!K30+부대사업팀!K30+역무자동화팀!K30+종합관제실!K30+감사실!K30 -> 0 | ... Q30: =안전관리실!Q30+SE사업팀!Q30+철도사업팀!Q30+기획팀!Q30+성과예산팀!Q30+정보화팀!Q30+총무팀!Q30+노무복지팀!Q30+자산회계팀!Q30+인재개발팀!Q30+차량팀!Q30+승무팀!Q30+신호팀!Q30+통신팀!Q30+전기팀!Q30+기계환경팀!Q30+토목팀!Q30+건축팀!Q30+영업팀!Q30+고객만족팀!Q30+문화홍보팀!Q30+부대사업팀!Q30+역무자동화팀!Q30+종합관제실!Q30+감사실!Q30 -> 300 | R30: 일반 PC, 모니터 일체형 PC | AH30: 02 | AI30: 009 | AJ30: 00040
B31: 노트북 | C31: 노트북 컴퓨터 | D31: =안전관리실!D31+SE사업팀!D31+철도사업팀!D31+기획팀!D31+성과예산팀!D31+정보화팀!D31+총무팀!D31+노무복지팀!D31+자산회계팀!D31+인재개발팀!D31+차량팀!D31+승무팀!D31+신호팀!D31+통신팀!D31+전기팀!D31+기계환경팀!D31+토목팀!D31+건축팀!D31+영업팀!D31+고객만족팀!D31+문화홍보팀!D31+부대사업팀!D31+역무자동화팀!D31+종합관제실!D31+감사실!D31 -> 3 | E31: =안전관리실!E31+SE사업팀!E31+철도사업팀!E31+기획팀!E31+성과예산팀!E31+정보화팀!E31+총무팀!E31+노무복지팀!E31+자산회계팀!E31+인재개발팀!E31+차량팀!E31+승무팀!E31+신호팀!E31+통신팀!E31+전기팀!E31+기계환경팀!E31+토목팀!E31+건축팀!E31+영업팀!E31+고객만족팀!E31+문화홍보팀!E31+부대사업팀!E31+역무자동화팀!E31+종합관제실!E31+감사실!E31 -> 3124 | F31: =안전관리실!F31+SE사업팀!F31+철도사업팀!F31+기획팀!F31+성과예산팀!F31+정보화팀!F31+총무팀!F31+노무복지팀!F31+자산회계팀!F31+인재개발팀!F31+차량팀!F31+승무팀!F31+신호팀!F31+통신팀!F31+전기팀!F31+기계환경팀!F31+토목팀!F31+건축팀!F31+영업팀!F31+고객만족팀!F31+문화홍보팀!F31+부대사업팀!F31+역무자동화팀!F31+종합관제실!F31+감사실!F31 -> 3 | G31: =안전관리실!G31+SE사업팀!G31+철도사업팀!G31+기획팀!G31+성과예산팀!G31+정보화팀!G31+총무팀!G31+노무복지팀!G31+자산회계팀!G31+인재개발팀!G31+차량팀!G31+승무팀!G31+신호팀!G31+통신팀!G31+전기팀!G31+기계환경팀!G31+토목팀!G31+건축팀!G31+영업팀!G31+고객만족팀!G31+문화홍보팀!G31+부대사업팀!G31+역무자동화팀!G31+종합관제실!G31+감사실!G31 -> 3124 | H31: =안전관리실!H31+SE사업팀!H31+철도사업팀!H31+기획팀!H31+성과예산팀!H31+정보화팀!H31+총무팀!H31+노무복지팀!H31+자산회계팀!H31+인재개발팀!H31+차량팀!H31+승무팀!H31+신호팀!H31+통신팀!H31+전기팀!H31+기계환경팀!H31+토목팀!H31+건축팀!H31+영업팀!H31+고객만족팀!H31+문화홍보팀!H31+부대사업팀!H31+역무자동화팀!H31+종합관제실!H31+감사실!H31 -> 0 | I31: =안전관리실!I31+SE사업팀!I31+철도사업팀!I31+기획팀!I31+성과예산팀!I31+정보화팀!I31+총무팀!I31+노무복지팀!I31+자산회계팀!I31+인재개발팀!I31+차량팀!I31+승무팀!I31+신호팀!I31+통신팀!I31+전기팀!I31+기계환경팀!I31+토목팀!I31+건축팀!I31+영업팀!I31+고객만족팀!I31+문화홍보팀!I31+부대사업팀!I31+역무자동화팀!I31+종합관제실!I31+감사실!I31 -> 0 | J31: =안전관리실!J31+SE사업팀!J31+철도사업팀!J31+기획팀!J31+성과예산팀!J31+정보화팀!J31+총무팀!J31+노무복지팀!J31+자산회계팀!J31+인재개발팀!J31+차량팀!J31+승무팀!J31+신호팀!J31+통신팀!J31+전기팀!J31+기계환경팀!J31+토목팀!J31+건축팀!J31+영업팀!J31+고객만족팀!J31+문화홍보팀!J31+부대사업팀!J31+역무자동화팀!J31+종합관제실!J31+감사실!J31 -> 0 | K31: =안전관리실!K31+SE사업팀!K31+철도사업팀!K31+기획팀!K31+성과예산팀!K31+정보화팀!K31+총무팀!K31+노무복지팀!K31+자산회계팀!K31+인재개발팀!K31+차량팀!K31+승무팀!K31+신호팀!K31+통신팀!K31+전기팀!K31+기계환경팀!K31+토목팀!K31+건축팀!K31+영업팀!K31+고객만족팀!K31+문화홍보팀!K31+부대사업팀!K31+역무자동화팀!K31+종합관제실!K31+감사실!K31 -> 0 | ... Q31: =안전관리실!Q31+SE사업팀!Q31+철도사업팀!Q31+기획팀!Q31+성과예산팀!Q31+정보화팀!Q31+총무팀!Q31+노무복지팀!Q31+자산회계팀!Q31+인재개발팀!Q31+차량팀!Q31+승무팀!Q31+신호팀!Q31+통신팀!Q31+전기팀!Q31+기계환경팀!Q31+토목팀!Q31+건축팀!Q31+영업팀!Q31+고객만족팀!Q31+문화홍보팀!Q31+부대사업팀!Q31+역무자동화팀!Q31+종합관제실!Q31+감사실!Q31 -> 200 | R31: 노트북 컴퓨터 | AH31: 02 | AI31: 010 | AJ31: 00042
B32: 프린터 | C32: 프린터 | D32: =안전관리실!D32+SE사업팀!D32+철도사업팀!D32+기획팀!D32+성과예산팀!D32+정보화팀!D32+총무팀!D32+노무복지팀!D32+자산회계팀!D32+인재개발팀!D32+차량팀!D32+승무팀!D32+신호팀!D32+통신팀!D32+전기팀!D32+기계환경팀!D32+토목팀!D32+건축팀!D32+영업팀!D32+고객만족팀!D32+문화홍보팀!D32+부대사업팀!D32+역무자동화팀!D32+종합관제실!D32+감사실!D32 -> 2 | E32: =안전관리실!E32+SE사업팀!E32+철도사업팀!E32+기획팀!E32+성과예산팀!E32+정보화팀!E32+총무팀!E32+노무복지팀!E32+자산회계팀!E32+인재개발팀!E32+차량팀!E32+승무팀!E32+신호팀!E32+통신팀!E32+전기팀!E32+기계환경팀!E32+토목팀!E32+건축팀!E32+영업팀!E32+고객만족팀!E32+문화홍보팀!E32+부대사업팀!E32+역무자동화팀!E32+종합관제실!E32+감사실!E32 -> 902 | F32: =안전관리실!F32+SE사업팀!F32+철도사업팀!F32+기획팀!F32+성과예산팀!F32+정보화팀!F32+총무팀!F32+노무복지팀!F32+자산회계팀!F32+인재개발팀!F32+차량팀!F32+승무팀!F32+신호팀!F32+통신팀!F32+전기팀!F32+기계환경팀!F32+토목팀!F32+건축팀!F32+영업팀!F32+고객만족팀!F32+문화홍보팀!F32+부대사업팀!F32+역무자동화팀!F32+종합관제실!F32+감사실!F32 -> 2 | G32: =안전관리실!G32+SE사업팀!G32+철도사업팀!G32+기획팀!G32+성과예산팀!G32+정보화팀!G32+총무팀!G32+노무복지팀!G32+자산회계팀!G32+인재개발팀!G32+차량팀!G32+승무팀!G32+신호팀!G32+통신팀!G32+전기팀!G32+기계환경팀!G32+토목팀!G32+건축팀!G32+영업팀!G32+고객만족팀!G32+문화홍보팀!G32+부대사업팀!G32+역무자동화팀!G32+종합관제실!G32+감사실!G32 -> 902 | H32: =안전관리실!H32+SE사업팀!H32+철도사업팀!H32+기획팀!H32+성과예산팀!H32+정보화팀!H32+총무팀!H32+노무복지팀!H32+자산회계팀!H32+인재개발팀!H32+차량팀!H32+승무팀!H32+신호팀!H32+통신팀!H32+전기팀!H32+기계환경팀!H32+토목팀!H32+건축팀!H32+영업팀!H32+고객만족팀!H32+문화홍보팀!H32+부대사업팀!H32+역무자동화팀!H32+종합관제실!H32+감사실!H32 -> 0 | I32: =안전관리실!I32+SE사업팀!I32+철도사업팀!I32+기획팀!I32+성과예산팀!I32+정보화팀!I32+총무팀!I32+노무복지팀!I32+자산회계팀!I32+인재개발팀!I32+차량팀!I32+승무팀!I32+신호팀!I32+통신팀!I32+전기팀!I32+기계환경팀!I32+토목팀!I32+건축팀!I32+영업팀!I32+고객만족팀!I32+문화홍보팀!I32+부대사업팀!I32+역무자동화팀!I32+종합관제실!I32+감사실!I32 -> 0 | J32: =안전관리실!J32+SE사업팀!J32+철도사업팀!J32+기획팀!J32+성과예산팀!J32+정보화팀!J32+총무팀!J32+노무복지팀!J32+자산회계팀!J32+인재개발팀!J32+차량팀!J32+승무팀!J32+신호팀!J32+통신팀!J32+전기팀!J32+기계환경팀!J32+토목팀!J32+건축팀!J32+영업팀!J32+고객만족팀!J32+문화홍보팀!J32+부대사업팀!J32+역무자동화팀!J32+종합관제실!J32+감사실!J32 -> 0 | K32: =안전관리실!K32+SE사업팀!K32+철도사업팀!K32+기획팀!K32+성과예산팀!K32+정보화팀!K32+총무팀!K32+노무복지팀!K32+자산회계팀!K32+인재개발팀!K32+차량팀!K32+승무팀!K32+신호팀!K32+통신팀!K32+전기팀!K32+기계환경팀!K32+토목팀!K32+건축팀!K32+영업팀!K32+고객만족팀!K32+문화홍보팀!K32+부대사업팀!K32+역무자동화팀!K32+종합관제실!K32+감사실!K32 -> 0 | ... Q32: =안전관리실!Q32+SE사업팀!Q32+철도사업팀!Q32+기획팀!Q32+성과예산팀!Q32+정보화팀!Q32+총무팀!Q32+노무복지팀!Q32+자산회계팀!Q32+인재개발팀!Q32+차량팀!Q32+승무팀!Q32+신호팀!Q32+통신팀!Q32+전기팀!Q32+기계환경팀!Q32+토목팀!Q32+건축팀!Q32+영업팀!Q32+고객만족팀!Q32+문화홍보팀!Q32+부대사업팀!Q32+역무자동화팀!Q32+종합관제실!Q32+감사실!Q32 -> 100 | R32: 레이저 프린터, 잉크젯 프린터 | AH32: 02 | AI32: 011 | AJ32: 00043
B33: 모니터 | C33: 컴퓨터용 모니터 | D33: =안전관리실!D33+SE사업팀!D33+철도사업팀!D33+기획팀!D33+성과예산팀!D33+정보화팀!D33+총무팀!D33+노무복지팀!D33+자산회계팀!D33+인재개발팀!D33+차량팀!D33+승무팀!D33+신호팀!D33+통신팀!D33+전기팀!D33+기계환경팀!D33+토목팀!D33+건축팀!D33+영업팀!D33+고객만족팀!D33+문화홍보팀!D33+부대사업팀!D33+역무자동화팀!D33+종합관제실!D33+감사실!D33 -> 58 | E33: =안전관리실!E33+SE사업팀!E33+철도사업팀!E33+기획팀!E33+성과예산팀!E33+정보화팀!E33+총무팀!E33+노무복지팀!E33+자산회계팀!E33+인재개발팀!E33+차량팀!E33+승무팀!E33+신호팀!E33+통신팀!E33+전기팀!E33+기계환경팀!E33+토목팀!E33+건축팀!E33+영업팀!E33+고객만족팀!E33+문화홍보팀!E33+부대사업팀!E33+역무자동화팀!E33+종합관제실!E33+감사실!E33 -> 11087 | F33: =안전관리실!F33+SE사업팀!F33+철도사업팀!F33+기획팀!F33+성과예산팀!F33+정보화팀!F33+총무팀!F33+노무복지팀!F33+자산회계팀!F33+인재개발팀!F33+차량팀!F33+승무팀!F33+신호팀!F33+통신팀!F33+전기팀!F33+기계환경팀!F33+토목팀!F33+건축팀!F33+영업팀!F33+고객만족팀!F33+문화홍보팀!F33+부대사업팀!F33+역무자동화팀!F33+종합관제실!F33+감사실!F33 -> 58 | G33: =안전관리실!G33+SE사업팀!G33+철도사업팀!G33+기획팀!G33+성과예산팀!G33+정보화팀!G33+총무팀!G33+노무복지팀!G33+자산회계팀!G33+인재개발팀!G33+차량팀!G33+승무팀!G33+신호팀!G33+통신팀!G33+전기팀!G33+기계환경팀!G33+토목팀!G33+건축팀!G33+영업팀!G33+고객만족팀!G33+문화홍보팀!G33+부대사업팀!G33+역무자동화팀!G33+종합관제실!G33+감사실!G33 -> 11087 | H33: =안전관리실!H33+SE사업팀!H33+철도사업팀!H33+기획팀!H33+성과예산팀!H33+정보화팀!H33+총무팀!H33+노무복지팀!H33+자산회계팀!H33+인재개발팀!H33+차량팀!H33+승무팀!H33+신호팀!H33+통신팀!H33+전기팀!H33+기계환경팀!H33+토목팀!H33+건축팀!H33+영업팀!H33+고객만족팀!H33+문화홍보팀!H33+부대사업팀!H33+역무자동화팀!H33+종합관제실!H33+감사실!H33 -> 0 | I33: =안전관리실!I33+SE사업팀!I33+철도사업팀!I33+기획팀!I33+성과예산팀!I33+정보화팀!I33+총무팀!I33+노무복지팀!I33+자산회계팀!I33+인재개발팀!I33+차량팀!I33+승무팀!I33+신호팀!I33+통신팀!I33+전기팀!I33+기계환경팀!I33+토목팀!I33+건축팀!I33+영업팀!I33+고객만족팀!I33+문화홍보팀!I33+부대사업팀!I33+역무자동화팀!I33+종합관제실!I33+감사실!I33 -> 0 | J33: =안전관리실!J33+SE사업팀!J33+철도사업팀!J33+기획팀!J33+성과예산팀!J33+정보화팀!J33+총무팀!J33+노무복지팀!J33+자산회계팀!J33+인재개발팀!J33+차량팀!J33+승무팀!J33+신호팀!J33+통신팀!J33+전기팀!J33+기계환경팀!J33+토목팀!J33+건축팀!J33+영업팀!J33+고객만족팀!J33+문화홍보팀!J33+부대사업팀!J33+역무자동화팀!J33+종합관제실!J33+감사실!J33 -> 0 | K33: =안전관리실!K33+SE사업팀!K33+철도사업팀!K33+기획팀!K33+성과예산팀!K33+정보화팀!K33+총무팀!K33+노무복지팀!K33+자산회계팀!K33+인재개발팀!K33+차량팀!K33+승무팀!K33+신호팀!K33+통신팀!K33+전기팀!K33+기계환경팀!K33+토목팀!K33+건축팀!K33+영업팀!K33+고객만족팀!K33+문화홍보팀!K33+부대사업팀!K33+역무자동화팀!K33+종합관제실!K33+감사실!K33 -> 0 | ... Q33: =안전관리실!Q33+SE사업팀!Q33+철도사업팀!Q33+기획팀!Q33+성과예산팀!Q33+정보화팀!Q33+총무팀!Q33+노무복지팀!Q33+자산회계팀!Q33+인재개발팀!Q33+차량팀!Q33+승무팀!Q33+신호팀!Q33+통신팀!Q33+전기팀!Q33+기계환경팀!Q33+토목팀!Q33+건축팀!Q33+영업팀!Q33+고객만족팀!Q33+문화홍보팀!Q33+부대사업팀!Q33+역무자동화팀!Q33+종합관제실!Q33+감사실!Q33 -> 100 | R33: 컴퓨터용 모니터, CRT모니터, 액정 모니터 | AH33: 02 | AI33: 012 | AJ33: 00045
