Workbook
Name Goods: #REF!

Sheet 참고
B6: ※ 작성시 참고사항
B8: 1. 의무구매 범위
B9: 1) 직접 상품을 구매하는 경우
B10: 2) 용역(서비스) 계약을 통해 구매하는 경우
B11: 3) 건설공사 시 시공회사가 구매하는 사급자재의 경우에도 녹색제품이 있는 경우 녹색제품을 구매하여야 합니다.
B13: 2. 특히 다음의 경우에도 녹색제품 구매 및 실적집계가 누락되는 일이 없도록 주의하여 주시고,
B14: 1) 인쇄 : 인쇄업체에서 구매하는 인쇄용지
B15: 2) 청소 및 건물 유지보수 : 용역업체에서 구매하는 화장지, 세제, 비누, 형광등, 수도꼭지, 양변기 등
B16: 3) 사무기기 유지보수 : 사무기기 유지보수 계약업체에서 구매하는 토너 카트리지, 프린터 등
B17: 4) 사무기기 렌탈, 리스 : 복합기, 컴퓨터 등을 렌탈, 리스하는 경우
B18: 5) 그밖에 구매가 가능한 용역 : 용역업체에서 구입하는 녹색제품
B19: 6) 건설공사 : 건설공사의 시공회사가 직접 구입하는 아스콘, 창호 등 녹색건설자재
... B36: 5. 1,2월에 구매한 실적도 계획에 포함하여 제출

Sheet 취합본
A1: 2018년 녹색제품 구매계획
A3: □ 계획 작성표
A4: (단위 : 천원)
D5: 계획(1) | H5: 조정계획(2) | L5: 총합계(A+B) | S5: 전년대비 감액사유 (10%이상시 작성)
A6: 녹색제품 분류 | D6: 총구매 | F6: 녹색구매 | H6: 총구매 | J6: 녹색구매 | L6: 총구매(A) | N6: 녹색구매(B) | P6: 비율(%, B/A) | R6: 세부 포함 제품
D7: 수량 | E7: 금액 | F7: 수량 | G7: 금액 | H7: 수량 | I7: 금액 | J7: 수량 | K7: 금액 | L7: 수량 | M7: 금액 | N7: 수량 | O7: 금액 | P7: 수량 | Q7: 금액
A8: 합계 | D8: =SUM(D9:D121) -> 3418 | E8: =SUM(E9:E121) -> 289034 | F8: =SUM(F9:F121) -> 3335 | G8: =SUM(G9:G121) -> 287524 | H8: =SUM(H9:H121) -> 0 | I8: =SUM(I9:I121) -> 0 | J8: =SUM(J9:J121) -> 0 | K8: =SUM(K9:K121) -> 0 | ... O8: =SUM(O9:O121) -> 287524 | P8: =IF(AND(L8=0,N8=0),"0",IF(AND(L8<N8),"error",(N8/L8)*100)) -> 97.571679 | Q8: =IF(AND(M8=0,O8=0),"0",IF(AND(M8<O8),"error",(O8/M8)*100)) -> 99.47757
A9: 사무/교육/영상/가전 | B9: 사무기기 | C9: 복사기 | D9: =안전관리실!D9+SE사업팀!D9+철도사업팀!D9+기획팀!D9+성과예산팀!D9+정보화팀!D9+총무팀!D9+노무복지팀!D9+자산회계팀!D9+인재개발팀!D9+차량팀!D9+승무팀!D9+신호팀!D9+통신팀!D9+전기팀!D9+기계환경팀!D9+토목팀!D9+건축팀!D9+영업팀!D9+고객만족팀!D9+문화홍보팀!D9+부대사업팀!D9+역무자동화팀!D9+종합관제실!D9+감사실!D9 -> 0 | E9: =안전관리실!E9+SE사업팀!E9+철도사업팀!E9+기획팀!E9+성과예산팀!E9+정보화팀!E9+총무팀!E9+노무복지팀!E9+자산회계팀!E9+인재개발팀!E9+차량팀!E9+승무팀!E9+신호팀!E9+통신팀!E9+전기팀!E9+기계환경팀!E9+토목팀!E9+건축팀!E9+영업팀!E9+고객만족팀!E9+문화홍보팀!E9+부대사업팀!E9+역무자동화팀!E9+종합관제실!E9+감사실!E9 -> 0 | F9: =안전관리실!F9+SE사업팀!F9+철도사업팀!F9+기획팀!F9+성과예산팀!F9+정보화팀!F9+총무팀!F9+노무복지팀!F9+자산회계팀!F9+인재개발팀!F9+차량팀!F9+승무팀!F9+신호팀!F9+통신팀!F9+전기팀!F9+기계환경팀!F9+토목팀!F9+건축팀!F9+영업팀!F9+고객만족팀!F9+문화홍보팀!F9+부대사업팀!F9+역무자동화팀!F9+종합관제실!F9+감사실!F9 -> 0 | G9: =안전관리실!G9+SE사업팀!G9+철도사업팀!G9+기획팀!G9+성과예산팀!G9+정보화팀!G9+총무팀!G9+노무복지팀!G9+자산회계팀!G9+인재개발팀!G9+차량팀!G9+승무팀!G9+신호팀!G9+통신팀!G9+전기팀!G9+기계환경팀!G9+토목팀!G9+건축팀!G9+영업팀!G9+고객만족팀!G9+문화홍보팀!G9+부대사업팀!G9+역무자동화팀!G9+종합관제실!G9+감사실!G9 -> 0 | H9: =안전관리실!H9+SE사업팀!H9+철도사업팀!H9+기획팀!H9+성과예산팀!H9+정보화팀!H9+총무팀!H9+노무복지팀!H9+자산회계팀!H9+인재개발팀!H9+차량팀!H9+승무팀!H9+신호팀!H9+통신팀!H9+전기팀!H9+기계환경팀!H9+토목팀!H9+건축팀!H9+영업팀!H9+고객만족팀!H9+문화홍보팀!H9+부대사업팀!H9+역무자동화팀!H9+종합관제실!H9+감사실!H9 -> 0 | I9: =안전관리실!I9+SE사업팀!I9+철도사업팀!I9+기획팀!I9+성과예산팀!I9+정보화팀!I9+총무팀!I9+노무복지팀!I9+자산회계팀!I9+인재개발팀!I9+차량팀!I9+승무팀!I9+신호팀!I9+통신팀!I9+전기팀!I9+기계환경팀!I9+토목팀!I9+건축팀!I9+영업팀!I9+고객만족팀!I9+문화홍보팀!I9+부대사업팀!I9+역무자동화팀!I9+종합관제실!I9+감사실!I9 -> 0 | J9: =안전관리실!J9+SE사업팀!J9+철도사업팀!J9+기획팀!J9+성과예산팀!J9+정보화팀!J9+총무팀!J9+노무복지팀!J9+자산회계팀!J9+인재개발팀!J9+차량팀!J9+승무팀!J9+신호팀!J9+통신팀!J9+전기팀!J9+기계환경팀!J9+토목팀!J9+건축팀!J9+영업팀!J9+고객만족팀!J9+문화홍보팀!J9+부대사업팀!J9+역무자동화팀!J9+종합관제실!J9+감사실!J9 -> 0 | K9: =안전관리실!K9+SE사업팀!K9+철도사업팀!K9+기획팀!K9+성과예산팀!K9+정보화팀!K9+총무팀!K9+노무복지팀!K9+자산회계팀!K9+인재개발팀!K9+차량팀!K9+승무팀!K9+신호팀!K9+통신팀!K9+전기팀!K9+기계환경팀!K9+토목팀!K9+건축팀!K9+영업팀!K9+고객만족팀!K9+문화홍보팀!K9+부대사업팀!K9+역무자동화팀!K9+종합관제실!K9+감사실!K9 -> 0 | ... Q9: =안전관리실!Q9+SE사업팀!Q9+철도사업팀!Q9+기획팀!Q9+성과예산팀!Q9+정보화팀!Q9+총무팀!Q9+노무복지팀!Q9+자산회계팀!Q9+인재개발팀!Q9+차량팀!Q9+승무팀!Q9+신호팀!Q9+통신팀!Q9+전기팀!Q9+기계환경팀!Q9+토목팀!Q9+건축팀!Q9+영업팀!Q9+고객만족팀!Q9+문화홍보팀!Q9+부대사업팀!Q9+역무자동화팀!Q9+종합관제실!Q9+감사실!Q9 -> 0 | R9: 복합기, 전자복사기, 사무기기트레이 또는 지급장치 | AH9: 01 | AI9: 001 | AJ9: 00002
C10: 팩시밀리 | D10: =안전관리실!D10+SE사업팀!D10+철도사업팀!D10+기획팀!D10+성과예산팀!D10+정보화팀!D10+총무팀!D10+노무복지팀!D10+자산회계팀!D10+인재개발팀!D10+차량팀!D10+승무팀!D10+신호팀!D10+통신팀!D10+전기팀!D10+기계환경팀!D10+토목팀!D10+건축팀!D10+영업팀!D10+고객만족팀!D10+문화홍보팀!D10+부대사업팀!D10+역무자동화팀!D10+종합관제실!D10+감사실!D10 -> 1 | E10: =안전관리실!E10+SE사업팀!E10+철도사업팀!E10+기획팀!E10+성과예산팀!E10+정보화팀!E10+총무팀!E10+노무복지팀!E10+자산회계팀!E10+인재개발팀!E10+차량팀!E10+승무팀!E10+신호팀!E10+통신팀!E10+전기팀!E10+기계환경팀!E10+토목팀!E10+건축팀!E10+영업팀!E10+고객만족팀!E10+문화홍보팀!E10+부대사업팀!E10+역무자동화팀!E10+종합관제실!E10+감사실!E10 -> 350 | F10: =안전관리실!F10+SE사업팀!F10+철도사업팀!F10+기획팀!F10+성과예산팀!F10+정보화팀!F10+총무팀!F10+노무복지팀!F10+자산회계팀!F10+인재개발팀!F10+차량팀!F10+승무팀!F10+신호팀!F10+통신팀!F10+전기팀!F10+기계환경팀!F10+토목팀!F10+건축팀!F10+영업팀!F10+고객만족팀!F10+문화홍보팀!F10+부대사업팀!F10+역무자동화팀!F10+종합관제실!F10+감사실!F10 -> 1 | G10: =안전관리실!G10+SE사업팀!G10+철도사업팀!G10+기획팀!G10+성과예산팀!G10+정보화팀!G10+총무팀!G10+노무복지팀!G10+자산회계팀!G10+인재개발팀!G10+차량팀!G10+승무팀!G10+신호팀!G10+통신팀!G10+전기팀!G10+기계환경팀!G10+토목팀!G10+건축팀!G10+영업팀!G10+고객만족팀!G10+문화홍보팀!G10+부대사업팀!G10+역무자동화팀!G10+종합관제실!G10+감사실!G10 -> 350 | H10: =안전관리실!H10+SE사업팀!H10+철도사업팀!H10+기획팀!H10+성과예산팀!H10+정보화팀!H10+총무팀!H10+노무복지팀!H10+자산회계팀!H10+인재개발팀!H10+차량팀!H10+승무팀!H10+신호팀!H10+통신팀!H10+전기팀!H10+기계환경팀!H10+토목팀!H10+건축팀!H10+영업팀!H10+고객만족팀!H10+문화홍보팀!H10+부대사업팀!H10+역무자동화팀!H10+종합관제실!H10+감사실!H10 -> 0 | I10: =안전관리실!I10+SE사업팀!I10+철도사업팀!I10+기획팀!I10+성과예산팀!I10+정보화팀!I10+총무팀!I10+노무복지팀!I10+자산회계팀!I10+인재개발팀!I10+차량팀!I10+승무팀!I10+신호팀!I10+통신팀!I10+전기팀!I10+기계환경팀!I10+토목팀!I10+건축팀!I10+영업팀!I10+고객만족팀!I10+문화홍보팀!I10+부대사업팀!I10+역무자동화팀!I10+종합관제실!I10+감사실!I10 -> 0 | J10: =안전관리실!J10+SE사업팀!J10+철도사업팀!J10+기획팀!J10+성과예산팀!J10+정보화팀!J10+총무팀!J10+노무복지팀!J10+자산회계팀!J10+인재개발팀!J10+차량팀!J10+승무팀!J10+신호팀!J10+통신팀!J10+전기팀!J10+기계환경팀!J10+토목팀!J10+건축팀!J10+영업팀!J10+고객만족팀!J10+문화홍보팀!J10+부대사업팀!J10+역무자동화팀!J10+종합관제실!J10+감사실!J10 -> 0 | K10: =안전관리실!K10+SE사업팀!K10+철도사업팀!K10+기획팀!K10+성과예산팀!K10+정보화팀!K10+총무팀!K10+노무복지팀!K10+자산회계팀!K10+인재개발팀!K10+차량팀!K10+승무팀!K10+신호팀!K10+통신팀!K10+전기팀!K10+기계환경팀!K10+토목팀!K10+건축팀!K10+영업팀!K10+고객만족팀!K10+문화홍보팀!K10+부대사업팀!K10+역무자동화팀!K10+종합관제실!K10+감사실!K10 -> 0 | ... Q10: =안전관리실!Q10+SE사업팀!Q10+철도사업팀!Q10+기획팀!Q10+성과예산팀!Q10+정보화팀!Q10+총무팀!Q10+노무복지팀!Q10+자산회계팀!Q10+인재개발팀!Q10+차량팀!Q10+승무팀!Q10+신호팀!Q10+통신팀!Q10+전기팀!Q10+기계환경팀!Q10+토목팀!Q10+건축팀!Q10+영업팀!Q10+고객만족팀!Q10+문화홍보팀!Q10+부대사업팀!Q10+역무자동화팀!Q10+종합관제실!Q10+감사실!Q10 -> 100 | R10: 팩시밀리 | AH10: 01 | AI10: 001 | AJ10: 00047
B11: 가전제품 | C11: 세탁기 | D11: =안전관리실!D11+SE사업팀!D11+철도사업팀!D11+기획팀!D11+성과예산팀!D11+정보화팀!D11+총무팀!D11+노무복지팀!D11+자산회계팀!D11+인재개발팀!D11+차량팀!D11+승무팀!D11+신호팀!D11+통신팀!D11+전기팀!D11+기계환경팀!D11+토목팀!D11+건축팀!D11+영업팀!D11+고객만족팀!D11+문화홍보팀!D11+부대사업팀!D11+역무자동화팀!D11+종합관제실!D11+감사실!D11 -> 0 | E11: =안전관리실!E11+SE사업팀!E11+철도사업팀!E11+기획팀!E11+성과예산팀!E11+정보화팀!E11+총무팀!E11+노무복지팀!E11+자산회계팀!E11+인재개발팀!E11+차량팀!E11+승무팀!E11+신호팀!E11+통신팀!E11+전기팀!E11+기계환경팀!E11+토목팀!E11+건축팀!E11+영업팀!E11+고객만족팀!E11+문화홍보팀!E11+부대사업팀!E11+역무자동화팀!E11+종합관제실!E11+감사실!E11 -> 0 | F11: =안전관리실!F11+SE사업팀!F11+철도사업팀!F11+기획팀!F11+성과예산팀!F11+정보화팀!F11+총무팀!F11+노무복지팀!F11+자산회계팀!F11+인재개발팀!F11+차량팀!F11+승무팀!F11+신호팀!F11+통신팀!F11+전기팀!F11+기계환경팀!F11+토목팀!F11+건축팀!F11+영업팀!F11+고객만족팀!F11+문화홍보팀!F11+부대사업팀!F11+역무자동화팀!F11+종합관제실!F11+감사실!F11 -> 0 | G11: =안전관리실!G11+SE사업팀!G11+철도사업팀!G11+기획팀!G11+성과예산팀!G11+정보화팀!G11+총무팀!G11+노무복지팀!G11+자산회계팀!G11+인재개발팀!G11+차량팀!G11+승무팀!G11+신호팀!G11+통신팀!G11+전기팀!G11+기계환경팀!G11+토목팀!G11+건축팀!G11+영업팀!G11+고객만족팀!G11+문화홍보팀!G11+부대사업팀!G11+역무자동화팀!G11+종합관제실!G11+감사실!G11 -> 0 | H11: =안전관리실!H11+SE사업팀!H11+철도사업팀!H11+기획팀!H11+성과예산팀!H11+정보화팀!H11+총무팀!H11+노무복지팀!H11+자산회계팀!H11+인재개발팀!H11+차량팀!H11+승무팀!H11+신호팀!H11+통신팀!H11+전기팀!H11+기계환경팀!H11+토목팀!H11+건축팀!H11+영업팀!H11+고객만족팀!H11+문화홍보팀!H11+부대사업팀!H11+역무자동화팀!H11+종합관제실!H11+감사실!H11 -> 0 | I11: =안전관리실!I11+SE사업팀!I11+철도사업팀!I11+기획팀!I11+성과예산팀!I11+정보화팀!I11+총무팀!I11+노무복지팀!I11+자산회계팀!I11+인재개발팀!I11+차량팀!I11+승무팀!I11+신호팀!I11+통신팀!I11+전기팀!I11+기계환경팀!I11+토목팀!I11+건축팀!I11+영업팀!I11+고객만족팀!I11+문화홍보팀!I11+부대사업팀!I11+역무자동화팀!I11+종합관제실!I11+감사실!I11 -> 0 | J11: =안전관리실!J11+SE사업팀!J11+철도사업팀!J11+기획팀!J11+성과예산팀!J11+정보화팀!J11+총무팀!J11+노무복지팀!J11+자산회계팀!J11+인재개발팀!J11+차량팀!J11+승무팀!J11+신호팀!J11+통신팀!J11+전기팀!J11+기계환경팀!J11+토목팀!J11+건축팀!J11+영업팀!J11+고객만족팀!J11+문화홍보팀!J11+부대사업팀!J11+역무자동화팀!J11+종합관제실!J11+감사실!J11 -> 0 | K11: =안전관리실!K11+SE사업팀!K11+철도사업팀!K11+기획팀!K11+성과예산팀!K11+정보화팀!K11+총무팀!K11+노무복지팀!K11+자산회계팀!K11+인재개발팀!K11+차량팀!K11+승무팀!K11+신호팀!K11+통신팀!K11+전기팀!K11+기계환경팀!K11+토목팀!K11+건축팀!K11+영업팀!K11+고객만족팀!K11+문화홍보팀!K11+부대사업팀!K11+역무자동화팀!K11+종합관제실!K11+감사실!K11 -> 0 | ... Q11: =안전관리실!Q11+SE사업팀!Q11+철도사업팀!Q11+기획팀!Q11+성과예산팀!Q11+정보화팀!Q11+총무팀!Q11+노무복지팀!Q11+자산회계팀!Q11+인재개발팀!Q11+차량팀!Q11+승무팀!Q11+신호팀!Q11+통신팀!Q11+전기팀!Q11+기계환경팀!Q11+토목팀!Q11+건축팀!Q11+영업팀!Q11+고객만족팀!Q11+문화홍보팀!Q11+부대사업팀!Q11+역무자동화팀!Q11+종합관제실!Q11+감사실!Q11 -> 0 | R11: 세탁기 | AH11: 01 | AI11: 002 | AJ11: 00003
C12: 식기세척기 | D12: =안전관리실!D12+SE사업팀!D12+철도사업팀!D12+기획팀!D12+성과예산팀!D12+정보화팀!D12+총무팀!D12+노무복지팀!D12+자산회계팀!D12+인재개발팀!D12+차량팀!D12+승무팀!D12+신호팀!D12+통신팀!D12+전기팀!D12+기계환경팀!D12+토목팀!D12+건축팀!D12+영업팀!D12+고객만족팀!D12+문화홍보팀!D12+부대사업팀!D12+역무자동화팀!D12+종합관제실!D12+감사실!D12 -> 0 | E12: =안전관리실!E12+SE사업팀!E12+철도사업팀!E12+기획팀!E12+성과예산팀!E12+정보화팀!E12+총무팀!E12+노무복지팀!E12+자산회계팀!E12+인재개발팀!E12+차량팀!E12+승무팀!E12+신호팀!E12+통신팀!E12+전기팀!E12+기계환경팀!E12+토목팀!E12+건축팀!E12+영업팀!E12+고객만족팀!E12+문화홍보팀!E12+부대사업팀!E12+역무자동화팀!E12+종합관제실!E12+감사실!E12 -> 0 | F12: =안전관리실!F12+SE사업팀!F12+철도사업팀!F12+기획팀!F12+성과예산팀!F12+정보화팀!F12+총무팀!F12+노무복지팀!F12+자산회계팀!F12+인재개발팀!F12+차량팀!F12+승무팀!F12+신호팀!F12+통신팀!F12+전기팀!F12+기계환경팀!F12+토목팀!F12+건축팀!F12+영업팀!F12+고객만족팀!F12+문화홍보팀!F12+부대사업팀!F12+역무자동화팀!F12+종합관제실!F12+감사실!F12 -> 0 | G12: =안전관리실!G12+SE사업팀!G12+철도사업팀!G12+기획팀!G12+성과예산팀!G12+정보화팀!G12+총무팀!G12+노무복지팀!G12+자산회계팀!G12+인재개발팀!G12+차량팀!G12+승무팀!G12+신호팀!G12+통신팀!G12+전기팀!G12+기계환경팀!G12+토목팀!G12+건축팀!G12+영업팀!G12+고객만족팀!G12+문화홍보팀!G12+부대사업팀!G12+역무자동화팀!G12+종합관제실!G12+감사실!G12 -> 0 | H12: =안전관리실!H12+SE사업팀!H12+철도사업팀!H12+기획팀!H12+성과예산팀!H12+정보화팀!H12+총무팀!H12+노무복지팀!H12+자산회계팀!H12+인재개발팀!H12+차량팀!H12+승무팀!H12+신호팀!H12+통신팀!H12+전기팀!H12+기계환경팀!H12+토목팀!H12+건축팀!H12+영업팀!H12+고객만족팀!H12+문화홍보팀!H12+부대사업팀!H12+역무자동화팀!H12+종합관제실!H12+감사실!H12 -> 0 | I12: =안전관리실!I12+SE사업팀!I12+철도사업팀!I12+기획팀!I12+성과예산팀!I12+정보화팀!I12+총무팀!I12+노무복지팀!I12+자산회계팀!I12+인재개발팀!I12+차량팀!I12+승무팀!I12+신호팀!I12+통신팀!I12+전기팀!I12+기계환경팀!I12+토목팀!I12+건축팀!I12+영업팀!I12+고객만족팀!I12+문화홍보팀!I12+부대사업팀!I12+역무자동화팀!I12+종합관제실!I12+감사실!I12 -> 0 | J12: =안전관리실!J12+SE사업팀!J12+철도사업팀!J12+기획팀!J12+성과예산팀!J12+정보화팀!J12+총무팀!J12+노무복지팀!J12+자산회계팀!J12+인재개발팀!J12+차량팀!J12+승무팀!J12+신호팀!J12+통신팀!J12+전기팀!J12+기계환경팀!J12+토목팀!J12+건축팀!J12+영업팀!J12+고객만족팀!J12+문화홍보팀!J12+부대사업팀!J12+역무자동화팀!J12+종합관제실!J12+감사실!J12 -> 0 | K12: =안전관리실!K12+SE사업팀!K12+철도사업팀!K12+기획팀!K12+성과예산팀!K12+정보화팀!K12+총무팀!K12+노무복지팀!K12+자산회계팀!K12+인재개발팀!K12+차량팀!K12+승무팀!K12+신호팀!K12+통신팀!K12+전기팀!K12+기계환경팀!K12+토목팀!K12+건축팀!K12+영업팀!K12+고객만족팀!K12+문화홍보팀!K12+부대사업팀!K12+역무자동화팀!K12+종합관제실!K12+감사실!K12 -> 0 | ... Q12: =안전관리실!Q12+SE사업팀!Q12+철도사업팀!Q12+기획팀!Q12+성과예산팀!Q12+정보화팀!Q12+총무팀!Q12+노무복지팀!Q12+자산회계팀!Q12+인재개발팀!Q12+차량팀!Q12+승무팀!Q12+신호팀!Q12+통신팀!Q12+전기팀!Q12+기계환경팀!Q12+토목팀!Q12+건축팀!Q12+영업팀!Q12+고객만족팀!Q12+문화홍보팀!Q12+부대사업팀!Q12+역무자동화팀!Q12+종합관제실!Q12+감사실!Q12 -> 0 | R12: 식기세척기 | AH12: 01 | AI12: 002 | AJ12: 00004
C13: 냉장고 | D13: =안전관리실!D13+SE사업팀!D13+철도사업팀!D13+기획팀!D13+성과예산팀!D13+정보화팀!D13+총무팀!D13+노무복지팀!D13+자산회계팀!D13+인재개발팀!D13+차량팀!D13+승무팀!D13+신호팀!D13+통신팀!D13+전기팀!D13+기계환경팀!D13+토목팀!D13+건축팀!D13+영업팀!D13+고객만족팀!D13+문화홍보팀!D13+부대사업팀!D13+역무자동화팀!D13+종합관제실!D13+감사실!D13 -> 0 | E13: =안전관리실!E13+SE사업팀!E13+철도사업팀!E13+기획팀!E13+성과예산팀!E13+정보화팀!E13+총무팀!E13+노무복지팀!E13+자산회계팀!E13+인재개발팀!E13+차량팀!E13+승무팀!E13+신호팀!E13+통신팀!E13+전기팀!E13+기계환경팀!E13+토목팀!E13+건축팀!E13+영업팀!E13+고객만족팀!E13+문화홍보팀!E13+부대사업팀!E13+역무자동화팀!E13+종합관제실!E13+감사실!E13 -> 0 | F13: =안전관리실!F13+SE사업팀!F13+철도사업팀!F13+기획팀!F13+성과예산팀!F13+정보화팀!F13+총무팀!F13+노무복지팀!F13+자산회계팀!F13+인재개발팀!F13+차량팀!F13+승무팀!F13+신호팀!F13+통신팀!F13+전기팀!F13+기계환경팀!F13+토목팀!F13+건축팀!F13+영업팀!F13+고객만족팀!F13+문화홍보팀!F13+부대사업팀!F13+역무자동화팀!F13+종합관제실!F13+감사실!F13 -> 0 | G13: =안전관리실!G13+SE사업팀!G13+철도사업팀!G13+기획팀!G13+성과예산팀!G13+정보화팀!G13+총무팀!G13+노무복지팀!G13+자산회계팀!G13+인재개발팀!G13+차량팀!G13+승무팀!G13+신호팀!G13+통신팀!G13+전기팀!G13+기계환경팀!G13+토목팀!G13+건축팀!G13+영업팀!G13+고객만족팀!G13+문화홍보팀!G13+부대사업팀!G13+역무자동화팀!G13+종합관제실!G13+감사실!G13 -> 0 | H13: =안전관리실!H13+SE사업팀!H13+철도사업팀!H13+기획팀!H13+성과예산팀!H13+정보화팀!H13+총무팀!H13+노무복지팀!H13+자산회계팀!H13+인재개발팀!H13+차량팀!H13+승무팀!H13+신호팀!H13+통신팀!H13+전기팀!H13+기계환경팀!H13+토목팀!H13+건축팀!H13+영업팀!H13+고객만족팀!H13+문화홍보팀!H13+부대사업팀!H13+역무자동화팀!H13+종합관제실!H13+감사실!H13 -> 0 | I13: =안전관리실!I13+SE사업팀!I13+철도사업팀!I13+기획팀!I13+성과예산팀!I13+정보화팀!I13+총무팀!I13+노무복지팀!I13+자산회계팀!I13+인재개발팀!I13+차량팀!I13+승무팀!I13+신호팀!I13+통신팀!I13+전기팀!I13+기계환경팀!I13+토목팀!I13+건축팀!I13+영업팀!I13+고객만족팀!I13+문화홍보팀!I13+부대사업팀!I13+역무자동화팀!I13+종합관제실!I13+감사실!I13 -> 0 | J13: =안전관리실!J13+SE사업팀!J13+철도사업팀!J13+기획팀!J13+성과예산팀!J13+정보화팀!J13+총무팀!J13+노무복지팀!J13+자산회계팀!J13+인재개발팀!J13+차량팀!J13+승무팀!J13+신호팀!J13+통신팀!J13+전기팀!J13+기계환경팀!J13+토목팀!J13+건축팀!J13+영업팀!J13+고객만족팀!J13+문화홍보팀!J13+부대사업팀!J13+역무자동화팀!J13+종합관제실!J13+감사실!J13 -> 0 | K13: =안전관리실!K13+SE사업팀!K13+철도사업팀!K13+기획팀!K13+성과예산팀!K13+정보화팀!K13+총무팀!K13+노무복지팀!K13+자산회계팀!K13+인재개발팀!K13+차량팀!K13+승무팀!K13+신호팀!K13+통신팀!K13+전기팀!K13+기계환경팀!K13+토목팀!K13+건축팀!K13+영업팀!K13+고객만족팀!K13+문화홍보팀!K13+부대사업팀!K13+역무자동화팀!K13+종합관제실!K13+감사실!K13 -> 0 | ... Q13: =안전관리실!Q13+SE사업팀!Q13+철도사업팀!Q13+기획팀!Q13+성과예산팀!Q13+정보화팀!Q13+총무팀!Q13+노무복지팀!Q13+자산회계팀!Q13+인재개발팀!Q13+차량팀!Q13+승무팀!Q13+신호팀!Q13+통신팀!Q13+전기팀!Q13+기계환경팀!Q13+토목팀!Q13+건축팀!Q13+영업팀!Q13+고객만족팀!Q13+문화홍보팀!Q13+부대사업팀!Q13+역무자동화팀!Q13+종합관제실!Q13+감사실!Q13 -> 0 | R13: 냉장고 | AH13: 01 | AI13: 002 | AJ13: 00005
C14: 공기청정기 | D14: =안전관리실!D14+SE사업팀!D14+철도사업팀!D14+기획팀!D14+성과예산팀!D14+정보화팀!D14+총무팀!D14+노무복지팀!D14+자산회계팀!D14+인재개발팀!D14+차량팀!D14+승무팀!D14+신호팀!D14+통신팀!D14+전기팀!D14+기계환경팀!D14+토목팀!D14+건축팀!D14+영업팀!D14+고객만족팀!D14+문화홍보팀!D14+부대사업팀!D14+역무자동화팀!D14+종합관제실!D14+감사실!D14 -> 0 | E14: =안전관리실!E14+SE사업팀!E14+철도사업팀!E14+기획팀!E14+성과예산팀!E14+정보화팀!E14+총무팀!E14+노무복지팀!E14+자산회계팀!E14+인재개발팀!E14+차량팀!E14+승무팀!E14+신호팀!E14+통신팀!E14+전기팀!E14+기계환경팀!E14+토목팀!E14+건축팀!E14+영업팀!E14+고객만족팀!E14+문화홍보팀!E14+부대사업팀!E14+역무자동화팀!E14+종합관제실!E14+감사실!E14 -> 0 | F14: =안전관리실!F14+SE사업팀!F14+철도사업팀!F14+기획팀!F14+성과예산팀!F14+정보화팀!F14+총무팀!F14+노무복지팀!F14+자산회계팀!F14+인재개발팀!F14+차량팀!F14+승무팀!F14+신호팀!F14+통신팀!F14+전기팀!F14+기계환경팀!F14+토목팀!F14+건축팀!F14+영업팀!F14+고객만족팀!F14+문화홍보팀!F14+부대사업팀!F14+역무자동화팀!F14+종합관제실!F14+감사실!F14 -> 0 | G14: =안전관리실!G14+SE사업팀!G14+철도사업팀!G14+기획팀!G14+성과예산팀!G14+정보화팀!G14+총무팀!G14+노무복지팀!G14+자산회계팀!G14+인재개발팀!G14+차량팀!G14+승무팀!G14+신호팀!G14+통신팀!G14+전기팀!G14+기계환경팀!G14+토목팀!G14+건축팀!G14+영업팀!G14+고객만족팀!G14+문화홍보팀!G14+부대사업팀!G14+역무자동화팀!G14+종합관제실!G14+감사실!G14 -> 0 | H14: =안전관리실!H14+SE사업팀!H14+철도사업팀!H14+기획팀!H14+성과예산팀!H14+정보화팀!H14+총무팀!H14+노무복지팀!H14+자산회계팀!H14+인재개발팀!H14+차량팀!H14+승무팀!H14+신호팀!H14+통신팀!H14+전기팀!H14+기계환경팀!H14+토목팀!H14+건축팀!H14+영업팀!H14+고객만족팀!H14+문화홍보팀!H14+부대사업팀!H14+역무자동화팀!H14+종합관제실!H14+감사실!H14 -> 0 | I14: =안전관리실!I14+SE사업팀!I14+철도사업팀!I14+기획팀!I14+성과예산팀!I14+정보화팀!I14+총무팀!I14+노무복지팀!I14+자산회계팀!I14+인재개발팀!I14+차량팀!I14+승무팀!I14+신호팀!I14+통신팀!I14+전기팀!I14+기계환경팀!I14+토목팀!I14+건축팀!I14+영업팀!I14+고객만족팀!I14+문화홍보팀!I14+부대사업팀!I14+역무자동화팀!I14+종합관제실!I14+감사실!I14 -> 0 | J14: =안전관리실!J14+SE사업팀!J14+철도사업팀!J14+기획팀!J14+성과예산팀!J14+정보화팀!J14+총무팀!J14+노무복지팀!J14+자산회계팀!J14+인재개발팀!J14+차량팀!J14+승무팀!J14+신호팀!J14+통신팀!J14+전기팀!J14+기계환경팀!J14+토목팀!J14+건축팀!J14+영업팀!J14+고객만족팀!J14+문화홍보팀!J14+부대사업팀!J14+역무자동화팀!J14+종합관제실!J14+감사실!J14 -> 0 | K14: =안전관리실!K14+SE사업팀!K14+철도사업팀!K14+기획팀!K14+성과예산팀!K14+정보화팀!K14+총무팀!K14+노무복지팀!K14+자산회계팀!K14+인재개발팀!K14+차량팀!K14+승무팀!K14+신호팀!K14+통신팀!K14+전기팀!K14+기계환경팀!K14+토목팀!K14+건축팀!K14+영업팀!K14+고객만족팀!K14+문화홍보팀!K14+부대사업팀!K14+역무자동화팀!K14+종합관제실!K14+감사실!K14 -> 0 | ... Q14: =안전관리실!Q14+SE사업팀!Q14+철도사업팀!Q14+기획팀!Q14+성과예산팀!Q14+정보화팀!Q14+총무팀!Q14+노무복지팀!Q14+자산회계팀!Q14+인재개발팀!Q14+차량팀!Q14+승무팀!Q14+신호팀!Q14+통신팀!Q14+전기팀!Q14+기계환경팀!Q14+토목팀!Q14+건축팀!Q14+영업팀!Q14+고객만족팀!Q14+문화홍보팀!Q14+부대사업팀!Q14+역무자동화팀!Q14+종합관제실!Q14+감사실!Q14 -> 0 | R14: 공기청정기 | AH14: 01 | AI14: 002 | AJ14: 00006
C15: 텔레비전 및 비디오 프로젝터 | D15: =안전관리실!D15+SE사업팀!D15+철도사업팀!D15+기획팀!D15+성과예산팀!D15+정보화팀!D15+총무팀!D15+노무복지팀!D15+자산회계팀!D15+인재개발팀!D15+차량팀!D15+승무팀!D15+신호팀!D15+통신팀!D15+전기팀!D15+기계환경팀!D15+토목팀!D15+건축팀!D15+영업팀!D15+고객만족팀!D15+문화홍보팀!D15+부대사업팀!D15+역무자동화팀!D15+종합관제실!D15+감사실!D15 -> 0 | E15: =안전관리실!E15+SE사업팀!E15+철도사업팀!E15+기획팀!E15+성과예산팀!E15+정보화팀!E15+총무팀!E15+노무복지팀!E15+자산회계팀!E15+인재개발팀!E15+차량팀!E15+승무팀!E15+신호팀!E15+통신팀!E15+전기팀!E15+기계환경팀!E15+토목팀!E15+건축팀!E15+영업팀!E15+고객만족팀!E15+문화홍보팀!E15+부대사업팀!E15+역무자동화팀!E15+종합관제실!E15+감사실!E15 -> 0 | F15: =안전관리실!F15+SE사업팀!F15+철도사업팀!F15+기획팀!F15+성과예산팀!F15+정보화팀!F15+총무팀!F15+노무복지팀!F15+자산회계팀!F15+인재개발팀!F15+차량팀!F15+승무팀!F15+신호팀!F15+통신팀!F15+전기팀!F15+기계환경팀!F15+토목팀!F15+건축팀!F15+영업팀!F15+고객만족팀!F15+문화홍보팀!F15+부대사업팀!F15+역무자동화팀!F15+종합관제실!F15+감사실!F15 -> 0 | G15: =안전관리실!G15+SE사업팀!G15+철도사업팀!G15+기획팀!G15+성과예산팀!G15+정보화팀!G15+총무팀!G15+노무복지팀!G15+자산회계팀!G15+인재개발팀!G15+차량팀!G15+승무팀!G15+신호팀!G15+통신팀!G15+전기팀!G15+기계환경팀!G15+토목팀!G15+건축팀!G15+영업팀!G15+고객만족팀!G15+문화홍보팀!G15+부대사업팀!G15+역무자동화팀!G15+종합관제실!G15+감사실!G15 -> 0 | H15: =안전관리실!H15+SE사업팀!H15+철도사업팀!H15+기획팀!H15+성과예산팀!H15+정보화팀!H15+총무팀!H15+노무복지팀!H15+자산회계팀!H15+인재개발팀!H15+차량팀!H15+승무팀!H15+신호팀!H15+통신팀!H15+전기팀!H15+기계환경팀!H15+토목팀!H15+건축팀!H15+영업팀!H15+고객만족팀!H15+문화홍보팀!H15+부대사업팀!H15+역무자동화팀!H15+종합관제실!H15+감사실!H15 -> 0 | I15: =안전관리실!I15+SE사업팀!I15+철도사업팀!I15+기획팀!I15+성과예산팀!I15+정보화팀!I15+총무팀!I15+노무복지팀!I15+자산회계팀!I15+인재개발팀!I15+차량팀!I15+승무팀!I15+신호팀!I15+통신팀!I15+전기팀!I15+기계환경팀!I15+토목팀!I15+건축팀!I15+영업팀!I15+고객만족팀!I15+문화홍보팀!I15+부대사업팀!I15+역무자동화팀!I15+종합관제실!I15+감사실!I15 -> 0 | J15: =안전관리실!J15+SE사업팀!J15+철도사업팀!J15+기획팀!J15+성과예산팀!J15+정보화팀!J15+총무팀!J15+노무복지팀!J15+자산회계팀!J15+인재개발팀!J15+차량팀!J15+승무팀!J15+신호팀!J15+통신팀!J15+전기팀!J15+기계환경팀!J15+토목팀!J15+건축팀!J15+영업팀!J15+고객만족팀!J15+문화홍보팀!J15+부대사업팀!J15+역무자동화팀!J15+종합관제실!J15+감사실!J15 -> 0 | K15: =안전관리실!K15+SE사업팀!K15+철도사업팀!K15+기획팀!K15+성과예산팀!K15+정보화팀!K15+총무팀!K15+노무복지팀!K15+자산회계팀!K15+인재개발팀!K15+차량팀!K15+승무팀!K15+신호팀!K15+통신팀!K15+전기팀!K15+기계환경팀!K15+토목팀!K15+건축팀!K15+영업팀!K15+고객만족팀!K15+문화홍보팀!K15+부대사업팀!K15+역무자동화팀!K15+종합관제실!K15+감사실!K15 -> 0 | ... Q15: =안전관리실!Q15+SE사업팀!Q15+철도사업팀!Q15+기획팀!Q15+성과예산팀!Q15+정보화팀!Q15+총무팀!Q15+노무복지팀!Q15+자산회계팀!Q15+인재개발팀!Q15+차량팀!Q15+승무팀!Q15+신호팀!Q15+통신팀!Q15+전기팀!Q15+기계환경팀!Q15+토목팀!Q15+건축팀!Q15+영업팀!Q15+고객만족팀!Q15+문화홍보팀!Q15+부대사업팀!Q15+역무자동화팀!Q15+종합관제실!Q15+감사실!Q15 -> 0 | R15: 텔레비전, 비디오프로젝터, 일체형 VCR·DVD | AH15: 01 | AI15: 002 | AJ15: 00007
C16: 음식물쓰레기 감량화기 | D16: =안전관리실!D16+SE사업팀!D16+철도사업팀!D16+기획팀!D16+성과예산팀!D16+정보화팀!D16+총무팀!D16+노무복지팀!D16+자산회계팀!D16+인재개발팀!D16+차량팀!D16+승무팀!D16+신호팀!D16+통신팀!D16+전기팀!D16+기계환경팀!D16+토목팀!D16+건축팀!D16+영업팀!D16+고객만족팀!D16+문화홍보팀!D16+부대사업팀!D16+역무자동화팀!D16+종합관제실!D16+감사실!D16 -> 0 | E16: =안전관리실!E16+SE사업팀!E16+철도사업팀!E16+기획팀!E16+성과예산팀!E16+정보화팀!E16+총무팀!E16+노무복지팀!E16+자산회계팀!E16+인재개발팀!E16+차량팀!E16+승무팀!E16+신호팀!E16+통신팀!E16+전기팀!E16+기계환경팀!E16+토목팀!E16+건축팀!E16+영업팀!E16+고객만족팀!E16+문화홍보팀!E16+부대사업팀!E16+역무자동화팀!E16+종합관제실!E16+감사실!E16 -> 0 | F16: =안전관리실!F16+SE사업팀!F16+철도사업팀!F16+기획팀!F16+성과예산팀!F16+정보화팀!F16+총무팀!F16+노무복지팀!F16+자산회계팀!F16+인재개발팀!F16+차량팀!F16+승무팀!F16+신호팀!F16+통신팀!F16+전기팀!F16+기계환경팀!F16+토목팀!F16+건축팀!F16+영업팀!F16+고객만족팀!F16+문화홍보팀!F16+부대사업팀!F16+역무자동화팀!F16+종합관제실!F16+감사실!F16 -> 0 | G16: =안전관리실!G16+SE사업팀!G16+철도사업팀!G16+기획팀!G16+성과예산팀!G16+정보화팀!G16+총무팀!G16+노무복지팀!G16+자산회계팀!G16+인재개발팀!G16+차량팀!G16+승무팀!G16+신호팀!G16+통신팀!G16+전기팀!G16+기계환경팀!G16+토목팀!G16+건축팀!G16+영업팀!G16+고객만족팀!G16+문화홍보팀!G16+부대사업팀!G16+역무자동화팀!G16+종합관제실!G16+감사실!G16 -> 0 | H16: =안전관리실!H16+SE사업팀!H16+철도사업팀!H16+기획팀!H16+성과예산팀!H16+정보화팀!H16+총무팀!H16+노무복지팀!H16+자산회계팀!H16+인재개발팀!H16+차량팀!H16+승무팀!H16+신호팀!H16+통신팀!H16+전기팀!H16+기계환경팀!H16+토목팀!H16+건축팀!H16+영업팀!H16+고객만족팀!H16+문화홍보팀!H16+부대사업팀!H16+역무자동화팀!H16+종합관제실!H16+감사실!H16 -> 0 | I16: =안전관리실!I16+SE사업팀!I16+철도사업팀!I16+기획팀!I16+성과예산팀!I16+정보화팀!I16+총무팀!I16+노무복지팀!I16+자산회계팀!I16+인재개발팀!I16+차량팀!I16+승무팀!I16+신호팀!I16+통신팀!I16+전기팀!I16+기계환경팀!I16+토목팀!I16+건축팀!I16+영업팀!I16+고객만족팀!I16+문화홍보팀!I16+부대사업팀!I16+역무자동화팀!I16+종합관제실!I16+감사실!I16 -> 0 | J16: =안전관리실!J16+SE사업팀!J16+철도사업팀!J16+기획팀!J16+성과예산팀!J16+정보화팀!J16+총무팀!J16+노무복지팀!J16+자산회계팀!J16+인재개발팀!J16+차량팀!J16+승무팀!J16+신호팀!J16+통신팀!J16+전기팀!J16+기계환경팀!J16+토목팀!J16+건축팀!J16+영업팀!J16+고객만족팀!J16+문화홍보팀!J16+부대사업팀!J16+역무자동화팀!J16+종합관제실!J16+감사실!J16 -> 0 | K16: =안전관리실!K16+SE사업팀!K16+철도사업팀!K16+기획팀!K16+성과예산팀!K16+정보화팀!K16+총무팀!K16+노무복지팀!K16+자산회계팀!K16+인재개발팀!K16+차량팀!K16+승무팀!K16+신호팀!K16+통신팀!K16+전기팀!K16+기계환경팀!K16+토목팀!K16+건축팀!K16+영업팀!K16+고객만족팀!K16+문화홍보팀!K16+부대사업팀!K16+역무자동화팀!K16+종합관제실!K16+감사실!K16 -> 0 | ... Q16: =안전관리실!Q16+SE사업팀!Q16+철도사업팀!Q16+기획팀!Q16+성과예산팀!Q16+정보화팀!Q16+총무팀!Q16+노무복지팀!Q16+자산회계팀!Q16+인재개발팀!Q16+차량팀!Q16+승무팀!Q16+신호팀!Q16+통신팀!Q16+전기팀!Q16+기계환경팀!Q16+토목팀!Q16+건축팀!Q16+영업팀!Q16+고객만족팀!Q16+문화홍보팀!Q16+부대사업팀!Q16+역무자동화팀!Q16+종합관제실!Q16+감사실!Q16 -> 0 | R16: 음식물 쓰레기 감량화기, 음식물쓰레기처리기 | AH16: 01 | AI16: 002 | AJ16: 00008
C17: 에어컨디셔너 | D17: =안전관리실!D17+SE사업팀!D17+철도사업팀!D17+기획팀!D17+성과예산팀!D17+정보화팀!D17+총무팀!D17+노무복지팀!D17+자산회계팀!D17+인재개발팀!D17+차량팀!D17+승무팀!D17+신호팀!D17+통신팀!D17+전기팀!D17+기계환경팀!D17+토목팀!D17+건축팀!D17+영업팀!D17+고객만족팀!D17+문화홍보팀!D17+부대사업팀!D17+역무자동화팀!D17+종합관제실!D17+감사실!D17 -> 0 | E17: =안전관리실!E17+SE사업팀!E17+철도사업팀!E17+기획팀!E17+성과예산팀!E17+정보화팀!E17+총무팀!E17+노무복지팀!E17+자산회계팀!E17+인재개발팀!E17+차량팀!E17+승무팀!E17+신호팀!E17+통신팀!E17+전기팀!E17+기계환경팀!E17+토목팀!E17+건축팀!E17+영업팀!E17+고객만족팀!E17+문화홍보팀!E17+부대사업팀!E17+역무자동화팀!E17+종합관제실!E17+감사실!E17 -> 0 | F17: =안전관리실!F17+SE사업팀!F17+철도사업팀!F17+기획팀!F17+성과예산팀!F17+정보화팀!F17+총무팀!F17+노무복지팀!F17+자산회계팀!F17+인재개발팀!F17+차량팀!F17+승무팀!F17+신호팀!F17+통신팀!F17+전기팀!F17+기계환경팀!F17+토목팀!F17+건축팀!F17+영업팀!F17+고객만족팀!F17+문화홍보팀!F17+부대사업팀!F17+역무자동화팀!F17+종합관제실!F17+감사실!F17 -> 0 | G17: =안전관리실!G17+SE사업팀!G17+철도사업팀!G17+기획팀!G17+성과예산팀!G17+정보화팀!G17+총무팀!G17+노무복지팀!G17+자산회계팀!G17+인재개발팀!G17+차량팀!G17+승무팀!G17+신호팀!G17+통신팀!G17+전기팀!G17+기계환경팀!G17+토목팀!G17+건축팀!G17+영업팀!G17+고객만족팀!G17+문화홍보팀!G17+부대사업팀!G17+역무자동화팀!G17+종합관제실!G17+감사실!G17 -> 0 | H17: =안전관리실!H17+SE사업팀!H17+철도사업팀!H17+기획팀!H17+성과예산팀!H17+정보화팀!H17+총무팀!H17+노무복지팀!H17+자산회계팀!H17+인재개발팀!H17+차량팀!H17+승무팀!H17+신호팀!H17+통신팀!H17+전기팀!H17+기계환경팀!H17+토목팀!H17+건축팀!H17+영업팀!H17+고객만족팀!H17+문화홍보팀!H17+부대사업팀!H17+역무자동화팀!H17+종합관제실!H17+감사실!H17 -> 0 | I17: =안전관리실!I17+SE사업팀!I17+철도사업팀!I17+기획팀!I17+성과예산팀!I17+정보화팀!I17+총무팀!I17+노무복지팀!I17+자산회계팀!I17+인재개발팀!I17+차량팀!I17+승무팀!I17+신호팀!I17+통신팀!I17+전기팀!I17+기계환경팀!I17+토목팀!I17+건축팀!I17+영업팀!I17+고객만족팀!I17+문화홍보팀!I17+부대사업팀!I17+역무자동화팀!I17+종합관제실!I17+감사실!I17 -> 0 | J17: =안전관리실!J17+SE사업팀!J17+철도사업팀!J17+기획팀!J17+성과예산팀!J17+정보화팀!J17+총무팀!J17+노무복지팀!J17+자산회계팀!J17+인재개발팀!J17+차량팀!J17+승무팀!J17+신호팀!J17+통신팀!J17+전기팀!J17+기계환경팀!J17+토목팀!J17+건축팀!J17+영업팀!J17+고객만족팀!J17+문화홍보팀!J17+부대사업팀!J17+역무자동화팀!J17+종합관제실!J17+감사실!J17 -> 0 | K17: =안전관리실!K17+SE사업팀!K17+철도사업팀!K17+기획팀!K17+성과예산팀!K17+정보화팀!K17+총무팀!K17+노무복지팀!K17+자산회계팀!K17+인재개발팀!K17+차량팀!K17+승무팀!K17+신호팀!K17+통신팀!K17+전기팀!K17+기계환경팀!K17+토목팀!K17+건축팀!K17+영업팀!K17+고객만족팀!K17+문화홍보팀!K17+부대사업팀!K17+역무자동화팀!K17+종합관제실!K17+감사실!K17 -> 0 | ... Q17: =안전관리실!Q17+SE사업팀!Q17+철도사업팀!Q17+기획팀!Q17+성과예산팀!Q17+정보화팀!Q17+총무팀!Q17+노무복지팀!Q17+자산회계팀!Q17+인재개발팀!Q17+차량팀!Q17+승무팀!Q17+신호팀!Q17+통신팀!Q17+전기팀!Q17+기계환경팀!Q17+토목팀!Q17+건축팀!Q17+영업팀!Q17+고객만족팀!Q17+문화홍보팀!Q17+부대사업팀!Q17+역무자동화팀!Q17+종합관제실!Q17+감사실!Q17 -> 0 | R17: 에어컨디셔너, 히트펌프냉난방기 | AH17: 01 | AI17: 002 | AJ17: 00161
B18: 가구 | C18: 책상(탁자) | D18: =안전관리실!D18+SE사업팀!D18+철도사업팀!D18+기획팀!D18+성과예산팀!D18+정보화팀!D18+총무팀!D18+노무복지팀!D18+자산회계팀!D18+인재개발팀!D18+차량팀!D18+승무팀!D18+신호팀!D18+통신팀!D18+전기팀!D18+기계환경팀!D18+토목팀!D18+건축팀!D18+영업팀!D18+고객만족팀!D18+문화홍보팀!D18+부대사업팀!D18+역무자동화팀!D18+종합관제실!D18+감사실!D18 -> 0 | E18: =안전관리실!E18+SE사업팀!E18+철도사업팀!E18+기획팀!E18+성과예산팀!E18+정보화팀!E18+총무팀!E18+노무복지팀!E18+자산회계팀!E18+인재개발팀!E18+차량팀!E18+승무팀!E18+신호팀!E18+통신팀!E18+전기팀!E18+기계환경팀!E18+토목팀!E18+건축팀!E18+영업팀!E18+고객만족팀!E18+문화홍보팀!E18+부대사업팀!E18+역무자동화팀!E18+종합관제실!E18+감사실!E18 -> 0 | F18: =안전관리실!F18+SE사업팀!F18+철도사업팀!F18+기획팀!F18+성과예산팀!F18+정보화팀!F18+총무팀!F18+노무복지팀!F18+자산회계팀!F18+인재개발팀!F18+차량팀!F18+승무팀!F18+신호팀!F18+통신팀!F18+전기팀!F18+기계환경팀!F18+토목팀!F18+건축팀!F18+영업팀!F18+고객만족팀!F18+문화홍보팀!F18+부대사업팀!F18+역무자동화팀!F18+종합관제실!F18+감사실!F18 -> 0 | G18: =안전관리실!G18+SE사업팀!G18+철도사업팀!G18+기획팀!G18+성과예산팀!G18+정보화팀!G18+총무팀!G18+노무복지팀!G18+자산회계팀!G18+인재개발팀!G18+차량팀!G18+승무팀!G18+신호팀!G18+통신팀!G18+전기팀!G18+기계환경팀!G18+토목팀!G18+건축팀!G18+영업팀!G18+고객만족팀!G18+문화홍보팀!G18+부대사업팀!G18+역무자동화팀!G18+종합관제실!G18+감사실!G18 -> 0 | H18: =안전관리실!H18+SE사업팀!H18+철도사업팀!H18+기획팀!H18+성과예산팀!H18+정보화팀!H18+총무팀!H18+노무복지팀!H18+자산회계팀!H18+인재개발팀!H18+차량팀!H18+승무팀!H18+신호팀!H18+통신팀!H18+전기팀!H18+기계환경팀!H18+토목팀!H18+건축팀!H18+영업팀!H18+고객만족팀!H18+문화홍보팀!H18+부대사업팀!H18+역무자동화팀!H18+종합관제실!H18+감사실!H18 -> 0 | I18: =안전관리실!I18+SE사업팀!I18+철도사업팀!I18+기획팀!I18+성과예산팀!I18+정보화팀!I18+총무팀!I18+노무복지팀!I18+자산회계팀!I18+인재개발팀!I18+차량팀!I18+승무팀!I18+신호팀!I18+통신팀!I18+전기팀!I18+기계환경팀!I18+토목팀!I18+건축팀!I18+영업팀!I18+고객만족팀!I18+문화홍보팀!I18+부대사업팀!I18+역무자동화팀!I18+종합관제실!I18+감사실!I18 -> 0 | J18: =안전관리실!J18+SE사업팀!J18+철도사업팀!J18+기획팀!J18+성과예산팀!J18+정보화팀!J18+총무팀!J18+노무복지팀!J18+자산회계팀!J18+인재개발팀!J18+차량팀!J18+승무팀!J18+신호팀!J18+통신팀!J18+전기팀!J18+기계환경팀!J18+토목팀!J18+건축팀!J18+영업팀!J18+고객만족팀!J18+문화홍보팀!J18+부대사업팀!J18+역무자동화팀!J18+종합관제실!J18+감사실!J18 -> 0 | K18: =안전관리실!K18+SE사업팀!K18+철도사업팀!K18+기획팀!K18+성과예산팀!K18+정보화팀!K18+총무팀!K18+노무복지팀!K18+자산회계팀!K18+인재개발팀!K18+차량팀!K18+승무팀!K18+신호팀!K18+통신팀!K18+전기팀!K18+기계환경팀!K18+토목팀!K18+건축팀!K18+영업팀!K18+고객만족팀!K18+문화홍보팀!K18+부대사업팀!K18+역무자동화팀!K18+종합관제실!K18+감사실!K18 -> 0 | ... Q18: =안전관리실!Q18+SE사업팀!Q18+철도사업팀!Q18+기획팀!Q18+성과예산팀!Q18+정보화팀!Q18+총무팀!Q18+노무복지팀!Q18+자산회계팀!Q18+인재개발팀!Q18+차량팀!Q18+승무팀!Q18+신호팀!Q18+통신팀!Q18+전기팀!Q18+기계환경팀!Q18+토목팀!Q18+건축팀!Q18+영업팀!Q18+고객만족팀!Q18+문화홍보팀!Q18+부대사업팀!Q18+역무자동화팀!Q18+종합관제실!Q18+감사실!Q18 -> 0 | R18: 책상(컴퓨터 책상, 교육용 책상, 금속제 책상, 보조 책상), 탁자(회의용 탁자, 전화탁자), 열람대, 검색대, 실험대, 붙박이형 책상, 교탁, 실험대, 화장대, 실험실용 싱크대 | AH18: 01 | AI18: 004 | AJ18: 00013
C19: 의자 | D19: =안전관리실!D19+SE사업팀!D19+철도사업팀!D19+기획팀!D19+성과예산팀!D19+정보화팀!D19+총무팀!D19+노무복지팀!D19+자산회계팀!D19+인재개발팀!D19+차량팀!D19+승무팀!D19+신호팀!D19+통신팀!D19+전기팀!D19+기계환경팀!D19+토목팀!D19+건축팀!D19+영업팀!D19+고객만족팀!D19+문화홍보팀!D19+부대사업팀!D19+역무자동화팀!D19+종합관제실!D19+감사실!D19 -> 0 | E19: =안전관리실!E19+SE사업팀!E19+철도사업팀!E19+기획팀!E19+성과예산팀!E19+정보화팀!E19+총무팀!E19+노무복지팀!E19+자산회계팀!E19+인재개발팀!E19+차량팀!E19+승무팀!E19+신호팀!E19+통신팀!E19+전기팀!E19+기계환경팀!E19+토목팀!E19+건축팀!E19+영업팀!E19+고객만족팀!E19+문화홍보팀!E19+부대사업팀!E19+역무자동화팀!E19+종합관제실!E19+감사실!E19 -> 0 | F19: =안전관리실!F19+SE사업팀!F19+철도사업팀!F19+기획팀!F19+성과예산팀!F19+정보화팀!F19+총무팀!F19+노무복지팀!F19+자산회계팀!F19+인재개발팀!F19+차량팀!F19+승무팀!F19+신호팀!F19+통신팀!F19+전기팀!F19+기계환경팀!F19+토목팀!F19+건축팀!F19+영업팀!F19+고객만족팀!F19+문화홍보팀!F19+부대사업팀!F19+역무자동화팀!F19+종합관제실!F19+감사실!F19 -> 0 | G19: =안전관리실!G19+SE사업팀!G19+철도사업팀!G19+기획팀!G19+성과예산팀!G19+정보화팀!G19+총무팀!G19+노무복지팀!G19+자산회계팀!G19+인재개발팀!G19+차량팀!G19+승무팀!G19+신호팀!G19+통신팀!G19+전기팀!G19+기계환경팀!G19+토목팀!G19+건축팀!G19+영업팀!G19+고객만족팀!G19+문화홍보팀!G19+부대사업팀!G19+역무자동화팀!G19+종합관제실!G19+감사실!G19 -> 0 | H19: =안전관리실!H19+SE사업팀!H19+철도사업팀!H19+기획팀!H19+성과예산팀!H19+정보화팀!H19+총무팀!H19+노무복지팀!H19+자산회계팀!H19+인재개발팀!H19+차량팀!H19+승무팀!H19+신호팀!H19+통신팀!H19+전기팀!H19+기계환경팀!H19+토목팀!H19+건축팀!H19+영업팀!H19+고객만족팀!H19+문화홍보팀!H19+부대사업팀!H19+역무자동화팀!H19+종합관제실!H19+감사실!H19 -> 0 | I19: =안전관리실!I19+SE사업팀!I19+철도사업팀!I19+기획팀!I19+성과예산팀!I19+정보화팀!I19+총무팀!I19+노무복지팀!I19+자산회계팀!I19+인재개발팀!I19+차량팀!I19+승무팀!I19+신호팀!I19+통신팀!I19+전기팀!I19+기계환경팀!I19+토목팀!I19+건축팀!I19+영업팀!I19+고객만족팀!I19+문화홍보팀!I19+부대사업팀!I19+역무자동화팀!I19+종합관제실!I19+감사실!I19 -> 0 | J19: =안전관리실!J19+SE사업팀!J19+철도사업팀!J19+기획팀!J19+성과예산팀!J19+정보화팀!J19+총무팀!J19+노무복지팀!J19+자산회계팀!J19+인재개발팀!J19+차량팀!J19+승무팀!J19+신호팀!J19+통신팀!J19+전기팀!J19+기계환경팀!J19+토목팀!J19+건축팀!J19+영업팀!J19+고객만족팀!J19+문화홍보팀!J19+부대사업팀!J19+역무자동화팀!J19+종합관제실!J19+감사실!J19 -> 0 | K19: =안전관리실!K19+SE사업팀!K19+철도사업팀!K19+기획팀!K19+성과예산팀!K19+정보화팀!K19+총무팀!K19+노무복지팀!K19+자산회계팀!K19+인재개발팀!K19+차량팀!K19+승무팀!K19+신호팀!K19+통신팀!K19+전기팀!K19+기계환경팀!K19+토목팀!K19+건축팀!K19+영업팀!K19+고객만족팀!K19+문화홍보팀!K19+부대사업팀!K19+역무자동화팀!K19+종합관제실!K19+감사실!K19 -> 0 | ... Q19: =안전관리실!Q19+SE사업팀!Q19+철도사업팀!Q19+기획팀!Q19+성과예산팀!Q19+정보화팀!Q19+총무팀!Q19+노무복지팀!Q19+자산회계팀!Q19+인재개발팀!Q19+차량팀!Q19+승무팀!Q19+신호팀!Q19+통신팀!Q19+전기팀!Q19+기계환경팀!Q19+토목팀!Q19+건축팀!Q19+영업팀!Q19+고객만족팀!Q19+문화홍보팀!Q19+부대사업팀!Q19+역무자동화팀!Q19+종합관제실!Q19+감사실!Q19 -> 0 | R19: 의자, 학생용 의자, 연결의자, 벤치, 접이식의자책상용콤비의자 | AH19: 01 | AI19: 004 | AJ19: 00015
C20: 보관용 가구 | D20: =안전관리실!D20+SE사업팀!D20+철도사업팀!D20+기획팀!D20+성과예산팀!D20+정보화팀!D20+총무팀!D20+노무복지팀!D20+자산회계팀!D20+인재개발팀!D20+차량팀!D20+승무팀!D20+신호팀!D20+통신팀!D20+전기팀!D20+기계환경팀!D20+토목팀!D20+건축팀!D20+영업팀!D20+고객만족팀!D20+문화홍보팀!D20+부대사업팀!D20+역무자동화팀!D20+종합관제실!D20+감사실!D20 -> 0 | E20: =안전관리실!E20+SE사업팀!E20+철도사업팀!E20+기획팀!E20+성과예산팀!E20+정보화팀!E20+총무팀!E20+노무복지팀!E20+자산회계팀!E20+인재개발팀!E20+차량팀!E20+승무팀!E20+신호팀!E20+통신팀!E20+전기팀!E20+기계환경팀!E20+토목팀!E20+건축팀!E20+영업팀!E20+고객만족팀!E20+문화홍보팀!E20+부대사업팀!E20+역무자동화팀!E20+종합관제실!E20+감사실!E20 -> 0 | F20: =안전관리실!F20+SE사업팀!F20+철도사업팀!F20+기획팀!F20+성과예산팀!F20+정보화팀!F20+총무팀!F20+노무복지팀!F20+자산회계팀!F20+인재개발팀!F20+차량팀!F20+승무팀!F20+신호팀!F20+통신팀!F20+전기팀!F20+기계환경팀!F20+토목팀!F20+건축팀!F20+영업팀!F20+고객만족팀!F20+문화홍보팀!F20+부대사업팀!F20+역무자동화팀!F20+종합관제실!F20+감사실!F20 -> 0 | G20: =안전관리실!G20+SE사업팀!G20+철도사업팀!G20+기획팀!G20+성과예산팀!G20+정보화팀!G20+총무팀!G20+노무복지팀!G20+자산회계팀!G20+인재개발팀!G20+차량팀!G20+승무팀!G20+신호팀!G20+통신팀!G20+전기팀!G20+기계환경팀!G20+토목팀!G20+건축팀!G20+영업팀!G20+고객만족팀!G20+문화홍보팀!G20+부대사업팀!G20+역무자동화팀!G20+종합관제실!G20+감사실!G20 -> 0 | H20: =안전관리실!H20+SE사업팀!H20+철도사업팀!H20+기획팀!H20+성과예산팀!H20+정보화팀!H20+총무팀!H20+노무복지팀!H20+자산회계팀!H20+인재개발팀!H20+차량팀!H20+승무팀!H20+신호팀!H20+통신팀!H20+전기팀!H20+기계환경팀!H20+토목팀!H20+건축팀!H20+영업팀!H20+고객만족팀!H20+문화홍보팀!H20+부대사업팀!H20+역무자동화팀!H20+종합관제실!H20+감사실!H20 -> 0 | I20: =안전관리실!I20+SE사업팀!I20+철도사업팀!I20+기획팀!I20+성과예산팀!I20+정보화팀!I20+총무팀!I20+노무복지팀!I20+자산회계팀!I20+인재개발팀!I20+차량팀!I20+승무팀!I20+신호팀!I20+통신팀!I20+전기팀!I20+기계환경팀!I20+토목팀!I20+건축팀!I20+영업팀!I20+고객만족팀!I20+문화홍보팀!I20+부대사업팀!I20+역무자동화팀!I20+종합관제실!I20+감사실!I20 -> 0 | J20: =안전관리실!J20+SE사업팀!J20+철도사업팀!J20+기획팀!J20+성과예산팀!J20+정보화팀!J20+총무팀!J20+노무복지팀!J20+자산회계팀!J20+인재개발팀!J20+차량팀!J20+승무팀!J20+신호팀!J20+통신팀!J20+전기팀!J20+기계환경팀!J20+토목팀!J20+건축팀!J20+영업팀!J20+고객만족팀!J20+문화홍보팀!J20+부대사업팀!J20+역무자동화팀!J20+종합관제실!J20+감사실!J20 -> 0 | K20: =안전관리실!K20+SE사업팀!K20+철도사업팀!K20+기획팀!K20+성과예산팀!K20+정보화팀!K20+총무팀!K20+노무복지팀!K20+자산회계팀!K20+인재개발팀!K20+차량팀!K20+승무팀!K20+신호팀!K20+통신팀!K20+전기팀!K20+기계환경팀!K20+토목팀!K20+건축팀!K20+영업팀!K20+고객만족팀!K20+문화홍보팀!K20+부대사업팀!K20+역무자동화팀!K20+종합관제실!K20+감사실!K20 -> 0 | ... Q20: =안전관리실!Q20+SE사업팀!Q20+철도사업팀!Q20+기획팀!Q20+성과예산팀!Q20+정보화팀!Q20+총무팀!Q20+노무복지팀!Q20+자산회계팀!Q20+인재개발팀!Q20+차량팀!Q20+승무팀!Q20+신호팀!Q20+통신팀!Q20+전기팀!Q20+기계환경팀!Q20+토목팀!Q20+건축팀!Q20+영업팀!Q20+고객만족팀!Q20+문화홍보팀!Q20+부대사업팀!Q20+역무자동화팀!Q20+종합관제실!Q20+감사실!Q20 -> 0 | R20: 보관장,교구장, 사물함, 신발장, 서가, 책꽂이, 책선반, 교구장, 이동식 서가, 진열장,책장, 청소도구함, 기구장, 서랍, 수납장, 캐비닛, TV장, 보관함, 로커, 옷장, 장식대, 장롱, 거실장, 거울장 | AH20: 01 | AI20: 004 | AJ20: 00016
C21: 침대 및 침대매트리스 | D21: =안전관리실!D21+SE사업팀!D21+철도사업팀!D21+기획팀!D21+성과예산팀!D21+정보화팀!D21+총무팀!D21+노무복지팀!D21+자산회계팀!D21+인재개발팀!D21+차량팀!D21+승무팀!D21+신호팀!D21+통신팀!D21+전기팀!D21+기계환경팀!D21+토목팀!D21+건축팀!D21+영업팀!D21+고객만족팀!D21+문화홍보팀!D21+부대사업팀!D21+역무자동화팀!D21+종합관제실!D21+감사실!D21 -> 0 | E21: =안전관리실!E21+SE사업팀!E21+철도사업팀!E21+기획팀!E21+성과예산팀!E21+정보화팀!E21+총무팀!E21+노무복지팀!E21+자산회계팀!E21+인재개발팀!E21+차량팀!E21+승무팀!E21+신호팀!E21+통신팀!E21+전기팀!E21+기계환경팀!E21+토목팀!E21+건축팀!E21+영업팀!E21+고객만족팀!E21+문화홍보팀!E21+부대사업팀!E21+역무자동화팀!E21+종합관제실!E21+감사실!E21 -> 0 | F21: =안전관리실!F21+SE사업팀!F21+철도사업팀!F21+기획팀!F21+성과예산팀!F21+정보화팀!F21+총무팀!F21+노무복지팀!F21+자산회계팀!F21+인재개발팀!F21+차량팀!F21+승무팀!F21+신호팀!F21+통신팀!F21+전기팀!F21+기계환경팀!F21+토목팀!F21+건축팀!F21+영업팀!F21+고객만족팀!F21+문화홍보팀!F21+부대사업팀!F21+역무자동화팀!F21+종합관제실!F21+감사실!F21 -> 0 | G21: =안전관리실!G21+SE사업팀!G21+철도사업팀!G21+기획팀!G21+성과예산팀!G21+정보화팀!G21+총무팀!G21+노무복지팀!G21+자산회계팀!G21+인재개발팀!G21+차량팀!G21+승무팀!G21+신호팀!G21+통신팀!G21+전기팀!G21+기계환경팀!G21+토목팀!G21+건축팀!G21+영업팀!G21+고객만족팀!G21+문화홍보팀!G21+부대사업팀!G21+역무자동화팀!G21+종합관제실!G21+감사실!G21 -> 0 | H21: =안전관리실!H21+SE사업팀!H21+철도사업팀!H21+기획팀!H21+성과예산팀!H21+정보화팀!H21+총무팀!H21+노무복지팀!H21+자산회계팀!H21+인재개발팀!H21+차량팀!H21+승무팀!H21+신호팀!H21+통신팀!H21+전기팀!H21+기계환경팀!H21+토목팀!H21+건축팀!H21+영업팀!H21+고객만족팀!H21+문화홍보팀!H21+부대사업팀!H21+역무자동화팀!H21+종합관제실!H21+감사실!H21 -> 0 | I21: =안전관리실!I21+SE사업팀!I21+철도사업팀!I21+기획팀!I21+성과예산팀!I21+정보화팀!I21+총무팀!I21+노무복지팀!I21+자산회계팀!I21+인재개발팀!I21+차량팀!I21+승무팀!I21+신호팀!I21+통신팀!I21+전기팀!I21+기계환경팀!I21+토목팀!I21+건축팀!I21+영업팀!I21+고객만족팀!I21+문화홍보팀!I21+부대사업팀!I21+역무자동화팀!I21+종합관제실!I21+감사실!I21 -> 0 | J21: =안전관리실!J21+SE사업팀!J21+철도사업팀!J21+기획팀!J21+성과예산팀!J21+정보화팀!J21+총무팀!J21+노무복지팀!J21+자산회계팀!J21+인재개발팀!J21+차량팀!J21+승무팀!J21+신호팀!J21+통신팀!J21+전기팀!J21+기계환경팀!J21+토목팀!J21+건축팀!J21+영업팀!J21+고객만족팀!J21+문화홍보팀!J21+부대사업팀!J21+역무자동화팀!J21+종합관제실!J21+감사실!J21 -> 0 | K21: =안전관리실!K21+SE사업팀!K21+철도사업팀!K21+기획팀!K21+성과예산팀!K21+정보화팀!K21+총무팀!K21+노무복지팀!K21+자산회계팀!K21+인재개발팀!K21+차량팀!K21+승무팀!K21+신호팀!K21+통신팀!K21+전기팀!K21+기계환경팀!K21+토목팀!K21+건축팀!K21+영업팀!K21+고객만족팀!K21+문화홍보팀!K21+부대사업팀!K21+역무자동화팀!K21+종합관제실!K21+감사실!K21 -> 0 | ... Q21: =안전관리실!Q21+SE사업팀!Q21+철도사업팀!Q21+기획팀!Q21+성과예산팀!Q21+정보화팀!Q21+총무팀!Q21+노무복지팀!Q21+자산회계팀!Q21+인재개발팀!Q21+차량팀!Q21+승무팀!Q21+신호팀!Q21+통신팀!Q21+전기팀!Q21+기계환경팀!Q21+토목팀!Q21+건축팀!Q21+영업팀!Q21+고객만족팀!Q21+문화홍보팀!Q21+부대사업팀!Q21+역무자동화팀!Q21+종합관제실!Q21+감사실!Q21 -> 0 | R21: 침대 및 침대매트리스, 조합형 침대 | AH21: 01 | AI21: 004 | AJ21: 00176
C22: 주방가구 | D22: =안전관리실!D22+SE사업팀!D22+철도사업팀!D22+기획팀!D22+성과예산팀!D22+정보화팀!D22+총무팀!D22+노무복지팀!D22+자산회계팀!D22+인재개발팀!D22+차량팀!D22+승무팀!D22+신호팀!D22+통신팀!D22+전기팀!D22+기계환경팀!D22+토목팀!D22+건축팀!D22+영업팀!D22+고객만족팀!D22+문화홍보팀!D22+부대사업팀!D22+역무자동화팀!D22+종합관제실!D22+감사실!D22 -> 0 | E22: =안전관리실!E22+SE사업팀!E22+철도사업팀!E22+기획팀!E22+성과예산팀!E22+정보화팀!E22+총무팀!E22+노무복지팀!E22+자산회계팀!E22+인재개발팀!E22+차량팀!E22+승무팀!E22+신호팀!E22+통신팀!E22+전기팀!E22+기계환경팀!E22+토목팀!E22+건축팀!E22+영업팀!E22+고객만족팀!E22+문화홍보팀!E22+부대사업팀!E22+역무자동화팀!E22+종합관제실!E22+감사실!E22 -> 0 | F22: =안전관리실!F22+SE사업팀!F22+철도사업팀!F22+기획팀!F22+성과예산팀!F22+정보화팀!F22+총무팀!F22+노무복지팀!F22+자산회계팀!F22+인재개발팀!F22+차량팀!F22+승무팀!F22+신호팀!F22+통신팀!F22+전기팀!F22+기계환경팀!F22+토목팀!F22+건축팀!F22+영업팀!F22+고객만족팀!F22+문화홍보팀!F22+부대사업팀!F22+역무자동화팀!F22+종합관제실!F22+감사실!F22 -> 0 | G22: =안전관리실!G22+SE사업팀!G22+철도사업팀!G22+기획팀!G22+성과예산팀!G22+정보화팀!G22+총무팀!G22+노무복지팀!G22+자산회계팀!G22+인재개발팀!G22+차량팀!G22+승무팀!G22+신호팀!G22+통신팀!G22+전기팀!G22+기계환경팀!G22+토목팀!G22+건축팀!G22+영업팀!G22+고객만족팀!G22+문화홍보팀!G22+부대사업팀!G22+역무자동화팀!G22+종합관제실!G22+감사실!G22 -> 0 | H22: =안전관리실!H22+SE사업팀!H22+철도사업팀!H22+기획팀!H22+성과예산팀!H22+정보화팀!H22+총무팀!H22+노무복지팀!H22+자산회계팀!H22+인재개발팀!H22+차량팀!H22+승무팀!H22+신호팀!H22+통신팀!H22+전기팀!H22+기계환경팀!H22+토목팀!H22+건축팀!H22+영업팀!H22+고객만족팀!H22+문화홍보팀!H22+부대사업팀!H22+역무자동화팀!H22+종합관제실!H22+감사실!H22 -> 0 | I22: =안전관리실!I22+SE사업팀!I22+철도사업팀!I22+기획팀!I22+성과예산팀!I22+정보화팀!I22+총무팀!I22+노무복지팀!I22+자산회계팀!I22+인재개발팀!I22+차량팀!I22+승무팀!I22+신호팀!I22+통신팀!I22+전기팀!I22+기계환경팀!I22+토목팀!I22+건축팀!I22+영업팀!I22+고객만족팀!I22+문화홍보팀!I22+부대사업팀!I22+역무자동화팀!I22+종합관제실!I22+감사실!I22 -> 0 | J22: =안전관리실!J22+SE사업팀!J22+철도사업팀!J22+기획팀!J22+성과예산팀!J22+정보화팀!J22+총무팀!J22+노무복지팀!J22+자산회계팀!J22+인재개발팀!J22+차량팀!J22+승무팀!J22+신호팀!J22+통신팀!J22+전기팀!J22+기계환경팀!J22+토목팀!J22+건축팀!J22+영업팀!J22+고객만족팀!J22+문화홍보팀!J22+부대사업팀!J22+역무자동화팀!J22+종합관제실!J22+감사실!J22 -> 0 | K22: =안전관리실!K22+SE사업팀!K22+철도사업팀!K22+기획팀!K22+성과예산팀!K22+정보화팀!K22+총무팀!K22+노무복지팀!K22+자산회계팀!K22+인재개발팀!K22+차량팀!K22+승무팀!K22+신호팀!K22+통신팀!K22+전기팀!K22+기계환경팀!K22+토목팀!K22+건축팀!K22+영업팀!K22+고객만족팀!K22+문화홍보팀!K22+부대사업팀!K22+역무자동화팀!K22+종합관제실!K22+감사실!K22 -> 0 | ... Q22: =안전관리실!Q22+SE사업팀!Q22+철도사업팀!Q22+기획팀!Q22+성과예산팀!Q22+정보화팀!Q22+총무팀!Q22+노무복지팀!Q22+자산회계팀!Q22+인재개발팀!Q22+차량팀!Q22+승무팀!Q22+신호팀!Q22+통신팀!Q22+전기팀!Q22+기계환경팀!Q22+토목팀!Q22+건축팀!Q22+영업팀!Q22+고객만족팀!Q22+문화홍보팀!Q22+부대사업팀!Q22+역무자동화팀!Q22+종합관제실!Q22+감사실!Q22 -> 0 | R22: 주방가구, 붙박이형 주방가구, 식탁 | AH22: 01 | AI22: 004 | AJ22: 00029
C23: 기타 가구 및 부속품 | D23: =안전관리실!D23+SE사업팀!D23+철도사업팀!D23+기획팀!D23+성과예산팀!D23+정보화팀!D23+총무팀!D23+노무복지팀!D23+자산회계팀!D23+인재개발팀!D23+차량팀!D23+승무팀!D23+신호팀!D23+통신팀!D23+전기팀!D23+기계환경팀!D23+토목팀!D23+건축팀!D23+영업팀!D23+고객만족팀!D23+문화홍보팀!D23+부대사업팀!D23+역무자동화팀!D23+종합관제실!D23+감사실!D23 -> 0 | E23: =안전관리실!E23+SE사업팀!E23+철도사업팀!E23+기획팀!E23+성과예산팀!E23+정보화팀!E23+총무팀!E23+노무복지팀!E23+자산회계팀!E23+인재개발팀!E23+차량팀!E23+승무팀!E23+신호팀!E23+통신팀!E23+전기팀!E23+기계환경팀!E23+토목팀!E23+건축팀!E23+영업팀!E23+고객만족팀!E23+문화홍보팀!E23+부대사업팀!E23+역무자동화팀!E23+종합관제실!E23+감사실!E23 -> 0 | F23: =안전관리실!F23+SE사업팀!F23+철도사업팀!F23+기획팀!F23+성과예산팀!F23+정보화팀!F23+총무팀!F23+노무복지팀!F23+자산회계팀!F23+인재개발팀!F23+차량팀!F23+승무팀!F23+신호팀!F23+통신팀!F23+전기팀!F23+기계환경팀!F23+토목팀!F23+건축팀!F23+영업팀!F23+고객만족팀!F23+문화홍보팀!F23+부대사업팀!F23+역무자동화팀!F23+종합관제실!F23+감사실!F23 -> 0 | G23: =안전관리실!G23+SE사업팀!G23+철도사업팀!G23+기획팀!G23+성과예산팀!G23+정보화팀!G23+총무팀!G23+노무복지팀!G23+자산회계팀!G23+인재개발팀!G23+차량팀!G23+승무팀!G23+신호팀!G23+통신팀!G23+전기팀!G23+기계환경팀!G23+토목팀!G23+건축팀!G23+영업팀!G23+고객만족팀!G23+문화홍보팀!G23+부대사업팀!G23+역무자동화팀!G23+종합관제실!G23+감사실!G23 -> 0 | H23: =안전관리실!H23+SE사업팀!H23+철도사업팀!H23+기획팀!H23+성과예산팀!H23+정보화팀!H23+총무팀!H23+노무복지팀!H23+자산회계팀!H23+인재개발팀!H23+차량팀!H23+승무팀!H23+신호팀!H23+통신팀!H23+전기팀!H23+기계환경팀!H23+토목팀!H23+건축팀!H23+영업팀!H23+고객만족팀!H23+문화홍보팀!H23+부대사업팀!H23+역무자동화팀!H23+종합관제실!H23+감사실!H23 -> 0 | I23: =안전관리실!I23+SE사업팀!I23+철도사업팀!I23+기획팀!I23+성과예산팀!I23+정보화팀!I23+총무팀!I23+노무복지팀!I23+자산회계팀!I23+인재개발팀!I23+차량팀!I23+승무팀!I23+신호팀!I23+통신팀!I23+전기팀!I23+기계환경팀!I23+토목팀!I23+건축팀!I23+영업팀!I23+고객만족팀!I23+문화홍보팀!I23+부대사업팀!I23+역무자동화팀!I23+종합관제실!I23+감사실!I23 -> 0 | J23: =안전관리실!J23+SE사업팀!J23+철도사업팀!J23+기획팀!J23+성과예산팀!J23+정보화팀!J23+총무팀!J23+노무복지팀!J23+자산회계팀!J23+인재개발팀!J23+차량팀!J23+승무팀!J23+신호팀!J23+통신팀!J23+전기팀!J23+기계환경팀!J23+토목팀!J23+건축팀!J23+영업팀!J23+고객만족팀!J23+문화홍보팀!J23+부대사업팀!J23+역무자동화팀!J23+종합관제실!J23+감사실!J23 -> 0 | K23: =안전관리실!K23+SE사업팀!K23+철도사업팀!K23+기획팀!K23+성과예산팀!K23+정보화팀!K23+총무팀!K23+노무복지팀!K23+자산회계팀!K23+인재개발팀!K23+차량팀!K23+승무팀!K23+신호팀!K23+통신팀!K23+전기팀!K23+기계환경팀!K23+토목팀!K23+건축팀!K23+영업팀!K23+고객만족팀!K23+문화홍보팀!K23+부대사업팀!K23+역무자동화팀!K23+종합관제실!K23+감사실!K23 -> 0 | ... Q23: =안전관리실!Q23+SE사업팀!Q23+철도사업팀!Q23+기획팀!Q23+성과예산팀!Q23+정보화팀!Q23+총무팀!Q23+노무복지팀!Q23+자산회계팀!Q23+인재개발팀!Q23+차량팀!Q23+승무팀!Q23+신호팀!Q23+통신팀!Q23+전기팀!Q23+기계환경팀!Q23+토목팀!Q23+건축팀!Q23+영업팀!Q23+고객만족팀!Q23+문화홍보팀!Q23+부대사업팀!Q23+역무자동화팀!Q23+종합관제실!Q23+감사실!Q23 -> 0 | R23: 기표용구, 카운터, 화일박스, 모빌랙, 신문걸이대, 강연대, 책걸상 부분품, 책운반기, 우편함, 우산꽂이, 잡지꽂이 등 | AH23: 01 | AI23: 004 | AJ23: 00030
B24: OA칸막이(파티션) | C24: OA칸막이 | D24: =안전관리실!D24+SE사업팀!D24+철도사업팀!D24+기획팀!D24+성과예산팀!D24+정보화팀!D24+총무팀!D24+노무복지팀!D24+자산회계팀!D24+인재개발팀!D24+차량팀!D24+승무팀!D24+신호팀!D24+통신팀!D24+전기팀!D24+기계환경팀!D24+토목팀!D24+건축팀!D24+영업팀!D24+고객만족팀!D24+문화홍보팀!D24+부대사업팀!D24+역무자동화팀!D24+종합관제실!D24+감사실!D24 -> 0 | E24: =안전관리실!E24+SE사업팀!E24+철도사업팀!E24+기획팀!E24+성과예산팀!E24+정보화팀!E24+총무팀!E24+노무복지팀!E24+자산회계팀!E24+인재개발팀!E24+차량팀!E24+승무팀!E24+신호팀!E24+통신팀!E24+전기팀!E24+기계환경팀!E24+토목팀!E24+건축팀!E24+영업팀!E24+고객만족팀!E24+문화홍보팀!E24+부대사업팀!E24+역무자동화팀!E24+종합관제실!E24+감사실!E24 -> 0 | F24: =안전관리실!F24+SE사업팀!F24+철도사업팀!F24+기획팀!F24+성과예산팀!F24+정보화팀!F24+총무팀!F24+노무복지팀!F24+자산회계팀!F24+인재개발팀!F24+차량팀!F24+승무팀!F24+신호팀!F24+통신팀!F24+전기팀!F24+기계환경팀!F24+토목팀!F24+건축팀!F24+영업팀!F24+고객만족팀!F24+문화홍보팀!F24+부대사업팀!F24+역무자동화팀!F24+종합관제실!F24+감사실!F24 -> 0 | G24: =안전관리실!G24+SE사업팀!G24+철도사업팀!G24+기획팀!G24+성과예산팀!G24+정보화팀!G24+총무팀!G24+노무복지팀!G24+자산회계팀!G24+인재개발팀!G24+차량팀!G24+승무팀!G24+신호팀!G24+통신팀!G24+전기팀!G24+기계환경팀!G24+토목팀!G24+건축팀!G24+영업팀!G24+고객만족팀!G24+문화홍보팀!G24+부대사업팀!G24+역무자동화팀!G24+종합관제실!G24+감사실!G24 -> 0 | H24: =안전관리실!H24+SE사업팀!H24+철도사업팀!H24+기획팀!H24+성과예산팀!H24+정보화팀!H24+총무팀!H24+노무복지팀!H24+자산회계팀!H24+인재개발팀!H24+차량팀!H24+승무팀!H24+신호팀!H24+통신팀!H24+전기팀!H24+기계환경팀!H24+토목팀!H24+건축팀!H24+영업팀!H24+고객만족팀!H24+문화홍보팀!H24+부대사업팀!H24+역무자동화팀!H24+종합관제실!H24+감사실!H24 -> 0 | I24: =안전관리실!I24+SE사업팀!I24+철도사업팀!I24+기획팀!I24+성과예산팀!I24+정보화팀!I24+총무팀!I24+노무복지팀!I24+자산회계팀!I24+인재개발팀!I24+차량팀!I24+승무팀!I24+신호팀!I24+통신팀!I24+전기팀!I24+기계환경팀!I24+토목팀!I24+건축팀!I24+영업팀!I24+고객만족팀!I24+문화홍보팀!I24+부대사업팀!I24+역무자동화팀!I24+종합관제실!I24+감사실!I24 -> 0 | J24: =안전관리실!J24+SE사업팀!J24+철도사업팀!J24+기획팀!J24+성과예산팀!J24+정보화팀!J24+총무팀!J24+노무복지팀!J24+자산회계팀!J24+인재개발팀!J24+차량팀!J24+승무팀!J24+신호팀!J24+통신팀!J24+전기팀!J24+기계환경팀!J24+토목팀!J24+건축팀!J24+영업팀!J24+고객만족팀!J24+문화홍보팀!J24+부대사업팀!J24+역무자동화팀!J24+종합관제실!J24+감사실!J24 -> 0 | K24: =안전관리실!K24+SE사업팀!K24+철도사업팀!K24+기획팀!K24+성과예산팀!K24+정보화팀!K24+총무팀!K24+노무복지팀!K24+자산회계팀!K24+인재개발팀!K24+차량팀!K24+승무팀!K24+신호팀!K24+통신팀!K24+전기팀!K24+기계환경팀!K24+토목팀!K24+건축팀!K24+영업팀!K24+고객만족팀!K24+문화홍보팀!K24+부대사업팀!K24+역무자동화팀!K24+종합관제실!K24+감사실!K24 -> 0 | ... Q24: =안전관리실!Q24+SE사업팀!Q24+철도사업팀!Q24+기획팀!Q24+성과예산팀!Q24+정보화팀!Q24+총무팀!Q24+노무복지팀!Q24+자산회계팀!Q24+인재개발팀!Q24+차량팀!Q24+승무팀!Q24+신호팀!Q24+통신팀!Q24+전기팀!Q24+기계환경팀!Q24+토목팀!Q24+건축팀!Q24+영업팀!Q24+고객만족팀!Q24+문화홍보팀!Q24+부대사업팀!Q24+역무자동화팀!Q24+종합관제실!Q24+감사실!Q24 -> 0 | R24: OA칸막이, 블럭형 칸막이, 타일교체형 칸막이 | AH24: 01 | AI24: 005 | AJ24: 00031
B25: 지류 | C25: 인쇄용지 | D25: =안전관리실!D25+SE사업팀!D25+철도사업팀!D25+기획팀!D25+성과예산팀!D25+정보화팀!D25+총무팀!D25+노무복지팀!D25+자산회계팀!D25+인재개발팀!D25+차량팀!D25+승무팀!D25+신호팀!D25+통신팀!D25+전기팀!D25+기계환경팀!D25+토목팀!D25+건축팀!D25+영업팀!D25+고객만족팀!D25+문화홍보팀!D25+부대사업팀!D25+역무자동화팀!D25+종합관제실!D25+감사실!D25 -> 200 | E25: =안전관리실!E25+SE사업팀!E25+철도사업팀!E25+기획팀!E25+성과예산팀!E25+정보화팀!E25+총무팀!E25+노무복지팀!E25+자산회계팀!E25+인재개발팀!E25+차량팀!E25+승무팀!E25+신호팀!E25+통신팀!E25+전기팀!E25+기계환경팀!E25+토목팀!E25+건축팀!E25+영업팀!E25+고객만족팀!E25+문화홍보팀!E25+부대사업팀!E25+역무자동화팀!E25+종합관제실!E25+감사실!E25 -> 4547 | F25: =안전관리실!F25+SE사업팀!F25+철도사업팀!F25+기획팀!F25+성과예산팀!F25+정보화팀!F25+총무팀!F25+노무복지팀!F25+자산회계팀!F25+인재개발팀!F25+차량팀!F25+승무팀!F25+신호팀!F25+통신팀!F25+전기팀!F25+기계환경팀!F25+토목팀!F25+건축팀!F25+영업팀!F25+고객만족팀!F25+문화홍보팀!F25+부대사업팀!F25+역무자동화팀!F25+종합관제실!F25+감사실!F25 -> 200 | G25: =안전관리실!G25+SE사업팀!G25+철도사업팀!G25+기획팀!G25+성과예산팀!G25+정보화팀!G25+총무팀!G25+노무복지팀!G25+자산회계팀!G25+인재개발팀!G25+차량팀!G25+승무팀!G25+신호팀!G25+통신팀!G25+전기팀!G25+기계환경팀!G25+토목팀!G25+건축팀!G25+영업팀!G25+고객만족팀!G25+문화홍보팀!G25+부대사업팀!G25+역무자동화팀!G25+종합관제실!G25+감사실!G25 -> 4547 | H25: =안전관리실!H25+SE사업팀!H25+철도사업팀!H25+기획팀!H25+성과예산팀!H25+정보화팀!H25+총무팀!H25+노무복지팀!H25+자산회계팀!H25+인재개발팀!H25+차량팀!H25+승무팀!H25+신호팀!H25+통신팀!H25+전기팀!H25+기계환경팀!H25+토목팀!H25+건축팀!H25+영업팀!H25+고객만족팀!H25+문화홍보팀!H25+부대사업팀!H25+역무자동화팀!H25+종합관제실!H25+감사실!H25 -> 0 | I25: =안전관리실!I25+SE사업팀!I25+철도사업팀!I25+기획팀!I25+성과예산팀!I25+정보화팀!I25+총무팀!I25+노무복지팀!I25+자산회계팀!I25+인재개발팀!I25+차량팀!I25+승무팀!I25+신호팀!I25+통신팀!I25+전기팀!I25+기계환경팀!I25+토목팀!I25+건축팀!I25+영업팀!I25+고객만족팀!I25+문화홍보팀!I25+부대사업팀!I25+역무자동화팀!I25+종합관제실!I25+감사실!I25 -> 0 | J25: =안전관리실!J25+SE사업팀!J25+철도사업팀!J25+기획팀!J25+성과예산팀!J25+정보화팀!J25+총무팀!J25+노무복지팀!J25+자산회계팀!J25+인재개발팀!J25+차량팀!J25+승무팀!J25+신호팀!J25+통신팀!J25+전기팀!J25+기계환경팀!J25+토목팀!J25+건축팀!J25+영업팀!J25+고객만족팀!J25+문화홍보팀!J25+부대사업팀!J25+역무자동화팀!J25+종합관제실!J25+감사실!J25 -> 0 | K25: =안전관리실!K25+SE사업팀!K25+철도사업팀!K25+기획팀!K25+성과예산팀!K25+정보화팀!K25+총무팀!K25+노무복지팀!K25+자산회계팀!K25+인재개발팀!K25+차량팀!K25+승무팀!K25+신호팀!K25+통신팀!K25+전기팀!K25+기계환경팀!K25+토목팀!K25+건축팀!K25+영업팀!K25+고객만족팀!K25+문화홍보팀!K25+부대사업팀!K25+역무자동화팀!K25+종합관제실!K25+감사실!K25 -> 0 | ... Q25: =안전관리실!Q25+SE사업팀!Q25+철도사업팀!Q25+기획팀!Q25+성과예산팀!Q25+정보화팀!Q25+총무팀!Q25+노무복지팀!Q25+자산회계팀!Q25+인재개발팀!Q25+차량팀!Q25+승무팀!Q25+신호팀!Q25+통신팀!Q25+전기팀!Q25+기계환경팀!Q25+토목팀!Q25+건축팀!Q25+영업팀!Q25+고객만족팀!Q25+문화홍보팀!Q25+부대사업팀!Q25+역무자동화팀!Q25+종합관제실!Q25+감사실!Q25 -> 600 | R25: 비도공지(중질지), 신문용지류, 아트지류, 사무용지 원지, 인쇄용지, 인쇄라벨지 | AH25: 01 | AI25: 006 | AJ25: 00032
C26: 사무용지 | D26: =안전관리실!D26+SE사업팀!D26+철도사업팀!D26+기획팀!D26+성과예산팀!D26+정보화팀!D26+총무팀!D26+노무복지팀!D26+자산회계팀!D26+인재개발팀!D26+차량팀!D26+승무팀!D26+신호팀!D26+통신팀!D26+전기팀!D26+기계환경팀!D26+토목팀!D26+건축팀!D26+영업팀!D26+고객만족팀!D26+문화홍보팀!D26+부대사업팀!D26+역무자동화팀!D26+종합관제실!D26+감사실!D26 -> 169 | E26: =안전관리실!E26+SE사업팀!E26+철도사업팀!E26+기획팀!E26+성과예산팀!E26+정보화팀!E26+총무팀!E26+노무복지팀!E26+자산회계팀!E26+인재개발팀!E26+차량팀!E26+승무팀!E26+신호팀!E26+통신팀!E26+전기팀!E26+기계환경팀!E26+토목팀!E26+건축팀!E26+영업팀!E26+고객만족팀!E26+문화홍보팀!E26+부대사업팀!E26+역무자동화팀!E26+종합관제실!E26+감사실!E26 -> 3651 | F26: =안전관리실!F26+SE사업팀!F26+철도사업팀!F26+기획팀!F26+성과예산팀!F26+정보화팀!F26+총무팀!F26+노무복지팀!F26+자산회계팀!F26+인재개발팀!F26+차량팀!F26+승무팀!F26+신호팀!F26+통신팀!F26+전기팀!F26+기계환경팀!F26+토목팀!F26+건축팀!F26+영업팀!F26+고객만족팀!F26+문화홍보팀!F26+부대사업팀!F26+역무자동화팀!F26+종합관제실!F26+감사실!F26 -> 103 | G26: =안전관리실!G26+SE사업팀!G26+철도사업팀!G26+기획팀!G26+성과예산팀!G26+정보화팀!G26+총무팀!G26+노무복지팀!G26+자산회계팀!G26+인재개발팀!G26+차량팀!G26+승무팀!G26+신호팀!G26+통신팀!G26+전기팀!G26+기계환경팀!G26+토목팀!G26+건축팀!G26+영업팀!G26+고객만족팀!G26+문화홍보팀!G26+부대사업팀!G26+역무자동화팀!G26+종합관제실!G26+감사실!G26 -> 2314 | H26: =안전관리실!H26+SE사업팀!H26+철도사업팀!H26+기획팀!H26+성과예산팀!H26+정보화팀!H26+총무팀!H26+노무복지팀!H26+자산회계팀!H26+인재개발팀!H26+차량팀!H26+승무팀!H26+신호팀!H26+통신팀!H26+전기팀!H26+기계환경팀!H26+토목팀!H26+건축팀!H26+영업팀!H26+고객만족팀!H26+문화홍보팀!H26+부대사업팀!H26+역무자동화팀!H26+종합관제실!H26+감사실!H26 -> 0 | I26: =안전관리실!I26+SE사업팀!I26+철도사업팀!I26+기획팀!I26+성과예산팀!I26+정보화팀!I26+총무팀!I26+노무복지팀!I26+자산회계팀!I26+인재개발팀!I26+차량팀!I26+승무팀!I26+신호팀!I26+통신팀!I26+전기팀!I26+기계환경팀!I26+토목팀!I26+건축팀!I26+영업팀!I26+고객만족팀!I26+문화홍보팀!I26+부대사업팀!I26+역무자동화팀!I26+종합관제실!I26+감사실!I26 -> 0 | J26: =안전관리실!J26+SE사업팀!J26+철도사업팀!J26+기획팀!J26+성과예산팀!J26+정보화팀!J26+총무팀!J26+노무복지팀!J26+자산회계팀!J26+인재개발팀!J26+차량팀!J26+승무팀!J26+신호팀!J26+통신팀!J26+전기팀!J26+기계환경팀!J26+토목팀!J26+건축팀!J26+영업팀!J26+고객만족팀!J26+문화홍보팀!J26+부대사업팀!J26+역무자동화팀!J26+종합관제실!J26+감사실!J26 -> 0 | K26: =안전관리실!K26+SE사업팀!K26+철도사업팀!K26+기획팀!K26+성과예산팀!K26+정보화팀!K26+총무팀!K26+노무복지팀!K26+자산회계팀!K26+인재개발팀!K26+차량팀!K26+승무팀!K26+신호팀!K26+통신팀!K26+전기팀!K26+기계환경팀!K26+토목팀!K26+건축팀!K26+영업팀!K26+고객만족팀!K26+문화홍보팀!K26+부대사업팀!K26+역무자동화팀!K26+종합관제실!K26+감사실!K26 -> 0 | ... Q26: =안전관리실!Q26+SE사업팀!Q26+철도사업팀!Q26+기획팀!Q26+성과예산팀!Q26+정보화팀!Q26+총무팀!Q26+노무복지팀!Q26+자산회계팀!Q26+인재개발팀!Q26+차량팀!Q26+승무팀!Q26+신호팀!Q26+통신팀!Q26+전기팀!Q26+기계환경팀!Q26+토목팀!Q26+건축팀!Q26+영업팀!Q26+고객만족팀!Q26+문화홍보팀!Q26+부대사업팀!Q26+역무자동화팀!Q26+종합관제실!Q26+감사실!Q26 -> 735.84216 | R26: 프린트 및 복사용지, 전산용지 | AH26: 01 | AI26: 006 | AJ26: 00033
C27: 기타지류 | D27: =안전관리실!D27+SE사업팀!D27+철도사업팀!D27+기획팀!D27+성과예산팀!D27+정보화팀!D27+총무팀!D27+노무복지팀!D27+자산회계팀!D27+인재개발팀!D27+차량팀!D27+승무팀!D27+신호팀!D27+통신팀!D27+전기팀!D27+기계환경팀!D27+토목팀!D27+건축팀!D27+영업팀!D27+고객만족팀!D27+문화홍보팀!D27+부대사업팀!D27+역무자동화팀!D27+종합관제실!D27+감사실!D27 -> 0 | E27: =안전관리실!E27+SE사업팀!E27+철도사업팀!E27+기획팀!E27+성과예산팀!E27+정보화팀!E27+총무팀!E27+노무복지팀!E27+자산회계팀!E27+인재개발팀!E27+차량팀!E27+승무팀!E27+신호팀!E27+통신팀!E27+전기팀!E27+기계환경팀!E27+토목팀!E27+건축팀!E27+영업팀!E27+고객만족팀!E27+문화홍보팀!E27+부대사업팀!E27+역무자동화팀!E27+종합관제실!E27+감사실!E27 -> 0 | F27: =안전관리실!F27+SE사업팀!F27+철도사업팀!F27+기획팀!F27+성과예산팀!F27+정보화팀!F27+총무팀!F27+노무복지팀!F27+자산회계팀!F27+인재개발팀!F27+차량팀!F27+승무팀!F27+신호팀!F27+통신팀!F27+전기팀!F27+기계환경팀!F27+토목팀!F27+건축팀!F27+영업팀!F27+고객만족팀!F27+문화홍보팀!F27+부대사업팀!F27+역무자동화팀!F27+종합관제실!F27+감사실!F27 -> 0 | G27: =안전관리실!G27+SE사업팀!G27+철도사업팀!G27+기획팀!G27+성과예산팀!G27+정보화팀!G27+총무팀!G27+노무복지팀!G27+자산회계팀!G27+인재개발팀!G27+차량팀!G27+승무팀!G27+신호팀!G27+통신팀!G27+전기팀!G27+기계환경팀!G27+토목팀!G27+건축팀!G27+영업팀!G27+고객만족팀!G27+문화홍보팀!G27+부대사업팀!G27+역무자동화팀!G27+종합관제실!G27+감사실!G27 -> 0 | H27: =안전관리실!H27+SE사업팀!H27+철도사업팀!H27+기획팀!H27+성과예산팀!H27+정보화팀!H27+총무팀!H27+노무복지팀!H27+자산회계팀!H27+인재개발팀!H27+차량팀!H27+승무팀!H27+신호팀!H27+통신팀!H27+전기팀!H27+기계환경팀!H27+토목팀!H27+건축팀!H27+영업팀!H27+고객만족팀!H27+문화홍보팀!H27+부대사업팀!H27+역무자동화팀!H27+종합관제실!H27+감사실!H27 -> 0 | I27: =안전관리실!I27+SE사업팀!I27+철도사업팀!I27+기획팀!I27+성과예산팀!I27+정보화팀!I27+총무팀!I27+노무복지팀!I27+자산회계팀!I27+인재개발팀!I27+차량팀!I27+승무팀!I27+신호팀!I27+통신팀!I27+전기팀!I27+기계환경팀!I27+토목팀!I27+건축팀!I27+영업팀!I27+고객만족팀!I27+문화홍보팀!I27+부대사업팀!I27+역무자동화팀!I27+종합관제실!I27+감사실!I27 -> 0 | J27: =안전관리실!J27+SE사업팀!J27+철도사업팀!J27+기획팀!J27+성과예산팀!J27+정보화팀!J27+총무팀!J27+노무복지팀!J27+자산회계팀!J27+인재개발팀!J27+차량팀!J27+승무팀!J27+신호팀!J27+통신팀!J27+전기팀!J27+기계환경팀!J27+토목팀!J27+건축팀!J27+영업팀!J27+고객만족팀!J27+문화홍보팀!J27+부대사업팀!J27+역무자동화팀!J27+종합관제실!J27+감사실!J27 -> 0 | K27: =안전관리실!K27+SE사업팀!K27+철도사업팀!K27+기획팀!K27+성과예산팀!K27+정보화팀!K27+총무팀!K27+노무복지팀!K27+자산회계팀!K27+인재개발팀!K27+차량팀!K27+승무팀!K27+신호팀!K27+통신팀!K27+전기팀!K27+기계환경팀!K27+토목팀!K27+건축팀!K27+영업팀!K27+고객만족팀!K27+문화홍보팀!K27+부대사업팀!K27+역무자동화팀!K27+종합관제실!K27+감사실!K27 -> 0 | ... Q27: =안전관리실!Q27+SE사업팀!Q27+철도사업팀!Q27+기획팀!Q27+성과예산팀!Q27+정보화팀!Q27+총무팀!Q27+노무복지팀!Q27+자산회계팀!Q27+인재개발팀!Q27+차량팀!Q27+승무팀!Q27+신호팀!Q27+통신팀!Q27+전기팀!Q27+기계환경팀!Q27+토목팀!Q27+건축팀!Q27+영업팀!Q27+고객만족팀!Q27+문화홍보팀!Q27+부대사업팀!Q27+역무자동화팀!Q27+종합관제실!Q27+감사실!Q27 -> 0 | R27: 박리지, 박리지 원지, 인쇄출판물 등 | AH27: 01 | AI27: 006 | AJ27: 00205
B28: 일반사무용품 | C28: 필기구 및 필기구 소모품 | D28: =안전관리실!D28+SE사업팀!D28+철도사업팀!D28+기획팀!D28+성과예산팀!D28+정보화팀!D28+총무팀!D28+노무복지팀!D28+자산회계팀!D28+인재개발팀!D28+차량팀!D28+승무팀!D28+신호팀!D28+통신팀!D28+전기팀!D28+기계환경팀!D28+토목팀!D28+건축팀!D28+영업팀!D28+고객만족팀!D28+문화홍보팀!D28+부대사업팀!D28+역무자동화팀!D28+종합관제실!D28+감사실!D28 -> 12 | E28: =안전관리실!E28+SE사업팀!E28+철도사업팀!E28+기획팀!E28+성과예산팀!E28+정보화팀!E28+총무팀!E28+노무복지팀!E28+자산회계팀!E28+인재개발팀!E28+차량팀!E28+승무팀!E28+신호팀!E28+통신팀!E28+전기팀!E28+기계환경팀!E28+토목팀!E28+건축팀!E28+영업팀!E28+고객만족팀!E28+문화홍보팀!E28+부대사업팀!E28+역무자동화팀!E28+종합관제실!E28+감사실!E28 -> 240 | F28: =안전관리실!F28+SE사업팀!F28+철도사업팀!F28+기획팀!F28+성과예산팀!F28+정보화팀!F28+총무팀!F28+노무복지팀!F28+자산회계팀!F28+인재개발팀!F28+차량팀!F28+승무팀!F28+신호팀!F28+통신팀!F28+전기팀!F28+기계환경팀!F28+토목팀!F28+건축팀!F28+영업팀!F28+고객만족팀!F28+문화홍보팀!F28+부대사업팀!F28+역무자동화팀!F28+종합관제실!F28+감사실!F28 -> 12 | G28: =안전관리실!G28+SE사업팀!G28+철도사업팀!G28+기획팀!G28+성과예산팀!G28+정보화팀!G28+총무팀!G28+노무복지팀!G28+자산회계팀!G28+인재개발팀!G28+차량팀!G28+승무팀!G28+신호팀!G28+통신팀!G28+전기팀!G28+기계환경팀!G28+토목팀!G28+건축팀!G28+영업팀!G28+고객만족팀!G28+문화홍보팀!G28+부대사업팀!G28+역무자동화팀!G28+종합관제실!G28+감사실!G28 -> 240 | H28: =안전관리실!H28+SE사업팀!H28+철도사업팀!H28+기획팀!H28+성과예산팀!H28+정보화팀!H28+총무팀!H28+노무복지팀!H28+자산회계팀!H28+인재개발팀!H28+차량팀!H28+승무팀!H28+신호팀!H28+통신팀!H28+전기팀!H28+기계환경팀!H28+토목팀!H28+건축팀!H28+영업팀!H28+고객만족팀!H28+문화홍보팀!H28+부대사업팀!H28+역무자동화팀!H28+종합관제실!H28+감사실!H28 -> 0 | I28: =안전관리실!I28+SE사업팀!I28+철도사업팀!I28+기획팀!I28+성과예산팀!I28+정보화팀!I28+총무팀!I28+노무복지팀!I28+자산회계팀!I28+인재개발팀!I28+차량팀!I28+승무팀!I28+신호팀!I28+통신팀!I28+전기팀!I28+기계환경팀!I28+토목팀!I28+건축팀!I28+영업팀!I28+고객만족팀!I28+문화홍보팀!I28+부대사업팀!I28+역무자동화팀!I28+종합관제실!I28+감사실!I28 -> 0 | J28: =안전관리실!J28+SE사업팀!J28+철도사업팀!J28+기획팀!J28+성과예산팀!J28+정보화팀!J28+총무팀!J28+노무복지팀!J28+자산회계팀!J28+인재개발팀!J28+차량팀!J28+승무팀!J28+신호팀!J28+통신팀!J28+전기팀!J28+기계환경팀!J28+토목팀!J28+건축팀!J28+영업팀!J28+고객만족팀!J28+문화홍보팀!J28+부대사업팀!J28+역무자동화팀!J28+종합관제실!J28+감사실!J28 -> 0 | K28: =안전관리실!K28+SE사업팀!K28+철도사업팀!K28+기획팀!K28+성과예산팀!K28+정보화팀!K28+총무팀!K28+노무복지팀!K28+자산회계팀!K28+인재개발팀!K28+차량팀!K28+승무팀!K28+신호팀!K28+통신팀!K28+전기팀!K28+기계환경팀!K28+토목팀!K28+건축팀!K28+영업팀!K28+고객만족팀!K28+문화홍보팀!K28+부대사업팀!K28+역무자동화팀!K28+종합관제실!K28+감사실!K28 -> 0 | ... Q28: =안전관리실!Q28+SE사업팀!Q28+철도사업팀!Q28+기획팀!Q28+성과예산팀!Q28+정보화팀!Q28+총무팀!Q28+노무복지팀!Q28+자산회계팀!Q28+인재개발팀!Q28+차량팀!Q28+승무팀!Q28+신호팀!Q28+통신팀!Q28+전기팀!Q28+기계환경팀!Q28+토목팀!Q28+건축팀!Q28+영업팀!Q28+고객만족팀!Q28+문화홍보팀!Q28+부대사업팀!Q28+역무자동화팀!Q28+종합관제실!Q28+감사실!Q28 -> 200 | R28: 잉크, 물펜지우개, 칠판지우개, 마킹펜, 유성펜, 볼펜, 연필 | AH28: 01 | AI28: 008 | AJ28: 00037
C29: 기타 사무용품 | D29: =안전관리실!D29+SE사업팀!D29+철도사업팀!D29+기획팀!D29+성과예산팀!D29+정보화팀!D29+총무팀!D29+노무복지팀!D29+자산회계팀!D29+인재개발팀!D29+차량팀!D29+승무팀!D29+신호팀!D29+통신팀!D29+전기팀!D29+기계환경팀!D29+토목팀!D29+건축팀!D29+영업팀!D29+고객만족팀!D29+문화홍보팀!D29+부대사업팀!D29+역무자동화팀!D29+종합관제실!D29+감사실!D29 -> 322 | E29: =안전관리실!E29+SE사업팀!E29+철도사업팀!E29+기획팀!E29+성과예산팀!E29+정보화팀!E29+총무팀!E29+노무복지팀!E29+자산회계팀!E29+인재개발팀!E29+차량팀!E29+승무팀!E29+신호팀!E29+통신팀!E29+전기팀!E29+기계환경팀!E29+토목팀!E29+건축팀!E29+영업팀!E29+고객만족팀!E29+문화홍보팀!E29+부대사업팀!E29+역무자동화팀!E29+종합관제실!E29+감사실!E29 -> 992 | F29: =안전관리실!F29+SE사업팀!F29+철도사업팀!F29+기획팀!F29+성과예산팀!F29+정보화팀!F29+총무팀!F29+노무복지팀!F29+자산회계팀!F29+인재개발팀!F29+차량팀!F29+승무팀!F29+신호팀!F29+통신팀!F29+전기팀!F29+기계환경팀!F29+토목팀!F29+건축팀!F29+영업팀!F29+고객만족팀!F29+문화홍보팀!F29+부대사업팀!F29+역무자동화팀!F29+종합관제실!F29+감사실!F29 -> 308 | G29: =안전관리실!G29+SE사업팀!G29+철도사업팀!G29+기획팀!G29+성과예산팀!G29+정보화팀!G29+총무팀!G29+노무복지팀!G29+자산회계팀!G29+인재개발팀!G29+차량팀!G29+승무팀!G29+신호팀!G29+통신팀!G29+전기팀!G29+기계환경팀!G29+토목팀!G29+건축팀!G29+영업팀!G29+고객만족팀!G29+문화홍보팀!G29+부대사업팀!G29+역무자동화팀!G29+종합관제실!G29+감사실!G29 -> 849 | H29: =안전관리실!H29+SE사업팀!H29+철도사업팀!H29+기획팀!H29+성과예산팀!H29+정보화팀!H29+총무팀!H29+노무복지팀!H29+자산회계팀!H29+인재개발팀!H29+차량팀!H29+승무팀!H29+신호팀!H29+통신팀!H29+전기팀!H29+기계환경팀!H29+토목팀!H29+건축팀!H29+영업팀!H29+고객만족팀!H29+문화홍보팀!H29+부대사업팀!H29+역무자동화팀!H29+종합관제실!H29+감사실!H29 -> 0 | I29: =안전관리실!I29+SE사업팀!I29+철도사업팀!I29+기획팀!I29+성과예산팀!I29+정보화팀!I29+총무팀!I29+노무복지팀!I29+자산회계팀!I29+인재개발팀!I29+차량팀!I29+승무팀!I29+신호팀!I29+통신팀!I29+전기팀!I29+기계환경팀!I29+토목팀!I29+건축팀!I29+영업팀!I29+고객만족팀!I29+문화홍보팀!I29+부대사업팀!I29+역무자동화팀!I29+종합관제실!I29+감사실!I29 -> 0 | J29: =안전관리실!J29+SE사업팀!J29+철도사업팀!J29+기획팀!J29+성과예산팀!J29+정보화팀!J29+총무팀!J29+노무복지팀!J29+자산회계팀!J29+인재개발팀!J29+차량팀!J29+승무팀!J29+신호팀!J29+통신팀!J29+전기팀!J29+기계환경팀!J29+토목팀!J29+건축팀!J29+영업팀!J29+고객만족팀!J29+문화홍보팀!J29+부대사업팀!J29+역무자동화팀!J29+종합관제실!J29+감사실!J29 -> 0 | K29: =안전관리실!K29+SE사업팀!K29+철도사업팀!K29+기획팀!K29+성과예산팀!K29+정보화팀!K29+총무팀!K29+노무복지팀!K29+자산회계팀!K29+인재개발팀!K29+차량팀!K29+승무팀!K29+신호팀!K29+통신팀!K29+전기팀!K29+기계환경팀!K29+토목팀!K29+건축팀!K29+영업팀!K29+고객만족팀!K29+문화홍보팀!K29+부대사업팀!K29+역무자동화팀!K29+종합관제실!K29+감사실!K29 -> 0 | ... Q29: =안전관리실!Q29+SE사업팀!Q29+철도사업팀!Q29+기획팀!Q29+성과예산팀!Q29+정보화팀!Q29+총무팀!Q29+노무복지팀!Q29+자산회계팀!Q29+인재개발팀!Q29+차량팀!Q29+승무팀!Q29+신호팀!Q29+통신팀!Q29+전기팀!Q29+기계환경팀!Q29+토목팀!Q29+건축팀!Q29+영업팀!Q29+고객만족팀!Q29+문화홍보팀!Q29+부대사업팀!Q29+역무자동화팀!Q29+종합관제실!Q29+감사실!Q29 -> 390.65041 | R29: 라벨지(인쇄용 점착라벨 스티커, 사무·서류관리 라벨지, 택배라벨지, 주소표기용 점착운송장), 종이테이프, 봉투, 클리어파일, 바인더, 보존용표지, 액자 및 프레임, 결재함 등 | AH29: 01 | AI29: 008 | AJ29: 00039
A30: 전자/정보/통신 | B30: 개인용컴퓨터 | C30: 개인용컴퓨터 | D30: =안전관리실!D30+SE사업팀!D30+철도사업팀!D30+기획팀!D30+성과예산팀!D30+정보화팀!D30+총무팀!D30+노무복지팀!D30+자산회계팀!D30+인재개발팀!D30+차량팀!D30+승무팀!D30+신호팀!D30+통신팀!D30+전기팀!D30+기계환경팀!D30+토목팀!D30+건축팀!D30+영업팀!D30+고객만족팀!D30+문화홍보팀!D30+부대사업팀!D30+역무자동화팀!D30+종합관제실!D30+감사실!D30 -> 69 | E30: =안전관리실!E30+SE사업팀!E30+철도사업팀!E30+기획팀!E30+성과예산팀!E30+정보화팀!E30+총무팀!E30+노무복지팀!E30+자산회계팀!E30+인재개발팀!E30+차량팀!E30+승무팀!E30+신호팀!E30+통신팀!E30+전기팀!E30+기계환경팀!E30+토목팀!E30+건축팀!E30+영업팀!E30+고객만족팀!E30+문화홍보팀!E30+부대사업팀!E30+역무자동화팀!E30+종합관제실!E30+감사실!E30 -> 59899 | F30: =안전관리실!F30+SE사업팀!F30+철도사업팀!F30+기획팀!F30+성과예산팀!F30+정보화팀!F30+총무팀!F30+노무복지팀!F30+자산회계팀!F30+인재개발팀!F30+차량팀!F30+승무팀!F30+신호팀!F30+통신팀!F30+전기팀!F30+기계환경팀!F30+토목팀!F30+건축팀!F30+영업팀!F30+고객만족팀!F30+문화홍보팀!F30+부대사업팀!F30+역무자동화팀!F30+종합관제실!F30+감사실!F30 -> 69 | G30: =안전관리실!G30+SE사업팀!G30+철도사업팀!G30+기획팀!G30+성과예산팀!G30+정보화팀!G30+총무팀!G30+노무복지팀!G30+자산회계팀!G30+인재개발팀!G30+차량팀!G30+승무팀!G30+신호팀!G30+통신팀!G30+전기팀!G30+기계환경팀!G30+토목팀!G30+건축팀!G30+영업팀!G30+고객만족팀!G30+문화홍보팀!G30+부대사업팀!G30+역무자동화팀!G30+종합관제실!G30+감사실!G30 -> 59899 | H30: =안전관리실!H30+SE사업팀!H30+철도사업팀!H30+기획팀!H30+성과예산팀!H30+정보화팀!H30+총무팀!H30+노무복지팀!H30+자산회계팀!H30+인재개발팀!H30+차량팀!H30+승무팀!H30+신호팀!H30+통신팀!H30+전기팀!H30+기계환경팀!H30+토목팀!H30+건축팀!H30+영업팀!H30+고객만족팀!H30+문화홍보팀!H30+부대사업팀!H30+역무자동화팀!H30+종합관제실!H30+감사실!H30 -> 0 | I30: =안전관리실!I30+SE사업팀!I30+철도사업팀!I30+기획팀!I30+성과예산팀!I30+정보화팀!I30+총무팀!I30+노무복지팀!I30+자산회계팀!I30+인재개발팀!I30+차량팀!I30+승무팀!I30+신호팀!I30+통신팀!I30+전기팀!I30+기계환경팀!I30+토목팀!I30+건축팀!I30+영업팀!I30+고객만족팀!I30+문화홍보팀!I30+부대사업팀!I30+역무자동화팀!I30+종합관제실!I30+감사실!I30 -> 0 | J30: =안전관리실!J30+SE사업팀!J30+철도사업팀!J30+기획팀!J30+성과예산팀!J30+정보화팀!J30+총무팀!J30+노무복지팀!J30+자산회계팀!J30+인재개발팀!J30+차량팀!J30+승무팀!J30+신호팀!J30+통신팀!J30+전기팀!J30+기계환경팀!J30+토목팀!J30+건축팀!J30+영업팀!J30+고객만족팀!J30+문화홍보팀!J30+부대사업팀!J30+역무자동화팀!J30+종합관제실!J30+감사실!J30 -> 0 | K30: =안전관리실!K30+SE사업팀!K30+철도사업팀!K30+기획팀!K30+성과예산팀!K30+정보화팀!K30+총무팀!K30+노무복지팀!K30+자산회계팀!K30+인재개발팀!K30+차량팀!K30+승무팀!K30+신호팀!K30+통신팀!K30+전기팀!K30+기계환경팀!K30+토목팀!K30+건축팀!K30+영업팀!K30+고객만족팀!K30+문화홍보팀!K30+부대사업팀!K30+역무자동화팀!K30+종합관제실!K30+감사실!K30 -> 0 | ... Q30: =안전관리실!Q30+SE사업팀!Q30+철도사업팀!Q30+기획팀!Q30+성과예산팀!Q30+정보화팀!Q30+총무팀!Q30+노무복지팀!Q30+자산회계팀!Q30+인재개발팀!Q30+차량팀!Q30+승무팀!Q30+신호팀!Q30+통신팀!Q30+전기팀!Q30+기계환경팀!Q30+토목팀!Q30+건축팀!Q30+영업팀!Q30+고객만족팀!Q30+문화홍보팀!Q30+부대사업팀!Q30+역무자동화팀!Q30+종합관제실!Q30+감사실!Q30 -> 300 | R30: 일반 PC, 모니터 일체형 PC | AH30: 02 | AI30: 009 | AJ30: 00040
B31: 노트북 | C31: 노트북 컴퓨터 | D31: =안전관리실!D31+SE사업팀!D31+철도사업팀!D31+기획팀!D31+성과예산팀!D31+정보화팀!D31+총무팀!D31+노무복지팀!D31+자산회계팀!D31+인재개발팀!D31+차량팀!D31+승무팀!D31+신호팀!D31+통신팀!D31+전기팀!D31+기계환경팀!D31+토목팀!D31+건축팀!D31+영업팀!D31+고객만족팀!D31+문화홍보팀!D31+부대사업팀!D31+역무자동화팀!D31+종합관제실!D31+감사실!D31 -> 3 | E31: =안전관리실!E31+SE사업팀!E31+철도사업팀!E31+기획팀!E31+성과예산팀!E31+정보화팀!E31+총무팀!E31+노무복지팀!E31+자산회계팀!E31+인재개발팀!E31+차량팀!E31+승무팀!E31+신호팀!E31+통신팀!E31+전기팀!E31+기계환경팀!E31+토목팀!E31+건축팀!E31+영업팀!E31+고객만족팀!E31+문화홍보팀!E31+부대사업팀!E31+역무자동화팀!E31+종합관제실!E31+감사실!E31 -> 3124 | F31: =안전관리실!F31+SE사업팀!F31+철도사업팀!F31+기획팀!F31+성과예산팀!F31+정보화팀!F31+총무팀!F31+노무복지팀!F31+자산회계팀!F31+인재개발팀!F31+차량팀!F31+승무팀!F31+신호팀!F31+통신팀!F31+전기팀!F31+기계환경팀!F31+토목팀!F31+건축팀!F31+영업팀!F31+고객만족팀!F31+문화홍보팀!F31+부대사업팀!F31+역무자동화팀!F31+종합관제실!F31+감사실!F31 -> 3 | G31: =안전관리실!G31+SE사업팀!G31+철도사업팀!G31+기획팀!G31+성과예산팀!G31+정보화팀!G31+총무팀!G31+노무복지팀!G31+자산회계팀!G31+인재개발팀!G31+차량팀!G31+승무팀!G31+신호팀!G31+통신팀!G31+전기팀!G31+기계환경팀!G31+토목팀!G31+건축팀!G31+영업팀!G31+고객만족팀!G31+문화홍보팀!G31+부대사업팀!G31+역무자동화팀!G31+종합관제실!G31+감사실!G31 -> 3124 | H31: =안전관리실!H31+SE사업팀!H31+철도사업팀!H31+기획팀!H31+성과예산팀!H31+정보화팀!H31+총무팀!H31+노무복지팀!H31+자산회계팀!H31+인재개발팀!H31+차량팀!H31+승무팀!H31+신호팀!H31+통신팀!H31+전기팀!H31+기계환경팀!H31+토목팀!H31+건축팀!H31+영업팀!H31+고객만족팀!H31+문화홍보팀!H31+부대사업팀!H31+역무자동화팀!H31+종합관제실!H31+감사실!H31 -> 0 | I31: =안전관리실!I31+SE사업팀!I31+철도사업팀!I31+기획팀!I31+성과예산팀!I31+정보화팀!I31+총무팀!I31+노무복지팀!I31+자산회계팀!I31+인재개발팀!I31+차량팀!I31+승무팀!I31+신호팀!I31+통신팀!I31+전기팀!I31+기계환경팀!I31+토목팀!I31+건축팀!I31+영업팀!I31+고객만족팀!I31+문화홍보팀!I31+부대사업팀!I31+역무자동화팀!I31+종합관제실!I31+감사실!I31 -> 0 | J31: =안전관리실!J31+SE사업팀!J31+철도사업팀!J31+기획팀!J31+성과예산팀!J31+정보화팀!J31+총무팀!J31+노무복지팀!J31+자산회계팀!J31+인재개발팀!J31+차량팀!J31+승무팀!J31+신호팀!J31+통신팀!J31+전기팀!J31+기계환경팀!J31+토목팀!J31+건축팀!J31+영업팀!J31+고객만족팀!J31+문화홍보팀!J31+부대사업팀!J31+역무자동화팀!J31+종합관제실!J31+감사실!J31 -> 0 | K31: =안전관리실!K31+SE사업팀!K31+철도사업팀!K31+기획팀!K31+성과예산팀!K31+정보화팀!K31+총무팀!K31+노무복지팀!K31+자산회계팀!K31+인재개발팀!K31+차량팀!K31+승무팀!K31+신호팀!K31+통신팀!K31+전기팀!K31+기계환경팀!K31+토목팀!K31+건축팀!K31+영업팀!K31+고객만족팀!K31+문화홍보팀!K31+부대사업팀!K31+역무자동화팀!K31+종합관제실!K31+감사실!K31 -> 0 | ... Q31: =안전관리실!Q31+SE사업팀!Q31+철도사업팀!Q31+기획팀!Q31+성과예산팀!Q31+정보화팀!Q31+총무팀!Q31+노무복지팀!Q31+자산회계팀!Q31+인재개발팀!Q31+차량팀!Q31+승무팀!Q31+신호팀!Q31+통신팀!Q31+전기팀!Q31+기계환경팀!Q31+토목팀!Q31+건축팀!Q31+영업팀!Q31+고객만족팀!Q31+문화홍보팀!Q31+부대사업팀!Q31+역무자동화팀!Q31+종합관제실!Q31+감사실!Q31 -> 200 | R31: 노트북 컴퓨터 | AH31: 02 | AI31: 010 | AJ31: 00042
B32: 프린터 | C32: 프린터 | D32: =안전관리실!D32+SE사업팀!D32+철도사업팀!D32+기획팀!D32+성과예산팀!D32+정보화팀!D32+총무팀!D32+노무복지팀!D32+자산회계팀!D32+인재개발팀!D32+차량팀!D32+승무팀!D32+신호팀!D32+통신팀!D32+전기팀!D32+기계환경팀!D32+토목팀!D32+건축팀!D32+영업팀!D32+고객만족팀!D32+문화홍보팀!D32+부대사업팀!D32+역무자동화팀!D32+종합관제실!D32+감사실!D32 -> 2 | E32: =안전관리실!E32+SE사업팀!E32+철도사업팀!E32+기획팀!E32+성과예산팀!E32+정보화팀!E32+총무팀!E32+노무복지팀!E32+자산회계팀!E32+인재개발팀!E32+차량팀!E32+승무팀!E32+신호팀!E32+통신팀!E32+전기팀!E32+기계환경팀!E32+토목팀!E32+건축팀!E32+영업팀!E32+고객만족팀!E32+문화홍보팀!E32+부대사업팀!E32+역무자동화팀!E32+종합관제실!E32+감사실!E32 -> 902 | F32: =안전관리실!F32+SE사업팀!F32+철도사업팀!F32+기획팀!F32+성과예산팀!F32+정보화팀!F32+총무팀!F32+노무복지팀!F32+자산회계팀!F32+인재개발팀!F32+차량팀!F32+승무팀!F32+신호팀!F32+통신팀!F32+전기팀!F32+기계환경팀!F32+토목팀!F32+건축팀!F32+영업팀!F32+고객만족팀!F32+문화홍보팀!F32+부대사업팀!F32+역무자동화팀!F32+종합관제실!F32+감사실!F32 -> 2 | G32: =안전관리실!G32+SE사업팀!G32+철도사업팀!G32+기획팀!G32+성과예산팀!G32+정보화팀!G32+총무팀!G32+노무복지팀!G32+자산회계팀!G32+인재개발팀!G32+차량팀!G32+승무팀!G32+신호팀!G32+통신팀!G32+전기팀!G32+기계환경팀!G32+토목팀!G32+건축팀!G32+영업팀!G32+고객만족팀!G32+문화홍보팀!G32+부대사업팀!G32+역무자동화팀!G32+종합관제실!G32+감사실!G32 -> 902 | H32: =안전관리실!H32+SE사업팀!H32+철도사업팀!H32+기획팀!H32+성과예산팀!H32+정보화팀!H32+총무팀!H32+노무복지팀!H32+자산회계팀!H32+인재개발팀!H32+차량팀!H32+승무팀!H32+신호팀!H32+통신팀!H32+전기팀!H32+기계환경팀!H32+토목팀!H32+건축팀!H32+영업팀!H32+고객만족팀!H32+문화홍보팀!H32+부대사업팀!H32+역무자동화팀!H32+종합관제실!H32+감사실!H32 -> 0 | I32: =안전관리실!I32+SE사업팀!I32+철도사업팀!I32+기획팀!I32+성과예산팀!I32+정보화팀!I32+총무팀!I32+노무복지팀!I32+자산회계팀!I32+인재개발팀!I32+차량팀!I32+승무팀!I32+신호팀!I32+통신팀!I32+전기팀!I32+기계환경팀!I32+토목팀!I32+건축팀!I32+영업팀!I32+고객만족팀!I32+문화홍보팀!I32+부대사업팀!I32+역무자동화팀!I32+종합관제실!I32+감사실!I32 -> 0 | J32: =안전관리실!J32+SE사업팀!J32+철도사업팀!J32+기획팀!J32+성과예산팀!J32+정보화팀!J32+총무팀!J32+노무복지팀!J32+자산회계팀!J32+인재개발팀!J32+차량팀!J32+승무팀!J32+신호팀!J32+통신팀!J32+전기팀!J32+기계환경팀!J32+토목팀!J32+건축팀!J32+영업팀!J32+고객만족팀!J32+문화홍보팀!J32+부대사업팀!J32+역무자동화팀!J32+종합관제실!J32+감사실!J32 -> 0 | K32: =안전관리실!K32+SE사업팀!K32+철도사업팀!K32+기획팀!K32+성과예산팀!K32+정보화팀!K32+총무팀!K32+노무복지팀!K32+자산회계팀!K32+인재개발팀!K32+차량팀!K32+승무팀!K32+신호팀!K32+통신팀!K32+전기팀!K32+기계환경팀!K32+토목팀!K32+건축팀!K32+영업팀!K32+고객만족팀!K32+문화홍보팀!K32+부대사업팀!K32+역무자동화팀!K32+종합관제실!K32+감사실!K32 -> 0 | ... Q32: =안전관리실!Q32+SE사업팀!Q32+철도사업팀!Q32+기획팀!Q32+성과예산팀!Q32+정보화팀!Q32+총무팀!Q32+노무복지팀!Q32+자산회계팀!Q32+인재개발팀!Q32+차량팀!Q32+승무팀!Q32+신호팀!Q32+통신팀!Q32+전기팀!Q32+기계환경팀!Q32+토목팀!Q32+건축팀!Q32+영업팀!Q32+고객만족팀!Q32+문화홍보팀!Q32+부대사업팀!Q32+역무자동화팀!Q32+종합관제실!Q32+감사실!Q32 -> 100 | R32: 레이저 프린터, 잉크젯 프린터 | AH32: 02 | AI32: 011 | AJ32: 00043
B33: 모니터 | C33: 컴퓨터용 모니터 | D33: =안전관리실!D33+SE사업팀!D33+철도사업팀!D33+기획팀!D33+성과예산팀!D33+정보화팀!D33+총무팀!D33+노무복지팀!D33+자산회계팀!D33+인재개발팀!D33+차량팀!D33+승무팀!D33+신호팀!D33+통신팀!D33+전기팀!D33+기계환경팀!D33+토목팀!D33+건축팀!D33+영업팀!D33+고객만족팀!D33+문화홍보팀!D33+부대사업팀!D33+역무자동화팀!D33+종합관제실!D33+감사실!D33 -> 58 | E33: =안전관리실!E33+SE사업팀!E33+철도사업팀!E33+기획팀!E33+성과예산팀!E33+정보화팀!E33+총무팀!E33+노무복지팀!E33+자산회계팀!E33+인재개발팀!E33+차량팀!E33+승무팀!E33+신호팀!E33+통신팀!E33+전기팀!E33+기계환경팀!E33+토목팀!E33+건축팀!E33+영업팀!E33+고객만족팀!E33+문화홍보팀!E33+부대사업팀!E33+역무자동화팀!E33+종합관제실!E33+감사실!E33 -> 11087 | F33: =안전관리실!F33+SE사업팀!F33+철도사업팀!F33+기획팀!F33+성과예산팀!F33+정보화팀!F33+총무팀!F33+노무복지팀!F33+자산회계팀!F33+인재개발팀!F33+차량팀!F33+승무팀!F33+신호팀!F33+통신팀!F33+전기팀!F33+기계환경팀!F33+토목팀!F33+건축팀!F33+영업팀!F33+고객만족팀!F33+문화홍보팀!F33+부대사업팀!F33+역무자동화팀!F33+종합관제실!F33+감사실!F33 -> 58 | G33: =안전관리실!G33+SE사업팀!G33+철도사업팀!G33+기획팀!G33+성과예산팀!G33+정보화팀!G33+총무팀!G33+노무복지팀!G33+자산회계팀!G33+인재개발팀!G33+차량팀!G33+승무팀!G33+신호팀!G33+통신팀!G33+전기팀!G33+기계환경팀!G33+토목팀!G33+건축팀!G33+영업팀!G33+고객만족팀!G33+문화홍보팀!G33+부대사업팀!G33+역무자동화팀!G33+종합관제실!G33+감사실!G33 -> 11087 | H33: =안전관리실!H33+SE사업팀!H33+철도사업팀!H33+기획팀!H33+성과예산팀!H33+정보화팀!H33+총무팀!H33+노무복지팀!H33+자산회계팀!H33+인재개발팀!H33+차량팀!H33+승무팀!H33+신호팀!H33+통신팀!H33+전기팀!H33+기계환경팀!H33+토목팀!H33+건축팀!H33+영업팀!H33+고객만족팀!H33+문화홍보팀!H33+부대사업팀!H33+역무자동화팀!H33+종합관제실!H33+감사실!H33 -> 0 | I33: =안전관리실!I33+SE사업팀!I33+철도사업팀!I33+기획팀!I33+성과예산팀!I33+정보화팀!I33+총무팀!I33+노무복지팀!I33+자산회계팀!I33+인재개발팀!I33+차량팀!I33+승무팀!I33+신호팀!I33+통신팀!I33+전기팀!I33+기계환경팀!I33+토목팀!I33+건축팀!I33+영업팀!I33+고객만족팀!I33+문화홍보팀!I33+부대사업팀!I33+역무자동화팀!I33+종합관제실!I33+감사실!I33 -> 0 | J33: =안전관리실!J33+SE사업팀!J33+철도사업팀!J33+기획팀!J33+성과예산팀!J33+정보화팀!J33+총무팀!J33+노무복지팀!J33+자산회계팀!J33+인재개발팀!J33+차량팀!J33+승무팀!J33+신호팀!J33+통신팀!J33+전기팀!J33+기계환경팀!J33+토목팀!J33+건축팀!J33+영업팀!J33+고객만족팀!J33+문화홍보팀!J33+부대사업팀!J33+역무자동화팀!J33+종합관제실!J33+감사실!J33 -> 0 | K33: =안전관리실!K33+SE사업팀!K33+철도사업팀!K33+기획팀!K33+성과예산팀!K33+정보화팀!K33+총무팀!K33+노무복지팀!K33+자산회계팀!K33+인재개발팀!K33+차량팀!K33+승무팀!K33+신호팀!K33+통신팀!K33+전기팀!K33+기계환경팀!K33+토목팀!K33+건축팀!K33+영업팀!K33+고객만족팀!K33+문화홍보팀!K33+부대사업팀!K33+역무자동화팀!K33+종합관제실!K33+감사실!K33 -> 0 | ... Q33: =안전관리실!Q33+SE사업팀!Q33+철도사업팀!Q33+기획팀!Q33+성과예산팀!Q33+정보화팀!Q33+총무팀!Q33+노무복지팀!Q33+자산회계팀!Q33+인재개발팀!Q33+차량팀!Q33+승무팀!Q33+신호팀!Q33+통신팀!Q33+전기팀!Q33+기계환경팀!Q33+토목팀!Q33+건축팀!Q33+영업팀!Q33+고객만족팀!Q33+문화홍보팀!Q33+부대사업팀!Q33+역무자동화팀!Q33+종합관제실!Q33+감사실!Q33 -> 100 | R33: 컴퓨터용 모니터, CRT모니터, 액정 모니터 | AH33: 02 | AI33: 012 | AJ33: 00045
C34: 전자판서 모니터 | D34: =안전관리실!D34+SE사업팀!D34+철도사업팀!D34+기획팀!D34+성과예산팀!D34+정보화팀!D34+총무팀!D34+노무복지팀!D34+자산회계팀!D34+인재개발팀!D34+차량팀!D34+승무팀!D34+신호팀!D34+통신팀!D34+전기팀!D34+기계환경팀!D34+토목팀!D34+건축팀!D34+영업팀!D34+고객만족팀!D34+문화홍보팀!D34+부대사업팀!D34+역무자동화팀!D34+종합관제실!D34+감사실!D34 -> 0 | E34: =안전관리실!E34+SE사업팀!E34+철도사업팀!E34+기획팀!E34+성과예산팀!E34+정보화팀!E34+총무팀!E34+노무복지팀!E34+자산회계팀!E34+인재개발팀!E34+차량팀!E34+승무팀!E34+신호팀!E34+통신팀!E34+전기팀!E34+기계환경팀!E34+토목팀!E34+건축팀!E34+영업팀!E34+고객만족팀!E34+문화홍보팀!E34+부대사업팀!E34+역무자동화팀!E34+종합관제실!E34+감사실!E34 -> 0 | F34: =안전관리실!F34+SE사업팀!F34+철도사업팀!F34+기획팀!F34+성과예산팀!F34+정보화팀!F34+총무팀!F34+노무복지팀!F34+자산회계팀!F34+인재개발팀!F34+차량팀!F34+승무팀!F34+신호팀!F34+통신팀!F34+전기팀!F34+기계환경팀!F34+토목팀!F34+건축팀!F34+영업팀!F34+고객만족팀!F34+문화홍보팀!F34+부대사업팀!F34+역무자동화팀!F34+종합관제실!F34+감사실!F34 -> 0 | G34: =안전관리실!G34+SE사업팀!G34+철도사업팀!G34+기획팀!G34+성과예산팀!G34+정보화팀!G34+총무팀!G34+노무복지팀!G34+자산회계팀!G34+인재개발팀!G34+차량팀!G34+승무팀!G34+신호팀!G34+통신팀!G34+전기팀!G34+기계환경팀!G34+토목팀!G34+건축팀!G34+영업팀!G34+고객만족팀!G34+문화홍보팀!G34+부대사업팀!G34+역무자동화팀!G34+종합관제실!G34+감사실!G34 -> 0 | H34: =안전관리실!H34+SE사업팀!H34+철도사업팀!H34+기획팀!H34+성과예산팀!H34+정보화팀!H34+총무팀!H34+노무복지팀!H34+자산회계팀!H34+인재개발팀!H34+차량팀!H34+승무팀!H34+신호팀!H34+통신팀!H34+전기팀!H34+기계환경팀!H34+토목팀!H34+건축팀!H34+영업팀!H34+고객만족팀!H34+문화홍보팀!H34+부대사업팀!H34+역무자동화팀!H34+종합관제실!H34+감사실!H34 -> 0 | I34: =안전관리실!I34+SE사업팀!I34+철도사업팀!I34+기획팀!I34+성과예산팀!I34+정보화팀!I34+총무팀!I34+노무복지팀!I34+자산회계팀!I34+인재개발팀!I34+차량팀!I34+승무팀!I34+신호팀!I34+통신팀!I34+전기팀!I34+기계환경팀!I34+토목팀!I34+건축팀!I34+영업팀!I34+고객만족팀!I34+문화홍보팀!I34+부대사업팀!I34+역무자동화팀!I34+종합관제실!I34+감사실!I34 -> 0 | J34: =안전관리실!J34+SE사업팀!J34+철도사업팀!J34+기획팀!J34+성과예산팀!J34+정보화팀!J34+총무팀!J34+노무복지팀!J34+자산회계팀!J34+인재개발팀!J34+차량팀!J34+승무팀!J34+신호팀!J34+통신팀!J34+전기팀!J34+기계환경팀!J34+토목팀!J34+건축팀!J34+영업팀!J34+고객만족팀!J34+문화홍보팀!J34+부대사업팀!J34+역무자동화팀!J34+종합관제실!J34+감사실!J34 -> 0 | K34: =안전관리실!K34+SE사업팀!K34+철도사업팀!K34+기획팀!K34+성과예산팀!K34+정보화팀!K34+총무팀!K34+노무복지팀!K34+자산회계팀!K34+인재개발팀!K34+차량팀!K34+승무팀!K34+신호팀!K34+통신팀!K34+전기팀!K34+기계환경팀!K34+토목팀!K34+건축팀!K34+영업팀!K34+고객만족팀!K34+문화홍보팀!K34+부대사업팀!K34+역무자동화팀!K34+종합관제실!K34+감사실!K34 -> 0 | ... Q34: =안전관리실!Q34+SE사업팀!Q34+철도사업팀!Q34+기획팀!Q34+성과예산팀!Q34+정보화팀!Q34+총무팀!Q34+노무복지팀!Q34+자산회계팀!Q34+인재개발팀!Q34+차량팀!Q34+승무팀!Q34+신호팀!Q34+통신팀!Q34+전기팀!Q34+기계환경팀!Q34+토목팀!Q34+건축팀!Q34+영업팀!Q34+고객만족팀!Q34+문화홍보팀!Q34+부대사업팀!Q34+역무자동화팀!Q34+종합관제실!Q34+감사실!Q34 -> 0 | R34: 전자판서 모니터(프리젠테이션용 TFT LCD 모니터) | AH34: 02 | AI34: 012 | AJ34: 00046
B35: 프로젝터 | C35: 디지털 프로젝터 | D35: =안전관리실!D35+SE사업팀!D35+철도사업팀!D35+기획팀!D35+성과예산팀!D35+정보화팀!D35+총무팀!D35+노무복지팀!D35+자산회계팀!D35+인재개발팀!D35+차량팀!D35+승무팀!D35+신호팀!D35+통신팀!D35+전기팀!D35+기계환경팀!D35+토목팀!D35+건축팀!D35+영업팀!D35+고객만족팀!D35+문화홍보팀!D35+부대사업팀!D35+역무자동화팀!D35+종합관제실!D35+감사실!D35 -> 0 | E35: =안전관리실!E35+SE사업팀!E35+철도사업팀!E35+기획팀!E35+성과예산팀!E35+정보화팀!E35+총무팀!E35+노무복지팀!E35+자산회계팀!E35+인재개발팀!E35+차량팀!E35+승무팀!E35+신호팀!E35+통신팀!E35+전기팀!E35+기계환경팀!E35+토목팀!E35+건축팀!E35+영업팀!E35+고객만족팀!E35+문화홍보팀!E35+부대사업팀!E35+역무자동화팀!E35+종합관제실!E35+감사실!E35 -> 0 | F35: =안전관리실!F35+SE사업팀!F35+철도사업팀!F35+기획팀!F35+성과예산팀!F35+정보화팀!F35+총무팀!F35+노무복지팀!F35+자산회계팀!F35+인재개발팀!F35+차량팀!F35+승무팀!F35+신호팀!F35+통신팀!F35+전기팀!F35+기계환경팀!F35+토목팀!F35+건축팀!F35+영업팀!F35+고객만족팀!F35+문화홍보팀!F35+부대사업팀!F35+역무자동화팀!F35+종합관제실!F35+감사실!F35 -> 0 | G35: =안전관리실!G35+SE사업팀!G35+철도사업팀!G35+기획팀!G35+성과예산팀!G35+정보화팀!G35+총무팀!G35+노무복지팀!G35+자산회계팀!G35+인재개발팀!G35+차량팀!G35+승무팀!G35+신호팀!G35+통신팀!G35+전기팀!G35+기계환경팀!G35+토목팀!G35+건축팀!G35+영업팀!G35+고객만족팀!G35+문화홍보팀!G35+부대사업팀!G35+역무자동화팀!G35+종합관제실!G35+감사실!G35 -> 0 | H35: =안전관리실!H35+SE사업팀!H35+철도사업팀!H35+기획팀!H35+성과예산팀!H35+정보화팀!H35+총무팀!H35+노무복지팀!H35+자산회계팀!H35+인재개발팀!H35+차량팀!H35+승무팀!H35+신호팀!H35+통신팀!H35+전기팀!H35+기계환경팀!H35+토목팀!H35+건축팀!H35+영업팀!H35+고객만족팀!H35+문화홍보팀!H35+부대사업팀!H35+역무자동화팀!H35+종합관제실!H35+감사실!H35 -> 0 | I35: =안전관리실!I35+SE사업팀!I35+철도사업팀!I35+기획팀!I35+성과예산팀!I35+정보화팀!I35+총무팀!I35+노무복지팀!I35+자산회계팀!I35+인재개발팀!I35+차량팀!I35+승무팀!I35+신호팀!I35+통신팀!I35+전기팀!I35+기계환경팀!I35+토목팀!I35+건축팀!I35+영업팀!I35+고객만족팀!I35+문화홍보팀!I35+부대사업팀!I35+역무자동화팀!I35+종합관제실!I35+감사실!I35 -> 0 | J35: =안전관리실!J35+SE사업팀!J35+철도사업팀!J35+기획팀!J35+성과예산팀!J35+정보화팀!J35+총무팀!J35+노무복지팀!J35+자산회계팀!J35+인재개발팀!J35+차량팀!J35+승무팀!J35+신호팀!J35+통신팀!J35+전기팀!J35+기계환경팀!J35+토목팀!J35+건축팀!J35+영업팀!J35+고객만족팀!J35+문화홍보팀!J35+부대사업팀!J35+역무자동화팀!J35+종합관제실!J35+감사실!J35 -> 0 | K35: =안전관리실!K35+SE사업팀!K35+철도사업팀!K35+기획팀!K35+성과예산팀!K35+정보화팀!K35+총무팀!K35+노무복지팀!K35+자산회계팀!K35+인재개발팀!K35+차량팀!K35+승무팀!K35+신호팀!K35+통신팀!K35+전기팀!K35+기계환경팀!K35+토목팀!K35+건축팀!K35+영업팀!K35+고객만족팀!K35+문화홍보팀!K35+부대사업팀!K35+역무자동화팀!K35+종합관제실!K35+감사실!K35 -> 0 | ... Q35: =안전관리실!Q35+SE사업팀!Q35+철도사업팀!Q35+기획팀!Q35+성과예산팀!Q35+정보화팀!Q35+총무팀!Q35+노무복지팀!Q35+자산회계팀!Q35+인재개발팀!Q35+차량팀!Q35+승무팀!Q35+신호팀!Q35+통신팀!Q35+전기팀!Q35+기계환경팀!Q35+토목팀!Q35+건축팀!Q35+영업팀!Q35+고객만족팀!Q35+문화홍보팀!Q35+부대사업팀!Q35+역무자동화팀!Q35+종합관제실!Q35+감사실!Q35 -> 0 | R35: 디지털 프로젝트(LCD,DLP) | AH35: 02 | AI35: 076 | AJ35: 00206
B36: 카트리지 | C36: 카트리지(토너/잉크) | D36: =안전관리실!D36+SE사업팀!D36+철도사업팀!D36+기획팀!D36+성과예산팀!D36+정보화팀!D36+총무팀!D36+노무복지팀!D36+자산회계팀!D36+인재개발팀!D36+차량팀!D36+승무팀!D36+신호팀!D36+통신팀!D36+전기팀!D36+기계환경팀!D36+토목팀!D36+건축팀!D36+영업팀!D36+고객만족팀!D36+문화홍보팀!D36+부대사업팀!D36+역무자동화팀!D36+종합관제실!D36+감사실!D36 -> 7 | E36: =안전관리실!E36+SE사업팀!E36+철도사업팀!E36+기획팀!E36+성과예산팀!E36+정보화팀!E36+총무팀!E36+노무복지팀!E36+자산회계팀!E36+인재개발팀!E36+차량팀!E36+승무팀!E36+신호팀!E36+통신팀!E36+전기팀!E36+기계환경팀!E36+토목팀!E36+건축팀!E36+영업팀!E36+고객만족팀!E36+문화홍보팀!E36+부대사업팀!E36+역무자동화팀!E36+종합관제실!E36+감사실!E36 -> 728 | F36: =안전관리실!F36+SE사업팀!F36+철도사업팀!F36+기획팀!F36+성과예산팀!F36+정보화팀!F36+총무팀!F36+노무복지팀!F36+자산회계팀!F36+인재개발팀!F36+차량팀!F36+승무팀!F36+신호팀!F36+통신팀!F36+전기팀!F36+기계환경팀!F36+토목팀!F36+건축팀!F36+영업팀!F36+고객만족팀!F36+문화홍보팀!F36+부대사업팀!F36+역무자동화팀!F36+종합관제실!F36+감사실!F36 -> 7 | G36: =안전관리실!G36+SE사업팀!G36+철도사업팀!G36+기획팀!G36+성과예산팀!G36+정보화팀!G36+총무팀!G36+노무복지팀!G36+자산회계팀!G36+인재개발팀!G36+차량팀!G36+승무팀!G36+신호팀!G36+통신팀!G36+전기팀!G36+기계환경팀!G36+토목팀!G36+건축팀!G36+영업팀!G36+고객만족팀!G36+문화홍보팀!G36+부대사업팀!G36+역무자동화팀!G36+종합관제실!G36+감사실!G36 -> 728 | H36: =안전관리실!H36+SE사업팀!H36+철도사업팀!H36+기획팀!H36+성과예산팀!H36+정보화팀!H36+총무팀!H36+노무복지팀!H36+자산회계팀!H36+인재개발팀!H36+차량팀!H36+승무팀!H36+신호팀!H36+통신팀!H36+전기팀!H36+기계환경팀!H36+토목팀!H36+건축팀!H36+영업팀!H36+고객만족팀!H36+문화홍보팀!H36+부대사업팀!H36+역무자동화팀!H36+종합관제실!H36+감사실!H36 -> 0 | I36: =안전관리실!I36+SE사업팀!I36+철도사업팀!I36+기획팀!I36+성과예산팀!I36+정보화팀!I36+총무팀!I36+노무복지팀!I36+자산회계팀!I36+인재개발팀!I36+차량팀!I36+승무팀!I36+신호팀!I36+통신팀!I36+전기팀!I36+기계환경팀!I36+토목팀!I36+건축팀!I36+영업팀!I36+고객만족팀!I36+문화홍보팀!I36+부대사업팀!I36+역무자동화팀!I36+종합관제실!I36+감사실!I36 -> 0 | J36: =안전관리실!J36+SE사업팀!J36+철도사업팀!J36+기획팀!J36+성과예산팀!J36+정보화팀!J36+총무팀!J36+노무복지팀!J36+자산회계팀!J36+인재개발팀!J36+차량팀!J36+승무팀!J36+신호팀!J36+통신팀!J36+전기팀!J36+기계환경팀!J36+토목팀!J36+건축팀!J36+영업팀!J36+고객만족팀!J36+문화홍보팀!J36+부대사업팀!J36+역무자동화팀!J36+종합관제실!J36+감사실!J36 -> 0 | K36: =안전관리실!K36+SE사업팀!K36+철도사업팀!K36+기획팀!K36+성과예산팀!K36+정보화팀!K36+총무팀!K36+노무복지팀!K36+자산회계팀!K36+인재개발팀!K36+차량팀!K36+승무팀!K36+신호팀!K36+통신팀!K36+전기팀!K36+기계환경팀!K36+토목팀!K36+건축팀!K36+영업팀!K36+고객만족팀!K36+문화홍보팀!K36+부대사업팀!K36+역무자동화팀!K36+종합관제실!K36+감사실!K36 -> 0 | ... Q36: =안전관리실!Q36+SE사업팀!Q36+철도사업팀!Q36+기획팀!Q36+성과예산팀!Q36+정보화팀!Q36+총무팀!Q36+노무복지팀!Q36+자산회계팀!Q36+인재개발팀!Q36+차량팀!Q36+승무팀!Q36+신호팀!Q36+통신팀!Q36+전기팀!Q36+기계환경팀!Q36+토목팀!Q36+건축팀!Q36+영업팀!Q36+고객만족팀!Q36+문화홍보팀!Q36+부대사업팀!Q36+역무자동화팀!Q36+종합관제실!Q36+감사실!Q36 -> 300 | R36: 프린터용 신품/재생 토너, 복사기용 신품/재생 토너, 잉크카트리지, 토너카트리지 | AH36: 02 | AI36: 014 | AJ36: 00048
B37: 기타 소모품 | C37: 재보충 장치 및 잉크 | D37: =안전관리실!D37+SE사업팀!D37+철도사업팀!D37+기획팀!D37+성과예산팀!D37+정보화팀!D37+총무팀!D37+노무복지팀!D37+자산회계팀!D37+인재개발팀!D37+차량팀!D37+승무팀!D37+신호팀!D37+통신팀!D37+전기팀!D37+기계환경팀!D37+토목팀!D37+건축팀!D37+영업팀!D37+고객만족팀!D37+문화홍보팀!D37+부대사업팀!D37+역무자동화팀!D37+종합관제실!D37+감사실!D37 -> 5 | E37: =안전관리실!E37+SE사업팀!E37+철도사업팀!E37+기획팀!E37+성과예산팀!E37+정보화팀!E37+총무팀!E37+노무복지팀!E37+자산회계팀!E37+인재개발팀!E37+차량팀!E37+승무팀!E37+신호팀!E37+통신팀!E37+전기팀!E37+기계환경팀!E37+토목팀!E37+건축팀!E37+영업팀!E37+고객만족팀!E37+문화홍보팀!E37+부대사업팀!E37+역무자동화팀!E37+종합관제실!E37+감사실!E37 -> 200 | F37: =안전관리실!F37+SE사업팀!F37+철도사업팀!F37+기획팀!F37+성과예산팀!F37+정보화팀!F37+총무팀!F37+노무복지팀!F37+자산회계팀!F37+인재개발팀!F37+차량팀!F37+승무팀!F37+신호팀!F37+통신팀!F37+전기팀!F37+기계환경팀!F37+토목팀!F37+건축팀!F37+영업팀!F37+고객만족팀!F37+문화홍보팀!F37+부대사업팀!F37+역무자동화팀!F37+종합관제실!F37+감사실!F37 -> 5 | G37: =안전관리실!G37+SE사업팀!G37+철도사업팀!G37+기획팀!G37+성과예산팀!G37+정보화팀!G37+총무팀!G37+노무복지팀!G37+자산회계팀!G37+인재개발팀!G37+차량팀!G37+승무팀!G37+신호팀!G37+통신팀!G37+전기팀!G37+기계환경팀!G37+토목팀!G37+건축팀!G37+영업팀!G37+고객만족팀!G37+문화홍보팀!G37+부대사업팀!G37+역무자동화팀!G37+종합관제실!G37+감사실!G37 -> 200 | H37: =안전관리실!H37+SE사업팀!H37+철도사업팀!H37+기획팀!H37+성과예산팀!H37+정보화팀!H37+총무팀!H37+노무복지팀!H37+자산회계팀!H37+인재개발팀!H37+차량팀!H37+승무팀!H37+신호팀!H37+통신팀!H37+전기팀!H37+기계환경팀!H37+토목팀!H37+건축팀!H37+영업팀!H37+고객만족팀!H37+문화홍보팀!H37+부대사업팀!H37+역무자동화팀!H37+종합관제실!H37+감사실!H37 -> 0 | I37: =안전관리실!I37+SE사업팀!I37+철도사업팀!I37+기획팀!I37+성과예산팀!I37+정보화팀!I37+총무팀!I37+노무복지팀!I37+자산회계팀!I37+인재개발팀!I37+차량팀!I37+승무팀!I37+신호팀!I37+통신팀!I37+전기팀!I37+기계환경팀!I37+토목팀!I37+건축팀!I37+영업팀!I37+고객만족팀!I37+문화홍보팀!I37+부대사업팀!I37+역무자동화팀!I37+종합관제실!I37+감사실!I37 -> 0 | J37: =안전관리실!J37+SE사업팀!J37+철도사업팀!J37+기획팀!J37+성과예산팀!J37+정보화팀!J37+총무팀!J37+노무복지팀!J37+자산회계팀!J37+인재개발팀!J37+차량팀!J37+승무팀!J37+신호팀!J37+통신팀!J37+전기팀!J37+기계환경팀!J37+토목팀!J37+건축팀!J37+영업팀!J37+고객만족팀!J37+문화홍보팀!J37+부대사업팀!J37+역무자동화팀!J37+종합관제실!J37+감사실!J37 -> 0 | K37: =안전관리실!K37+SE사업팀!K37+철도사업팀!K37+기획팀!K37+성과예산팀!K37+정보화팀!K37+총무팀!K37+노무복지팀!K37+자산회계팀!K37+인재개발팀!K37+차량팀!K37+승무팀!K37+신호팀!K37+통신팀!K37+전기팀!K37+기계환경팀!K37+토목팀!K37+건축팀!K37+영업팀!K37+고객만족팀!K37+문화홍보팀!K37+부대사업팀!K37+역무자동화팀!K37+종합관제실!K37+감사실!K37 -> 0 | ... Q37: =안전관리실!Q37+SE사업팀!Q37+철도사업팀!Q37+기획팀!Q37+성과예산팀!Q37+정보화팀!Q37+총무팀!Q37+노무복지팀!Q37+자산회계팀!Q37+인재개발팀!Q37+차량팀!Q37+승무팀!Q37+신호팀!Q37+통신팀!Q37+전기팀!Q37+기계환경팀!Q37+토목팀!Q37+건축팀!Q37+영업팀!Q37+고객만족팀!Q37+문화홍보팀!Q37+부대사업팀!Q37+역무자동화팀!Q37+종합관제실!Q37+감사실!Q37 -> 100 | R37: 잉크젯 프린터용 잉크 재보충 장치, 인쇄용 수성 잉크, 등사기용 잉크, 레이저프린터용소모품, 잉크공급장치 등 | AH37: 02 | AI37: 075 | AJ37: 00051
A38: 섬유/고무/위생/여가 | B38: 의류 | C38: 작업용 의복 | D38: =안전관리실!D38+SE사업팀!D38+철도사업팀!D38+기획팀!D38+성과예산팀!D38+정보화팀!D38+총무팀!D38+노무복지팀!D38+자산회계팀!D38+인재개발팀!D38+차량팀!D38+승무팀!D38+신호팀!D38+통신팀!D38+전기팀!D38+기계환경팀!D38+토목팀!D38+건축팀!D38+영업팀!D38+고객만족팀!D38+문화홍보팀!D38+부대사업팀!D38+역무자동화팀!D38+종합관제실!D38+감사실!D38 -> 0 | E38: =안전관리실!E38+SE사업팀!E38+철도사업팀!E38+기획팀!E38+성과예산팀!E38+정보화팀!E38+총무팀!E38+노무복지팀!E38+자산회계팀!E38+인재개발팀!E38+차량팀!E38+승무팀!E38+신호팀!E38+통신팀!E38+전기팀!E38+기계환경팀!E38+토목팀!E38+건축팀!E38+영업팀!E38+고객만족팀!E38+문화홍보팀!E38+부대사업팀!E38+역무자동화팀!E38+종합관제실!E38+감사실!E38 -> 0 | F38: =안전관리실!F38+SE사업팀!F38+철도사업팀!F38+기획팀!F38+성과예산팀!F38+정보화팀!F38+총무팀!F38+노무복지팀!F38+자산회계팀!F38+인재개발팀!F38+차량팀!F38+승무팀!F38+신호팀!F38+통신팀!F38+전기팀!F38+기계환경팀!F38+토목팀!F38+건축팀!F38+영업팀!F38+고객만족팀!F38+문화홍보팀!F38+부대사업팀!F38+역무자동화팀!F38+종합관제실!F38+감사실!F38 -> 0 | G38: =안전관리실!G38+SE사업팀!G38+철도사업팀!G38+기획팀!G38+성과예산팀!G38+정보화팀!G38+총무팀!G38+노무복지팀!G38+자산회계팀!G38+인재개발팀!G38+차량팀!G38+승무팀!G38+신호팀!G38+통신팀!G38+전기팀!G38+기계환경팀!G38+토목팀!G38+건축팀!G38+영업팀!G38+고객만족팀!G38+문화홍보팀!G38+부대사업팀!G38+역무자동화팀!G38+종합관제실!G38+감사실!G38 -> 0 | H38: =안전관리실!H38+SE사업팀!H38+철도사업팀!H38+기획팀!H38+성과예산팀!H38+정보화팀!H38+총무팀!H38+노무복지팀!H38+자산회계팀!H38+인재개발팀!H38+차량팀!H38+승무팀!H38+신호팀!H38+통신팀!H38+전기팀!H38+기계환경팀!H38+토목팀!H38+건축팀!H38+영업팀!H38+고객만족팀!H38+문화홍보팀!H38+부대사업팀!H38+역무자동화팀!H38+종합관제실!H38+감사실!H38 -> 0 | I38: =안전관리실!I38+SE사업팀!I38+철도사업팀!I38+기획팀!I38+성과예산팀!I38+정보화팀!I38+총무팀!I38+노무복지팀!I38+자산회계팀!I38+인재개발팀!I38+차량팀!I38+승무팀!I38+신호팀!I38+통신팀!I38+전기팀!I38+기계환경팀!I38+토목팀!I38+건축팀!I38+영업팀!I38+고객만족팀!I38+문화홍보팀!I38+부대사업팀!I38+역무자동화팀!I38+종합관제실!I38+감사실!I38 -> 0 | J38: =안전관리실!J38+SE사업팀!J38+철도사업팀!J38+기획팀!J38+성과예산팀!J38+정보화팀!J38+총무팀!J38+노무복지팀!J38+자산회계팀!J38+인재개발팀!J38+차량팀!J38+승무팀!J38+신호팀!J38+통신팀!J38+전기팀!J38+기계환경팀!J38+토목팀!J38+건축팀!J38+영업팀!J38+고객만족팀!J38+문화홍보팀!J38+부대사업팀!J38+역무자동화팀!J38+종합관제실!J38+감사실!J38 -> 0 | K38: =안전관리실!K38+SE사업팀!K38+철도사업팀!K38+기획팀!K38+성과예산팀!K38+정보화팀!K38+총무팀!K38+노무복지팀!K38+자산회계팀!K38+인재개발팀!K38+차량팀!K38+승무팀!K38+신호팀!K38+통신팀!K38+전기팀!K38+기계환경팀!K38+토목팀!K38+건축팀!K38+영업팀!K38+고객만족팀!K38+문화홍보팀!K38+부대사업팀!K38+역무자동화팀!K38+종합관제실!K38+감사실!K38 -> 0 | ... Q38: =안전관리실!Q38+SE사업팀!Q38+철도사업팀!Q38+기획팀!Q38+성과예산팀!Q38+정보화팀!Q38+총무팀!Q38+노무복지팀!Q38+자산회계팀!Q38+인재개발팀!Q38+차량팀!Q38+승무팀!Q38+신호팀!Q38+통신팀!Q38+전기팀!Q38+기계환경팀!Q38+토목팀!Q38+건축팀!Q38+영업팀!Q38+고객만족팀!Q38+문화홍보팀!Q38+부대사업팀!Q38+역무자동화팀!Q38+종합관제실!Q38+감사실!Q38 -> 0 | R38: 정비용 의류, 농약 살포용 방제복, 조끼, 방열복, 우의 및 방수복, 위험물질방어의류, 방한복, 작업복, 근무복, 농약살포용 방제복 | AH38: 03 | AI38: 015 | AJ38: 00053
C39: 군용 및 경찰용 의복 | D39: =안전관리실!D39+SE사업팀!D39+철도사업팀!D39+기획팀!D39+성과예산팀!D39+정보화팀!D39+총무팀!D39+노무복지팀!D39+자산회계팀!D39+인재개발팀!D39+차량팀!D39+승무팀!D39+신호팀!D39+통신팀!D39+전기팀!D39+기계환경팀!D39+토목팀!D39+건축팀!D39+영업팀!D39+고객만족팀!D39+문화홍보팀!D39+부대사업팀!D39+역무자동화팀!D39+종합관제실!D39+감사실!D39 -> 0 | E39: =안전관리실!E39+SE사업팀!E39+철도사업팀!E39+기획팀!E39+성과예산팀!E39+정보화팀!E39+총무팀!E39+노무복지팀!E39+자산회계팀!E39+인재개발팀!E39+차량팀!E39+승무팀!E39+신호팀!E39+통신팀!E39+전기팀!E39+기계환경팀!E39+토목팀!E39+건축팀!E39+영업팀!E39+고객만족팀!E39+문화홍보팀!E39+부대사업팀!E39+역무자동화팀!E39+종합관제실!E39+감사실!E39 -> 0 | F39: =안전관리실!F39+SE사업팀!F39+철도사업팀!F39+기획팀!F39+성과예산팀!F39+정보화팀!F39+총무팀!F39+노무복지팀!F39+자산회계팀!F39+인재개발팀!F39+차량팀!F39+승무팀!F39+신호팀!F39+통신팀!F39+전기팀!F39+기계환경팀!F39+토목팀!F39+건축팀!F39+영업팀!F39+고객만족팀!F39+문화홍보팀!F39+부대사업팀!F39+역무자동화팀!F39+종합관제실!F39+감사실!F39 -> 0 | G39: =안전관리실!G39+SE사업팀!G39+철도사업팀!G39+기획팀!G39+성과예산팀!G39+정보화팀!G39+총무팀!G39+노무복지팀!G39+자산회계팀!G39+인재개발팀!G39+차량팀!G39+승무팀!G39+신호팀!G39+통신팀!G39+전기팀!G39+기계환경팀!G39+토목팀!G39+건축팀!G39+영업팀!G39+고객만족팀!G39+문화홍보팀!G39+부대사업팀!G39+역무자동화팀!G39+종합관제실!G39+감사실!G39 -> 0 | H39: =안전관리실!H39+SE사업팀!H39+철도사업팀!H39+기획팀!H39+성과예산팀!H39+정보화팀!H39+총무팀!H39+노무복지팀!H39+자산회계팀!H39+인재개발팀!H39+차량팀!H39+승무팀!H39+신호팀!H39+통신팀!H39+전기팀!H39+기계환경팀!H39+토목팀!H39+건축팀!H39+영업팀!H39+고객만족팀!H39+문화홍보팀!H39+부대사업팀!H39+역무자동화팀!H39+종합관제실!H39+감사실!H39 -> 0 | I39: =안전관리실!I39+SE사업팀!I39+철도사업팀!I39+기획팀!I39+성과예산팀!I39+정보화팀!I39+총무팀!I39+노무복지팀!I39+자산회계팀!I39+인재개발팀!I39+차량팀!I39+승무팀!I39+신호팀!I39+통신팀!I39+전기팀!I39+기계환경팀!I39+토목팀!I39+건축팀!I39+영업팀!I39+고객만족팀!I39+문화홍보팀!I39+부대사업팀!I39+역무자동화팀!I39+종합관제실!I39+감사실!I39 -> 0 | J39: =안전관리실!J39+SE사업팀!J39+철도사업팀!J39+기획팀!J39+성과예산팀!J39+정보화팀!J39+총무팀!J39+노무복지팀!J39+자산회계팀!J39+인재개발팀!J39+차량팀!J39+승무팀!J39+신호팀!J39+통신팀!J39+전기팀!J39+기계환경팀!J39+토목팀!J39+건축팀!J39+영업팀!J39+고객만족팀!J39+문화홍보팀!J39+부대사업팀!J39+역무자동화팀!J39+종합관제실!J39+감사실!J39 -> 0 | K39: =안전관리실!K39+SE사업팀!K39+철도사업팀!K39+기획팀!K39+성과예산팀!K39+정보화팀!K39+총무팀!K39+노무복지팀!K39+자산회계팀!K39+인재개발팀!K39+차량팀!K39+승무팀!K39+신호팀!K39+통신팀!K39+전기팀!K39+기계환경팀!K39+토목팀!K39+건축팀!K39+영업팀!K39+고객만족팀!K39+문화홍보팀!K39+부대사업팀!K39+역무자동화팀!K39+종합관제실!K39+감사실!K39 -> 0 | ... Q39: =안전관리실!Q39+SE사업팀!Q39+철도사업팀!Q39+기획팀!Q39+성과예산팀!Q39+정보화팀!Q39+총무팀!Q39+노무복지팀!Q39+자산회계팀!Q39+인재개발팀!Q39+차량팀!Q39+승무팀!Q39+신호팀!Q39+통신팀!Q39+전기팀!Q39+기계환경팀!Q39+토목팀!Q39+건축팀!Q39+영업팀!Q39+고객만족팀!Q39+문화홍보팀!Q39+부대사업팀!Q39+역무자동화팀!Q39+종합관제실!Q39+감사실!Q39 -> 0 | R39: 군복, 전투복, 군용점퍼, 판초우의, 군용 용접복, 군용 운동복 | AH39: 03 | AI39: 015 | AJ39: 00055
C40: 기타 의복 | D40: =안전관리실!D40+SE사업팀!D40+철도사업팀!D40+기획팀!D40+성과예산팀!D40+정보화팀!D40+총무팀!D40+노무복지팀!D40+자산회계팀!D40+인재개발팀!D40+차량팀!D40+승무팀!D40+신호팀!D40+통신팀!D40+전기팀!D40+기계환경팀!D40+토목팀!D40+건축팀!D40+영업팀!D40+고객만족팀!D40+문화홍보팀!D40+부대사업팀!D40+역무자동화팀!D40+종합관제실!D40+감사실!D40 -> 0 | E40: =안전관리실!E40+SE사업팀!E40+철도사업팀!E40+기획팀!E40+성과예산팀!E40+정보화팀!E40+총무팀!E40+노무복지팀!E40+자산회계팀!E40+인재개발팀!E40+차량팀!E40+승무팀!E40+신호팀!E40+통신팀!E40+전기팀!E40+기계환경팀!E40+토목팀!E40+건축팀!E40+영업팀!E40+고객만족팀!E40+문화홍보팀!E40+부대사업팀!E40+역무자동화팀!E40+종합관제실!E40+감사실!E40 -> 0 | F40: =안전관리실!F40+SE사업팀!F40+철도사업팀!F40+기획팀!F40+성과예산팀!F40+정보화팀!F40+총무팀!F40+노무복지팀!F40+자산회계팀!F40+인재개발팀!F40+차량팀!F40+승무팀!F40+신호팀!F40+통신팀!F40+전기팀!F40+기계환경팀!F40+토목팀!F40+건축팀!F40+영업팀!F40+고객만족팀!F40+문화홍보팀!F40+부대사업팀!F40+역무자동화팀!F40+종합관제실!F40+감사실!F40 -> 0 | G40: =안전관리실!G40+SE사업팀!G40+철도사업팀!G40+기획팀!G40+성과예산팀!G40+정보화팀!G40+총무팀!G40+노무복지팀!G40+자산회계팀!G40+인재개발팀!G40+차량팀!G40+승무팀!G40+신호팀!G40+통신팀!G40+전기팀!G40+기계환경팀!G40+토목팀!G40+건축팀!G40+영업팀!G40+고객만족팀!G40+문화홍보팀!G40+부대사업팀!G40+역무자동화팀!G40+종합관제실!G40+감사실!G40 -> 0 | H40: =안전관리실!H40+SE사업팀!H40+철도사업팀!H40+기획팀!H40+성과예산팀!H40+정보화팀!H40+총무팀!H40+노무복지팀!H40+자산회계팀!H40+인재개발팀!H40+차량팀!H40+승무팀!H40+신호팀!H40+통신팀!H40+전기팀!H40+기계환경팀!H40+토목팀!H40+건축팀!H40+영업팀!H40+고객만족팀!H40+문화홍보팀!H40+부대사업팀!H40+역무자동화팀!H40+종합관제실!H40+감사실!H40 -> 0 | I40: =안전관리실!I40+SE사업팀!I40+철도사업팀!I40+기획팀!I40+성과예산팀!I40+정보화팀!I40+총무팀!I40+노무복지팀!I40+자산회계팀!I40+인재개발팀!I40+차량팀!I40+승무팀!I40+신호팀!I40+통신팀!I40+전기팀!I40+기계환경팀!I40+토목팀!I40+건축팀!I40+영업팀!I40+고객만족팀!I40+문화홍보팀!I40+부대사업팀!I40+역무자동화팀!I40+종합관제실!I40+감사실!I40 -> 0 | J40: =안전관리실!J40+SE사업팀!J40+철도사업팀!J40+기획팀!J40+성과예산팀!J40+정보화팀!J40+총무팀!J40+노무복지팀!J40+자산회계팀!J40+인재개발팀!J40+차량팀!J40+승무팀!J40+신호팀!J40+통신팀!J40+전기팀!J40+기계환경팀!J40+토목팀!J40+건축팀!J40+영업팀!J40+고객만족팀!J40+문화홍보팀!J40+부대사업팀!J40+역무자동화팀!J40+종합관제실!J40+감사실!J40 -> 0 | K40: =안전관리실!K40+SE사업팀!K40+철도사업팀!K40+기획팀!K40+성과예산팀!K40+정보화팀!K40+총무팀!K40+노무복지팀!K40+자산회계팀!K40+인재개발팀!K40+차량팀!K40+승무팀!K40+신호팀!K40+통신팀!K40+전기팀!K40+기계환경팀!K40+토목팀!K40+건축팀!K40+영업팀!K40+고객만족팀!K40+문화홍보팀!K40+부대사업팀!K40+역무자동화팀!K40+종합관제실!K40+감사실!K40 -> 0 | ... Q40: =안전관리실!Q40+SE사업팀!Q40+철도사업팀!Q40+기획팀!Q40+성과예산팀!Q40+정보화팀!Q40+총무팀!Q40+노무복지팀!Q40+자산회계팀!Q40+인재개발팀!Q40+차량팀!Q40+승무팀!Q40+신호팀!Q40+통신팀!Q40+전기팀!Q40+기계환경팀!Q40+토목팀!Q40+건축팀!Q40+영업팀!Q40+고객만족팀!Q40+문화홍보팀!Q40+부대사업팀!Q40+역무자동화팀!Q40+종합관제실!Q40+감사실!Q40 -> 0 | R40: 원단 등 | AH40: 03 | AI40: 015 | AJ40: 00056
B41: 개인장구 | C41: 개인장구 | D41: =안전관리실!D41+SE사업팀!D41+철도사업팀!D41+기획팀!D41+성과예산팀!D41+정보화팀!D41+총무팀!D41+노무복지팀!D41+자산회계팀!D41+인재개발팀!D41+차량팀!D41+승무팀!D41+신호팀!D41+통신팀!D41+전기팀!D41+기계환경팀!D41+토목팀!D41+건축팀!D41+영업팀!D41+고객만족팀!D41+문화홍보팀!D41+부대사업팀!D41+역무자동화팀!D41+종합관제실!D41+감사실!D41 -> 400 | E41: =안전관리실!E41+SE사업팀!E41+철도사업팀!E41+기획팀!E41+성과예산팀!E41+정보화팀!E41+총무팀!E41+노무복지팀!E41+자산회계팀!E41+인재개발팀!E41+차량팀!E41+승무팀!E41+신호팀!E41+통신팀!E41+전기팀!E41+기계환경팀!E41+토목팀!E41+건축팀!E41+영업팀!E41+고객만족팀!E41+문화홍보팀!E41+부대사업팀!E41+역무자동화팀!E41+종합관제실!E41+감사실!E41 -> 117 | F41: =안전관리실!F41+SE사업팀!F41+철도사업팀!F41+기획팀!F41+성과예산팀!F41+정보화팀!F41+총무팀!F41+노무복지팀!F41+자산회계팀!F41+인재개발팀!F41+차량팀!F41+승무팀!F41+신호팀!F41+통신팀!F41+전기팀!F41+기계환경팀!F41+토목팀!F41+건축팀!F41+영업팀!F41+고객만족팀!F41+문화홍보팀!F41+부대사업팀!F41+역무자동화팀!F41+종합관제실!F41+감사실!F41 -> 400 | G41: =안전관리실!G41+SE사업팀!G41+철도사업팀!G41+기획팀!G41+성과예산팀!G41+정보화팀!G41+총무팀!G41+노무복지팀!G41+자산회계팀!G41+인재개발팀!G41+차량팀!G41+승무팀!G41+신호팀!G41+통신팀!G41+전기팀!G41+기계환경팀!G41+토목팀!G41+건축팀!G41+영업팀!G41+고객만족팀!G41+문화홍보팀!G41+부대사업팀!G41+역무자동화팀!G41+종합관제실!G41+감사실!G41 -> 117 | H41: =안전관리실!H41+SE사업팀!H41+철도사업팀!H41+기획팀!H41+성과예산팀!H41+정보화팀!H41+총무팀!H41+노무복지팀!H41+자산회계팀!H41+인재개발팀!H41+차량팀!H41+승무팀!H41+신호팀!H41+통신팀!H41+전기팀!H41+기계환경팀!H41+토목팀!H41+건축팀!H41+영업팀!H41+고객만족팀!H41+문화홍보팀!H41+부대사업팀!H41+역무자동화팀!H41+종합관제실!H41+감사실!H41 -> 0 | I41: =안전관리실!I41+SE사업팀!I41+철도사업팀!I41+기획팀!I41+성과예산팀!I41+정보화팀!I41+총무팀!I41+노무복지팀!I41+자산회계팀!I41+인재개발팀!I41+차량팀!I41+승무팀!I41+신호팀!I41+통신팀!I41+전기팀!I41+기계환경팀!I41+토목팀!I41+건축팀!I41+영업팀!I41+고객만족팀!I41+문화홍보팀!I41+부대사업팀!I41+역무자동화팀!I41+종합관제실!I41+감사실!I41 -> 0 | J41: =안전관리실!J41+SE사업팀!J41+철도사업팀!J41+기획팀!J41+성과예산팀!J41+정보화팀!J41+총무팀!J41+노무복지팀!J41+자산회계팀!J41+인재개발팀!J41+차량팀!J41+승무팀!J41+신호팀!J41+통신팀!J41+전기팀!J41+기계환경팀!J41+토목팀!J41+건축팀!J41+영업팀!J41+고객만족팀!J41+문화홍보팀!J41+부대사업팀!J41+역무자동화팀!J41+종합관제실!J41+감사실!J41 -> 0 | K41: =안전관리실!K41+SE사업팀!K41+철도사업팀!K41+기획팀!K41+성과예산팀!K41+정보화팀!K41+총무팀!K41+노무복지팀!K41+자산회계팀!K41+인재개발팀!K41+차량팀!K41+승무팀!K41+신호팀!K41+통신팀!K41+전기팀!K41+기계환경팀!K41+토목팀!K41+건축팀!K41+영업팀!K41+고객만족팀!K41+문화홍보팀!K41+부대사업팀!K41+역무자동화팀!K41+종합관제실!K41+감사실!K41 -> 0 | ... Q41: =안전관리실!Q41+SE사업팀!Q41+철도사업팀!Q41+기획팀!Q41+성과예산팀!Q41+정보화팀!Q41+총무팀!Q41+노무복지팀!Q41+자산회계팀!Q41+인재개발팀!Q41+차량팀!Q41+승무팀!Q41+신호팀!Q41+통신팀!Q41+전기팀!Q41+기계환경팀!Q41+토목팀!Q41+건축팀!Q41+영업팀!Q41+고객만족팀!Q41+문화홍보팀!Q41+부대사업팀!Q41+역무자동화팀!Q41+종합관제실!Q41+감사실!Q41 -> 100 | R41: 수세미, 식탁보, 슬리퍼, 가방, 포직용 가방, 장갑, 요대, 완구, 휴지통, 운동화, 세면주머니, 장식용 인조피혁, 유골함, 봉안함, 배낭, 의류대, 군용손수건, 모자, 헬멧, 개량·탄소마스크, 타월, 주방행주(걸레), 발매트, 신발깔창, 총포 수입포, 휴대전화기, 장갑, 두건 등 | AH41: 03 | AI41: 016 | AJ41: 00060
C42: 침구 | D42: =안전관리실!D42+SE사업팀!D42+철도사업팀!D42+기획팀!D42+성과예산팀!D42+정보화팀!D42+총무팀!D42+노무복지팀!D42+자산회계팀!D42+인재개발팀!D42+차량팀!D42+승무팀!D42+신호팀!D42+통신팀!D42+전기팀!D42+기계환경팀!D42+토목팀!D42+건축팀!D42+영업팀!D42+고객만족팀!D42+문화홍보팀!D42+부대사업팀!D42+역무자동화팀!D42+종합관제실!D42+감사실!D42 -> 0 | E42: =안전관리실!E42+SE사업팀!E42+철도사업팀!E42+기획팀!E42+성과예산팀!E42+정보화팀!E42+총무팀!E42+노무복지팀!E42+자산회계팀!E42+인재개발팀!E42+차량팀!E42+승무팀!E42+신호팀!E42+통신팀!E42+전기팀!E42+기계환경팀!E42+토목팀!E42+건축팀!E42+영업팀!E42+고객만족팀!E42+문화홍보팀!E42+부대사업팀!E42+역무자동화팀!E42+종합관제실!E42+감사실!E42 -> 0 | F42: =안전관리실!F42+SE사업팀!F42+철도사업팀!F42+기획팀!F42+성과예산팀!F42+정보화팀!F42+총무팀!F42+노무복지팀!F42+자산회계팀!F42+인재개발팀!F42+차량팀!F42+승무팀!F42+신호팀!F42+통신팀!F42+전기팀!F42+기계환경팀!F42+토목팀!F42+건축팀!F42+영업팀!F42+고객만족팀!F42+문화홍보팀!F42+부대사업팀!F42+역무자동화팀!F42+종합관제실!F42+감사실!F42 -> 0 | G42: =안전관리실!G42+SE사업팀!G42+철도사업팀!G42+기획팀!G42+성과예산팀!G42+정보화팀!G42+총무팀!G42+노무복지팀!G42+자산회계팀!G42+인재개발팀!G42+차량팀!G42+승무팀!G42+신호팀!G42+통신팀!G42+전기팀!G42+기계환경팀!G42+토목팀!G42+건축팀!G42+영업팀!G42+고객만족팀!G42+문화홍보팀!G42+부대사업팀!G42+역무자동화팀!G42+종합관제실!G42+감사실!G42 -> 0 | H42: =안전관리실!H42+SE사업팀!H42+철도사업팀!H42+기획팀!H42+성과예산팀!H42+정보화팀!H42+총무팀!H42+노무복지팀!H42+자산회계팀!H42+인재개발팀!H42+차량팀!H42+승무팀!H42+신호팀!H42+통신팀!H42+전기팀!H42+기계환경팀!H42+토목팀!H42+건축팀!H42+영업팀!H42+고객만족팀!H42+문화홍보팀!H42+부대사업팀!H42+역무자동화팀!H42+종합관제실!H42+감사실!H42 -> 0 | I42: =안전관리실!I42+SE사업팀!I42+철도사업팀!I42+기획팀!I42+성과예산팀!I42+정보화팀!I42+총무팀!I42+노무복지팀!I42+자산회계팀!I42+인재개발팀!I42+차량팀!I42+승무팀!I42+신호팀!I42+통신팀!I42+전기팀!I42+기계환경팀!I42+토목팀!I42+건축팀!I42+영업팀!I42+고객만족팀!I42+문화홍보팀!I42+부대사업팀!I42+역무자동화팀!I42+종합관제실!I42+감사실!I42 -> 0 | J42: =안전관리실!J42+SE사업팀!J42+철도사업팀!J42+기획팀!J42+성과예산팀!J42+정보화팀!J42+총무팀!J42+노무복지팀!J42+자산회계팀!J42+인재개발팀!J42+차량팀!J42+승무팀!J42+신호팀!J42+통신팀!J42+전기팀!J42+기계환경팀!J42+토목팀!J42+건축팀!J42+영업팀!J42+고객만족팀!J42+문화홍보팀!J42+부대사업팀!J42+역무자동화팀!J42+종합관제실!J42+감사실!J42 -> 0 | K42: =안전관리실!K42+SE사업팀!K42+철도사업팀!K42+기획팀!K42+성과예산팀!K42+정보화팀!K42+총무팀!K42+노무복지팀!K42+자산회계팀!K42+인재개발팀!K42+차량팀!K42+승무팀!K42+신호팀!K42+통신팀!K42+전기팀!K42+기계환경팀!K42+토목팀!K42+건축팀!K42+영업팀!K42+고객만족팀!K42+문화홍보팀!K42+부대사업팀!K42+역무자동화팀!K42+종합관제실!K42+감사실!K42 -> 0 | ... Q42: =안전관리실!Q42+SE사업팀!Q42+철도사업팀!Q42+기획팀!Q42+성과예산팀!Q42+정보화팀!Q42+총무팀!Q42+노무복지팀!Q42+자산회계팀!Q42+인재개발팀!Q42+차량팀!Q42+승무팀!Q42+신호팀!Q42+통신팀!Q42+전기팀!Q42+기계환경팀!Q42+토목팀!Q42+건축팀!Q42+영업팀!Q42+고객만족팀!Q42+문화홍보팀!Q42+부대사업팀!Q42+역무자동화팀!Q42+종합관제실!Q42+감사실!Q42 -> 0 | R42: 침구, 담요, 매트리스커버, 침낭, 베게, 베갯잇, 각종커버, 누비이불, 이불, 패드 | AH42: 03 | AI42: 016 | AJ42: 00059
B43: 위생용품 | C43: 비누 | D43: =안전관리실!D43+SE사업팀!D43+철도사업팀!D43+기획팀!D43+성과예산팀!D43+정보화팀!D43+총무팀!D43+노무복지팀!D43+자산회계팀!D43+인재개발팀!D43+차량팀!D43+승무팀!D43+신호팀!D43+통신팀!D43+전기팀!D43+기계환경팀!D43+토목팀!D43+건축팀!D43+영업팀!D43+고객만족팀!D43+문화홍보팀!D43+부대사업팀!D43+역무자동화팀!D43+종합관제실!D43+감사실!D43 -> 0 | E43: =안전관리실!E43+SE사업팀!E43+철도사업팀!E43+기획팀!E43+성과예산팀!E43+정보화팀!E43+총무팀!E43+노무복지팀!E43+자산회계팀!E43+인재개발팀!E43+차량팀!E43+승무팀!E43+신호팀!E43+통신팀!E43+전기팀!E43+기계환경팀!E43+토목팀!E43+건축팀!E43+영업팀!E43+고객만족팀!E43+문화홍보팀!E43+부대사업팀!E43+역무자동화팀!E43+종합관제실!E43+감사실!E43 -> 0 | F43: =안전관리실!F43+SE사업팀!F43+철도사업팀!F43+기획팀!F43+성과예산팀!F43+정보화팀!F43+총무팀!F43+노무복지팀!F43+자산회계팀!F43+인재개발팀!F43+차량팀!F43+승무팀!F43+신호팀!F43+통신팀!F43+전기팀!F43+기계환경팀!F43+토목팀!F43+건축팀!F43+영업팀!F43+고객만족팀!F43+문화홍보팀!F43+부대사업팀!F43+역무자동화팀!F43+종합관제실!F43+감사실!F43 -> 0 | G43: =안전관리실!G43+SE사업팀!G43+철도사업팀!G43+기획팀!G43+성과예산팀!G43+정보화팀!G43+총무팀!G43+노무복지팀!G43+자산회계팀!G43+인재개발팀!G43+차량팀!G43+승무팀!G43+신호팀!G43+통신팀!G43+전기팀!G43+기계환경팀!G43+토목팀!G43+건축팀!G43+영업팀!G43+고객만족팀!G43+문화홍보팀!G43+부대사업팀!G43+역무자동화팀!G43+종합관제실!G43+감사실!G43 -> 0 | H43: =안전관리실!H43+SE사업팀!H43+철도사업팀!H43+기획팀!H43+성과예산팀!H43+정보화팀!H43+총무팀!H43+노무복지팀!H43+자산회계팀!H43+인재개발팀!H43+차량팀!H43+승무팀!H43+신호팀!H43+통신팀!H43+전기팀!H43+기계환경팀!H43+토목팀!H43+건축팀!H43+영업팀!H43+고객만족팀!H43+문화홍보팀!H43+부대사업팀!H43+역무자동화팀!H43+종합관제실!H43+감사실!H43 -> 0 | I43: =안전관리실!I43+SE사업팀!I43+철도사업팀!I43+기획팀!I43+성과예산팀!I43+정보화팀!I43+총무팀!I43+노무복지팀!I43+자산회계팀!I43+인재개발팀!I43+차량팀!I43+승무팀!I43+신호팀!I43+통신팀!I43+전기팀!I43+기계환경팀!I43+토목팀!I43+건축팀!I43+영업팀!I43+고객만족팀!I43+문화홍보팀!I43+부대사업팀!I43+역무자동화팀!I43+종합관제실!I43+감사실!I43 -> 0 | J43: =안전관리실!J43+SE사업팀!J43+철도사업팀!J43+기획팀!J43+성과예산팀!J43+정보화팀!J43+총무팀!J43+노무복지팀!J43+자산회계팀!J43+인재개발팀!J43+차량팀!J43+승무팀!J43+신호팀!J43+통신팀!J43+전기팀!J43+기계환경팀!J43+토목팀!J43+건축팀!J43+영업팀!J43+고객만족팀!J43+문화홍보팀!J43+부대사업팀!J43+역무자동화팀!J43+종합관제실!J43+감사실!J43 -> 0 | K43: =안전관리실!K43+SE사업팀!K43+철도사업팀!K43+기획팀!K43+성과예산팀!K43+정보화팀!K43+총무팀!K43+노무복지팀!K43+자산회계팀!K43+인재개발팀!K43+차량팀!K43+승무팀!K43+신호팀!K43+통신팀!K43+전기팀!K43+기계환경팀!K43+토목팀!K43+건축팀!K43+영업팀!K43+고객만족팀!K43+문화홍보팀!K43+부대사업팀!K43+역무자동화팀!K43+종합관제실!K43+감사실!K43 -> 0 | ... Q43: =안전관리실!Q43+SE사업팀!Q43+철도사업팀!Q43+기획팀!Q43+성과예산팀!Q43+정보화팀!Q43+총무팀!Q43+노무복지팀!Q43+자산회계팀!Q43+인재개발팀!Q43+차량팀!Q43+승무팀!Q43+신호팀!Q43+통신팀!Q43+전기팀!Q43+기계환경팀!Q43+토목팀!Q43+건축팀!Q43+영업팀!Q43+고객만족팀!Q43+문화홍보팀!Q43+부대사업팀!Q43+역무자동화팀!Q43+종합관제실!Q43+감사실!Q43 -> 0 | R43: 가루비누, 화장용 비누, 주방용 비누, 세탁용 비누 | AH43: 03 | AI43: 017 | AJ43: 00061
C44: 세제 및 세정제 | D44: =안전관리실!D44+SE사업팀!D44+철도사업팀!D44+기획팀!D44+성과예산팀!D44+정보화팀!D44+총무팀!D44+노무복지팀!D44+자산회계팀!D44+인재개발팀!D44+차량팀!D44+승무팀!D44+신호팀!D44+통신팀!D44+전기팀!D44+기계환경팀!D44+토목팀!D44+건축팀!D44+영업팀!D44+고객만족팀!D44+문화홍보팀!D44+부대사업팀!D44+역무자동화팀!D44+종합관제실!D44+감사실!D44 -> 2 | E44: =안전관리실!E44+SE사업팀!E44+철도사업팀!E44+기획팀!E44+성과예산팀!E44+정보화팀!E44+총무팀!E44+노무복지팀!E44+자산회계팀!E44+인재개발팀!E44+차량팀!E44+승무팀!E44+신호팀!E44+통신팀!E44+전기팀!E44+기계환경팀!E44+토목팀!E44+건축팀!E44+영업팀!E44+고객만족팀!E44+문화홍보팀!E44+부대사업팀!E44+역무자동화팀!E44+종합관제실!E44+감사실!E44 -> 18 | F44: =안전관리실!F44+SE사업팀!F44+철도사업팀!F44+기획팀!F44+성과예산팀!F44+정보화팀!F44+총무팀!F44+노무복지팀!F44+자산회계팀!F44+인재개발팀!F44+차량팀!F44+승무팀!F44+신호팀!F44+통신팀!F44+전기팀!F44+기계환경팀!F44+토목팀!F44+건축팀!F44+영업팀!F44+고객만족팀!F44+문화홍보팀!F44+부대사업팀!F44+역무자동화팀!F44+종합관제실!F44+감사실!F44 -> 2 | G44: =안전관리실!G44+SE사업팀!G44+철도사업팀!G44+기획팀!G44+성과예산팀!G44+정보화팀!G44+총무팀!G44+노무복지팀!G44+자산회계팀!G44+인재개발팀!G44+차량팀!G44+승무팀!G44+신호팀!G44+통신팀!G44+전기팀!G44+기계환경팀!G44+토목팀!G44+건축팀!G44+영업팀!G44+고객만족팀!G44+문화홍보팀!G44+부대사업팀!G44+역무자동화팀!G44+종합관제실!G44+감사실!G44 -> 18 | H44: =안전관리실!H44+SE사업팀!H44+철도사업팀!H44+기획팀!H44+성과예산팀!H44+정보화팀!H44+총무팀!H44+노무복지팀!H44+자산회계팀!H44+인재개발팀!H44+차량팀!H44+승무팀!H44+신호팀!H44+통신팀!H44+전기팀!H44+기계환경팀!H44+토목팀!H44+건축팀!H44+영업팀!H44+고객만족팀!H44+문화홍보팀!H44+부대사업팀!H44+역무자동화팀!H44+종합관제실!H44+감사실!H44 -> 0 | I44: =안전관리실!I44+SE사업팀!I44+철도사업팀!I44+기획팀!I44+성과예산팀!I44+정보화팀!I44+총무팀!I44+노무복지팀!I44+자산회계팀!I44+인재개발팀!I44+차량팀!I44+승무팀!I44+신호팀!I44+통신팀!I44+전기팀!I44+기계환경팀!I44+토목팀!I44+건축팀!I44+영업팀!I44+고객만족팀!I44+문화홍보팀!I44+부대사업팀!I44+역무자동화팀!I44+종합관제실!I44+감사실!I44 -> 0 | J44: =안전관리실!J44+SE사업팀!J44+철도사업팀!J44+기획팀!J44+성과예산팀!J44+정보화팀!J44+총무팀!J44+노무복지팀!J44+자산회계팀!J44+인재개발팀!J44+차량팀!J44+승무팀!J44+신호팀!J44+통신팀!J44+전기팀!J44+기계환경팀!J44+토목팀!J44+건축팀!J44+영업팀!J44+고객만족팀!J44+문화홍보팀!J44+부대사업팀!J44+역무자동화팀!J44+종합관제실!J44+감사실!J44 -> 0 | K44: =안전관리실!K44+SE사업팀!K44+철도사업팀!K44+기획팀!K44+성과예산팀!K44+정보화팀!K44+총무팀!K44+노무복지팀!K44+자산회계팀!K44+인재개발팀!K44+차량팀!K44+승무팀!K44+신호팀!K44+통신팀!K44+전기팀!K44+기계환경팀!K44+토목팀!K44+건축팀!K44+영업팀!K44+고객만족팀!K44+문화홍보팀!K44+부대사업팀!K44+역무자동화팀!K44+종합관제실!K44+감사실!K44 -> 0 | ... Q44: =안전관리실!Q44+SE사업팀!Q44+철도사업팀!Q44+기획팀!Q44+성과예산팀!Q44+정보화팀!Q44+총무팀!Q44+노무복지팀!Q44+자산회계팀!Q44+인재개발팀!Q44+차량팀!Q44+승무팀!Q44+신호팀!Q44+통신팀!Q44+전기팀!Q44+기계환경팀!Q44+토목팀!Q44+건축팀!Q44+영업팀!Q44+고객만족팀!Q44+문화홍보팀!Q44+부대사업팀!Q44+역무자동화팀!Q44+종합관제실!Q44+감사실!Q44 -> 100 | R44: 식기세척기용세제, 식기/주방용 세제, 세탁용 세제, 섬유유연제, 다목적 세정제, 화장실/욕실용 세제, 화학세척제 | AH44: 03 | AI44: 017 | AJ44: 00064
C45: 방향∙소취제 | D45: =안전관리실!D45+SE사업팀!D45+철도사업팀!D45+기획팀!D45+성과예산팀!D45+정보화팀!D45+총무팀!D45+노무복지팀!D45+자산회계팀!D45+인재개발팀!D45+차량팀!D45+승무팀!D45+신호팀!D45+통신팀!D45+전기팀!D45+기계환경팀!D45+토목팀!D45+건축팀!D45+영업팀!D45+고객만족팀!D45+문화홍보팀!D45+부대사업팀!D45+역무자동화팀!D45+종합관제실!D45+감사실!D45 -> 0 | E45: =안전관리실!E45+SE사업팀!E45+철도사업팀!E45+기획팀!E45+성과예산팀!E45+정보화팀!E45+총무팀!E45+노무복지팀!E45+자산회계팀!E45+인재개발팀!E45+차량팀!E45+승무팀!E45+신호팀!E45+통신팀!E45+전기팀!E45+기계환경팀!E45+토목팀!E45+건축팀!E45+영업팀!E45+고객만족팀!E45+문화홍보팀!E45+부대사업팀!E45+역무자동화팀!E45+종합관제실!E45+감사실!E45 -> 0 | F45: =안전관리실!F45+SE사업팀!F45+철도사업팀!F45+기획팀!F45+성과예산팀!F45+정보화팀!F45+총무팀!F45+노무복지팀!F45+자산회계팀!F45+인재개발팀!F45+차량팀!F45+승무팀!F45+신호팀!F45+통신팀!F45+전기팀!F45+기계환경팀!F45+토목팀!F45+건축팀!F45+영업팀!F45+고객만족팀!F45+문화홍보팀!F45+부대사업팀!F45+역무자동화팀!F45+종합관제실!F45+감사실!F45 -> 0 | G45: =안전관리실!G45+SE사업팀!G45+철도사업팀!G45+기획팀!G45+성과예산팀!G45+정보화팀!G45+총무팀!G45+노무복지팀!G45+자산회계팀!G45+인재개발팀!G45+차량팀!G45+승무팀!G45+신호팀!G45+통신팀!G45+전기팀!G45+기계환경팀!G45+토목팀!G45+건축팀!G45+영업팀!G45+고객만족팀!G45+문화홍보팀!G45+부대사업팀!G45+역무자동화팀!G45+종합관제실!G45+감사실!G45 -> 0 | H45: =안전관리실!H45+SE사업팀!H45+철도사업팀!H45+기획팀!H45+성과예산팀!H45+정보화팀!H45+총무팀!H45+노무복지팀!H45+자산회계팀!H45+인재개발팀!H45+차량팀!H45+승무팀!H45+신호팀!H45+통신팀!H45+전기팀!H45+기계환경팀!H45+토목팀!H45+건축팀!H45+영업팀!H45+고객만족팀!H45+문화홍보팀!H45+부대사업팀!H45+역무자동화팀!H45+종합관제실!H45+감사실!H45 -> 0 | I45: =안전관리실!I45+SE사업팀!I45+철도사업팀!I45+기획팀!I45+성과예산팀!I45+정보화팀!I45+총무팀!I45+노무복지팀!I45+자산회계팀!I45+인재개발팀!I45+차량팀!I45+승무팀!I45+신호팀!I45+통신팀!I45+전기팀!I45+기계환경팀!I45+토목팀!I45+건축팀!I45+영업팀!I45+고객만족팀!I45+문화홍보팀!I45+부대사업팀!I45+역무자동화팀!I45+종합관제실!I45+감사실!I45 -> 0 | J45: =안전관리실!J45+SE사업팀!J45+철도사업팀!J45+기획팀!J45+성과예산팀!J45+정보화팀!J45+총무팀!J45+노무복지팀!J45+자산회계팀!J45+인재개발팀!J45+차량팀!J45+승무팀!J45+신호팀!J45+통신팀!J45+전기팀!J45+기계환경팀!J45+토목팀!J45+건축팀!J45+영업팀!J45+고객만족팀!J45+문화홍보팀!J45+부대사업팀!J45+역무자동화팀!J45+종합관제실!J45+감사실!J45 -> 0 | K45: =안전관리실!K45+SE사업팀!K45+철도사업팀!K45+기획팀!K45+성과예산팀!K45+정보화팀!K45+총무팀!K45+노무복지팀!K45+자산회계팀!K45+인재개발팀!K45+차량팀!K45+승무팀!K45+신호팀!K45+통신팀!K45+전기팀!K45+기계환경팀!K45+토목팀!K45+건축팀!K45+영업팀!K45+고객만족팀!K45+문화홍보팀!K45+부대사업팀!K45+역무자동화팀!K45+종합관제실!K45+감사실!K45 -> 0 | ... Q45: =안전관리실!Q45+SE사업팀!Q45+철도사업팀!Q45+기획팀!Q45+성과예산팀!Q45+정보화팀!Q45+총무팀!Q45+노무복지팀!Q45+자산회계팀!Q45+인재개발팀!Q45+차량팀!Q45+승무팀!Q45+신호팀!Q45+통신팀!Q45+전기팀!Q45+기계환경팀!Q45+토목팀!Q45+건축팀!Q45+영업팀!Q45+고객만족팀!Q45+문화홍보팀!Q45+부대사업팀!Q45+역무자동화팀!Q45+종합관제실!Q45+감사실!Q45 -> 0 | R45: 방향 및 소취용 스프레이, 탈취제(가정용, 일반용) | AH45: 03 | AI45: 017 | AJ45: 00068
C46: 화장지 및 종이,에어 타월 | D46: =안전관리실!D46+SE사업팀!D46+철도사업팀!D46+기획팀!D46+성과예산팀!D46+정보화팀!D46+총무팀!D46+노무복지팀!D46+자산회계팀!D46+인재개발팀!D46+차량팀!D46+승무팀!D46+신호팀!D46+통신팀!D46+전기팀!D46+기계환경팀!D46+토목팀!D46+건축팀!D46+영업팀!D46+고객만족팀!D46+문화홍보팀!D46+부대사업팀!D46+역무자동화팀!D46+종합관제실!D46+감사실!D46 -> 1094 | E46: =안전관리실!E46+SE사업팀!E46+철도사업팀!E46+기획팀!E46+성과예산팀!E46+정보화팀!E46+총무팀!E46+노무복지팀!E46+자산회계팀!E46+인재개발팀!E46+차량팀!E46+승무팀!E46+신호팀!E46+통신팀!E46+전기팀!E46+기계환경팀!E46+토목팀!E46+건축팀!E46+영업팀!E46+고객만족팀!E46+문화홍보팀!E46+부대사업팀!E46+역무자동화팀!E46+종합관제실!E46+감사실!E46 -> 33399 | F46: =안전관리실!F46+SE사업팀!F46+철도사업팀!F46+기획팀!F46+성과예산팀!F46+정보화팀!F46+총무팀!F46+노무복지팀!F46+자산회계팀!F46+인재개발팀!F46+차량팀!F46+승무팀!F46+신호팀!F46+통신팀!F46+전기팀!F46+기계환경팀!F46+토목팀!F46+건축팀!F46+영업팀!F46+고객만족팀!F46+문화홍보팀!F46+부대사업팀!F46+역무자동화팀!F46+종합관제실!F46+감사실!F46 -> 1091 | G46: =안전관리실!G46+SE사업팀!G46+철도사업팀!G46+기획팀!G46+성과예산팀!G46+정보화팀!G46+총무팀!G46+노무복지팀!G46+자산회계팀!G46+인재개발팀!G46+차량팀!G46+승무팀!G46+신호팀!G46+통신팀!G46+전기팀!G46+기계환경팀!G46+토목팀!G46+건축팀!G46+영업팀!G46+고객만족팀!G46+문화홍보팀!G46+부대사업팀!G46+역무자동화팀!G46+종합관제실!G46+감사실!G46 -> 33369 | H46: =안전관리실!H46+SE사업팀!H46+철도사업팀!H46+기획팀!H46+성과예산팀!H46+정보화팀!H46+총무팀!H46+노무복지팀!H46+자산회계팀!H46+인재개발팀!H46+차량팀!H46+승무팀!H46+신호팀!H46+통신팀!H46+전기팀!H46+기계환경팀!H46+토목팀!H46+건축팀!H46+영업팀!H46+고객만족팀!H46+문화홍보팀!H46+부대사업팀!H46+역무자동화팀!H46+종합관제실!H46+감사실!H46 -> 0 | I46: =안전관리실!I46+SE사업팀!I46+철도사업팀!I46+기획팀!I46+성과예산팀!I46+정보화팀!I46+총무팀!I46+노무복지팀!I46+자산회계팀!I46+인재개발팀!I46+차량팀!I46+승무팀!I46+신호팀!I46+통신팀!I46+전기팀!I46+기계환경팀!I46+토목팀!I46+건축팀!I46+영업팀!I46+고객만족팀!I46+문화홍보팀!I46+부대사업팀!I46+역무자동화팀!I46+종합관제실!I46+감사실!I46 -> 0 | J46: =안전관리실!J46+SE사업팀!J46+철도사업팀!J46+기획팀!J46+성과예산팀!J46+정보화팀!J46+총무팀!J46+노무복지팀!J46+자산회계팀!J46+인재개발팀!J46+차량팀!J46+승무팀!J46+신호팀!J46+통신팀!J46+전기팀!J46+기계환경팀!J46+토목팀!J46+건축팀!J46+영업팀!J46+고객만족팀!J46+문화홍보팀!J46+부대사업팀!J46+역무자동화팀!J46+종합관제실!J46+감사실!J46 -> 0 | K46: =안전관리실!K46+SE사업팀!K46+철도사업팀!K46+기획팀!K46+성과예산팀!K46+정보화팀!K46+총무팀!K46+노무복지팀!K46+자산회계팀!K46+인재개발팀!K46+차량팀!K46+승무팀!K46+신호팀!K46+통신팀!K46+전기팀!K46+기계환경팀!K46+토목팀!K46+건축팀!K46+영업팀!K46+고객만족팀!K46+문화홍보팀!K46+부대사업팀!K46+역무자동화팀!K46+종합관제실!K46+감사실!K46 -> 0 | ... Q46: =안전관리실!Q46+SE사업팀!Q46+철도사업팀!Q46+기획팀!Q46+성과예산팀!Q46+정보화팀!Q46+총무팀!Q46+노무복지팀!Q46+자산회계팀!Q46+인재개발팀!Q46+차량팀!Q46+승무팀!Q46+신호팀!Q46+통신팀!Q46+전기팀!Q46+기계환경팀!Q46+토목팀!Q46+건축팀!Q46+영업팀!Q46+고객만족팀!Q46+문화홍보팀!Q46+부대사업팀!Q46+역무자동화팀!Q46+종합관제실!Q46+감사실!Q46 -> 800 | R46: 두루마리 화장지, 종이타월, 화장실용화장지, 전기 손건조기 | AH46: 03 | AI46: 017 | AJ46: 00069
C47: 식품용기 | D47: =안전관리실!D47+SE사업팀!D47+철도사업팀!D47+기획팀!D47+성과예산팀!D47+정보화팀!D47+총무팀!D47+노무복지팀!D47+자산회계팀!D47+인재개발팀!D47+차량팀!D47+승무팀!D47+신호팀!D47+통신팀!D47+전기팀!D47+기계환경팀!D47+토목팀!D47+건축팀!D47+영업팀!D47+고객만족팀!D47+문화홍보팀!D47+부대사업팀!D47+역무자동화팀!D47+종합관제실!D47+감사실!D47 -> 0 | E47: =안전관리실!E47+SE사업팀!E47+철도사업팀!E47+기획팀!E47+성과예산팀!E47+정보화팀!E47+총무팀!E47+노무복지팀!E47+자산회계팀!E47+인재개발팀!E47+차량팀!E47+승무팀!E47+신호팀!E47+통신팀!E47+전기팀!E47+기계환경팀!E47+토목팀!E47+건축팀!E47+영업팀!E47+고객만족팀!E47+문화홍보팀!E47+부대사업팀!E47+역무자동화팀!E47+종합관제실!E47+감사실!E47 -> 0 | F47: =안전관리실!F47+SE사업팀!F47+철도사업팀!F47+기획팀!F47+성과예산팀!F47+정보화팀!F47+총무팀!F47+노무복지팀!F47+자산회계팀!F47+인재개발팀!F47+차량팀!F47+승무팀!F47+신호팀!F47+통신팀!F47+전기팀!F47+기계환경팀!F47+토목팀!F47+건축팀!F47+영업팀!F47+고객만족팀!F47+문화홍보팀!F47+부대사업팀!F47+역무자동화팀!F47+종합관제실!F47+감사실!F47 -> 0 | G47: =안전관리실!G47+SE사업팀!G47+철도사업팀!G47+기획팀!G47+성과예산팀!G47+정보화팀!G47+총무팀!G47+노무복지팀!G47+자산회계팀!G47+인재개발팀!G47+차량팀!G47+승무팀!G47+신호팀!G47+통신팀!G47+전기팀!G47+기계환경팀!G47+토목팀!G47+건축팀!G47+영업팀!G47+고객만족팀!G47+문화홍보팀!G47+부대사업팀!G47+역무자동화팀!G47+종합관제실!G47+감사실!G47 -> 0 | H47: =안전관리실!H47+SE사업팀!H47+철도사업팀!H47+기획팀!H47+성과예산팀!H47+정보화팀!H47+총무팀!H47+노무복지팀!H47+자산회계팀!H47+인재개발팀!H47+차량팀!H47+승무팀!H47+신호팀!H47+통신팀!H47+전기팀!H47+기계환경팀!H47+토목팀!H47+건축팀!H47+영업팀!H47+고객만족팀!H47+문화홍보팀!H47+부대사업팀!H47+역무자동화팀!H47+종합관제실!H47+감사실!H47 -> 0 | I47: =안전관리실!I47+SE사업팀!I47+철도사업팀!I47+기획팀!I47+성과예산팀!I47+정보화팀!I47+총무팀!I47+노무복지팀!I47+자산회계팀!I47+인재개발팀!I47+차량팀!I47+승무팀!I47+신호팀!I47+통신팀!I47+전기팀!I47+기계환경팀!I47+토목팀!I47+건축팀!I47+영업팀!I47+고객만족팀!I47+문화홍보팀!I47+부대사업팀!I47+역무자동화팀!I47+종합관제실!I47+감사실!I47 -> 0 | J47: =안전관리실!J47+SE사업팀!J47+철도사업팀!J47+기획팀!J47+성과예산팀!J47+정보화팀!J47+총무팀!J47+노무복지팀!J47+자산회계팀!J47+인재개발팀!J47+차량팀!J47+승무팀!J47+신호팀!J47+통신팀!J47+전기팀!J47+기계환경팀!J47+토목팀!J47+건축팀!J47+영업팀!J47+고객만족팀!J47+문화홍보팀!J47+부대사업팀!J47+역무자동화팀!J47+종합관제실!J47+감사실!J47 -> 0 | K47: =안전관리실!K47+SE사업팀!K47+철도사업팀!K47+기획팀!K47+성과예산팀!K47+정보화팀!K47+총무팀!K47+노무복지팀!K47+자산회계팀!K47+인재개발팀!K47+차량팀!K47+승무팀!K47+신호팀!K47+통신팀!K47+전기팀!K47+기계환경팀!K47+토목팀!K47+건축팀!K47+영업팀!K47+고객만족팀!K47+문화홍보팀!K47+부대사업팀!K47+역무자동화팀!K47+종합관제실!K47+감사실!K47 -> 0 | ... Q47: =안전관리실!Q47+SE사업팀!Q47+철도사업팀!Q47+기획팀!Q47+성과예산팀!Q47+정보화팀!Q47+총무팀!Q47+노무복지팀!Q47+자산회계팀!Q47+인재개발팀!Q47+차량팀!Q47+승무팀!Q47+신호팀!Q47+통신팀!Q47+전기팀!Q47+기계환경팀!Q47+토목팀!Q47+건축팀!Q47+영업팀!Q47+고객만족팀!Q47+문화홍보팀!Q47+부대사업팀!Q47+역무자동화팀!Q47+종합관제실!Q47+감사실!Q47 -> 0 | R47: 일회용 식품용기, 도시락 용기, 일회용 종이 접시, 컵, 스푼, 포크, 나이프, 젓가락, 포장용 랩, 종이호일, 롤백, 도마, 조리기구, 롤백 | AH47: 03 | AI47: 017 | AJ47: 00072
C48: 봉투 | D48: =안전관리실!D48+SE사업팀!D48+철도사업팀!D48+기획팀!D48+성과예산팀!D48+정보화팀!D48+총무팀!D48+노무복지팀!D48+자산회계팀!D48+인재개발팀!D48+차량팀!D48+승무팀!D48+신호팀!D48+통신팀!D48+전기팀!D48+기계환경팀!D48+토목팀!D48+건축팀!D48+영업팀!D48+고객만족팀!D48+문화홍보팀!D48+부대사업팀!D48+역무자동화팀!D48+종합관제실!D48+감사실!D48 -> 0 | E48: =안전관리실!E48+SE사업팀!E48+철도사업팀!E48+기획팀!E48+성과예산팀!E48+정보화팀!E48+총무팀!E48+노무복지팀!E48+자산회계팀!E48+인재개발팀!E48+차량팀!E48+승무팀!E48+신호팀!E48+통신팀!E48+전기팀!E48+기계환경팀!E48+토목팀!E48+건축팀!E48+영업팀!E48+고객만족팀!E48+문화홍보팀!E48+부대사업팀!E48+역무자동화팀!E48+종합관제실!E48+감사실!E48 -> 0 | F48: =안전관리실!F48+SE사업팀!F48+철도사업팀!F48+기획팀!F48+성과예산팀!F48+정보화팀!F48+총무팀!F48+노무복지팀!F48+자산회계팀!F48+인재개발팀!F48+차량팀!F48+승무팀!F48+신호팀!F48+통신팀!F48+전기팀!F48+기계환경팀!F48+토목팀!F48+건축팀!F48+영업팀!F48+고객만족팀!F48+문화홍보팀!F48+부대사업팀!F48+역무자동화팀!F48+종합관제실!F48+감사실!F48 -> 0 | G48: =안전관리실!G48+SE사업팀!G48+철도사업팀!G48+기획팀!G48+성과예산팀!G48+정보화팀!G48+총무팀!G48+노무복지팀!G48+자산회계팀!G48+인재개발팀!G48+차량팀!G48+승무팀!G48+신호팀!G48+통신팀!G48+전기팀!G48+기계환경팀!G48+토목팀!G48+건축팀!G48+영업팀!G48+고객만족팀!G48+문화홍보팀!G48+부대사업팀!G48+역무자동화팀!G48+종합관제실!G48+감사실!G48 -> 0 | H48: =안전관리실!H48+SE사업팀!H48+철도사업팀!H48+기획팀!H48+성과예산팀!H48+정보화팀!H48+총무팀!H48+노무복지팀!H48+자산회계팀!H48+인재개발팀!H48+차량팀!H48+승무팀!H48+신호팀!H48+통신팀!H48+전기팀!H48+기계환경팀!H48+토목팀!H48+건축팀!H48+영업팀!H48+고객만족팀!H48+문화홍보팀!H48+부대사업팀!H48+역무자동화팀!H48+종합관제실!H48+감사실!H48 -> 0 | I48: =안전관리실!I48+SE사업팀!I48+철도사업팀!I48+기획팀!I48+성과예산팀!I48+정보화팀!I48+총무팀!I48+노무복지팀!I48+자산회계팀!I48+인재개발팀!I48+차량팀!I48+승무팀!I48+신호팀!I48+통신팀!I48+전기팀!I48+기계환경팀!I48+토목팀!I48+건축팀!I48+영업팀!I48+고객만족팀!I48+문화홍보팀!I48+부대사업팀!I48+역무자동화팀!I48+종합관제실!I48+감사실!I48 -> 0 | J48: =안전관리실!J48+SE사업팀!J48+철도사업팀!J48+기획팀!J48+성과예산팀!J48+정보화팀!J48+총무팀!J48+노무복지팀!J48+자산회계팀!J48+인재개발팀!J48+차량팀!J48+승무팀!J48+신호팀!J48+통신팀!J48+전기팀!J48+기계환경팀!J48+토목팀!J48+건축팀!J48+영업팀!J48+고객만족팀!J48+문화홍보팀!J48+부대사업팀!J48+역무자동화팀!J48+종합관제실!J48+감사실!J48 -> 0 | K48: =안전관리실!K48+SE사업팀!K48+철도사업팀!K48+기획팀!K48+성과예산팀!K48+정보화팀!K48+총무팀!K48+노무복지팀!K48+자산회계팀!K48+인재개발팀!K48+차량팀!K48+승무팀!K48+신호팀!K48+통신팀!K48+전기팀!K48+기계환경팀!K48+토목팀!K48+건축팀!K48+영업팀!K48+고객만족팀!K48+문화홍보팀!K48+부대사업팀!K48+역무자동화팀!K48+종합관제실!K48+감사실!K48 -> 0 | ... Q48: =안전관리실!Q48+SE사업팀!Q48+철도사업팀!Q48+기획팀!Q48+성과예산팀!Q48+정보화팀!Q48+총무팀!Q48+노무복지팀!Q48+자산회계팀!Q48+인재개발팀!Q48+차량팀!Q48+승무팀!Q48+신호팀!Q48+통신팀!Q48+전기팀!Q48+기계환경팀!Q48+토목팀!Q48+건축팀!Q48+영업팀!Q48+고객만족팀!Q48+문화홍보팀!Q48+부대사업팀!Q48+역무자동화팀!Q48+종합관제실!Q48+감사실!Q48 -> 0 | R48: 쇼핑봉투, 생분해성 롤 봉투, 쓰레기 봉투, 일회용봉투 | AH48: 03 | AI48: 017 | AJ48: 00073
B49: 포장재 | C49: 포장용기 | D49: =안전관리실!D49+SE사업팀!D49+철도사업팀!D49+기획팀!D49+성과예산팀!D49+정보화팀!D49+총무팀!D49+노무복지팀!D49+자산회계팀!D49+인재개발팀!D49+차량팀!D49+승무팀!D49+신호팀!D49+통신팀!D49+전기팀!D49+기계환경팀!D49+토목팀!D49+건축팀!D49+영업팀!D49+고객만족팀!D49+문화홍보팀!D49+부대사업팀!D49+역무자동화팀!D49+종합관제실!D49+감사실!D49 -> 0 | E49: =안전관리실!E49+SE사업팀!E49+철도사업팀!E49+기획팀!E49+성과예산팀!E49+정보화팀!E49+총무팀!E49+노무복지팀!E49+자산회계팀!E49+인재개발팀!E49+차량팀!E49+승무팀!E49+신호팀!E49+통신팀!E49+전기팀!E49+기계환경팀!E49+토목팀!E49+건축팀!E49+영업팀!E49+고객만족팀!E49+문화홍보팀!E49+부대사업팀!E49+역무자동화팀!E49+종합관제실!E49+감사실!E49 -> 0 | F49: =안전관리실!F49+SE사업팀!F49+철도사업팀!F49+기획팀!F49+성과예산팀!F49+정보화팀!F49+총무팀!F49+노무복지팀!F49+자산회계팀!F49+인재개발팀!F49+차량팀!F49+승무팀!F49+신호팀!F49+통신팀!F49+전기팀!F49+기계환경팀!F49+토목팀!F49+건축팀!F49+영업팀!F49+고객만족팀!F49+문화홍보팀!F49+부대사업팀!F49+역무자동화팀!F49+종합관제실!F49+감사실!F49 -> 0 | G49: =안전관리실!G49+SE사업팀!G49+철도사업팀!G49+기획팀!G49+성과예산팀!G49+정보화팀!G49+총무팀!G49+노무복지팀!G49+자산회계팀!G49+인재개발팀!G49+차량팀!G49+승무팀!G49+신호팀!G49+통신팀!G49+전기팀!G49+기계환경팀!G49+토목팀!G49+건축팀!G49+영업팀!G49+고객만족팀!G49+문화홍보팀!G49+부대사업팀!G49+역무자동화팀!G49+종합관제실!G49+감사실!G49 -> 0 | H49: =안전관리실!H49+SE사업팀!H49+철도사업팀!H49+기획팀!H49+성과예산팀!H49+정보화팀!H49+총무팀!H49+노무복지팀!H49+자산회계팀!H49+인재개발팀!H49+차량팀!H49+승무팀!H49+신호팀!H49+통신팀!H49+전기팀!H49+기계환경팀!H49+토목팀!H49+건축팀!H49+영업팀!H49+고객만족팀!H49+문화홍보팀!H49+부대사업팀!H49+역무자동화팀!H49+종합관제실!H49+감사실!H49 -> 0 | I49: =안전관리실!I49+SE사업팀!I49+철도사업팀!I49+기획팀!I49+성과예산팀!I49+정보화팀!I49+총무팀!I49+노무복지팀!I49+자산회계팀!I49+인재개발팀!I49+차량팀!I49+승무팀!I49+신호팀!I49+통신팀!I49+전기팀!I49+기계환경팀!I49+토목팀!I49+건축팀!I49+영업팀!I49+고객만족팀!I49+문화홍보팀!I49+부대사업팀!I49+역무자동화팀!I49+종합관제실!I49+감사실!I49 -> 0 | J49: =안전관리실!J49+SE사업팀!J49+철도사업팀!J49+기획팀!J49+성과예산팀!J49+정보화팀!J49+총무팀!J49+노무복지팀!J49+자산회계팀!J49+인재개발팀!J49+차량팀!J49+승무팀!J49+신호팀!J49+통신팀!J49+전기팀!J49+기계환경팀!J49+토목팀!J49+건축팀!J49+영업팀!J49+고객만족팀!J49+문화홍보팀!J49+부대사업팀!J49+역무자동화팀!J49+종합관제실!J49+감사실!J49 -> 0 | K49: =안전관리실!K49+SE사업팀!K49+철도사업팀!K49+기획팀!K49+성과예산팀!K49+정보화팀!K49+총무팀!K49+노무복지팀!K49+자산회계팀!K49+인재개발팀!K49+차량팀!K49+승무팀!K49+신호팀!K49+통신팀!K49+전기팀!K49+기계환경팀!K49+토목팀!K49+건축팀!K49+영업팀!K49+고객만족팀!K49+문화홍보팀!K49+부대사업팀!K49+역무자동화팀!K49+종합관제실!K49+감사실!K49 -> 0 | ... Q49: =안전관리실!Q49+SE사업팀!Q49+철도사업팀!Q49+기획팀!Q49+성과예산팀!Q49+정보화팀!Q49+총무팀!Q49+노무복지팀!Q49+자산회계팀!Q49+인재개발팀!Q49+차량팀!Q49+승무팀!Q49+신호팀!Q49+통신팀!Q49+전기팀!Q49+기계환경팀!Q49+토목팀!Q49+건축팀!Q49+영업팀!Q49+고객만족팀!Q49+문화홍보팀!Q49+부대사업팀!Q49+역무자동화팀!Q49+종합관제실!Q49+감사실!Q49 -> 0 | R49: 포장용기, 재충전 연료용기 | AH49: 03 | AI49: 018 | AJ49: 00074
C50: 기타 포장재료 | D50: =안전관리실!D50+SE사업팀!D50+철도사업팀!D50+기획팀!D50+성과예산팀!D50+정보화팀!D50+총무팀!D50+노무복지팀!D50+자산회계팀!D50+인재개발팀!D50+차량팀!D50+승무팀!D50+신호팀!D50+통신팀!D50+전기팀!D50+기계환경팀!D50+토목팀!D50+건축팀!D50+영업팀!D50+고객만족팀!D50+문화홍보팀!D50+부대사업팀!D50+역무자동화팀!D50+종합관제실!D50+감사실!D50 -> 0 | E50: =안전관리실!E50+SE사업팀!E50+철도사업팀!E50+기획팀!E50+성과예산팀!E50+정보화팀!E50+총무팀!E50+노무복지팀!E50+자산회계팀!E50+인재개발팀!E50+차량팀!E50+승무팀!E50+신호팀!E50+통신팀!E50+전기팀!E50+기계환경팀!E50+토목팀!E50+건축팀!E50+영업팀!E50+고객만족팀!E50+문화홍보팀!E50+부대사업팀!E50+역무자동화팀!E50+종합관제실!E50+감사실!E50 -> 0 | F50: =안전관리실!F50+SE사업팀!F50+철도사업팀!F50+기획팀!F50+성과예산팀!F50+정보화팀!F50+총무팀!F50+노무복지팀!F50+자산회계팀!F50+인재개발팀!F50+차량팀!F50+승무팀!F50+신호팀!F50+통신팀!F50+전기팀!F50+기계환경팀!F50+토목팀!F50+건축팀!F50+영업팀!F50+고객만족팀!F50+문화홍보팀!F50+부대사업팀!F50+역무자동화팀!F50+종합관제실!F50+감사실!F50 -> 0 | G50: =안전관리실!G50+SE사업팀!G50+철도사업팀!G50+기획팀!G50+성과예산팀!G50+정보화팀!G50+총무팀!G50+노무복지팀!G50+자산회계팀!G50+인재개발팀!G50+차량팀!G50+승무팀!G50+신호팀!G50+통신팀!G50+전기팀!G50+기계환경팀!G50+토목팀!G50+건축팀!G50+영업팀!G50+고객만족팀!G50+문화홍보팀!G50+부대사업팀!G50+역무자동화팀!G50+종합관제실!G50+감사실!G50 -> 0 | H50: =안전관리실!H50+SE사업팀!H50+철도사업팀!H50+기획팀!H50+성과예산팀!H50+정보화팀!H50+총무팀!H50+노무복지팀!H50+자산회계팀!H50+인재개발팀!H50+차량팀!H50+승무팀!H50+신호팀!H50+통신팀!H50+전기팀!H50+기계환경팀!H50+토목팀!H50+건축팀!H50+영업팀!H50+고객만족팀!H50+문화홍보팀!H50+부대사업팀!H50+역무자동화팀!H50+종합관제실!H50+감사실!H50 -> 0 | I50: =안전관리실!I50+SE사업팀!I50+철도사업팀!I50+기획팀!I50+성과예산팀!I50+정보화팀!I50+총무팀!I50+노무복지팀!I50+자산회계팀!I50+인재개발팀!I50+차량팀!I50+승무팀!I50+신호팀!I50+통신팀!I50+전기팀!I50+기계환경팀!I50+토목팀!I50+건축팀!I50+영업팀!I50+고객만족팀!I50+문화홍보팀!I50+부대사업팀!I50+역무자동화팀!I50+종합관제실!I50+감사실!I50 -> 0 | J50: =안전관리실!J50+SE사업팀!J50+철도사업팀!J50+기획팀!J50+성과예산팀!J50+정보화팀!J50+총무팀!J50+노무복지팀!J50+자산회계팀!J50+인재개발팀!J50+차량팀!J50+승무팀!J50+신호팀!J50+통신팀!J50+전기팀!J50+기계환경팀!J50+토목팀!J50+건축팀!J50+영업팀!J50+고객만족팀!J50+문화홍보팀!J50+부대사업팀!J50+역무자동화팀!J50+종합관제실!J50+감사실!J50 -> 0 | K50: =안전관리실!K50+SE사업팀!K50+철도사업팀!K50+기획팀!K50+성과예산팀!K50+정보화팀!K50+총무팀!K50+노무복지팀!K50+자산회계팀!K50+인재개발팀!K50+차량팀!K50+승무팀!K50+신호팀!K50+통신팀!K50+전기팀!K50+기계환경팀!K50+토목팀!K50+건축팀!K50+영업팀!K50+고객만족팀!K50+문화홍보팀!K50+부대사업팀!K50+역무자동화팀!K50+종합관제실!K50+감사실!K50 -> 0 | ... Q50: =안전관리실!Q50+SE사업팀!Q50+철도사업팀!Q50+기획팀!Q50+성과예산팀!Q50+정보화팀!Q50+총무팀!Q50+노무복지팀!Q50+자산회계팀!Q50+인재개발팀!Q50+차량팀!Q50+승무팀!Q50+신호팀!Q50+통신팀!Q50+전기팀!Q50+기계환경팀!Q50+토목팀!Q50+건축팀!Q50+영업팀!Q50+고객만족팀!Q50+문화홍보팀!Q50+부대사업팀!Q50+역무자동화팀!Q50+종합관제실!Q50+감사실!Q50 -> 0 | R50: 완충포장재 등 | AH50: 03 | AI50: 018 | AJ50: 00076
B51: 여가용품 | C51: 여가용품 | D51: =안전관리실!D51+SE사업팀!D51+철도사업팀!D51+기획팀!D51+성과예산팀!D51+정보화팀!D51+총무팀!D51+노무복지팀!D51+자산회계팀!D51+인재개발팀!D51+차량팀!D51+승무팀!D51+신호팀!D51+통신팀!D51+전기팀!D51+기계환경팀!D51+토목팀!D51+건축팀!D51+영업팀!D51+고객만족팀!D51+문화홍보팀!D51+부대사업팀!D51+역무자동화팀!D51+종합관제실!D51+감사실!D51 -> 0 | E51: =안전관리실!E51+SE사업팀!E51+철도사업팀!E51+기획팀!E51+성과예산팀!E51+정보화팀!E51+총무팀!E51+노무복지팀!E51+자산회계팀!E51+인재개발팀!E51+차량팀!E51+승무팀!E51+신호팀!E51+통신팀!E51+전기팀!E51+기계환경팀!E51+토목팀!E51+건축팀!E51+영업팀!E51+고객만족팀!E51+문화홍보팀!E51+부대사업팀!E51+역무자동화팀!E51+종합관제실!E51+감사실!E51 -> 0 | F51: =안전관리실!F51+SE사업팀!F51+철도사업팀!F51+기획팀!F51+성과예산팀!F51+정보화팀!F51+총무팀!F51+노무복지팀!F51+자산회계팀!F51+인재개발팀!F51+차량팀!F51+승무팀!F51+신호팀!F51+통신팀!F51+전기팀!F51+기계환경팀!F51+토목팀!F51+건축팀!F51+영업팀!F51+고객만족팀!F51+문화홍보팀!F51+부대사업팀!F51+역무자동화팀!F51+종합관제실!F51+감사실!F51 -> 0 | G51: =안전관리실!G51+SE사업팀!G51+철도사업팀!G51+기획팀!G51+성과예산팀!G51+정보화팀!G51+총무팀!G51+노무복지팀!G51+자산회계팀!G51+인재개발팀!G51+차량팀!G51+승무팀!G51+신호팀!G51+통신팀!G51+전기팀!G51+기계환경팀!G51+토목팀!G51+건축팀!G51+영업팀!G51+고객만족팀!G51+문화홍보팀!G51+부대사업팀!G51+역무자동화팀!G51+종합관제실!G51+감사실!G51 -> 0 | H51: =안전관리실!H51+SE사업팀!H51+철도사업팀!H51+기획팀!H51+성과예산팀!H51+정보화팀!H51+총무팀!H51+노무복지팀!H51+자산회계팀!H51+인재개발팀!H51+차량팀!H51+승무팀!H51+신호팀!H51+통신팀!H51+전기팀!H51+기계환경팀!H51+토목팀!H51+건축팀!H51+영업팀!H51+고객만족팀!H51+문화홍보팀!H51+부대사업팀!H51+역무자동화팀!H51+종합관제실!H51+감사실!H51 -> 0 | I51: =안전관리실!I51+SE사업팀!I51+철도사업팀!I51+기획팀!I51+성과예산팀!I51+정보화팀!I51+총무팀!I51+노무복지팀!I51+자산회계팀!I51+인재개발팀!I51+차량팀!I51+승무팀!I51+신호팀!I51+통신팀!I51+전기팀!I51+기계환경팀!I51+토목팀!I51+건축팀!I51+영업팀!I51+고객만족팀!I51+문화홍보팀!I51+부대사업팀!I51+역무자동화팀!I51+종합관제실!I51+감사실!I51 -> 0 | J51: =안전관리실!J51+SE사업팀!J51+철도사업팀!J51+기획팀!J51+성과예산팀!J51+정보화팀!J51+총무팀!J51+노무복지팀!J51+자산회계팀!J51+인재개발팀!J51+차량팀!J51+승무팀!J51+신호팀!J51+통신팀!J51+전기팀!J51+기계환경팀!J51+토목팀!J51+건축팀!J51+영업팀!J51+고객만족팀!J51+문화홍보팀!J51+부대사업팀!J51+역무자동화팀!J51+종합관제실!J51+감사실!J51 -> 0 | K51: =안전관리실!K51+SE사업팀!K51+철도사업팀!K51+기획팀!K51+성과예산팀!K51+정보화팀!K51+총무팀!K51+노무복지팀!K51+자산회계팀!K51+인재개발팀!K51+차량팀!K51+승무팀!K51+신호팀!K51+통신팀!K51+전기팀!K51+기계환경팀!K51+토목팀!K51+건축팀!K51+영업팀!K51+고객만족팀!K51+문화홍보팀!K51+부대사업팀!K51+역무자동화팀!K51+종합관제실!K51+감사실!K51 -> 0 | ... Q51: =안전관리실!Q51+SE사업팀!Q51+철도사업팀!Q51+기획팀!Q51+성과예산팀!Q51+정보화팀!Q51+총무팀!Q51+노무복지팀!Q51+자산회계팀!Q51+인재개발팀!Q51+차량팀!Q51+승무팀!Q51+신호팀!Q51+통신팀!Q51+전기팀!Q51+기계환경팀!Q51+토목팀!Q51+건축팀!Q51+영업팀!Q51+고객만족팀!Q51+문화홍보팀!Q51+부대사업팀!Q51+역무자동화팀!Q51+종합관제실!Q51+감사실!Q51 -> 0 | R51: 자전거용튜브, 자전거용타이어 | AH51: 03 | AI51: 019 | AJ51: 00169
A52: 화학/소방/안전 | B52: 화공약품 | C52: 수처리제 | D52: =안전관리실!D52+SE사업팀!D52+철도사업팀!D52+기획팀!D52+성과예산팀!D52+정보화팀!D52+총무팀!D52+노무복지팀!D52+자산회계팀!D52+인재개발팀!D52+차량팀!D52+승무팀!D52+신호팀!D52+통신팀!D52+전기팀!D52+기계환경팀!D52+토목팀!D52+건축팀!D52+영업팀!D52+고객만족팀!D52+문화홍보팀!D52+부대사업팀!D52+역무자동화팀!D52+종합관제실!D52+감사실!D52 -> 0 | E52: =안전관리실!E52+SE사업팀!E52+철도사업팀!E52+기획팀!E52+성과예산팀!E52+정보화팀!E52+총무팀!E52+노무복지팀!E52+자산회계팀!E52+인재개발팀!E52+차량팀!E52+승무팀!E52+신호팀!E52+통신팀!E52+전기팀!E52+기계환경팀!E52+토목팀!E52+건축팀!E52+영업팀!E52+고객만족팀!E52+문화홍보팀!E52+부대사업팀!E52+역무자동화팀!E52+종합관제실!E52+감사실!E52 -> 0 | F52: =안전관리실!F52+SE사업팀!F52+철도사업팀!F52+기획팀!F52+성과예산팀!F52+정보화팀!F52+총무팀!F52+노무복지팀!F52+자산회계팀!F52+인재개발팀!F52+차량팀!F52+승무팀!F52+신호팀!F52+통신팀!F52+전기팀!F52+기계환경팀!F52+토목팀!F52+건축팀!F52+영업팀!F52+고객만족팀!F52+문화홍보팀!F52+부대사업팀!F52+역무자동화팀!F52+종합관제실!F52+감사실!F52 -> 0 | G52: =안전관리실!G52+SE사업팀!G52+철도사업팀!G52+기획팀!G52+성과예산팀!G52+정보화팀!G52+총무팀!G52+노무복지팀!G52+자산회계팀!G52+인재개발팀!G52+차량팀!G52+승무팀!G52+신호팀!G52+통신팀!G52+전기팀!G52+기계환경팀!G52+토목팀!G52+건축팀!G52+영업팀!G52+고객만족팀!G52+문화홍보팀!G52+부대사업팀!G52+역무자동화팀!G52+종합관제실!G52+감사실!G52 -> 0 | H52: =안전관리실!H52+SE사업팀!H52+철도사업팀!H52+기획팀!H52+성과예산팀!H52+정보화팀!H52+총무팀!H52+노무복지팀!H52+자산회계팀!H52+인재개발팀!H52+차량팀!H52+승무팀!H52+신호팀!H52+통신팀!H52+전기팀!H52+기계환경팀!H52+토목팀!H52+건축팀!H52+영업팀!H52+고객만족팀!H52+문화홍보팀!H52+부대사업팀!H52+역무자동화팀!H52+종합관제실!H52+감사실!H52 -> 0 | I52: =안전관리실!I52+SE사업팀!I52+철도사업팀!I52+기획팀!I52+성과예산팀!I52+정보화팀!I52+총무팀!I52+노무복지팀!I52+자산회계팀!I52+인재개발팀!I52+차량팀!I52+승무팀!I52+신호팀!I52+통신팀!I52+전기팀!I52+기계환경팀!I52+토목팀!I52+건축팀!I52+영업팀!I52+고객만족팀!I52+문화홍보팀!I52+부대사업팀!I52+역무자동화팀!I52+종합관제실!I52+감사실!I52 -> 0 | J52: =안전관리실!J52+SE사업팀!J52+철도사업팀!J52+기획팀!J52+성과예산팀!J52+정보화팀!J52+총무팀!J52+노무복지팀!J52+자산회계팀!J52+인재개발팀!J52+차량팀!J52+승무팀!J52+신호팀!J52+통신팀!J52+전기팀!J52+기계환경팀!J52+토목팀!J52+건축팀!J52+영업팀!J52+고객만족팀!J52+문화홍보팀!J52+부대사업팀!J52+역무자동화팀!J52+종합관제실!J52+감사실!J52 -> 0 | K52: =안전관리실!K52+SE사업팀!K52+철도사업팀!K52+기획팀!K52+성과예산팀!K52+정보화팀!K52+총무팀!K52+노무복지팀!K52+자산회계팀!K52+인재개발팀!K52+차량팀!K52+승무팀!K52+신호팀!K52+통신팀!K52+전기팀!K52+기계환경팀!K52+토목팀!K52+건축팀!K52+영업팀!K52+고객만족팀!K52+문화홍보팀!K52+부대사업팀!K52+역무자동화팀!K52+종합관제실!K52+감사실!K52 -> 0 | ... Q52: =안전관리실!Q52+SE사업팀!Q52+철도사업팀!Q52+기획팀!Q52+성과예산팀!Q52+정보화팀!Q52+총무팀!Q52+노무복지팀!Q52+자산회계팀!Q52+인재개발팀!Q52+차량팀!Q52+승무팀!Q52+신호팀!Q52+통신팀!Q52+전기팀!Q52+기계환경팀!Q52+토목팀!Q52+건축팀!Q52+영업팀!Q52+고객만족팀!Q52+문화홍보팀!Q52+부대사업팀!Q52+역무자동화팀!Q52+종합관제실!Q52+감사실!Q52 -> 0 | R52: 수처리제, 폐수처리용 응집제 | AH52: 04 | AI52: 020 | AJ52: 00079
C53: 산업용 탈취제 | D53: =안전관리실!D53+SE사업팀!D53+철도사업팀!D53+기획팀!D53+성과예산팀!D53+정보화팀!D53+총무팀!D53+노무복지팀!D53+자산회계팀!D53+인재개발팀!D53+차량팀!D53+승무팀!D53+신호팀!D53+통신팀!D53+전기팀!D53+기계환경팀!D53+토목팀!D53+건축팀!D53+영업팀!D53+고객만족팀!D53+문화홍보팀!D53+부대사업팀!D53+역무자동화팀!D53+종합관제실!D53+감사실!D53 -> 0 | E53: =안전관리실!E53+SE사업팀!E53+철도사업팀!E53+기획팀!E53+성과예산팀!E53+정보화팀!E53+총무팀!E53+노무복지팀!E53+자산회계팀!E53+인재개발팀!E53+차량팀!E53+승무팀!E53+신호팀!E53+통신팀!E53+전기팀!E53+기계환경팀!E53+토목팀!E53+건축팀!E53+영업팀!E53+고객만족팀!E53+문화홍보팀!E53+부대사업팀!E53+역무자동화팀!E53+종합관제실!E53+감사실!E53 -> 0 | F53: =안전관리실!F53+SE사업팀!F53+철도사업팀!F53+기획팀!F53+성과예산팀!F53+정보화팀!F53+총무팀!F53+노무복지팀!F53+자산회계팀!F53+인재개발팀!F53+차량팀!F53+승무팀!F53+신호팀!F53+통신팀!F53+전기팀!F53+기계환경팀!F53+토목팀!F53+건축팀!F53+영업팀!F53+고객만족팀!F53+문화홍보팀!F53+부대사업팀!F53+역무자동화팀!F53+종합관제실!F53+감사실!F53 -> 0 | G53: =안전관리실!G53+SE사업팀!G53+철도사업팀!G53+기획팀!G53+성과예산팀!G53+정보화팀!G53+총무팀!G53+노무복지팀!G53+자산회계팀!G53+인재개발팀!G53+차량팀!G53+승무팀!G53+신호팀!G53+통신팀!G53+전기팀!G53+기계환경팀!G53+토목팀!G53+건축팀!G53+영업팀!G53+고객만족팀!G53+문화홍보팀!G53+부대사업팀!G53+역무자동화팀!G53+종합관제실!G53+감사실!G53 -> 0 | H53: =안전관리실!H53+SE사업팀!H53+철도사업팀!H53+기획팀!H53+성과예산팀!H53+정보화팀!H53+총무팀!H53+노무복지팀!H53+자산회계팀!H53+인재개발팀!H53+차량팀!H53+승무팀!H53+신호팀!H53+통신팀!H53+전기팀!H53+기계환경팀!H53+토목팀!H53+건축팀!H53+영업팀!H53+고객만족팀!H53+문화홍보팀!H53+부대사업팀!H53+역무자동화팀!H53+종합관제실!H53+감사실!H53 -> 0 | I53: =안전관리실!I53+SE사업팀!I53+철도사업팀!I53+기획팀!I53+성과예산팀!I53+정보화팀!I53+총무팀!I53+노무복지팀!I53+자산회계팀!I53+인재개발팀!I53+차량팀!I53+승무팀!I53+신호팀!I53+통신팀!I53+전기팀!I53+기계환경팀!I53+토목팀!I53+건축팀!I53+영업팀!I53+고객만족팀!I53+문화홍보팀!I53+부대사업팀!I53+역무자동화팀!I53+종합관제실!I53+감사실!I53 -> 0 | J53: =안전관리실!J53+SE사업팀!J53+철도사업팀!J53+기획팀!J53+성과예산팀!J53+정보화팀!J53+총무팀!J53+노무복지팀!J53+자산회계팀!J53+인재개발팀!J53+차량팀!J53+승무팀!J53+신호팀!J53+통신팀!J53+전기팀!J53+기계환경팀!J53+토목팀!J53+건축팀!J53+영업팀!J53+고객만족팀!J53+문화홍보팀!J53+부대사업팀!J53+역무자동화팀!J53+종합관제실!J53+감사실!J53 -> 0 | K53: =안전관리실!K53+SE사업팀!K53+철도사업팀!K53+기획팀!K53+성과예산팀!K53+정보화팀!K53+총무팀!K53+노무복지팀!K53+자산회계팀!K53+인재개발팀!K53+차량팀!K53+승무팀!K53+신호팀!K53+통신팀!K53+전기팀!K53+기계환경팀!K53+토목팀!K53+건축팀!K53+영업팀!K53+고객만족팀!K53+문화홍보팀!K53+부대사업팀!K53+역무자동화팀!K53+종합관제실!K53+감사실!K53 -> 0 | ... Q53: =안전관리실!Q53+SE사업팀!Q53+철도사업팀!Q53+기획팀!Q53+성과예산팀!Q53+정보화팀!Q53+총무팀!Q53+노무복지팀!Q53+자산회계팀!Q53+인재개발팀!Q53+차량팀!Q53+승무팀!Q53+신호팀!Q53+통신팀!Q53+전기팀!Q53+기계환경팀!Q53+토목팀!Q53+건축팀!Q53+영업팀!Q53+고객만족팀!Q53+문화홍보팀!Q53+부대사업팀!Q53+역무자동화팀!Q53+종합관제실!Q53+감사실!Q53 -> 0 | R53: 산업용 탈취제, 개방 공간용 탈취제, 밀폐 공간용 화학적 탈취제 | AH53: 04 | AI53: 020 | AJ53: 00080
B54: 소방방제 | C54: 소화용구 | D54: =안전관리실!D54+SE사업팀!D54+철도사업팀!D54+기획팀!D54+성과예산팀!D54+정보화팀!D54+총무팀!D54+노무복지팀!D54+자산회계팀!D54+인재개발팀!D54+차량팀!D54+승무팀!D54+신호팀!D54+통신팀!D54+전기팀!D54+기계환경팀!D54+토목팀!D54+건축팀!D54+영업팀!D54+고객만족팀!D54+문화홍보팀!D54+부대사업팀!D54+역무자동화팀!D54+종합관제실!D54+감사실!D54 -> 0 | E54: =안전관리실!E54+SE사업팀!E54+철도사업팀!E54+기획팀!E54+성과예산팀!E54+정보화팀!E54+총무팀!E54+노무복지팀!E54+자산회계팀!E54+인재개발팀!E54+차량팀!E54+승무팀!E54+신호팀!E54+통신팀!E54+전기팀!E54+기계환경팀!E54+토목팀!E54+건축팀!E54+영업팀!E54+고객만족팀!E54+문화홍보팀!E54+부대사업팀!E54+역무자동화팀!E54+종합관제실!E54+감사실!E54 -> 0 | F54: =안전관리실!F54+SE사업팀!F54+철도사업팀!F54+기획팀!F54+성과예산팀!F54+정보화팀!F54+총무팀!F54+노무복지팀!F54+자산회계팀!F54+인재개발팀!F54+차량팀!F54+승무팀!F54+신호팀!F54+통신팀!F54+전기팀!F54+기계환경팀!F54+토목팀!F54+건축팀!F54+영업팀!F54+고객만족팀!F54+문화홍보팀!F54+부대사업팀!F54+역무자동화팀!F54+종합관제실!F54+감사실!F54 -> 0 | G54: =안전관리실!G54+SE사업팀!G54+철도사업팀!G54+기획팀!G54+성과예산팀!G54+정보화팀!G54+총무팀!G54+노무복지팀!G54+자산회계팀!G54+인재개발팀!G54+차량팀!G54+승무팀!G54+신호팀!G54+통신팀!G54+전기팀!G54+기계환경팀!G54+토목팀!G54+건축팀!G54+영업팀!G54+고객만족팀!G54+문화홍보팀!G54+부대사업팀!G54+역무자동화팀!G54+종합관제실!G54+감사실!G54 -> 0 | H54: =안전관리실!H54+SE사업팀!H54+철도사업팀!H54+기획팀!H54+성과예산팀!H54+정보화팀!H54+총무팀!H54+노무복지팀!H54+자산회계팀!H54+인재개발팀!H54+차량팀!H54+승무팀!H54+신호팀!H54+통신팀!H54+전기팀!H54+기계환경팀!H54+토목팀!H54+건축팀!H54+영업팀!H54+고객만족팀!H54+문화홍보팀!H54+부대사업팀!H54+역무자동화팀!H54+종합관제실!H54+감사실!H54 -> 0 | I54: =안전관리실!I54+SE사업팀!I54+철도사업팀!I54+기획팀!I54+성과예산팀!I54+정보화팀!I54+총무팀!I54+노무복지팀!I54+자산회계팀!I54+인재개발팀!I54+차량팀!I54+승무팀!I54+신호팀!I54+통신팀!I54+전기팀!I54+기계환경팀!I54+토목팀!I54+건축팀!I54+영업팀!I54+고객만족팀!I54+문화홍보팀!I54+부대사업팀!I54+역무자동화팀!I54+종합관제실!I54+감사실!I54 -> 0 | J54: =안전관리실!J54+SE사업팀!J54+철도사업팀!J54+기획팀!J54+성과예산팀!J54+정보화팀!J54+총무팀!J54+노무복지팀!J54+자산회계팀!J54+인재개발팀!J54+차량팀!J54+승무팀!J54+신호팀!J54+통신팀!J54+전기팀!J54+기계환경팀!J54+토목팀!J54+건축팀!J54+영업팀!J54+고객만족팀!J54+문화홍보팀!J54+부대사업팀!J54+역무자동화팀!J54+종합관제실!J54+감사실!J54 -> 0 | K54: =안전관리실!K54+SE사업팀!K54+철도사업팀!K54+기획팀!K54+성과예산팀!K54+정보화팀!K54+총무팀!K54+노무복지팀!K54+자산회계팀!K54+인재개발팀!K54+차량팀!K54+승무팀!K54+신호팀!K54+통신팀!K54+전기팀!K54+기계환경팀!K54+토목팀!K54+건축팀!K54+영업팀!K54+고객만족팀!K54+문화홍보팀!K54+부대사업팀!K54+역무자동화팀!K54+종합관제실!K54+감사실!K54 -> 0 | ... Q54: =안전관리실!Q54+SE사업팀!Q54+철도사업팀!Q54+기획팀!Q54+성과예산팀!Q54+정보화팀!Q54+총무팀!Q54+노무복지팀!Q54+자산회계팀!Q54+인재개발팀!Q54+차량팀!Q54+승무팀!Q54+신호팀!Q54+통신팀!Q54+전기팀!Q54+기계환경팀!Q54+토목팀!Q54+건축팀!Q54+영업팀!Q54+고객만족팀!Q54+문화홍보팀!Q54+부대사업팀!Q54+역무자동화팀!Q54+종합관제실!Q54+감사실!Q54 -> 0 | R54: 간이 소화용구(수동식 소화기, 에어로졸식 소화기) | AH54: 04 | AI54: 021 | AJ54: 00081
B55: 실내연료유 | C55: 난방연료 | D55: =안전관리실!D55+SE사업팀!D55+철도사업팀!D55+기획팀!D55+성과예산팀!D55+정보화팀!D55+총무팀!D55+노무복지팀!D55+자산회계팀!D55+인재개발팀!D55+차량팀!D55+승무팀!D55+신호팀!D55+통신팀!D55+전기팀!D55+기계환경팀!D55+토목팀!D55+건축팀!D55+영업팀!D55+고객만족팀!D55+문화홍보팀!D55+부대사업팀!D55+역무자동화팀!D55+종합관제실!D55+감사실!D55 -> 400 | E55: =안전관리실!E55+SE사업팀!E55+철도사업팀!E55+기획팀!E55+성과예산팀!E55+정보화팀!E55+총무팀!E55+노무복지팀!E55+자산회계팀!E55+인재개발팀!E55+차량팀!E55+승무팀!E55+신호팀!E55+통신팀!E55+전기팀!E55+기계환경팀!E55+토목팀!E55+건축팀!E55+영업팀!E55+고객만족팀!E55+문화홍보팀!E55+부대사업팀!E55+역무자동화팀!E55+종합관제실!E55+감사실!E55 -> 440 | F55: =안전관리실!F55+SE사업팀!F55+철도사업팀!F55+기획팀!F55+성과예산팀!F55+정보화팀!F55+총무팀!F55+노무복지팀!F55+자산회계팀!F55+인재개발팀!F55+차량팀!F55+승무팀!F55+신호팀!F55+통신팀!F55+전기팀!F55+기계환경팀!F55+토목팀!F55+건축팀!F55+영업팀!F55+고객만족팀!F55+문화홍보팀!F55+부대사업팀!F55+역무자동화팀!F55+종합관제실!F55+감사실!F55 -> 400 | G55: =안전관리실!G55+SE사업팀!G55+철도사업팀!G55+기획팀!G55+성과예산팀!G55+정보화팀!G55+총무팀!G55+노무복지팀!G55+자산회계팀!G55+인재개발팀!G55+차량팀!G55+승무팀!G55+신호팀!G55+통신팀!G55+전기팀!G55+기계환경팀!G55+토목팀!G55+건축팀!G55+영업팀!G55+고객만족팀!G55+문화홍보팀!G55+부대사업팀!G55+역무자동화팀!G55+종합관제실!G55+감사실!G55 -> 440 | H55: =안전관리실!H55+SE사업팀!H55+철도사업팀!H55+기획팀!H55+성과예산팀!H55+정보화팀!H55+총무팀!H55+노무복지팀!H55+자산회계팀!H55+인재개발팀!H55+차량팀!H55+승무팀!H55+신호팀!H55+통신팀!H55+전기팀!H55+기계환경팀!H55+토목팀!H55+건축팀!H55+영업팀!H55+고객만족팀!H55+문화홍보팀!H55+부대사업팀!H55+역무자동화팀!H55+종합관제실!H55+감사실!H55 -> 0 | I55: =안전관리실!I55+SE사업팀!I55+철도사업팀!I55+기획팀!I55+성과예산팀!I55+정보화팀!I55+총무팀!I55+노무복지팀!I55+자산회계팀!I55+인재개발팀!I55+차량팀!I55+승무팀!I55+신호팀!I55+통신팀!I55+전기팀!I55+기계환경팀!I55+토목팀!I55+건축팀!I55+영업팀!I55+고객만족팀!I55+문화홍보팀!I55+부대사업팀!I55+역무자동화팀!I55+종합관제실!I55+감사실!I55 -> 0 | J55: =안전관리실!J55+SE사업팀!J55+철도사업팀!J55+기획팀!J55+성과예산팀!J55+정보화팀!J55+총무팀!J55+노무복지팀!J55+자산회계팀!J55+인재개발팀!J55+차량팀!J55+승무팀!J55+신호팀!J55+통신팀!J55+전기팀!J55+기계환경팀!J55+토목팀!J55+건축팀!J55+영업팀!J55+고객만족팀!J55+문화홍보팀!J55+부대사업팀!J55+역무자동화팀!J55+종합관제실!J55+감사실!J55 -> 0 | K55: =안전관리실!K55+SE사업팀!K55+철도사업팀!K55+기획팀!K55+성과예산팀!K55+정보화팀!K55+총무팀!K55+노무복지팀!K55+자산회계팀!K55+인재개발팀!K55+차량팀!K55+승무팀!K55+신호팀!K55+통신팀!K55+전기팀!K55+기계환경팀!K55+토목팀!K55+건축팀!K55+영업팀!K55+고객만족팀!K55+문화홍보팀!K55+부대사업팀!K55+역무자동화팀!K55+종합관제실!K55+감사실!K55 -> 0 | ... Q55: =안전관리실!Q55+SE사업팀!Q55+철도사업팀!Q55+기획팀!Q55+성과예산팀!Q55+정보화팀!Q55+총무팀!Q55+노무복지팀!Q55+자산회계팀!Q55+인재개발팀!Q55+차량팀!Q55+승무팀!Q55+신호팀!Q55+통신팀!Q55+전기팀!Q55+기계환경팀!Q55+토목팀!Q55+건축팀!Q55+영업팀!Q55+고객만족팀!Q55+문화홍보팀!Q55+부대사업팀!Q55+역무자동화팀!Q55+종합관제실!Q55+감사실!Q55 -> 100 | R55: 실내 등유 | AH55: 04 | AI55: 022 | AJ55: 00082
A56: 차량/운반 | B56: 건설기계 | C56: 건설중장비 | D56: =안전관리실!D56+SE사업팀!D56+철도사업팀!D56+기획팀!D56+성과예산팀!D56+정보화팀!D56+총무팀!D56+노무복지팀!D56+자산회계팀!D56+인재개발팀!D56+차량팀!D56+승무팀!D56+신호팀!D56+통신팀!D56+전기팀!D56+기계환경팀!D56+토목팀!D56+건축팀!D56+영업팀!D56+고객만족팀!D56+문화홍보팀!D56+부대사업팀!D56+역무자동화팀!D56+종합관제실!D56+감사실!D56 -> 0 | E56: =안전관리실!E56+SE사업팀!E56+철도사업팀!E56+기획팀!E56+성과예산팀!E56+정보화팀!E56+총무팀!E56+노무복지팀!E56+자산회계팀!E56+인재개발팀!E56+차량팀!E56+승무팀!E56+신호팀!E56+통신팀!E56+전기팀!E56+기계환경팀!E56+토목팀!E56+건축팀!E56+영업팀!E56+고객만족팀!E56+문화홍보팀!E56+부대사업팀!E56+역무자동화팀!E56+종합관제실!E56+감사실!E56 -> 0 | F56: =안전관리실!F56+SE사업팀!F56+철도사업팀!F56+기획팀!F56+성과예산팀!F56+정보화팀!F56+총무팀!F56+노무복지팀!F56+자산회계팀!F56+인재개발팀!F56+차량팀!F56+승무팀!F56+신호팀!F56+통신팀!F56+전기팀!F56+기계환경팀!F56+토목팀!F56+건축팀!F56+영업팀!F56+고객만족팀!F56+문화홍보팀!F56+부대사업팀!F56+역무자동화팀!F56+종합관제실!F56+감사실!F56 -> 0 | G56: =안전관리실!G56+SE사업팀!G56+철도사업팀!G56+기획팀!G56+성과예산팀!G56+정보화팀!G56+총무팀!G56+노무복지팀!G56+자산회계팀!G56+인재개발팀!G56+차량팀!G56+승무팀!G56+신호팀!G56+통신팀!G56+전기팀!G56+기계환경팀!G56+토목팀!G56+건축팀!G56+영업팀!G56+고객만족팀!G56+문화홍보팀!G56+부대사업팀!G56+역무자동화팀!G56+종합관제실!G56+감사실!G56 -> 0 | H56: =안전관리실!H56+SE사업팀!H56+철도사업팀!H56+기획팀!H56+성과예산팀!H56+정보화팀!H56+총무팀!H56+노무복지팀!H56+자산회계팀!H56+인재개발팀!H56+차량팀!H56+승무팀!H56+신호팀!H56+통신팀!H56+전기팀!H56+기계환경팀!H56+토목팀!H56+건축팀!H56+영업팀!H56+고객만족팀!H56+문화홍보팀!H56+부대사업팀!H56+역무자동화팀!H56+종합관제실!H56+감사실!H56 -> 0 | I56: =안전관리실!I56+SE사업팀!I56+철도사업팀!I56+기획팀!I56+성과예산팀!I56+정보화팀!I56+총무팀!I56+노무복지팀!I56+자산회계팀!I56+인재개발팀!I56+차량팀!I56+승무팀!I56+신호팀!I56+통신팀!I56+전기팀!I56+기계환경팀!I56+토목팀!I56+건축팀!I56+영업팀!I56+고객만족팀!I56+문화홍보팀!I56+부대사업팀!I56+역무자동화팀!I56+종합관제실!I56+감사실!I56 -> 0 | J56: =안전관리실!J56+SE사업팀!J56+철도사업팀!J56+기획팀!J56+성과예산팀!J56+정보화팀!J56+총무팀!J56+노무복지팀!J56+자산회계팀!J56+인재개발팀!J56+차량팀!J56+승무팀!J56+신호팀!J56+통신팀!J56+전기팀!J56+기계환경팀!J56+토목팀!J56+건축팀!J56+영업팀!J56+고객만족팀!J56+문화홍보팀!J56+부대사업팀!J56+역무자동화팀!J56+종합관제실!J56+감사실!J56 -> 0 | K56: =안전관리실!K56+SE사업팀!K56+철도사업팀!K56+기획팀!K56+성과예산팀!K56+정보화팀!K56+총무팀!K56+노무복지팀!K56+자산회계팀!K56+인재개발팀!K56+차량팀!K56+승무팀!K56+신호팀!K56+통신팀!K56+전기팀!K56+기계환경팀!K56+토목팀!K56+건축팀!K56+영업팀!K56+고객만족팀!K56+문화홍보팀!K56+부대사업팀!K56+역무자동화팀!K56+종합관제실!K56+감사실!K56 -> 0 | ... Q56: =안전관리실!Q56+SE사업팀!Q56+철도사업팀!Q56+기획팀!Q56+성과예산팀!Q56+정보화팀!Q56+총무팀!Q56+노무복지팀!Q56+자산회계팀!Q56+인재개발팀!Q56+차량팀!Q56+승무팀!Q56+신호팀!Q56+통신팀!Q56+전기팀!Q56+기계환경팀!Q56+토목팀!Q56+건축팀!Q56+영업팀!Q56+고객만족팀!Q56+문화홍보팀!Q56+부대사업팀!Q56+역무자동화팀!Q56+종합관제실!Q56+감사실!Q56 -> 0 | R56: 착암기, 굴삭기 | AH56: 05 | AI56: 023 | AJ56: 00083
B57: 차량용품 | C57: 차량용 타이어 | D57: =안전관리실!D57+SE사업팀!D57+철도사업팀!D57+기획팀!D57+성과예산팀!D57+정보화팀!D57+총무팀!D57+노무복지팀!D57+자산회계팀!D57+인재개발팀!D57+차량팀!D57+승무팀!D57+신호팀!D57+통신팀!D57+전기팀!D57+기계환경팀!D57+토목팀!D57+건축팀!D57+영업팀!D57+고객만족팀!D57+문화홍보팀!D57+부대사업팀!D57+역무자동화팀!D57+종합관제실!D57+감사실!D57 -> 0 | E57: =안전관리실!E57+SE사업팀!E57+철도사업팀!E57+기획팀!E57+성과예산팀!E57+정보화팀!E57+총무팀!E57+노무복지팀!E57+자산회계팀!E57+인재개발팀!E57+차량팀!E57+승무팀!E57+신호팀!E57+통신팀!E57+전기팀!E57+기계환경팀!E57+토목팀!E57+건축팀!E57+영업팀!E57+고객만족팀!E57+문화홍보팀!E57+부대사업팀!E57+역무자동화팀!E57+종합관제실!E57+감사실!E57 -> 0 | F57: =안전관리실!F57+SE사업팀!F57+철도사업팀!F57+기획팀!F57+성과예산팀!F57+정보화팀!F57+총무팀!F57+노무복지팀!F57+자산회계팀!F57+인재개발팀!F57+차량팀!F57+승무팀!F57+신호팀!F57+통신팀!F57+전기팀!F57+기계환경팀!F57+토목팀!F57+건축팀!F57+영업팀!F57+고객만족팀!F57+문화홍보팀!F57+부대사업팀!F57+역무자동화팀!F57+종합관제실!F57+감사실!F57 -> 0 | G57: =안전관리실!G57+SE사업팀!G57+철도사업팀!G57+기획팀!G57+성과예산팀!G57+정보화팀!G57+총무팀!G57+노무복지팀!G57+자산회계팀!G57+인재개발팀!G57+차량팀!G57+승무팀!G57+신호팀!G57+통신팀!G57+전기팀!G57+기계환경팀!G57+토목팀!G57+건축팀!G57+영업팀!G57+고객만족팀!G57+문화홍보팀!G57+부대사업팀!G57+역무자동화팀!G57+종합관제실!G57+감사실!G57 -> 0 | H57: =안전관리실!H57+SE사업팀!H57+철도사업팀!H57+기획팀!H57+성과예산팀!H57+정보화팀!H57+총무팀!H57+노무복지팀!H57+자산회계팀!H57+인재개발팀!H57+차량팀!H57+승무팀!H57+신호팀!H57+통신팀!H57+전기팀!H57+기계환경팀!H57+토목팀!H57+건축팀!H57+영업팀!H57+고객만족팀!H57+문화홍보팀!H57+부대사업팀!H57+역무자동화팀!H57+종합관제실!H57+감사실!H57 -> 0 | I57: =안전관리실!I57+SE사업팀!I57+철도사업팀!I57+기획팀!I57+성과예산팀!I57+정보화팀!I57+총무팀!I57+노무복지팀!I57+자산회계팀!I57+인재개발팀!I57+차량팀!I57+승무팀!I57+신호팀!I57+통신팀!I57+전기팀!I57+기계환경팀!I57+토목팀!I57+건축팀!I57+영업팀!I57+고객만족팀!I57+문화홍보팀!I57+부대사업팀!I57+역무자동화팀!I57+종합관제실!I57+감사실!I57 -> 0 | J57: =안전관리실!J57+SE사업팀!J57+철도사업팀!J57+기획팀!J57+성과예산팀!J57+정보화팀!J57+총무팀!J57+노무복지팀!J57+자산회계팀!J57+인재개발팀!J57+차량팀!J57+승무팀!J57+신호팀!J57+통신팀!J57+전기팀!J57+기계환경팀!J57+토목팀!J57+건축팀!J57+영업팀!J57+고객만족팀!J57+문화홍보팀!J57+부대사업팀!J57+역무자동화팀!J57+종합관제실!J57+감사실!J57 -> 0 | K57: =안전관리실!K57+SE사업팀!K57+철도사업팀!K57+기획팀!K57+성과예산팀!K57+정보화팀!K57+총무팀!K57+노무복지팀!K57+자산회계팀!K57+인재개발팀!K57+차량팀!K57+승무팀!K57+신호팀!K57+통신팀!K57+전기팀!K57+기계환경팀!K57+토목팀!K57+건축팀!K57+영업팀!K57+고객만족팀!K57+문화홍보팀!K57+부대사업팀!K57+역무자동화팀!K57+종합관제실!K57+감사실!K57 -> 0 | ... Q57: =안전관리실!Q57+SE사업팀!Q57+철도사업팀!Q57+기획팀!Q57+성과예산팀!Q57+정보화팀!Q57+총무팀!Q57+노무복지팀!Q57+자산회계팀!Q57+인재개발팀!Q57+차량팀!Q57+승무팀!Q57+신호팀!Q57+통신팀!Q57+전기팀!Q57+기계환경팀!Q57+토목팀!Q57+건축팀!Q57+영업팀!Q57+고객만족팀!Q57+문화홍보팀!Q57+부대사업팀!Q57+역무자동화팀!Q57+종합관제실!Q57+감사실!Q57 -> 0 | R57: 승용차용 타이어, 트럭·버스용 타이어, 자동차타이어튜브, 재활용 트레드타이어 | AH57: 05 | AI57: 024 | AJ57: 00084
C58: 차량용 엔진오일 | D58: =안전관리실!D58+SE사업팀!D58+철도사업팀!D58+기획팀!D58+성과예산팀!D58+정보화팀!D58+총무팀!D58+노무복지팀!D58+자산회계팀!D58+인재개발팀!D58+차량팀!D58+승무팀!D58+신호팀!D58+통신팀!D58+전기팀!D58+기계환경팀!D58+토목팀!D58+건축팀!D58+영업팀!D58+고객만족팀!D58+문화홍보팀!D58+부대사업팀!D58+역무자동화팀!D58+종합관제실!D58+감사실!D58 -> 0 | E58: =안전관리실!E58+SE사업팀!E58+철도사업팀!E58+기획팀!E58+성과예산팀!E58+정보화팀!E58+총무팀!E58+노무복지팀!E58+자산회계팀!E58+인재개발팀!E58+차량팀!E58+승무팀!E58+신호팀!E58+통신팀!E58+전기팀!E58+기계환경팀!E58+토목팀!E58+건축팀!E58+영업팀!E58+고객만족팀!E58+문화홍보팀!E58+부대사업팀!E58+역무자동화팀!E58+종합관제실!E58+감사실!E58 -> 0 | F58: =안전관리실!F58+SE사업팀!F58+철도사업팀!F58+기획팀!F58+성과예산팀!F58+정보화팀!F58+총무팀!F58+노무복지팀!F58+자산회계팀!F58+인재개발팀!F58+차량팀!F58+승무팀!F58+신호팀!F58+통신팀!F58+전기팀!F58+기계환경팀!F58+토목팀!F58+건축팀!F58+영업팀!F58+고객만족팀!F58+문화홍보팀!F58+부대사업팀!F58+역무자동화팀!F58+종합관제실!F58+감사실!F58 -> 0 | G58: =안전관리실!G58+SE사업팀!G58+철도사업팀!G58+기획팀!G58+성과예산팀!G58+정보화팀!G58+총무팀!G58+노무복지팀!G58+자산회계팀!G58+인재개발팀!G58+차량팀!G58+승무팀!G58+신호팀!G58+통신팀!G58+전기팀!G58+기계환경팀!G58+토목팀!G58+건축팀!G58+영업팀!G58+고객만족팀!G58+문화홍보팀!G58+부대사업팀!G58+역무자동화팀!G58+종합관제실!G58+감사실!G58 -> 0 | H58: =안전관리실!H58+SE사업팀!H58+철도사업팀!H58+기획팀!H58+성과예산팀!H58+정보화팀!H58+총무팀!H58+노무복지팀!H58+자산회계팀!H58+인재개발팀!H58+차량팀!H58+승무팀!H58+신호팀!H58+통신팀!H58+전기팀!H58+기계환경팀!H58+토목팀!H58+건축팀!H58+영업팀!H58+고객만족팀!H58+문화홍보팀!H58+부대사업팀!H58+역무자동화팀!H58+종합관제실!H58+감사실!H58 -> 0 | I58: =안전관리실!I58+SE사업팀!I58+철도사업팀!I58+기획팀!I58+성과예산팀!I58+정보화팀!I58+총무팀!I58+노무복지팀!I58+자산회계팀!I58+인재개발팀!I58+차량팀!I58+승무팀!I58+신호팀!I58+통신팀!I58+전기팀!I58+기계환경팀!I58+토목팀!I58+건축팀!I58+영업팀!I58+고객만족팀!I58+문화홍보팀!I58+부대사업팀!I58+역무자동화팀!I58+종합관제실!I58+감사실!I58 -> 0 | J58: =안전관리실!J58+SE사업팀!J58+철도사업팀!J58+기획팀!J58+성과예산팀!J58+정보화팀!J58+총무팀!J58+노무복지팀!J58+자산회계팀!J58+인재개발팀!J58+차량팀!J58+승무팀!J58+신호팀!J58+통신팀!J58+전기팀!J58+기계환경팀!J58+토목팀!J58+건축팀!J58+영업팀!J58+고객만족팀!J58+문화홍보팀!J58+부대사업팀!J58+역무자동화팀!J58+종합관제실!J58+감사실!J58 -> 0 | K58: =안전관리실!K58+SE사업팀!K58+철도사업팀!K58+기획팀!K58+성과예산팀!K58+정보화팀!K58+총무팀!K58+노무복지팀!K58+자산회계팀!K58+인재개발팀!K58+차량팀!K58+승무팀!K58+신호팀!K58+통신팀!K58+전기팀!K58+기계환경팀!K58+토목팀!K58+건축팀!K58+영업팀!K58+고객만족팀!K58+문화홍보팀!K58+부대사업팀!K58+역무자동화팀!K58+종합관제실!K58+감사실!K58 -> 0 | ... Q58: =안전관리실!Q58+SE사업팀!Q58+철도사업팀!Q58+기획팀!Q58+성과예산팀!Q58+정보화팀!Q58+총무팀!Q58+노무복지팀!Q58+자산회계팀!Q58+인재개발팀!Q58+차량팀!Q58+승무팀!Q58+신호팀!Q58+통신팀!Q58+전기팀!Q58+기계환경팀!Q58+토목팀!Q58+건축팀!Q58+영업팀!Q58+고객만족팀!Q58+문화홍보팀!Q58+부대사업팀!Q58+역무자동화팀!Q58+종합관제실!Q58+감사실!Q58 -> 0 | R58: 가솔린 엔진오일, 디젤 엔진오일 | AH58: 05 | AI58: 024 | AJ58: 00086
C59: 유압작동유 | D59: =안전관리실!D59+SE사업팀!D59+철도사업팀!D59+기획팀!D59+성과예산팀!D59+정보화팀!D59+총무팀!D59+노무복지팀!D59+자산회계팀!D59+인재개발팀!D59+차량팀!D59+승무팀!D59+신호팀!D59+통신팀!D59+전기팀!D59+기계환경팀!D59+토목팀!D59+건축팀!D59+영업팀!D59+고객만족팀!D59+문화홍보팀!D59+부대사업팀!D59+역무자동화팀!D59+종합관제실!D59+감사실!D59 -> 0 | E59: =안전관리실!E59+SE사업팀!E59+철도사업팀!E59+기획팀!E59+성과예산팀!E59+정보화팀!E59+총무팀!E59+노무복지팀!E59+자산회계팀!E59+인재개발팀!E59+차량팀!E59+승무팀!E59+신호팀!E59+통신팀!E59+전기팀!E59+기계환경팀!E59+토목팀!E59+건축팀!E59+영업팀!E59+고객만족팀!E59+문화홍보팀!E59+부대사업팀!E59+역무자동화팀!E59+종합관제실!E59+감사실!E59 -> 0 | F59: =안전관리실!F59+SE사업팀!F59+철도사업팀!F59+기획팀!F59+성과예산팀!F59+정보화팀!F59+총무팀!F59+노무복지팀!F59+자산회계팀!F59+인재개발팀!F59+차량팀!F59+승무팀!F59+신호팀!F59+통신팀!F59+전기팀!F59+기계환경팀!F59+토목팀!F59+건축팀!F59+영업팀!F59+고객만족팀!F59+문화홍보팀!F59+부대사업팀!F59+역무자동화팀!F59+종합관제실!F59+감사실!F59 -> 0 | G59: =안전관리실!G59+SE사업팀!G59+철도사업팀!G59+기획팀!G59+성과예산팀!G59+정보화팀!G59+총무팀!G59+노무복지팀!G59+자산회계팀!G59+인재개발팀!G59+차량팀!G59+승무팀!G59+신호팀!G59+통신팀!G59+전기팀!G59+기계환경팀!G59+토목팀!G59+건축팀!G59+영업팀!G59+고객만족팀!G59+문화홍보팀!G59+부대사업팀!G59+역무자동화팀!G59+종합관제실!G59+감사실!G59 -> 0 | H59: =안전관리실!H59+SE사업팀!H59+철도사업팀!H59+기획팀!H59+성과예산팀!H59+정보화팀!H59+총무팀!H59+노무복지팀!H59+자산회계팀!H59+인재개발팀!H59+차량팀!H59+승무팀!H59+신호팀!H59+통신팀!H59+전기팀!H59+기계환경팀!H59+토목팀!H59+건축팀!H59+영업팀!H59+고객만족팀!H59+문화홍보팀!H59+부대사업팀!H59+역무자동화팀!H59+종합관제실!H59+감사실!H59 -> 0 | I59: =안전관리실!I59+SE사업팀!I59+철도사업팀!I59+기획팀!I59+성과예산팀!I59+정보화팀!I59+총무팀!I59+노무복지팀!I59+자산회계팀!I59+인재개발팀!I59+차량팀!I59+승무팀!I59+신호팀!I59+통신팀!I59+전기팀!I59+기계환경팀!I59+토목팀!I59+건축팀!I59+영업팀!I59+고객만족팀!I59+문화홍보팀!I59+부대사업팀!I59+역무자동화팀!I59+종합관제실!I59+감사실!I59 -> 0 | J59: =안전관리실!J59+SE사업팀!J59+철도사업팀!J59+기획팀!J59+성과예산팀!J59+정보화팀!J59+총무팀!J59+노무복지팀!J59+자산회계팀!J59+인재개발팀!J59+차량팀!J59+승무팀!J59+신호팀!J59+통신팀!J59+전기팀!J59+기계환경팀!J59+토목팀!J59+건축팀!J59+영업팀!J59+고객만족팀!J59+문화홍보팀!J59+부대사업팀!J59+역무자동화팀!J59+종합관제실!J59+감사실!J59 -> 0 | K59: =안전관리실!K59+SE사업팀!K59+철도사업팀!K59+기획팀!K59+성과예산팀!K59+정보화팀!K59+총무팀!K59+노무복지팀!K59+자산회계팀!K59+인재개발팀!K59+차량팀!K59+승무팀!K59+신호팀!K59+통신팀!K59+전기팀!K59+기계환경팀!K59+토목팀!K59+건축팀!K59+영업팀!K59+고객만족팀!K59+문화홍보팀!K59+부대사업팀!K59+역무자동화팀!K59+종합관제실!K59+감사실!K59 -> 0 | ... Q59: =안전관리실!Q59+SE사업팀!Q59+철도사업팀!Q59+기획팀!Q59+성과예산팀!Q59+정보화팀!Q59+총무팀!Q59+노무복지팀!Q59+자산회계팀!Q59+인재개발팀!Q59+차량팀!Q59+승무팀!Q59+신호팀!Q59+통신팀!Q59+전기팀!Q59+기계환경팀!Q59+토목팀!Q59+건축팀!Q59+영업팀!Q59+고객만족팀!Q59+문화홍보팀!Q59+부대사업팀!Q59+역무자동화팀!Q59+종합관제실!Q59+감사실!Q59 -> 0 | R59: 유압작동유 | AH59: 05 | AI59: 024 | AJ59: 00088
C60: 자동차용 부동액 | D60: =안전관리실!D60+SE사업팀!D60+철도사업팀!D60+기획팀!D60+성과예산팀!D60+정보화팀!D60+총무팀!D60+노무복지팀!D60+자산회계팀!D60+인재개발팀!D60+차량팀!D60+승무팀!D60+신호팀!D60+통신팀!D60+전기팀!D60+기계환경팀!D60+토목팀!D60+건축팀!D60+영업팀!D60+고객만족팀!D60+문화홍보팀!D60+부대사업팀!D60+역무자동화팀!D60+종합관제실!D60+감사실!D60 -> 0 | E60: =안전관리실!E60+SE사업팀!E60+철도사업팀!E60+기획팀!E60+성과예산팀!E60+정보화팀!E60+총무팀!E60+노무복지팀!E60+자산회계팀!E60+인재개발팀!E60+차량팀!E60+승무팀!E60+신호팀!E60+통신팀!E60+전기팀!E60+기계환경팀!E60+토목팀!E60+건축팀!E60+영업팀!E60+고객만족팀!E60+문화홍보팀!E60+부대사업팀!E60+역무자동화팀!E60+종합관제실!E60+감사실!E60 -> 0 | F60: =안전관리실!F60+SE사업팀!F60+철도사업팀!F60+기획팀!F60+성과예산팀!F60+정보화팀!F60+총무팀!F60+노무복지팀!F60+자산회계팀!F60+인재개발팀!F60+차량팀!F60+승무팀!F60+신호팀!F60+통신팀!F60+전기팀!F60+기계환경팀!F60+토목팀!F60+건축팀!F60+영업팀!F60+고객만족팀!F60+문화홍보팀!F60+부대사업팀!F60+역무자동화팀!F60+종합관제실!F60+감사실!F60 -> 0 | G60: =안전관리실!G60+SE사업팀!G60+철도사업팀!G60+기획팀!G60+성과예산팀!G60+정보화팀!G60+총무팀!G60+노무복지팀!G60+자산회계팀!G60+인재개발팀!G60+차량팀!G60+승무팀!G60+신호팀!G60+통신팀!G60+전기팀!G60+기계환경팀!G60+토목팀!G60+건축팀!G60+영업팀!G60+고객만족팀!G60+문화홍보팀!G60+부대사업팀!G60+역무자동화팀!G60+종합관제실!G60+감사실!G60 -> 0 | H60: =안전관리실!H60+SE사업팀!H60+철도사업팀!H60+기획팀!H60+성과예산팀!H60+정보화팀!H60+총무팀!H60+노무복지팀!H60+자산회계팀!H60+인재개발팀!H60+차량팀!H60+승무팀!H60+신호팀!H60+통신팀!H60+전기팀!H60+기계환경팀!H60+토목팀!H60+건축팀!H60+영업팀!H60+고객만족팀!H60+문화홍보팀!H60+부대사업팀!H60+역무자동화팀!H60+종합관제실!H60+감사실!H60 -> 0 | I60: =안전관리실!I60+SE사업팀!I60+철도사업팀!I60+기획팀!I60+성과예산팀!I60+정보화팀!I60+총무팀!I60+노무복지팀!I60+자산회계팀!I60+인재개발팀!I60+차량팀!I60+승무팀!I60+신호팀!I60+통신팀!I60+전기팀!I60+기계환경팀!I60+토목팀!I60+건축팀!I60+영업팀!I60+고객만족팀!I60+문화홍보팀!I60+부대사업팀!I60+역무자동화팀!I60+종합관제실!I60+감사실!I60 -> 0 | J60: =안전관리실!J60+SE사업팀!J60+철도사업팀!J60+기획팀!J60+성과예산팀!J60+정보화팀!J60+총무팀!J60+노무복지팀!J60+자산회계팀!J60+인재개발팀!J60+차량팀!J60+승무팀!J60+신호팀!J60+통신팀!J60+전기팀!J60+기계환경팀!J60+토목팀!J60+건축팀!J60+영업팀!J60+고객만족팀!J60+문화홍보팀!J60+부대사업팀!J60+역무자동화팀!J60+종합관제실!J60+감사실!J60 -> 0 | K60: =안전관리실!K60+SE사업팀!K60+철도사업팀!K60+기획팀!K60+성과예산팀!K60+정보화팀!K60+총무팀!K60+노무복지팀!K60+자산회계팀!K60+인재개발팀!K60+차량팀!K60+승무팀!K60+신호팀!K60+통신팀!K60+전기팀!K60+기계환경팀!K60+토목팀!K60+건축팀!K60+영업팀!K60+고객만족팀!K60+문화홍보팀!K60+부대사업팀!K60+역무자동화팀!K60+종합관제실!K60+감사실!K60 -> 0 | ... Q60: =안전관리실!Q60+SE사업팀!Q60+철도사업팀!Q60+기획팀!Q60+성과예산팀!Q60+정보화팀!Q60+총무팀!Q60+노무복지팀!Q60+자산회계팀!Q60+인재개발팀!Q60+차량팀!Q60+승무팀!Q60+신호팀!Q60+통신팀!Q60+전기팀!Q60+기계환경팀!Q60+토목팀!Q60+건축팀!Q60+영업팀!Q60+고객만족팀!Q60+문화홍보팀!Q60+부대사업팀!Q60+역무자동화팀!Q60+종합관제실!Q60+감사실!Q60 -> 0 | R60: 자동차용 부동액 | AH60: 05 | AI60: 024 | AJ60: 00089
C61: 비석면 운송부품 | D61: =안전관리실!D61+SE사업팀!D61+철도사업팀!D61+기획팀!D61+성과예산팀!D61+정보화팀!D61+총무팀!D61+노무복지팀!D61+자산회계팀!D61+인재개발팀!D61+차량팀!D61+승무팀!D61+신호팀!D61+통신팀!D61+전기팀!D61+기계환경팀!D61+토목팀!D61+건축팀!D61+영업팀!D61+고객만족팀!D61+문화홍보팀!D61+부대사업팀!D61+역무자동화팀!D61+종합관제실!D61+감사실!D61 -> 0 | E61: =안전관리실!E61+SE사업팀!E61+철도사업팀!E61+기획팀!E61+성과예산팀!E61+정보화팀!E61+총무팀!E61+노무복지팀!E61+자산회계팀!E61+인재개발팀!E61+차량팀!E61+승무팀!E61+신호팀!E61+통신팀!E61+전기팀!E61+기계환경팀!E61+토목팀!E61+건축팀!E61+영업팀!E61+고객만족팀!E61+문화홍보팀!E61+부대사업팀!E61+역무자동화팀!E61+종합관제실!E61+감사실!E61 -> 0 | F61: =안전관리실!F61+SE사업팀!F61+철도사업팀!F61+기획팀!F61+성과예산팀!F61+정보화팀!F61+총무팀!F61+노무복지팀!F61+자산회계팀!F61+인재개발팀!F61+차량팀!F61+승무팀!F61+신호팀!F61+통신팀!F61+전기팀!F61+기계환경팀!F61+토목팀!F61+건축팀!F61+영업팀!F61+고객만족팀!F61+문화홍보팀!F61+부대사업팀!F61+역무자동화팀!F61+종합관제실!F61+감사실!F61 -> 0 | G61: =안전관리실!G61+SE사업팀!G61+철도사업팀!G61+기획팀!G61+성과예산팀!G61+정보화팀!G61+총무팀!G61+노무복지팀!G61+자산회계팀!G61+인재개발팀!G61+차량팀!G61+승무팀!G61+신호팀!G61+통신팀!G61+전기팀!G61+기계환경팀!G61+토목팀!G61+건축팀!G61+영업팀!G61+고객만족팀!G61+문화홍보팀!G61+부대사업팀!G61+역무자동화팀!G61+종합관제실!G61+감사실!G61 -> 0 | H61: =안전관리실!H61+SE사업팀!H61+철도사업팀!H61+기획팀!H61+성과예산팀!H61+정보화팀!H61+총무팀!H61+노무복지팀!H61+자산회계팀!H61+인재개발팀!H61+차량팀!H61+승무팀!H61+신호팀!H61+통신팀!H61+전기팀!H61+기계환경팀!H61+토목팀!H61+건축팀!H61+영업팀!H61+고객만족팀!H61+문화홍보팀!H61+부대사업팀!H61+역무자동화팀!H61+종합관제실!H61+감사실!H61 -> 0 | I61: =안전관리실!I61+SE사업팀!I61+철도사업팀!I61+기획팀!I61+성과예산팀!I61+정보화팀!I61+총무팀!I61+노무복지팀!I61+자산회계팀!I61+인재개발팀!I61+차량팀!I61+승무팀!I61+신호팀!I61+통신팀!I61+전기팀!I61+기계환경팀!I61+토목팀!I61+건축팀!I61+영업팀!I61+고객만족팀!I61+문화홍보팀!I61+부대사업팀!I61+역무자동화팀!I61+종합관제실!I61+감사실!I61 -> 0 | J61: =안전관리실!J61+SE사업팀!J61+철도사업팀!J61+기획팀!J61+성과예산팀!J61+정보화팀!J61+총무팀!J61+노무복지팀!J61+자산회계팀!J61+인재개발팀!J61+차량팀!J61+승무팀!J61+신호팀!J61+통신팀!J61+전기팀!J61+기계환경팀!J61+토목팀!J61+건축팀!J61+영업팀!J61+고객만족팀!J61+문화홍보팀!J61+부대사업팀!J61+역무자동화팀!J61+종합관제실!J61+감사실!J61 -> 0 | K61: =안전관리실!K61+SE사업팀!K61+철도사업팀!K61+기획팀!K61+성과예산팀!K61+정보화팀!K61+총무팀!K61+노무복지팀!K61+자산회계팀!K61+인재개발팀!K61+차량팀!K61+승무팀!K61+신호팀!K61+통신팀!K61+전기팀!K61+기계환경팀!K61+토목팀!K61+건축팀!K61+영업팀!K61+고객만족팀!K61+문화홍보팀!K61+부대사업팀!K61+역무자동화팀!K61+종합관제실!K61+감사실!K61 -> 0 | ... Q61: =안전관리실!Q61+SE사업팀!Q61+철도사업팀!Q61+기획팀!Q61+성과예산팀!Q61+정보화팀!Q61+총무팀!Q61+노무복지팀!Q61+자산회계팀!Q61+인재개발팀!Q61+차량팀!Q61+승무팀!Q61+신호팀!Q61+통신팀!Q61+전기팀!Q61+기계환경팀!Q61+토목팀!Q61+건축팀!Q61+영업팀!Q61+고객만족팀!Q61+문화홍보팀!Q61+부대사업팀!Q61+역무자동화팀!Q61+종합관제실!Q61+감사실!Q61 -> 0 | R61: 브레이크 패드, 브레이크 라이닝, 드럼브레이크, 드럼브레이크슈 | AH61: 05 | AI61: 024 | AJ61: 00090
C62: 기타 차량용품 | D62: =안전관리실!D62+SE사업팀!D62+철도사업팀!D62+기획팀!D62+성과예산팀!D62+정보화팀!D62+총무팀!D62+노무복지팀!D62+자산회계팀!D62+인재개발팀!D62+차량팀!D62+승무팀!D62+신호팀!D62+통신팀!D62+전기팀!D62+기계환경팀!D62+토목팀!D62+건축팀!D62+영업팀!D62+고객만족팀!D62+문화홍보팀!D62+부대사업팀!D62+역무자동화팀!D62+종합관제실!D62+감사실!D62 -> 0 | E62: =안전관리실!E62+SE사업팀!E62+철도사업팀!E62+기획팀!E62+성과예산팀!E62+정보화팀!E62+총무팀!E62+노무복지팀!E62+자산회계팀!E62+인재개발팀!E62+차량팀!E62+승무팀!E62+신호팀!E62+통신팀!E62+전기팀!E62+기계환경팀!E62+토목팀!E62+건축팀!E62+영업팀!E62+고객만족팀!E62+문화홍보팀!E62+부대사업팀!E62+역무자동화팀!E62+종합관제실!E62+감사실!E62 -> 0 | F62: =안전관리실!F62+SE사업팀!F62+철도사업팀!F62+기획팀!F62+성과예산팀!F62+정보화팀!F62+총무팀!F62+노무복지팀!F62+자산회계팀!F62+인재개발팀!F62+차량팀!F62+승무팀!F62+신호팀!F62+통신팀!F62+전기팀!F62+기계환경팀!F62+토목팀!F62+건축팀!F62+영업팀!F62+고객만족팀!F62+문화홍보팀!F62+부대사업팀!F62+역무자동화팀!F62+종합관제실!F62+감사실!F62 -> 0 | G62: =안전관리실!G62+SE사업팀!G62+철도사업팀!G62+기획팀!G62+성과예산팀!G62+정보화팀!G62+총무팀!G62+노무복지팀!G62+자산회계팀!G62+인재개발팀!G62+차량팀!G62+승무팀!G62+신호팀!G62+통신팀!G62+전기팀!G62+기계환경팀!G62+토목팀!G62+건축팀!G62+영업팀!G62+고객만족팀!G62+문화홍보팀!G62+부대사업팀!G62+역무자동화팀!G62+종합관제실!G62+감사실!G62 -> 0 | H62: =안전관리실!H62+SE사업팀!H62+철도사업팀!H62+기획팀!H62+성과예산팀!H62+정보화팀!H62+총무팀!H62+노무복지팀!H62+자산회계팀!H62+인재개발팀!H62+차량팀!H62+승무팀!H62+신호팀!H62+통신팀!H62+전기팀!H62+기계환경팀!H62+토목팀!H62+건축팀!H62+영업팀!H62+고객만족팀!H62+문화홍보팀!H62+부대사업팀!H62+역무자동화팀!H62+종합관제실!H62+감사실!H62 -> 0 | I62: =안전관리실!I62+SE사업팀!I62+철도사업팀!I62+기획팀!I62+성과예산팀!I62+정보화팀!I62+총무팀!I62+노무복지팀!I62+자산회계팀!I62+인재개발팀!I62+차량팀!I62+승무팀!I62+신호팀!I62+통신팀!I62+전기팀!I62+기계환경팀!I62+토목팀!I62+건축팀!I62+영업팀!I62+고객만족팀!I62+문화홍보팀!I62+부대사업팀!I62+역무자동화팀!I62+종합관제실!I62+감사실!I62 -> 0 | J62: =안전관리실!J62+SE사업팀!J62+철도사업팀!J62+기획팀!J62+성과예산팀!J62+정보화팀!J62+총무팀!J62+노무복지팀!J62+자산회계팀!J62+인재개발팀!J62+차량팀!J62+승무팀!J62+신호팀!J62+통신팀!J62+전기팀!J62+기계환경팀!J62+토목팀!J62+건축팀!J62+영업팀!J62+고객만족팀!J62+문화홍보팀!J62+부대사업팀!J62+역무자동화팀!J62+종합관제실!J62+감사실!J62 -> 0 | K62: =안전관리실!K62+SE사업팀!K62+철도사업팀!K62+기획팀!K62+성과예산팀!K62+정보화팀!K62+총무팀!K62+노무복지팀!K62+자산회계팀!K62+인재개발팀!K62+차량팀!K62+승무팀!K62+신호팀!K62+통신팀!K62+전기팀!K62+기계환경팀!K62+토목팀!K62+건축팀!K62+영업팀!K62+고객만족팀!K62+문화홍보팀!K62+부대사업팀!K62+역무자동화팀!K62+종합관제실!K62+감사실!K62 -> 0 | ... Q62: =안전관리실!Q62+SE사업팀!Q62+철도사업팀!Q62+기획팀!Q62+성과예산팀!Q62+정보화팀!Q62+총무팀!Q62+노무복지팀!Q62+자산회계팀!Q62+인재개발팀!Q62+차량팀!Q62+승무팀!Q62+신호팀!Q62+통신팀!Q62+전기팀!Q62+기계환경팀!Q62+토목팀!Q62+건축팀!Q62+영업팀!Q62+고객만족팀!Q62+문화홍보팀!Q62+부대사업팀!Q62+역무자동화팀!Q62+종합관제실!Q62+감사실!Q62 -> 0 | R62: 차량용여과필터 등 | AH62: 05 | AI62: 024 | AJ62: 00160
B63: 특장차 | C63: 특장차 | D63: =안전관리실!D63+SE사업팀!D63+철도사업팀!D63+기획팀!D63+성과예산팀!D63+정보화팀!D63+총무팀!D63+노무복지팀!D63+자산회계팀!D63+인재개발팀!D63+차량팀!D63+승무팀!D63+신호팀!D63+통신팀!D63+전기팀!D63+기계환경팀!D63+토목팀!D63+건축팀!D63+영업팀!D63+고객만족팀!D63+문화홍보팀!D63+부대사업팀!D63+역무자동화팀!D63+종합관제실!D63+감사실!D63 -> 0 | E63: =안전관리실!E63+SE사업팀!E63+철도사업팀!E63+기획팀!E63+성과예산팀!E63+정보화팀!E63+총무팀!E63+노무복지팀!E63+자산회계팀!E63+인재개발팀!E63+차량팀!E63+승무팀!E63+신호팀!E63+통신팀!E63+전기팀!E63+기계환경팀!E63+토목팀!E63+건축팀!E63+영업팀!E63+고객만족팀!E63+문화홍보팀!E63+부대사업팀!E63+역무자동화팀!E63+종합관제실!E63+감사실!E63 -> 0 | F63: =안전관리실!F63+SE사업팀!F63+철도사업팀!F63+기획팀!F63+성과예산팀!F63+정보화팀!F63+총무팀!F63+노무복지팀!F63+자산회계팀!F63+인재개발팀!F63+차량팀!F63+승무팀!F63+신호팀!F63+통신팀!F63+전기팀!F63+기계환경팀!F63+토목팀!F63+건축팀!F63+영업팀!F63+고객만족팀!F63+문화홍보팀!F63+부대사업팀!F63+역무자동화팀!F63+종합관제실!F63+감사실!F63 -> 0 | G63: =안전관리실!G63+SE사업팀!G63+철도사업팀!G63+기획팀!G63+성과예산팀!G63+정보화팀!G63+총무팀!G63+노무복지팀!G63+자산회계팀!G63+인재개발팀!G63+차량팀!G63+승무팀!G63+신호팀!G63+통신팀!G63+전기팀!G63+기계환경팀!G63+토목팀!G63+건축팀!G63+영업팀!G63+고객만족팀!G63+문화홍보팀!G63+부대사업팀!G63+역무자동화팀!G63+종합관제실!G63+감사실!G63 -> 0 | H63: =안전관리실!H63+SE사업팀!H63+철도사업팀!H63+기획팀!H63+성과예산팀!H63+정보화팀!H63+총무팀!H63+노무복지팀!H63+자산회계팀!H63+인재개발팀!H63+차량팀!H63+승무팀!H63+신호팀!H63+통신팀!H63+전기팀!H63+기계환경팀!H63+토목팀!H63+건축팀!H63+영업팀!H63+고객만족팀!H63+문화홍보팀!H63+부대사업팀!H63+역무자동화팀!H63+종합관제실!H63+감사실!H63 -> 0 | I63: =안전관리실!I63+SE사업팀!I63+철도사업팀!I63+기획팀!I63+성과예산팀!I63+정보화팀!I63+총무팀!I63+노무복지팀!I63+자산회계팀!I63+인재개발팀!I63+차량팀!I63+승무팀!I63+신호팀!I63+통신팀!I63+전기팀!I63+기계환경팀!I63+토목팀!I63+건축팀!I63+영업팀!I63+고객만족팀!I63+문화홍보팀!I63+부대사업팀!I63+역무자동화팀!I63+종합관제실!I63+감사실!I63 -> 0 | J63: =안전관리실!J63+SE사업팀!J63+철도사업팀!J63+기획팀!J63+성과예산팀!J63+정보화팀!J63+총무팀!J63+노무복지팀!J63+자산회계팀!J63+인재개발팀!J63+차량팀!J63+승무팀!J63+신호팀!J63+통신팀!J63+전기팀!J63+기계환경팀!J63+토목팀!J63+건축팀!J63+영업팀!J63+고객만족팀!J63+문화홍보팀!J63+부대사업팀!J63+역무자동화팀!J63+종합관제실!J63+감사실!J63 -> 0 | K63: =안전관리실!K63+SE사업팀!K63+철도사업팀!K63+기획팀!K63+성과예산팀!K63+정보화팀!K63+총무팀!K63+노무복지팀!K63+자산회계팀!K63+인재개발팀!K63+차량팀!K63+승무팀!K63+신호팀!K63+통신팀!K63+전기팀!K63+기계환경팀!K63+토목팀!K63+건축팀!K63+영업팀!K63+고객만족팀!K63+문화홍보팀!K63+부대사업팀!K63+역무자동화팀!K63+종합관제실!K63+감사실!K63 -> 0 | ... Q63: =안전관리실!Q63+SE사업팀!Q63+철도사업팀!Q63+기획팀!Q63+성과예산팀!Q63+정보화팀!Q63+총무팀!Q63+노무복지팀!Q63+자산회계팀!Q63+인재개발팀!Q63+차량팀!Q63+승무팀!Q63+신호팀!Q63+통신팀!Q63+전기팀!Q63+기계환경팀!Q63+토목팀!Q63+건축팀!Q63+영업팀!Q63+고객만족팀!Q63+문화홍보팀!Q63+부대사업팀!Q63+역무자동화팀!Q63+종합관제실!Q63+감사실!Q63 -> 0 | R63: 음식물쓰레기처리차 | AH63: 05 | AI63: 025 | AJ63: 00092
A64: 전기/시험/계측 | B64: 발전장치 | C64: 축전지 | D64: =안전관리실!D64+SE사업팀!D64+철도사업팀!D64+기획팀!D64+성과예산팀!D64+정보화팀!D64+총무팀!D64+노무복지팀!D64+자산회계팀!D64+인재개발팀!D64+차량팀!D64+승무팀!D64+신호팀!D64+통신팀!D64+전기팀!D64+기계환경팀!D64+토목팀!D64+건축팀!D64+영업팀!D64+고객만족팀!D64+문화홍보팀!D64+부대사업팀!D64+역무자동화팀!D64+종합관제실!D64+감사실!D64 -> 474 | E64: =안전관리실!E64+SE사업팀!E64+철도사업팀!E64+기획팀!E64+성과예산팀!E64+정보화팀!E64+총무팀!E64+노무복지팀!E64+자산회계팀!E64+인재개발팀!E64+차량팀!E64+승무팀!E64+신호팀!E64+통신팀!E64+전기팀!E64+기계환경팀!E64+토목팀!E64+건축팀!E64+영업팀!E64+고객만족팀!E64+문화홍보팀!E64+부대사업팀!E64+역무자동화팀!E64+종합관제실!E64+감사실!E64 -> 164940 | F64: =안전관리실!F64+SE사업팀!F64+철도사업팀!F64+기획팀!F64+성과예산팀!F64+정보화팀!F64+총무팀!F64+노무복지팀!F64+자산회계팀!F64+인재개발팀!F64+차량팀!F64+승무팀!F64+신호팀!F64+통신팀!F64+전기팀!F64+기계환경팀!F64+토목팀!F64+건축팀!F64+영업팀!F64+고객만족팀!F64+문화홍보팀!F64+부대사업팀!F64+역무자동화팀!F64+종합관제실!F64+감사실!F64 -> 474 | G64: =안전관리실!G64+SE사업팀!G64+철도사업팀!G64+기획팀!G64+성과예산팀!G64+정보화팀!G64+총무팀!G64+노무복지팀!G64+자산회계팀!G64+인재개발팀!G64+차량팀!G64+승무팀!G64+신호팀!G64+통신팀!G64+전기팀!G64+기계환경팀!G64+토목팀!G64+건축팀!G64+영업팀!G64+고객만족팀!G64+문화홍보팀!G64+부대사업팀!G64+역무자동화팀!G64+종합관제실!G64+감사실!G64 -> 164940 | H64: =안전관리실!H64+SE사업팀!H64+철도사업팀!H64+기획팀!H64+성과예산팀!H64+정보화팀!H64+총무팀!H64+노무복지팀!H64+자산회계팀!H64+인재개발팀!H64+차량팀!H64+승무팀!H64+신호팀!H64+통신팀!H64+전기팀!H64+기계환경팀!H64+토목팀!H64+건축팀!H64+영업팀!H64+고객만족팀!H64+문화홍보팀!H64+부대사업팀!H64+역무자동화팀!H64+종합관제실!H64+감사실!H64 -> 0 | I64: =안전관리실!I64+SE사업팀!I64+철도사업팀!I64+기획팀!I64+성과예산팀!I64+정보화팀!I64+총무팀!I64+노무복지팀!I64+자산회계팀!I64+인재개발팀!I64+차량팀!I64+승무팀!I64+신호팀!I64+통신팀!I64+전기팀!I64+기계환경팀!I64+토목팀!I64+건축팀!I64+영업팀!I64+고객만족팀!I64+문화홍보팀!I64+부대사업팀!I64+역무자동화팀!I64+종합관제실!I64+감사실!I64 -> 0 | J64: =안전관리실!J64+SE사업팀!J64+철도사업팀!J64+기획팀!J64+성과예산팀!J64+정보화팀!J64+총무팀!J64+노무복지팀!J64+자산회계팀!J64+인재개발팀!J64+차량팀!J64+승무팀!J64+신호팀!J64+통신팀!J64+전기팀!J64+기계환경팀!J64+토목팀!J64+건축팀!J64+영업팀!J64+고객만족팀!J64+문화홍보팀!J64+부대사업팀!J64+역무자동화팀!J64+종합관제실!J64+감사실!J64 -> 0 | K64: =안전관리실!K64+SE사업팀!K64+철도사업팀!K64+기획팀!K64+성과예산팀!K64+정보화팀!K64+총무팀!K64+노무복지팀!K64+자산회계팀!K64+인재개발팀!K64+차량팀!K64+승무팀!K64+신호팀!K64+통신팀!K64+전기팀!K64+기계환경팀!K64+토목팀!K64+건축팀!K64+영업팀!K64+고객만족팀!K64+문화홍보팀!K64+부대사업팀!K64+역무자동화팀!K64+종합관제실!K64+감사실!K64 -> 0 | ... Q64: =안전관리실!Q64+SE사업팀!Q64+철도사업팀!Q64+기획팀!Q64+성과예산팀!Q64+정보화팀!Q64+총무팀!Q64+노무복지팀!Q64+자산회계팀!Q64+인재개발팀!Q64+차량팀!Q64+승무팀!Q64+신호팀!Q64+통신팀!Q64+전기팀!Q64+기계환경팀!Q64+토목팀!Q64+건축팀!Q64+영업팀!Q64+고객만족팀!Q64+문화홍보팀!Q64+부대사업팀!Q64+역무자동화팀!Q64+종합관제실!Q64+감사실!Q64 -> 200 | R64: 밀폐형납축전지, 니켈수소축전지, 니켈카드뮴축전지 | AH64: 06 | AI64: 026 | AJ64: 00093
B65: 램프 및 안정기 | C65: 형광램프 | D65: =안전관리실!D65+SE사업팀!D65+철도사업팀!D65+기획팀!D65+성과예산팀!D65+정보화팀!D65+총무팀!D65+노무복지팀!D65+자산회계팀!D65+인재개발팀!D65+차량팀!D65+승무팀!D65+신호팀!D65+통신팀!D65+전기팀!D65+기계환경팀!D65+토목팀!D65+건축팀!D65+영업팀!D65+고객만족팀!D65+문화홍보팀!D65+부대사업팀!D65+역무자동화팀!D65+종합관제실!D65+감사실!D65 -> 200 | E65: =안전관리실!E65+SE사업팀!E65+철도사업팀!E65+기획팀!E65+성과예산팀!E65+정보화팀!E65+총무팀!E65+노무복지팀!E65+자산회계팀!E65+인재개발팀!E65+차량팀!E65+승무팀!E65+신호팀!E65+통신팀!E65+전기팀!E65+기계환경팀!E65+토목팀!E65+건축팀!E65+영업팀!E65+고객만족팀!E65+문화홍보팀!E65+부대사업팀!E65+역무자동화팀!E65+종합관제실!E65+감사실!E65 -> 4400 | F65: =안전관리실!F65+SE사업팀!F65+철도사업팀!F65+기획팀!F65+성과예산팀!F65+정보화팀!F65+총무팀!F65+노무복지팀!F65+자산회계팀!F65+인재개발팀!F65+차량팀!F65+승무팀!F65+신호팀!F65+통신팀!F65+전기팀!F65+기계환경팀!F65+토목팀!F65+건축팀!F65+영업팀!F65+고객만족팀!F65+문화홍보팀!F65+부대사업팀!F65+역무자동화팀!F65+종합관제실!F65+감사실!F65 -> 200 | G65: =안전관리실!G65+SE사업팀!G65+철도사업팀!G65+기획팀!G65+성과예산팀!G65+정보화팀!G65+총무팀!G65+노무복지팀!G65+자산회계팀!G65+인재개발팀!G65+차량팀!G65+승무팀!G65+신호팀!G65+통신팀!G65+전기팀!G65+기계환경팀!G65+토목팀!G65+건축팀!G65+영업팀!G65+고객만족팀!G65+문화홍보팀!G65+부대사업팀!G65+역무자동화팀!G65+종합관제실!G65+감사실!G65 -> 4400 | H65: =안전관리실!H65+SE사업팀!H65+철도사업팀!H65+기획팀!H65+성과예산팀!H65+정보화팀!H65+총무팀!H65+노무복지팀!H65+자산회계팀!H65+인재개발팀!H65+차량팀!H65+승무팀!H65+신호팀!H65+통신팀!H65+전기팀!H65+기계환경팀!H65+토목팀!H65+건축팀!H65+영업팀!H65+고객만족팀!H65+문화홍보팀!H65+부대사업팀!H65+역무자동화팀!H65+종합관제실!H65+감사실!H65 -> 0 | I65: =안전관리실!I65+SE사업팀!I65+철도사업팀!I65+기획팀!I65+성과예산팀!I65+정보화팀!I65+총무팀!I65+노무복지팀!I65+자산회계팀!I65+인재개발팀!I65+차량팀!I65+승무팀!I65+신호팀!I65+통신팀!I65+전기팀!I65+기계환경팀!I65+토목팀!I65+건축팀!I65+영업팀!I65+고객만족팀!I65+문화홍보팀!I65+부대사업팀!I65+역무자동화팀!I65+종합관제실!I65+감사실!I65 -> 0 | J65: =안전관리실!J65+SE사업팀!J65+철도사업팀!J65+기획팀!J65+성과예산팀!J65+정보화팀!J65+총무팀!J65+노무복지팀!J65+자산회계팀!J65+인재개발팀!J65+차량팀!J65+승무팀!J65+신호팀!J65+통신팀!J65+전기팀!J65+기계환경팀!J65+토목팀!J65+건축팀!J65+영업팀!J65+고객만족팀!J65+문화홍보팀!J65+부대사업팀!J65+역무자동화팀!J65+종합관제실!J65+감사실!J65 -> 0 | K65: =안전관리실!K65+SE사업팀!K65+철도사업팀!K65+기획팀!K65+성과예산팀!K65+정보화팀!K65+총무팀!K65+노무복지팀!K65+자산회계팀!K65+인재개발팀!K65+차량팀!K65+승무팀!K65+신호팀!K65+통신팀!K65+전기팀!K65+기계환경팀!K65+토목팀!K65+건축팀!K65+영업팀!K65+고객만족팀!K65+문화홍보팀!K65+부대사업팀!K65+역무자동화팀!K65+종합관제실!K65+감사실!K65 -> 0 | ... Q65: =안전관리실!Q65+SE사업팀!Q65+철도사업팀!Q65+기획팀!Q65+성과예산팀!Q65+정보화팀!Q65+총무팀!Q65+노무복지팀!Q65+자산회계팀!Q65+인재개발팀!Q65+차량팀!Q65+승무팀!Q65+신호팀!Q65+통신팀!Q65+전기팀!Q65+기계환경팀!Q65+토목팀!Q65+건축팀!Q65+영업팀!Q65+고객만족팀!Q65+문화홍보팀!Q65+부대사업팀!Q65+역무자동화팀!Q65+종합관제실!Q65+감사실!Q65 -> 100 | R65: 형광램프, 안정기내장형램프 | AH65: 06 | AI65: 027 | AJ65: 00094
C66: 등기구 | D66: =안전관리실!D66+SE사업팀!D66+철도사업팀!D66+기획팀!D66+성과예산팀!D66+정보화팀!D66+총무팀!D66+노무복지팀!D66+자산회계팀!D66+인재개발팀!D66+차량팀!D66+승무팀!D66+신호팀!D66+통신팀!D66+전기팀!D66+기계환경팀!D66+토목팀!D66+건축팀!D66+영업팀!D66+고객만족팀!D66+문화홍보팀!D66+부대사업팀!D66+역무자동화팀!D66+종합관제실!D66+감사실!D66 -> 0 | E66: =안전관리실!E66+SE사업팀!E66+철도사업팀!E66+기획팀!E66+성과예산팀!E66+정보화팀!E66+총무팀!E66+노무복지팀!E66+자산회계팀!E66+인재개발팀!E66+차량팀!E66+승무팀!E66+신호팀!E66+통신팀!E66+전기팀!E66+기계환경팀!E66+토목팀!E66+건축팀!E66+영업팀!E66+고객만족팀!E66+문화홍보팀!E66+부대사업팀!E66+역무자동화팀!E66+종합관제실!E66+감사실!E66 -> 0 | F66: =안전관리실!F66+SE사업팀!F66+철도사업팀!F66+기획팀!F66+성과예산팀!F66+정보화팀!F66+총무팀!F66+노무복지팀!F66+자산회계팀!F66+인재개발팀!F66+차량팀!F66+승무팀!F66+신호팀!F66+통신팀!F66+전기팀!F66+기계환경팀!F66+토목팀!F66+건축팀!F66+영업팀!F66+고객만족팀!F66+문화홍보팀!F66+부대사업팀!F66+역무자동화팀!F66+종합관제실!F66+감사실!F66 -> 0 | G66: =안전관리실!G66+SE사업팀!G66+철도사업팀!G66+기획팀!G66+성과예산팀!G66+정보화팀!G66+총무팀!G66+노무복지팀!G66+자산회계팀!G66+인재개발팀!G66+차량팀!G66+승무팀!G66+신호팀!G66+통신팀!G66+전기팀!G66+기계환경팀!G66+토목팀!G66+건축팀!G66+영업팀!G66+고객만족팀!G66+문화홍보팀!G66+부대사업팀!G66+역무자동화팀!G66+종합관제실!G66+감사실!G66 -> 0 | H66: =안전관리실!H66+SE사업팀!H66+철도사업팀!H66+기획팀!H66+성과예산팀!H66+정보화팀!H66+총무팀!H66+노무복지팀!H66+자산회계팀!H66+인재개발팀!H66+차량팀!H66+승무팀!H66+신호팀!H66+통신팀!H66+전기팀!H66+기계환경팀!H66+토목팀!H66+건축팀!H66+영업팀!H66+고객만족팀!H66+문화홍보팀!H66+부대사업팀!H66+역무자동화팀!H66+종합관제실!H66+감사실!H66 -> 0 | I66: =안전관리실!I66+SE사업팀!I66+철도사업팀!I66+기획팀!I66+성과예산팀!I66+정보화팀!I66+총무팀!I66+노무복지팀!I66+자산회계팀!I66+인재개발팀!I66+차량팀!I66+승무팀!I66+신호팀!I66+통신팀!I66+전기팀!I66+기계환경팀!I66+토목팀!I66+건축팀!I66+영업팀!I66+고객만족팀!I66+문화홍보팀!I66+부대사업팀!I66+역무자동화팀!I66+종합관제실!I66+감사실!I66 -> 0 | J66: =안전관리실!J66+SE사업팀!J66+철도사업팀!J66+기획팀!J66+성과예산팀!J66+정보화팀!J66+총무팀!J66+노무복지팀!J66+자산회계팀!J66+인재개발팀!J66+차량팀!J66+승무팀!J66+신호팀!J66+통신팀!J66+전기팀!J66+기계환경팀!J66+토목팀!J66+건축팀!J66+영업팀!J66+고객만족팀!J66+문화홍보팀!J66+부대사업팀!J66+역무자동화팀!J66+종합관제실!J66+감사실!J66 -> 0 | K66: =안전관리실!K66+SE사업팀!K66+철도사업팀!K66+기획팀!K66+성과예산팀!K66+정보화팀!K66+총무팀!K66+노무복지팀!K66+자산회계팀!K66+인재개발팀!K66+차량팀!K66+승무팀!K66+신호팀!K66+통신팀!K66+전기팀!K66+기계환경팀!K66+토목팀!K66+건축팀!K66+영업팀!K66+고객만족팀!K66+문화홍보팀!K66+부대사업팀!K66+역무자동화팀!K66+종합관제실!K66+감사실!K66 -> 0 | ... Q66: =안전관리실!Q66+SE사업팀!Q66+철도사업팀!Q66+기획팀!Q66+성과예산팀!Q66+정보화팀!Q66+총무팀!Q66+노무복지팀!Q66+자산회계팀!Q66+인재개발팀!Q66+차량팀!Q66+승무팀!Q66+신호팀!Q66+통신팀!Q66+전기팀!Q66+기계환경팀!Q66+토목팀!Q66+건축팀!Q66+영업팀!Q66+고객만족팀!Q66+문화홍보팀!Q66+부대사업팀!Q66+역무자동화팀!Q66+종합관제실!Q66+감사실!Q66 -> 0 | R66: 감지형 등기구, 핸드및연장조명 | AH66: 06 | AI66: 027 | AJ66: 00096
C67: 램프용 안정기 | D67: =안전관리실!D67+SE사업팀!D67+철도사업팀!D67+기획팀!D67+성과예산팀!D67+정보화팀!D67+총무팀!D67+노무복지팀!D67+자산회계팀!D67+인재개발팀!D67+차량팀!D67+승무팀!D67+신호팀!D67+통신팀!D67+전기팀!D67+기계환경팀!D67+토목팀!D67+건축팀!D67+영업팀!D67+고객만족팀!D67+문화홍보팀!D67+부대사업팀!D67+역무자동화팀!D67+종합관제실!D67+감사실!D67 -> 0 | E67: =안전관리실!E67+SE사업팀!E67+철도사업팀!E67+기획팀!E67+성과예산팀!E67+정보화팀!E67+총무팀!E67+노무복지팀!E67+자산회계팀!E67+인재개발팀!E67+차량팀!E67+승무팀!E67+신호팀!E67+통신팀!E67+전기팀!E67+기계환경팀!E67+토목팀!E67+건축팀!E67+영업팀!E67+고객만족팀!E67+문화홍보팀!E67+부대사업팀!E67+역무자동화팀!E67+종합관제실!E67+감사실!E67 -> 0 | F67: =안전관리실!F67+SE사업팀!F67+철도사업팀!F67+기획팀!F67+성과예산팀!F67+정보화팀!F67+총무팀!F67+노무복지팀!F67+자산회계팀!F67+인재개발팀!F67+차량팀!F67+승무팀!F67+신호팀!F67+통신팀!F67+전기팀!F67+기계환경팀!F67+토목팀!F67+건축팀!F67+영업팀!F67+고객만족팀!F67+문화홍보팀!F67+부대사업팀!F67+역무자동화팀!F67+종합관제실!F67+감사실!F67 -> 0 | G67: =안전관리실!G67+SE사업팀!G67+철도사업팀!G67+기획팀!G67+성과예산팀!G67+정보화팀!G67+총무팀!G67+노무복지팀!G67+자산회계팀!G67+인재개발팀!G67+차량팀!G67+승무팀!G67+신호팀!G67+통신팀!G67+전기팀!G67+기계환경팀!G67+토목팀!G67+건축팀!G67+영업팀!G67+고객만족팀!G67+문화홍보팀!G67+부대사업팀!G67+역무자동화팀!G67+종합관제실!G67+감사실!G67 -> 0 | H67: =안전관리실!H67+SE사업팀!H67+철도사업팀!H67+기획팀!H67+성과예산팀!H67+정보화팀!H67+총무팀!H67+노무복지팀!H67+자산회계팀!H67+인재개발팀!H67+차량팀!H67+승무팀!H67+신호팀!H67+통신팀!H67+전기팀!H67+기계환경팀!H67+토목팀!H67+건축팀!H67+영업팀!H67+고객만족팀!H67+문화홍보팀!H67+부대사업팀!H67+역무자동화팀!H67+종합관제실!H67+감사실!H67 -> 0 | I67: =안전관리실!I67+SE사업팀!I67+철도사업팀!I67+기획팀!I67+성과예산팀!I67+정보화팀!I67+총무팀!I67+노무복지팀!I67+자산회계팀!I67+인재개발팀!I67+차량팀!I67+승무팀!I67+신호팀!I67+통신팀!I67+전기팀!I67+기계환경팀!I67+토목팀!I67+건축팀!I67+영업팀!I67+고객만족팀!I67+문화홍보팀!I67+부대사업팀!I67+역무자동화팀!I67+종합관제실!I67+감사실!I67 -> 0 | J67: =안전관리실!J67+SE사업팀!J67+철도사업팀!J67+기획팀!J67+성과예산팀!J67+정보화팀!J67+총무팀!J67+노무복지팀!J67+자산회계팀!J67+인재개발팀!J67+차량팀!J67+승무팀!J67+신호팀!J67+통신팀!J67+전기팀!J67+기계환경팀!J67+토목팀!J67+건축팀!J67+영업팀!J67+고객만족팀!J67+문화홍보팀!J67+부대사업팀!J67+역무자동화팀!J67+종합관제실!J67+감사실!J67 -> 0 | K67: =안전관리실!K67+SE사업팀!K67+철도사업팀!K67+기획팀!K67+성과예산팀!K67+정보화팀!K67+총무팀!K67+노무복지팀!K67+자산회계팀!K67+인재개발팀!K67+차량팀!K67+승무팀!K67+신호팀!K67+통신팀!K67+전기팀!K67+기계환경팀!K67+토목팀!K67+건축팀!K67+영업팀!K67+고객만족팀!K67+문화홍보팀!K67+부대사업팀!K67+역무자동화팀!K67+종합관제실!K67+감사실!K67 -> 0 | ... Q67: =안전관리실!Q67+SE사업팀!Q67+철도사업팀!Q67+기획팀!Q67+성과예산팀!Q67+정보화팀!Q67+총무팀!Q67+노무복지팀!Q67+자산회계팀!Q67+인재개발팀!Q67+차량팀!Q67+승무팀!Q67+신호팀!Q67+통신팀!Q67+전기팀!Q67+기계환경팀!Q67+토목팀!Q67+건축팀!Q67+영업팀!Q67+고객만족팀!Q67+문화홍보팀!Q67+부대사업팀!Q67+역무자동화팀!Q67+종합관제실!Q67+감사실!Q67 -> 0 | R67: 안정기(형광램프룡, 나트륨램프용, 메탈핼라이드램프용) | AH67: 06 | AI67: 027 | AJ67: 00097
B68: 가로등 | C68: 가로등 | D68: =안전관리실!D68+SE사업팀!D68+철도사업팀!D68+기획팀!D68+성과예산팀!D68+정보화팀!D68+총무팀!D68+노무복지팀!D68+자산회계팀!D68+인재개발팀!D68+차량팀!D68+승무팀!D68+신호팀!D68+통신팀!D68+전기팀!D68+기계환경팀!D68+토목팀!D68+건축팀!D68+영업팀!D68+고객만족팀!D68+문화홍보팀!D68+부대사업팀!D68+역무자동화팀!D68+종합관제실!D68+감사실!D68 -> 0 | E68: =안전관리실!E68+SE사업팀!E68+철도사업팀!E68+기획팀!E68+성과예산팀!E68+정보화팀!E68+총무팀!E68+노무복지팀!E68+자산회계팀!E68+인재개발팀!E68+차량팀!E68+승무팀!E68+신호팀!E68+통신팀!E68+전기팀!E68+기계환경팀!E68+토목팀!E68+건축팀!E68+영업팀!E68+고객만족팀!E68+문화홍보팀!E68+부대사업팀!E68+역무자동화팀!E68+종합관제실!E68+감사실!E68 -> 0 | F68: =안전관리실!F68+SE사업팀!F68+철도사업팀!F68+기획팀!F68+성과예산팀!F68+정보화팀!F68+총무팀!F68+노무복지팀!F68+자산회계팀!F68+인재개발팀!F68+차량팀!F68+승무팀!F68+신호팀!F68+통신팀!F68+전기팀!F68+기계환경팀!F68+토목팀!F68+건축팀!F68+영업팀!F68+고객만족팀!F68+문화홍보팀!F68+부대사업팀!F68+역무자동화팀!F68+종합관제실!F68+감사실!F68 -> 0 | G68: =안전관리실!G68+SE사업팀!G68+철도사업팀!G68+기획팀!G68+성과예산팀!G68+정보화팀!G68+총무팀!G68+노무복지팀!G68+자산회계팀!G68+인재개발팀!G68+차량팀!G68+승무팀!G68+신호팀!G68+통신팀!G68+전기팀!G68+기계환경팀!G68+토목팀!G68+건축팀!G68+영업팀!G68+고객만족팀!G68+문화홍보팀!G68+부대사업팀!G68+역무자동화팀!G68+종합관제실!G68+감사실!G68 -> 0 | H68: =안전관리실!H68+SE사업팀!H68+철도사업팀!H68+기획팀!H68+성과예산팀!H68+정보화팀!H68+총무팀!H68+노무복지팀!H68+자산회계팀!H68+인재개발팀!H68+차량팀!H68+승무팀!H68+신호팀!H68+통신팀!H68+전기팀!H68+기계환경팀!H68+토목팀!H68+건축팀!H68+영업팀!H68+고객만족팀!H68+문화홍보팀!H68+부대사업팀!H68+역무자동화팀!H68+종합관제실!H68+감사실!H68 -> 0 | I68: =안전관리실!I68+SE사업팀!I68+철도사업팀!I68+기획팀!I68+성과예산팀!I68+정보화팀!I68+총무팀!I68+노무복지팀!I68+자산회계팀!I68+인재개발팀!I68+차량팀!I68+승무팀!I68+신호팀!I68+통신팀!I68+전기팀!I68+기계환경팀!I68+토목팀!I68+건축팀!I68+영업팀!I68+고객만족팀!I68+문화홍보팀!I68+부대사업팀!I68+역무자동화팀!I68+종합관제실!I68+감사실!I68 -> 0 | J68: =안전관리실!J68+SE사업팀!J68+철도사업팀!J68+기획팀!J68+성과예산팀!J68+정보화팀!J68+총무팀!J68+노무복지팀!J68+자산회계팀!J68+인재개발팀!J68+차량팀!J68+승무팀!J68+신호팀!J68+통신팀!J68+전기팀!J68+기계환경팀!J68+토목팀!J68+건축팀!J68+영업팀!J68+고객만족팀!J68+문화홍보팀!J68+부대사업팀!J68+역무자동화팀!J68+종합관제실!J68+감사실!J68 -> 0 | K68: =안전관리실!K68+SE사업팀!K68+철도사업팀!K68+기획팀!K68+성과예산팀!K68+정보화팀!K68+총무팀!K68+노무복지팀!K68+자산회계팀!K68+인재개발팀!K68+차량팀!K68+승무팀!K68+신호팀!K68+통신팀!K68+전기팀!K68+기계환경팀!K68+토목팀!K68+건축팀!K68+영업팀!K68+고객만족팀!K68+문화홍보팀!K68+부대사업팀!K68+역무자동화팀!K68+종합관제실!K68+감사실!K68 -> 0 | ... Q68: =안전관리실!Q68+SE사업팀!Q68+철도사업팀!Q68+기획팀!Q68+성과예산팀!Q68+정보화팀!Q68+총무팀!Q68+노무복지팀!Q68+자산회계팀!Q68+인재개발팀!Q68+차량팀!Q68+승무팀!Q68+신호팀!Q68+통신팀!Q68+전기팀!Q68+기계환경팀!Q68+토목팀!Q68+건축팀!Q68+영업팀!Q68+고객만족팀!Q68+문화홍보팀!Q68+부대사업팀!Q68+역무자동화팀!Q68+종합관제실!Q68+감사실!Q68 -> 0 | R68: 가로등 | AH68: 06 | AI68: 028 | AJ68: 00099
B69: 전기자재 | C69: 전선케이블 | D69: =안전관리실!D69+SE사업팀!D69+철도사업팀!D69+기획팀!D69+성과예산팀!D69+정보화팀!D69+총무팀!D69+노무복지팀!D69+자산회계팀!D69+인재개발팀!D69+차량팀!D69+승무팀!D69+신호팀!D69+통신팀!D69+전기팀!D69+기계환경팀!D69+토목팀!D69+건축팀!D69+영업팀!D69+고객만족팀!D69+문화홍보팀!D69+부대사업팀!D69+역무자동화팀!D69+종합관제실!D69+감사실!D69 -> 0 | E69: =안전관리실!E69+SE사업팀!E69+철도사업팀!E69+기획팀!E69+성과예산팀!E69+정보화팀!E69+총무팀!E69+노무복지팀!E69+자산회계팀!E69+인재개발팀!E69+차량팀!E69+승무팀!E69+신호팀!E69+통신팀!E69+전기팀!E69+기계환경팀!E69+토목팀!E69+건축팀!E69+영업팀!E69+고객만족팀!E69+문화홍보팀!E69+부대사업팀!E69+역무자동화팀!E69+종합관제실!E69+감사실!E69 -> 0 | F69: =안전관리실!F69+SE사업팀!F69+철도사업팀!F69+기획팀!F69+성과예산팀!F69+정보화팀!F69+총무팀!F69+노무복지팀!F69+자산회계팀!F69+인재개발팀!F69+차량팀!F69+승무팀!F69+신호팀!F69+통신팀!F69+전기팀!F69+기계환경팀!F69+토목팀!F69+건축팀!F69+영업팀!F69+고객만족팀!F69+문화홍보팀!F69+부대사업팀!F69+역무자동화팀!F69+종합관제실!F69+감사실!F69 -> 0 | G69: =안전관리실!G69+SE사업팀!G69+철도사업팀!G69+기획팀!G69+성과예산팀!G69+정보화팀!G69+총무팀!G69+노무복지팀!G69+자산회계팀!G69+인재개발팀!G69+차량팀!G69+승무팀!G69+신호팀!G69+통신팀!G69+전기팀!G69+기계환경팀!G69+토목팀!G69+건축팀!G69+영업팀!G69+고객만족팀!G69+문화홍보팀!G69+부대사업팀!G69+역무자동화팀!G69+종합관제실!G69+감사실!G69 -> 0 | H69: =안전관리실!H69+SE사업팀!H69+철도사업팀!H69+기획팀!H69+성과예산팀!H69+정보화팀!H69+총무팀!H69+노무복지팀!H69+자산회계팀!H69+인재개발팀!H69+차량팀!H69+승무팀!H69+신호팀!H69+통신팀!H69+전기팀!H69+기계환경팀!H69+토목팀!H69+건축팀!H69+영업팀!H69+고객만족팀!H69+문화홍보팀!H69+부대사업팀!H69+역무자동화팀!H69+종합관제실!H69+감사실!H69 -> 0 | I69: =안전관리실!I69+SE사업팀!I69+철도사업팀!I69+기획팀!I69+성과예산팀!I69+정보화팀!I69+총무팀!I69+노무복지팀!I69+자산회계팀!I69+인재개발팀!I69+차량팀!I69+승무팀!I69+신호팀!I69+통신팀!I69+전기팀!I69+기계환경팀!I69+토목팀!I69+건축팀!I69+영업팀!I69+고객만족팀!I69+문화홍보팀!I69+부대사업팀!I69+역무자동화팀!I69+종합관제실!I69+감사실!I69 -> 0 | J69: =안전관리실!J69+SE사업팀!J69+철도사업팀!J69+기획팀!J69+성과예산팀!J69+정보화팀!J69+총무팀!J69+노무복지팀!J69+자산회계팀!J69+인재개발팀!J69+차량팀!J69+승무팀!J69+신호팀!J69+통신팀!J69+전기팀!J69+기계환경팀!J69+토목팀!J69+건축팀!J69+영업팀!J69+고객만족팀!J69+문화홍보팀!J69+부대사업팀!J69+역무자동화팀!J69+종합관제실!J69+감사실!J69 -> 0 | K69: =안전관리실!K69+SE사업팀!K69+철도사업팀!K69+기획팀!K69+성과예산팀!K69+정보화팀!K69+총무팀!K69+노무복지팀!K69+자산회계팀!K69+인재개발팀!K69+차량팀!K69+승무팀!K69+신호팀!K69+통신팀!K69+전기팀!K69+기계환경팀!K69+토목팀!K69+건축팀!K69+영업팀!K69+고객만족팀!K69+문화홍보팀!K69+부대사업팀!K69+역무자동화팀!K69+종합관제실!K69+감사실!K69 -> 0 | ... Q69: =안전관리실!Q69+SE사업팀!Q69+철도사업팀!Q69+기획팀!Q69+성과예산팀!Q69+정보화팀!Q69+총무팀!Q69+노무복지팀!Q69+자산회계팀!Q69+인재개발팀!Q69+차량팀!Q69+승무팀!Q69+신호팀!Q69+통신팀!Q69+전기팀!Q69+기계환경팀!Q69+토목팀!Q69+건축팀!Q69+영업팀!Q69+고객만족팀!Q69+문화홍보팀!Q69+부대사업팀!Q69+역무자동화팀!Q69+종합관제실!Q69+감사실!Q69 -> 0 | R69: 전선, 케이블 | AH69: 06 | AI69: 029 | AJ69: 00100
B70: 기타전기자재 | C70: 기타전기자재 | D70: =안전관리실!D70+SE사업팀!D70+철도사업팀!D70+기획팀!D70+성과예산팀!D70+정보화팀!D70+총무팀!D70+노무복지팀!D70+자산회계팀!D70+인재개발팀!D70+차량팀!D70+승무팀!D70+신호팀!D70+통신팀!D70+전기팀!D70+기계환경팀!D70+토목팀!D70+건축팀!D70+영업팀!D70+고객만족팀!D70+문화홍보팀!D70+부대사업팀!D70+역무자동화팀!D70+종합관제실!D70+감사실!D70 -> 0 | E70: =안전관리실!E70+SE사업팀!E70+철도사업팀!E70+기획팀!E70+성과예산팀!E70+정보화팀!E70+총무팀!E70+노무복지팀!E70+자산회계팀!E70+인재개발팀!E70+차량팀!E70+승무팀!E70+신호팀!E70+통신팀!E70+전기팀!E70+기계환경팀!E70+토목팀!E70+건축팀!E70+영업팀!E70+고객만족팀!E70+문화홍보팀!E70+부대사업팀!E70+역무자동화팀!E70+종합관제실!E70+감사실!E70 -> 0 | F70: =안전관리실!F70+SE사업팀!F70+철도사업팀!F70+기획팀!F70+성과예산팀!F70+정보화팀!F70+총무팀!F70+노무복지팀!F70+자산회계팀!F70+인재개발팀!F70+차량팀!F70+승무팀!F70+신호팀!F70+통신팀!F70+전기팀!F70+기계환경팀!F70+토목팀!F70+건축팀!F70+영업팀!F70+고객만족팀!F70+문화홍보팀!F70+부대사업팀!F70+역무자동화팀!F70+종합관제실!F70+감사실!F70 -> 0 | G70: =안전관리실!G70+SE사업팀!G70+철도사업팀!G70+기획팀!G70+성과예산팀!G70+정보화팀!G70+총무팀!G70+노무복지팀!G70+자산회계팀!G70+인재개발팀!G70+차량팀!G70+승무팀!G70+신호팀!G70+통신팀!G70+전기팀!G70+기계환경팀!G70+토목팀!G70+건축팀!G70+영업팀!G70+고객만족팀!G70+문화홍보팀!G70+부대사업팀!G70+역무자동화팀!G70+종합관제실!G70+감사실!G70 -> 0 | H70: =안전관리실!H70+SE사업팀!H70+철도사업팀!H70+기획팀!H70+성과예산팀!H70+정보화팀!H70+총무팀!H70+노무복지팀!H70+자산회계팀!H70+인재개발팀!H70+차량팀!H70+승무팀!H70+신호팀!H70+통신팀!H70+전기팀!H70+기계환경팀!H70+토목팀!H70+건축팀!H70+영업팀!H70+고객만족팀!H70+문화홍보팀!H70+부대사업팀!H70+역무자동화팀!H70+종합관제실!H70+감사실!H70 -> 0 | I70: =안전관리실!I70+SE사업팀!I70+철도사업팀!I70+기획팀!I70+성과예산팀!I70+정보화팀!I70+총무팀!I70+노무복지팀!I70+자산회계팀!I70+인재개발팀!I70+차량팀!I70+승무팀!I70+신호팀!I70+통신팀!I70+전기팀!I70+기계환경팀!I70+토목팀!I70+건축팀!I70+영업팀!I70+고객만족팀!I70+문화홍보팀!I70+부대사업팀!I70+역무자동화팀!I70+종합관제실!I70+감사실!I70 -> 0 | J70: =안전관리실!J70+SE사업팀!J70+철도사업팀!J70+기획팀!J70+성과예산팀!J70+정보화팀!J70+총무팀!J70+노무복지팀!J70+자산회계팀!J70+인재개발팀!J70+차량팀!J70+승무팀!J70+신호팀!J70+통신팀!J70+전기팀!J70+기계환경팀!J70+토목팀!J70+건축팀!J70+영업팀!J70+고객만족팀!J70+문화홍보팀!J70+부대사업팀!J70+역무자동화팀!J70+종합관제실!J70+감사실!J70 -> 0 | K70: =안전관리실!K70+SE사업팀!K70+철도사업팀!K70+기획팀!K70+성과예산팀!K70+정보화팀!K70+총무팀!K70+노무복지팀!K70+자산회계팀!K70+인재개발팀!K70+차량팀!K70+승무팀!K70+신호팀!K70+통신팀!K70+전기팀!K70+기계환경팀!K70+토목팀!K70+건축팀!K70+영업팀!K70+고객만족팀!K70+문화홍보팀!K70+부대사업팀!K70+역무자동화팀!K70+종합관제실!K70+감사실!K70 -> 0 | ... Q70: =안전관리실!Q70+SE사업팀!Q70+철도사업팀!Q70+기획팀!Q70+성과예산팀!Q70+정보화팀!Q70+총무팀!Q70+노무복지팀!Q70+자산회계팀!Q70+인재개발팀!Q70+차량팀!Q70+승무팀!Q70+신호팀!Q70+통신팀!Q70+전기팀!Q70+기계환경팀!Q70+토목팀!Q70+건축팀!Q70+영업팀!Q70+고객만족팀!Q70+문화홍보팀!Q70+부대사업팀!Q70+역무자동화팀!Q70+종합관제실!Q70+감사실!Q70 -> 0 | R70: 채수병, 튜브, 계측 프로브, 케이블 보호관, 케이블 격벽제 | AH70: 06 | AI70: 074 | AJ70: 00168
A71: 기계/설비 | B71: 냉온수기 및 정수용품 | C71: 정수용품 | D71: =안전관리실!D71+SE사업팀!D71+철도사업팀!D71+기획팀!D71+성과예산팀!D71+정보화팀!D71+총무팀!D71+노무복지팀!D71+자산회계팀!D71+인재개발팀!D71+차량팀!D71+승무팀!D71+신호팀!D71+통신팀!D71+전기팀!D71+기계환경팀!D71+토목팀!D71+건축팀!D71+영업팀!D71+고객만족팀!D71+문화홍보팀!D71+부대사업팀!D71+역무자동화팀!D71+종합관제실!D71+감사실!D71 -> 0 | E71: =안전관리실!E71+SE사업팀!E71+철도사업팀!E71+기획팀!E71+성과예산팀!E71+정보화팀!E71+총무팀!E71+노무복지팀!E71+자산회계팀!E71+인재개발팀!E71+차량팀!E71+승무팀!E71+신호팀!E71+통신팀!E71+전기팀!E71+기계환경팀!E71+토목팀!E71+건축팀!E71+영업팀!E71+고객만족팀!E71+문화홍보팀!E71+부대사업팀!E71+역무자동화팀!E71+종합관제실!E71+감사실!E71 -> 0 | F71: =안전관리실!F71+SE사업팀!F71+철도사업팀!F71+기획팀!F71+성과예산팀!F71+정보화팀!F71+총무팀!F71+노무복지팀!F71+자산회계팀!F71+인재개발팀!F71+차량팀!F71+승무팀!F71+신호팀!F71+통신팀!F71+전기팀!F71+기계환경팀!F71+토목팀!F71+건축팀!F71+영업팀!F71+고객만족팀!F71+문화홍보팀!F71+부대사업팀!F71+역무자동화팀!F71+종합관제실!F71+감사실!F71 -> 0 | G71: =안전관리실!G71+SE사업팀!G71+철도사업팀!G71+기획팀!G71+성과예산팀!G71+정보화팀!G71+총무팀!G71+노무복지팀!G71+자산회계팀!G71+인재개발팀!G71+차량팀!G71+승무팀!G71+신호팀!G71+통신팀!G71+전기팀!G71+기계환경팀!G71+토목팀!G71+건축팀!G71+영업팀!G71+고객만족팀!G71+문화홍보팀!G71+부대사업팀!G71+역무자동화팀!G71+종합관제실!G71+감사실!G71 -> 0 | H71: =안전관리실!H71+SE사업팀!H71+철도사업팀!H71+기획팀!H71+성과예산팀!H71+정보화팀!H71+총무팀!H71+노무복지팀!H71+자산회계팀!H71+인재개발팀!H71+차량팀!H71+승무팀!H71+신호팀!H71+통신팀!H71+전기팀!H71+기계환경팀!H71+토목팀!H71+건축팀!H71+영업팀!H71+고객만족팀!H71+문화홍보팀!H71+부대사업팀!H71+역무자동화팀!H71+종합관제실!H71+감사실!H71 -> 0 | I71: =안전관리실!I71+SE사업팀!I71+철도사업팀!I71+기획팀!I71+성과예산팀!I71+정보화팀!I71+총무팀!I71+노무복지팀!I71+자산회계팀!I71+인재개발팀!I71+차량팀!I71+승무팀!I71+신호팀!I71+통신팀!I71+전기팀!I71+기계환경팀!I71+토목팀!I71+건축팀!I71+영업팀!I71+고객만족팀!I71+문화홍보팀!I71+부대사업팀!I71+역무자동화팀!I71+종합관제실!I71+감사실!I71 -> 0 | J71: =안전관리실!J71+SE사업팀!J71+철도사업팀!J71+기획팀!J71+성과예산팀!J71+정보화팀!J71+총무팀!J71+노무복지팀!J71+자산회계팀!J71+인재개발팀!J71+차량팀!J71+승무팀!J71+신호팀!J71+통신팀!J71+전기팀!J71+기계환경팀!J71+토목팀!J71+건축팀!J71+영업팀!J71+고객만족팀!J71+문화홍보팀!J71+부대사업팀!J71+역무자동화팀!J71+종합관제실!J71+감사실!J71 -> 0 | K71: =안전관리실!K71+SE사업팀!K71+철도사업팀!K71+기획팀!K71+성과예산팀!K71+정보화팀!K71+총무팀!K71+노무복지팀!K71+자산회계팀!K71+인재개발팀!K71+차량팀!K71+승무팀!K71+신호팀!K71+통신팀!K71+전기팀!K71+기계환경팀!K71+토목팀!K71+건축팀!K71+영업팀!K71+고객만족팀!K71+문화홍보팀!K71+부대사업팀!K71+역무자동화팀!K71+종합관제실!K71+감사실!K71 -> 0 | ... Q71: =안전관리실!Q71+SE사업팀!Q71+철도사업팀!Q71+기획팀!Q71+성과예산팀!Q71+정보화팀!Q71+총무팀!Q71+노무복지팀!Q71+자산회계팀!Q71+인재개발팀!Q71+차량팀!Q71+승무팀!Q71+신호팀!Q71+통신팀!Q71+전기팀!Q71+기계환경팀!Q71+토목팀!Q71+건축팀!Q71+영업팀!Q71+고객만족팀!Q71+문화홍보팀!Q71+부대사업팀!Q71+역무자동화팀!Q71+종합관제실!Q71+감사실!Q71 -> 0 | R71: 정수기용 필터 | AH71: 07 | AI71: 030 | AJ71: 00101
B72: 보일러 | C72: 가스보일러 | D72: =안전관리실!D72+SE사업팀!D72+철도사업팀!D72+기획팀!D72+성과예산팀!D72+정보화팀!D72+총무팀!D72+노무복지팀!D72+자산회계팀!D72+인재개발팀!D72+차량팀!D72+승무팀!D72+신호팀!D72+통신팀!D72+전기팀!D72+기계환경팀!D72+토목팀!D72+건축팀!D72+영업팀!D72+고객만족팀!D72+문화홍보팀!D72+부대사업팀!D72+역무자동화팀!D72+종합관제실!D72+감사실!D72 -> 0 | E72: =안전관리실!E72+SE사업팀!E72+철도사업팀!E72+기획팀!E72+성과예산팀!E72+정보화팀!E72+총무팀!E72+노무복지팀!E72+자산회계팀!E72+인재개발팀!E72+차량팀!E72+승무팀!E72+신호팀!E72+통신팀!E72+전기팀!E72+기계환경팀!E72+토목팀!E72+건축팀!E72+영업팀!E72+고객만족팀!E72+문화홍보팀!E72+부대사업팀!E72+역무자동화팀!E72+종합관제실!E72+감사실!E72 -> 0 | F72: =안전관리실!F72+SE사업팀!F72+철도사업팀!F72+기획팀!F72+성과예산팀!F72+정보화팀!F72+총무팀!F72+노무복지팀!F72+자산회계팀!F72+인재개발팀!F72+차량팀!F72+승무팀!F72+신호팀!F72+통신팀!F72+전기팀!F72+기계환경팀!F72+토목팀!F72+건축팀!F72+영업팀!F72+고객만족팀!F72+문화홍보팀!F72+부대사업팀!F72+역무자동화팀!F72+종합관제실!F72+감사실!F72 -> 0 | G72: =안전관리실!G72+SE사업팀!G72+철도사업팀!G72+기획팀!G72+성과예산팀!G72+정보화팀!G72+총무팀!G72+노무복지팀!G72+자산회계팀!G72+인재개발팀!G72+차량팀!G72+승무팀!G72+신호팀!G72+통신팀!G72+전기팀!G72+기계환경팀!G72+토목팀!G72+건축팀!G72+영업팀!G72+고객만족팀!G72+문화홍보팀!G72+부대사업팀!G72+역무자동화팀!G72+종합관제실!G72+감사실!G72 -> 0 | H72: =안전관리실!H72+SE사업팀!H72+철도사업팀!H72+기획팀!H72+성과예산팀!H72+정보화팀!H72+총무팀!H72+노무복지팀!H72+자산회계팀!H72+인재개발팀!H72+차량팀!H72+승무팀!H72+신호팀!H72+통신팀!H72+전기팀!H72+기계환경팀!H72+토목팀!H72+건축팀!H72+영업팀!H72+고객만족팀!H72+문화홍보팀!H72+부대사업팀!H72+역무자동화팀!H72+종합관제실!H72+감사실!H72 -> 0 | I72: =안전관리실!I72+SE사업팀!I72+철도사업팀!I72+기획팀!I72+성과예산팀!I72+정보화팀!I72+총무팀!I72+노무복지팀!I72+자산회계팀!I72+인재개발팀!I72+차량팀!I72+승무팀!I72+신호팀!I72+통신팀!I72+전기팀!I72+기계환경팀!I72+토목팀!I72+건축팀!I72+영업팀!I72+고객만족팀!I72+문화홍보팀!I72+부대사업팀!I72+역무자동화팀!I72+종합관제실!I72+감사실!I72 -> 0 | J72: =안전관리실!J72+SE사업팀!J72+철도사업팀!J72+기획팀!J72+성과예산팀!J72+정보화팀!J72+총무팀!J72+노무복지팀!J72+자산회계팀!J72+인재개발팀!J72+차량팀!J72+승무팀!J72+신호팀!J72+통신팀!J72+전기팀!J72+기계환경팀!J72+토목팀!J72+건축팀!J72+영업팀!J72+고객만족팀!J72+문화홍보팀!J72+부대사업팀!J72+역무자동화팀!J72+종합관제실!J72+감사실!J72 -> 0 | K72: =안전관리실!K72+SE사업팀!K72+철도사업팀!K72+기획팀!K72+성과예산팀!K72+정보화팀!K72+총무팀!K72+노무복지팀!K72+자산회계팀!K72+인재개발팀!K72+차량팀!K72+승무팀!K72+신호팀!K72+통신팀!K72+전기팀!K72+기계환경팀!K72+토목팀!K72+건축팀!K72+영업팀!K72+고객만족팀!K72+문화홍보팀!K72+부대사업팀!K72+역무자동화팀!K72+종합관제실!K72+감사실!K72 -> 0 | ... Q72: =안전관리실!Q72+SE사업팀!Q72+철도사업팀!Q72+기획팀!Q72+성과예산팀!Q72+정보화팀!Q72+총무팀!Q72+노무복지팀!Q72+자산회계팀!Q72+인재개발팀!Q72+차량팀!Q72+승무팀!Q72+신호팀!Q72+통신팀!Q72+전기팀!Q72+기계환경팀!Q72+토목팀!Q72+건축팀!Q72+영업팀!Q72+고객만족팀!Q72+문화홍보팀!Q72+부대사업팀!Q72+역무자동화팀!Q72+종합관제실!Q72+감사실!Q72 -> 0 | R72: 가스보일러, 콘덴싱 가스보일러 | AH72: 07 | AI72: 031 | AJ72: 00102
B73: 수도자재 | C73: 절수형 수도꼭지 | D73: =안전관리실!D73+SE사업팀!D73+철도사업팀!D73+기획팀!D73+성과예산팀!D73+정보화팀!D73+총무팀!D73+노무복지팀!D73+자산회계팀!D73+인재개발팀!D73+차량팀!D73+승무팀!D73+신호팀!D73+통신팀!D73+전기팀!D73+기계환경팀!D73+토목팀!D73+건축팀!D73+영업팀!D73+고객만족팀!D73+문화홍보팀!D73+부대사업팀!D73+역무자동화팀!D73+종합관제실!D73+감사실!D73 -> 0 | E73: =안전관리실!E73+SE사업팀!E73+철도사업팀!E73+기획팀!E73+성과예산팀!E73+정보화팀!E73+총무팀!E73+노무복지팀!E73+자산회계팀!E73+인재개발팀!E73+차량팀!E73+승무팀!E73+신호팀!E73+통신팀!E73+전기팀!E73+기계환경팀!E73+토목팀!E73+건축팀!E73+영업팀!E73+고객만족팀!E73+문화홍보팀!E73+부대사업팀!E73+역무자동화팀!E73+종합관제실!E73+감사실!E73 -> 0 | F73: =안전관리실!F73+SE사업팀!F73+철도사업팀!F73+기획팀!F73+성과예산팀!F73+정보화팀!F73+총무팀!F73+노무복지팀!F73+자산회계팀!F73+인재개발팀!F73+차량팀!F73+승무팀!F73+신호팀!F73+통신팀!F73+전기팀!F73+기계환경팀!F73+토목팀!F73+건축팀!F73+영업팀!F73+고객만족팀!F73+문화홍보팀!F73+부대사업팀!F73+역무자동화팀!F73+종합관제실!F73+감사실!F73 -> 0 | G73: =안전관리실!G73+SE사업팀!G73+철도사업팀!G73+기획팀!G73+성과예산팀!G73+정보화팀!G73+총무팀!G73+노무복지팀!G73+자산회계팀!G73+인재개발팀!G73+차량팀!G73+승무팀!G73+신호팀!G73+통신팀!G73+전기팀!G73+기계환경팀!G73+토목팀!G73+건축팀!G73+영업팀!G73+고객만족팀!G73+문화홍보팀!G73+부대사업팀!G73+역무자동화팀!G73+종합관제실!G73+감사실!G73 -> 0 | H73: =안전관리실!H73+SE사업팀!H73+철도사업팀!H73+기획팀!H73+성과예산팀!H73+정보화팀!H73+총무팀!H73+노무복지팀!H73+자산회계팀!H73+인재개발팀!H73+차량팀!H73+승무팀!H73+신호팀!H73+통신팀!H73+전기팀!H73+기계환경팀!H73+토목팀!H73+건축팀!H73+영업팀!H73+고객만족팀!H73+문화홍보팀!H73+부대사업팀!H73+역무자동화팀!H73+종합관제실!H73+감사실!H73 -> 0 | I73: =안전관리실!I73+SE사업팀!I73+철도사업팀!I73+기획팀!I73+성과예산팀!I73+정보화팀!I73+총무팀!I73+노무복지팀!I73+자산회계팀!I73+인재개발팀!I73+차량팀!I73+승무팀!I73+신호팀!I73+통신팀!I73+전기팀!I73+기계환경팀!I73+토목팀!I73+건축팀!I73+영업팀!I73+고객만족팀!I73+문화홍보팀!I73+부대사업팀!I73+역무자동화팀!I73+종합관제실!I73+감사실!I73 -> 0 | J73: =안전관리실!J73+SE사업팀!J73+철도사업팀!J73+기획팀!J73+성과예산팀!J73+정보화팀!J73+총무팀!J73+노무복지팀!J73+자산회계팀!J73+인재개발팀!J73+차량팀!J73+승무팀!J73+신호팀!J73+통신팀!J73+전기팀!J73+기계환경팀!J73+토목팀!J73+건축팀!J73+영업팀!J73+고객만족팀!J73+문화홍보팀!J73+부대사업팀!J73+역무자동화팀!J73+종합관제실!J73+감사실!J73 -> 0 | K73: =안전관리실!K73+SE사업팀!K73+철도사업팀!K73+기획팀!K73+성과예산팀!K73+정보화팀!K73+총무팀!K73+노무복지팀!K73+자산회계팀!K73+인재개발팀!K73+차량팀!K73+승무팀!K73+신호팀!K73+통신팀!K73+전기팀!K73+기계환경팀!K73+토목팀!K73+건축팀!K73+영업팀!K73+고객만족팀!K73+문화홍보팀!K73+부대사업팀!K73+역무자동화팀!K73+종합관제실!K73+감사실!K73 -> 0 | ... Q73: =안전관리실!Q73+SE사업팀!Q73+철도사업팀!Q73+기획팀!Q73+성과예산팀!Q73+정보화팀!Q73+총무팀!Q73+노무복지팀!Q73+자산회계팀!Q73+인재개발팀!Q73+차량팀!Q73+승무팀!Q73+신호팀!Q73+통신팀!Q73+전기팀!Q73+기계환경팀!Q73+토목팀!Q73+건축팀!Q73+영업팀!Q73+고객만족팀!Q73+문화홍보팀!Q73+부대사업팀!Q73+역무자동화팀!Q73+종합관제실!Q73+감사실!Q73 -> 0 | R73: 절수형 수도꼭지 | AH73: 07 | AI73: 032 | AJ73: 00103
C74: 수도꼭지 절수부속 | D74: =안전관리실!D74+SE사업팀!D74+철도사업팀!D74+기획팀!D74+성과예산팀!D74+정보화팀!D74+총무팀!D74+노무복지팀!D74+자산회계팀!D74+인재개발팀!D74+차량팀!D74+승무팀!D74+신호팀!D74+통신팀!D74+전기팀!D74+기계환경팀!D74+토목팀!D74+건축팀!D74+영업팀!D74+고객만족팀!D74+문화홍보팀!D74+부대사업팀!D74+역무자동화팀!D74+종합관제실!D74+감사실!D74 -> 0 | E74: =안전관리실!E74+SE사업팀!E74+철도사업팀!E74+기획팀!E74+성과예산팀!E74+정보화팀!E74+총무팀!E74+노무복지팀!E74+자산회계팀!E74+인재개발팀!E74+차량팀!E74+승무팀!E74+신호팀!E74+통신팀!E74+전기팀!E74+기계환경팀!E74+토목팀!E74+건축팀!E74+영업팀!E74+고객만족팀!E74+문화홍보팀!E74+부대사업팀!E74+역무자동화팀!E74+종합관제실!E74+감사실!E74 -> 0 | F74: =안전관리실!F74+SE사업팀!F74+철도사업팀!F74+기획팀!F74+성과예산팀!F74+정보화팀!F74+총무팀!F74+노무복지팀!F74+자산회계팀!F74+인재개발팀!F74+차량팀!F74+승무팀!F74+신호팀!F74+통신팀!F74+전기팀!F74+기계환경팀!F74+토목팀!F74+건축팀!F74+영업팀!F74+고객만족팀!F74+문화홍보팀!F74+부대사업팀!F74+역무자동화팀!F74+종합관제실!F74+감사실!F74 -> 0 | G74: =안전관리실!G74+SE사업팀!G74+철도사업팀!G74+기획팀!G74+성과예산팀!G74+정보화팀!G74+총무팀!G74+노무복지팀!G74+자산회계팀!G74+인재개발팀!G74+차량팀!G74+승무팀!G74+신호팀!G74+통신팀!G74+전기팀!G74+기계환경팀!G74+토목팀!G74+건축팀!G74+영업팀!G74+고객만족팀!G74+문화홍보팀!G74+부대사업팀!G74+역무자동화팀!G74+종합관제실!G74+감사실!G74 -> 0 | H74: =안전관리실!H74+SE사업팀!H74+철도사업팀!H74+기획팀!H74+성과예산팀!H74+정보화팀!H74+총무팀!H74+노무복지팀!H74+자산회계팀!H74+인재개발팀!H74+차량팀!H74+승무팀!H74+신호팀!H74+통신팀!H74+전기팀!H74+기계환경팀!H74+토목팀!H74+건축팀!H74+영업팀!H74+고객만족팀!H74+문화홍보팀!H74+부대사업팀!H74+역무자동화팀!H74+종합관제실!H74+감사실!H74 -> 0 | I74: =안전관리실!I74+SE사업팀!I74+철도사업팀!I74+기획팀!I74+성과예산팀!I74+정보화팀!I74+총무팀!I74+노무복지팀!I74+자산회계팀!I74+인재개발팀!I74+차량팀!I74+승무팀!I74+신호팀!I74+통신팀!I74+전기팀!I74+기계환경팀!I74+토목팀!I74+건축팀!I74+영업팀!I74+고객만족팀!I74+문화홍보팀!I74+부대사업팀!I74+역무자동화팀!I74+종합관제실!I74+감사실!I74 -> 0 | J74: =안전관리실!J74+SE사업팀!J74+철도사업팀!J74+기획팀!J74+성과예산팀!J74+정보화팀!J74+총무팀!J74+노무복지팀!J74+자산회계팀!J74+인재개발팀!J74+차량팀!J74+승무팀!J74+신호팀!J74+통신팀!J74+전기팀!J74+기계환경팀!J74+토목팀!J74+건축팀!J74+영업팀!J74+고객만족팀!J74+문화홍보팀!J74+부대사업팀!J74+역무자동화팀!J74+종합관제실!J74+감사실!J74 -> 0 | K74: =안전관리실!K74+SE사업팀!K74+철도사업팀!K74+기획팀!K74+성과예산팀!K74+정보화팀!K74+총무팀!K74+노무복지팀!K74+자산회계팀!K74+인재개발팀!K74+차량팀!K74+승무팀!K74+신호팀!K74+통신팀!K74+전기팀!K74+기계환경팀!K74+토목팀!K74+건축팀!K74+영업팀!K74+고객만족팀!K74+문화홍보팀!K74+부대사업팀!K74+역무자동화팀!K74+종합관제실!K74+감사실!K74 -> 0 | ... Q74: =안전관리실!Q74+SE사업팀!Q74+철도사업팀!Q74+기획팀!Q74+성과예산팀!Q74+정보화팀!Q74+총무팀!Q74+노무복지팀!Q74+자산회계팀!Q74+인재개발팀!Q74+차량팀!Q74+승무팀!Q74+신호팀!Q74+통신팀!Q74+전기팀!Q74+기계환경팀!Q74+토목팀!Q74+건축팀!Q74+영업팀!Q74+고객만족팀!Q74+문화홍보팀!Q74+부대사업팀!Q74+역무자동화팀!Q74+종합관제실!Q74+감사실!Q74 -> 0 | R74: 수도꼭지 절수부속 | AH74: 07 | AI74: 032 | AJ74: 00104
C75: 샤워헤드 및 샤워기 | D75: =안전관리실!D75+SE사업팀!D75+철도사업팀!D75+기획팀!D75+성과예산팀!D75+정보화팀!D75+총무팀!D75+노무복지팀!D75+자산회계팀!D75+인재개발팀!D75+차량팀!D75+승무팀!D75+신호팀!D75+통신팀!D75+전기팀!D75+기계환경팀!D75+토목팀!D75+건축팀!D75+영업팀!D75+고객만족팀!D75+문화홍보팀!D75+부대사업팀!D75+역무자동화팀!D75+종합관제실!D75+감사실!D75 -> 0 | E75: =안전관리실!E75+SE사업팀!E75+철도사업팀!E75+기획팀!E75+성과예산팀!E75+정보화팀!E75+총무팀!E75+노무복지팀!E75+자산회계팀!E75+인재개발팀!E75+차량팀!E75+승무팀!E75+신호팀!E75+통신팀!E75+전기팀!E75+기계환경팀!E75+토목팀!E75+건축팀!E75+영업팀!E75+고객만족팀!E75+문화홍보팀!E75+부대사업팀!E75+역무자동화팀!E75+종합관제실!E75+감사실!E75 -> 0 | F75: =안전관리실!F75+SE사업팀!F75+철도사업팀!F75+기획팀!F75+성과예산팀!F75+정보화팀!F75+총무팀!F75+노무복지팀!F75+자산회계팀!F75+인재개발팀!F75+차량팀!F75+승무팀!F75+신호팀!F75+통신팀!F75+전기팀!F75+기계환경팀!F75+토목팀!F75+건축팀!F75+영업팀!F75+고객만족팀!F75+문화홍보팀!F75+부대사업팀!F75+역무자동화팀!F75+종합관제실!F75+감사실!F75 -> 0 | G75: =안전관리실!G75+SE사업팀!G75+철도사업팀!G75+기획팀!G75+성과예산팀!G75+정보화팀!G75+총무팀!G75+노무복지팀!G75+자산회계팀!G75+인재개발팀!G75+차량팀!G75+승무팀!G75+신호팀!G75+통신팀!G75+전기팀!G75+기계환경팀!G75+토목팀!G75+건축팀!G75+영업팀!G75+고객만족팀!G75+문화홍보팀!G75+부대사업팀!G75+역무자동화팀!G75+종합관제실!G75+감사실!G75 -> 0 | H75: =안전관리실!H75+SE사업팀!H75+철도사업팀!H75+기획팀!H75+성과예산팀!H75+정보화팀!H75+총무팀!H75+노무복지팀!H75+자산회계팀!H75+인재개발팀!H75+차량팀!H75+승무팀!H75+신호팀!H75+통신팀!H75+전기팀!H75+기계환경팀!H75+토목팀!H75+건축팀!H75+영업팀!H75+고객만족팀!H75+문화홍보팀!H75+부대사업팀!H75+역무자동화팀!H75+종합관제실!H75+감사실!H75 -> 0 | I75: =안전관리실!I75+SE사업팀!I75+철도사업팀!I75+기획팀!I75+성과예산팀!I75+정보화팀!I75+총무팀!I75+노무복지팀!I75+자산회계팀!I75+인재개발팀!I75+차량팀!I75+승무팀!I75+신호팀!I75+통신팀!I75+전기팀!I75+기계환경팀!I75+토목팀!I75+건축팀!I75+영업팀!I75+고객만족팀!I75+문화홍보팀!I75+부대사업팀!I75+역무자동화팀!I75+종합관제실!I75+감사실!I75 -> 0 | J75: =안전관리실!J75+SE사업팀!J75+철도사업팀!J75+기획팀!J75+성과예산팀!J75+정보화팀!J75+총무팀!J75+노무복지팀!J75+자산회계팀!J75+인재개발팀!J75+차량팀!J75+승무팀!J75+신호팀!J75+통신팀!J75+전기팀!J75+기계환경팀!J75+토목팀!J75+건축팀!J75+영업팀!J75+고객만족팀!J75+문화홍보팀!J75+부대사업팀!J75+역무자동화팀!J75+종합관제실!J75+감사실!J75 -> 0 | K75: =안전관리실!K75+SE사업팀!K75+철도사업팀!K75+기획팀!K75+성과예산팀!K75+정보화팀!K75+총무팀!K75+노무복지팀!K75+자산회계팀!K75+인재개발팀!K75+차량팀!K75+승무팀!K75+신호팀!K75+통신팀!K75+전기팀!K75+기계환경팀!K75+토목팀!K75+건축팀!K75+영업팀!K75+고객만족팀!K75+문화홍보팀!K75+부대사업팀!K75+역무자동화팀!K75+종합관제실!K75+감사실!K75 -> 0 | ... Q75: =안전관리실!Q75+SE사업팀!Q75+철도사업팀!Q75+기획팀!Q75+성과예산팀!Q75+정보화팀!Q75+총무팀!Q75+노무복지팀!Q75+자산회계팀!Q75+인재개발팀!Q75+차량팀!Q75+승무팀!Q75+신호팀!Q75+통신팀!Q75+전기팀!Q75+기계환경팀!Q75+토목팀!Q75+건축팀!Q75+영업팀!Q75+고객만족팀!Q75+문화홍보팀!Q75+부대사업팀!Q75+역무자동화팀!Q75+종합관제실!Q75+감사실!Q75 -> 0 | R75: 샤워헤드, 샤워기, 욕조 | AH75: 07 | AI75: 032 | AJ75: 00105
C76: 절수형 양변기 | D76: =안전관리실!D76+SE사업팀!D76+철도사업팀!D76+기획팀!D76+성과예산팀!D76+정보화팀!D76+총무팀!D76+노무복지팀!D76+자산회계팀!D76+인재개발팀!D76+차량팀!D76+승무팀!D76+신호팀!D76+통신팀!D76+전기팀!D76+기계환경팀!D76+토목팀!D76+건축팀!D76+영업팀!D76+고객만족팀!D76+문화홍보팀!D76+부대사업팀!D76+역무자동화팀!D76+종합관제실!D76+감사실!D76 -> 0 | E76: =안전관리실!E76+SE사업팀!E76+철도사업팀!E76+기획팀!E76+성과예산팀!E76+정보화팀!E76+총무팀!E76+노무복지팀!E76+자산회계팀!E76+인재개발팀!E76+차량팀!E76+승무팀!E76+신호팀!E76+통신팀!E76+전기팀!E76+기계환경팀!E76+토목팀!E76+건축팀!E76+영업팀!E76+고객만족팀!E76+문화홍보팀!E76+부대사업팀!E76+역무자동화팀!E76+종합관제실!E76+감사실!E76 -> 0 | F76: =안전관리실!F76+SE사업팀!F76+철도사업팀!F76+기획팀!F76+성과예산팀!F76+정보화팀!F76+총무팀!F76+노무복지팀!F76+자산회계팀!F76+인재개발팀!F76+차량팀!F76+승무팀!F76+신호팀!F76+통신팀!F76+전기팀!F76+기계환경팀!F76+토목팀!F76+건축팀!F76+영업팀!F76+고객만족팀!F76+문화홍보팀!F76+부대사업팀!F76+역무자동화팀!F76+종합관제실!F76+감사실!F76 -> 0 | G76: =안전관리실!G76+SE사업팀!G76+철도사업팀!G76+기획팀!G76+성과예산팀!G76+정보화팀!G76+총무팀!G76+노무복지팀!G76+자산회계팀!G76+인재개발팀!G76+차량팀!G76+승무팀!G76+신호팀!G76+통신팀!G76+전기팀!G76+기계환경팀!G76+토목팀!G76+건축팀!G76+영업팀!G76+고객만족팀!G76+문화홍보팀!G76+부대사업팀!G76+역무자동화팀!G76+종합관제실!G76+감사실!G76 -> 0 | H76: =안전관리실!H76+SE사업팀!H76+철도사업팀!H76+기획팀!H76+성과예산팀!H76+정보화팀!H76+총무팀!H76+노무복지팀!H76+자산회계팀!H76+인재개발팀!H76+차량팀!H76+승무팀!H76+신호팀!H76+통신팀!H76+전기팀!H76+기계환경팀!H76+토목팀!H76+건축팀!H76+영업팀!H76+고객만족팀!H76+문화홍보팀!H76+부대사업팀!H76+역무자동화팀!H76+종합관제실!H76+감사실!H76 -> 0 | I76: =안전관리실!I76+SE사업팀!I76+철도사업팀!I76+기획팀!I76+성과예산팀!I76+정보화팀!I76+총무팀!I76+노무복지팀!I76+자산회계팀!I76+인재개발팀!I76+차량팀!I76+승무팀!I76+신호팀!I76+통신팀!I76+전기팀!I76+기계환경팀!I76+토목팀!I76+건축팀!I76+영업팀!I76+고객만족팀!I76+문화홍보팀!I76+부대사업팀!I76+역무자동화팀!I76+종합관제실!I76+감사실!I76 -> 0 | J76: =안전관리실!J76+SE사업팀!J76+철도사업팀!J76+기획팀!J76+성과예산팀!J76+정보화팀!J76+총무팀!J76+노무복지팀!J76+자산회계팀!J76+인재개발팀!J76+차량팀!J76+승무팀!J76+신호팀!J76+통신팀!J76+전기팀!J76+기계환경팀!J76+토목팀!J76+건축팀!J76+영업팀!J76+고객만족팀!J76+문화홍보팀!J76+부대사업팀!J76+역무자동화팀!J76+종합관제실!J76+감사실!J76 -> 0 | K76: =안전관리실!K76+SE사업팀!K76+철도사업팀!K76+기획팀!K76+성과예산팀!K76+정보화팀!K76+총무팀!K76+노무복지팀!K76+자산회계팀!K76+인재개발팀!K76+차량팀!K76+승무팀!K76+신호팀!K76+통신팀!K76+전기팀!K76+기계환경팀!K76+토목팀!K76+건축팀!K76+영업팀!K76+고객만족팀!K76+문화홍보팀!K76+부대사업팀!K76+역무자동화팀!K76+종합관제실!K76+감사실!K76 -> 0 | ... Q76: =안전관리실!Q76+SE사업팀!Q76+철도사업팀!Q76+기획팀!Q76+성과예산팀!Q76+정보화팀!Q76+총무팀!Q76+노무복지팀!Q76+자산회계팀!Q76+인재개발팀!Q76+차량팀!Q76+승무팀!Q76+신호팀!Q76+통신팀!Q76+전기팀!Q76+기계환경팀!Q76+토목팀!Q76+건축팀!Q76+영업팀!Q76+고객만족팀!Q76+문화홍보팀!Q76+부대사업팀!Q76+역무자동화팀!Q76+종합관제실!Q76+감사실!Q76 -> 0 | R76: 절수형 양변기, 변기용 절수기 | AH76: 07 | AI76: 032 | AJ76: 00107
C77: 양변기용 부속 | D77: =안전관리실!D77+SE사업팀!D77+철도사업팀!D77+기획팀!D77+성과예산팀!D77+정보화팀!D77+총무팀!D77+노무복지팀!D77+자산회계팀!D77+인재개발팀!D77+차량팀!D77+승무팀!D77+신호팀!D77+통신팀!D77+전기팀!D77+기계환경팀!D77+토목팀!D77+건축팀!D77+영업팀!D77+고객만족팀!D77+문화홍보팀!D77+부대사업팀!D77+역무자동화팀!D77+종합관제실!D77+감사실!D77 -> 0 | E77: =안전관리실!E77+SE사업팀!E77+철도사업팀!E77+기획팀!E77+성과예산팀!E77+정보화팀!E77+총무팀!E77+노무복지팀!E77+자산회계팀!E77+인재개발팀!E77+차량팀!E77+승무팀!E77+신호팀!E77+통신팀!E77+전기팀!E77+기계환경팀!E77+토목팀!E77+건축팀!E77+영업팀!E77+고객만족팀!E77+문화홍보팀!E77+부대사업팀!E77+역무자동화팀!E77+종합관제실!E77+감사실!E77 -> 0 | F77: =안전관리실!F77+SE사업팀!F77+철도사업팀!F77+기획팀!F77+성과예산팀!F77+정보화팀!F77+총무팀!F77+노무복지팀!F77+자산회계팀!F77+인재개발팀!F77+차량팀!F77+승무팀!F77+신호팀!F77+통신팀!F77+전기팀!F77+기계환경팀!F77+토목팀!F77+건축팀!F77+영업팀!F77+고객만족팀!F77+문화홍보팀!F77+부대사업팀!F77+역무자동화팀!F77+종합관제실!F77+감사실!F77 -> 0 | G77: =안전관리실!G77+SE사업팀!G77+철도사업팀!G77+기획팀!G77+성과예산팀!G77+정보화팀!G77+총무팀!G77+노무복지팀!G77+자산회계팀!G77+인재개발팀!G77+차량팀!G77+승무팀!G77+신호팀!G77+통신팀!G77+전기팀!G77+기계환경팀!G77+토목팀!G77+건축팀!G77+영업팀!G77+고객만족팀!G77+문화홍보팀!G77+부대사업팀!G77+역무자동화팀!G77+종합관제실!G77+감사실!G77 -> 0 | H77: =안전관리실!H77+SE사업팀!H77+철도사업팀!H77+기획팀!H77+성과예산팀!H77+정보화팀!H77+총무팀!H77+노무복지팀!H77+자산회계팀!H77+인재개발팀!H77+차량팀!H77+승무팀!H77+신호팀!H77+통신팀!H77+전기팀!H77+기계환경팀!H77+토목팀!H77+건축팀!H77+영업팀!H77+고객만족팀!H77+문화홍보팀!H77+부대사업팀!H77+역무자동화팀!H77+종합관제실!H77+감사실!H77 -> 0 | I77: =안전관리실!I77+SE사업팀!I77+철도사업팀!I77+기획팀!I77+성과예산팀!I77+정보화팀!I77+총무팀!I77+노무복지팀!I77+자산회계팀!I77+인재개발팀!I77+차량팀!I77+승무팀!I77+신호팀!I77+통신팀!I77+전기팀!I77+기계환경팀!I77+토목팀!I77+건축팀!I77+영업팀!I77+고객만족팀!I77+문화홍보팀!I77+부대사업팀!I77+역무자동화팀!I77+종합관제실!I77+감사실!I77 -> 0 | J77: =안전관리실!J77+SE사업팀!J77+철도사업팀!J77+기획팀!J77+성과예산팀!J77+정보화팀!J77+총무팀!J77+노무복지팀!J77+자산회계팀!J77+인재개발팀!J77+차량팀!J77+승무팀!J77+신호팀!J77+통신팀!J77+전기팀!J77+기계환경팀!J77+토목팀!J77+건축팀!J77+영업팀!J77+고객만족팀!J77+문화홍보팀!J77+부대사업팀!J77+역무자동화팀!J77+종합관제실!J77+감사실!J77 -> 0 | K77: =안전관리실!K77+SE사업팀!K77+철도사업팀!K77+기획팀!K77+성과예산팀!K77+정보화팀!K77+총무팀!K77+노무복지팀!K77+자산회계팀!K77+인재개발팀!K77+차량팀!K77+승무팀!K77+신호팀!K77+통신팀!K77+전기팀!K77+기계환경팀!K77+토목팀!K77+건축팀!K77+영업팀!K77+고객만족팀!K77+문화홍보팀!K77+부대사업팀!K77+역무자동화팀!K77+종합관제실!K77+감사실!K77 -> 0 | ... Q77: =안전관리실!Q77+SE사업팀!Q77+철도사업팀!Q77+기획팀!Q77+성과예산팀!Q77+정보화팀!Q77+총무팀!Q77+노무복지팀!Q77+자산회계팀!Q77+인재개발팀!Q77+차량팀!Q77+승무팀!Q77+신호팀!Q77+통신팀!Q77+전기팀!Q77+기계환경팀!Q77+토목팀!Q77+건축팀!Q77+영업팀!Q77+고객만족팀!Q77+문화홍보팀!Q77+부대사업팀!Q77+역무자동화팀!Q77+종합관제실!Q77+감사실!Q77 -> 0 | R77: 양변기용 부속, 절수세척벨브 | AH77: 07 | AI77: 032 | AJ77: 00109
C78: 수도계량기 | D78: =안전관리실!D78+SE사업팀!D78+철도사업팀!D78+기획팀!D78+성과예산팀!D78+정보화팀!D78+총무팀!D78+노무복지팀!D78+자산회계팀!D78+인재개발팀!D78+차량팀!D78+승무팀!D78+신호팀!D78+통신팀!D78+전기팀!D78+기계환경팀!D78+토목팀!D78+건축팀!D78+영업팀!D78+고객만족팀!D78+문화홍보팀!D78+부대사업팀!D78+역무자동화팀!D78+종합관제실!D78+감사실!D78 -> 0 | E78: =안전관리실!E78+SE사업팀!E78+철도사업팀!E78+기획팀!E78+성과예산팀!E78+정보화팀!E78+총무팀!E78+노무복지팀!E78+자산회계팀!E78+인재개발팀!E78+차량팀!E78+승무팀!E78+신호팀!E78+통신팀!E78+전기팀!E78+기계환경팀!E78+토목팀!E78+건축팀!E78+영업팀!E78+고객만족팀!E78+문화홍보팀!E78+부대사업팀!E78+역무자동화팀!E78+종합관제실!E78+감사실!E78 -> 0 | F78: =안전관리실!F78+SE사업팀!F78+철도사업팀!F78+기획팀!F78+성과예산팀!F78+정보화팀!F78+총무팀!F78+노무복지팀!F78+자산회계팀!F78+인재개발팀!F78+차량팀!F78+승무팀!F78+신호팀!F78+통신팀!F78+전기팀!F78+기계환경팀!F78+토목팀!F78+건축팀!F78+영업팀!F78+고객만족팀!F78+문화홍보팀!F78+부대사업팀!F78+역무자동화팀!F78+종합관제실!F78+감사실!F78 -> 0 | G78: =안전관리실!G78+SE사업팀!G78+철도사업팀!G78+기획팀!G78+성과예산팀!G78+정보화팀!G78+총무팀!G78+노무복지팀!G78+자산회계팀!G78+인재개발팀!G78+차량팀!G78+승무팀!G78+신호팀!G78+통신팀!G78+전기팀!G78+기계환경팀!G78+토목팀!G78+건축팀!G78+영업팀!G78+고객만족팀!G78+문화홍보팀!G78+부대사업팀!G78+역무자동화팀!G78+종합관제실!G78+감사실!G78 -> 0 | H78: =안전관리실!H78+SE사업팀!H78+철도사업팀!H78+기획팀!H78+성과예산팀!H78+정보화팀!H78+총무팀!H78+노무복지팀!H78+자산회계팀!H78+인재개발팀!H78+차량팀!H78+승무팀!H78+신호팀!H78+통신팀!H78+전기팀!H78+기계환경팀!H78+토목팀!H78+건축팀!H78+영업팀!H78+고객만족팀!H78+문화홍보팀!H78+부대사업팀!H78+역무자동화팀!H78+종합관제실!H78+감사실!H78 -> 0 | I78: =안전관리실!I78+SE사업팀!I78+철도사업팀!I78+기획팀!I78+성과예산팀!I78+정보화팀!I78+총무팀!I78+노무복지팀!I78+자산회계팀!I78+인재개발팀!I78+차량팀!I78+승무팀!I78+신호팀!I78+통신팀!I78+전기팀!I78+기계환경팀!I78+토목팀!I78+건축팀!I78+영업팀!I78+고객만족팀!I78+문화홍보팀!I78+부대사업팀!I78+역무자동화팀!I78+종합관제실!I78+감사실!I78 -> 0 | J78: =안전관리실!J78+SE사업팀!J78+철도사업팀!J78+기획팀!J78+성과예산팀!J78+정보화팀!J78+총무팀!J78+노무복지팀!J78+자산회계팀!J78+인재개발팀!J78+차량팀!J78+승무팀!J78+신호팀!J78+통신팀!J78+전기팀!J78+기계환경팀!J78+토목팀!J78+건축팀!J78+영업팀!J78+고객만족팀!J78+문화홍보팀!J78+부대사업팀!J78+역무자동화팀!J78+종합관제실!J78+감사실!J78 -> 0 | K78: =안전관리실!K78+SE사업팀!K78+철도사업팀!K78+기획팀!K78+성과예산팀!K78+정보화팀!K78+총무팀!K78+노무복지팀!K78+자산회계팀!K78+인재개발팀!K78+차량팀!K78+승무팀!K78+신호팀!K78+통신팀!K78+전기팀!K78+기계환경팀!K78+토목팀!K78+건축팀!K78+영업팀!K78+고객만족팀!K78+문화홍보팀!K78+부대사업팀!K78+역무자동화팀!K78+종합관제실!K78+감사실!K78 -> 0 | ... Q78: =안전관리실!Q78+SE사업팀!Q78+철도사업팀!Q78+기획팀!Q78+성과예산팀!Q78+정보화팀!Q78+총무팀!Q78+노무복지팀!Q78+자산회계팀!Q78+인재개발팀!Q78+차량팀!Q78+승무팀!Q78+신호팀!Q78+통신팀!Q78+전기팀!Q78+기계환경팀!Q78+토목팀!Q78+건축팀!Q78+영업팀!Q78+고객만족팀!Q78+문화홍보팀!Q78+부대사업팀!Q78+역무자동화팀!Q78+종합관제실!Q78+감사실!Q78 -> 0 | R78: 수도미터(복갑습식,건식), 역류방지형수도미터, 디지털수도미터(복갑건식,습식) | AH78: 07 | AI78: 032 | AJ78: 00110
C79: 수도꼭지 배관용 정수필터 | D79: =안전관리실!D79+SE사업팀!D79+철도사업팀!D79+기획팀!D79+성과예산팀!D79+정보화팀!D79+총무팀!D79+노무복지팀!D79+자산회계팀!D79+인재개발팀!D79+차량팀!D79+승무팀!D79+신호팀!D79+통신팀!D79+전기팀!D79+기계환경팀!D79+토목팀!D79+건축팀!D79+영업팀!D79+고객만족팀!D79+문화홍보팀!D79+부대사업팀!D79+역무자동화팀!D79+종합관제실!D79+감사실!D79 -> 0 | E79: =안전관리실!E79+SE사업팀!E79+철도사업팀!E79+기획팀!E79+성과예산팀!E79+정보화팀!E79+총무팀!E79+노무복지팀!E79+자산회계팀!E79+인재개발팀!E79+차량팀!E79+승무팀!E79+신호팀!E79+통신팀!E79+전기팀!E79+기계환경팀!E79+토목팀!E79+건축팀!E79+영업팀!E79+고객만족팀!E79+문화홍보팀!E79+부대사업팀!E79+역무자동화팀!E79+종합관제실!E79+감사실!E79 -> 0 | F79: =안전관리실!F79+SE사업팀!F79+철도사업팀!F79+기획팀!F79+성과예산팀!F79+정보화팀!F79+총무팀!F79+노무복지팀!F79+자산회계팀!F79+인재개발팀!F79+차량팀!F79+승무팀!F79+신호팀!F79+통신팀!F79+전기팀!F79+기계환경팀!F79+토목팀!F79+건축팀!F79+영업팀!F79+고객만족팀!F79+문화홍보팀!F79+부대사업팀!F79+역무자동화팀!F79+종합관제실!F79+감사실!F79 -> 0 | G79: =안전관리실!G79+SE사업팀!G79+철도사업팀!G79+기획팀!G79+성과예산팀!G79+정보화팀!G79+총무팀!G79+노무복지팀!G79+자산회계팀!G79+인재개발팀!G79+차량팀!G79+승무팀!G79+신호팀!G79+통신팀!G79+전기팀!G79+기계환경팀!G79+토목팀!G79+건축팀!G79+영업팀!G79+고객만족팀!G79+문화홍보팀!G79+부대사업팀!G79+역무자동화팀!G79+종합관제실!G79+감사실!G79 -> 0 | H79: =안전관리실!H79+SE사업팀!H79+철도사업팀!H79+기획팀!H79+성과예산팀!H79+정보화팀!H79+총무팀!H79+노무복지팀!H79+자산회계팀!H79+인재개발팀!H79+차량팀!H79+승무팀!H79+신호팀!H79+통신팀!H79+전기팀!H79+기계환경팀!H79+토목팀!H79+건축팀!H79+영업팀!H79+고객만족팀!H79+문화홍보팀!H79+부대사업팀!H79+역무자동화팀!H79+종합관제실!H79+감사실!H79 -> 0 | I79: =안전관리실!I79+SE사업팀!I79+철도사업팀!I79+기획팀!I79+성과예산팀!I79+정보화팀!I79+총무팀!I79+노무복지팀!I79+자산회계팀!I79+인재개발팀!I79+차량팀!I79+승무팀!I79+신호팀!I79+통신팀!I79+전기팀!I79+기계환경팀!I79+토목팀!I79+건축팀!I79+영업팀!I79+고객만족팀!I79+문화홍보팀!I79+부대사업팀!I79+역무자동화팀!I79+종합관제실!I79+감사실!I79 -> 0 | J79: =안전관리실!J79+SE사업팀!J79+철도사업팀!J79+기획팀!J79+성과예산팀!J79+정보화팀!J79+총무팀!J79+노무복지팀!J79+자산회계팀!J79+인재개발팀!J79+차량팀!J79+승무팀!J79+신호팀!J79+통신팀!J79+전기팀!J79+기계환경팀!J79+토목팀!J79+건축팀!J79+영업팀!J79+고객만족팀!J79+문화홍보팀!J79+부대사업팀!J79+역무자동화팀!J79+종합관제실!J79+감사실!J79 -> 0 | K79: =안전관리실!K79+SE사업팀!K79+철도사업팀!K79+기획팀!K79+성과예산팀!K79+정보화팀!K79+총무팀!K79+노무복지팀!K79+자산회계팀!K79+인재개발팀!K79+차량팀!K79+승무팀!K79+신호팀!K79+통신팀!K79+전기팀!K79+기계환경팀!K79+토목팀!K79+건축팀!K79+영업팀!K79+고객만족팀!K79+문화홍보팀!K79+부대사업팀!K79+역무자동화팀!K79+종합관제실!K79+감사실!K79 -> 0 | ... Q79: =안전관리실!Q79+SE사업팀!Q79+철도사업팀!Q79+기획팀!Q79+성과예산팀!Q79+정보화팀!Q79+총무팀!Q79+노무복지팀!Q79+자산회계팀!Q79+인재개발팀!Q79+차량팀!Q79+승무팀!Q79+신호팀!Q79+통신팀!Q79+전기팀!Q79+기계환경팀!Q79+토목팀!Q79+건축팀!Q79+영업팀!Q79+고객만족팀!Q79+문화홍보팀!Q79+부대사업팀!Q79+역무자동화팀!Q79+종합관제실!Q79+감사실!Q79 -> 0 | R79: 씽크대 배수구 필터, 바닥 배수용 필터 | AH79: 07 | AI79: 032 | AJ79: 00111
C80: 수도계량기 보호통 | D80: =안전관리실!D80+SE사업팀!D80+철도사업팀!D80+기획팀!D80+성과예산팀!D80+정보화팀!D80+총무팀!D80+노무복지팀!D80+자산회계팀!D80+인재개발팀!D80+차량팀!D80+승무팀!D80+신호팀!D80+통신팀!D80+전기팀!D80+기계환경팀!D80+토목팀!D80+건축팀!D80+영업팀!D80+고객만족팀!D80+문화홍보팀!D80+부대사업팀!D80+역무자동화팀!D80+종합관제실!D80+감사실!D80 -> 0 | E80: =안전관리실!E80+SE사업팀!E80+철도사업팀!E80+기획팀!E80+성과예산팀!E80+정보화팀!E80+총무팀!E80+노무복지팀!E80+자산회계팀!E80+인재개발팀!E80+차량팀!E80+승무팀!E80+신호팀!E80+통신팀!E80+전기팀!E80+기계환경팀!E80+토목팀!E80+건축팀!E80+영업팀!E80+고객만족팀!E80+문화홍보팀!E80+부대사업팀!E80+역무자동화팀!E80+종합관제실!E80+감사실!E80 -> 0 | F80: =안전관리실!F80+SE사업팀!F80+철도사업팀!F80+기획팀!F80+성과예산팀!F80+정보화팀!F80+총무팀!F80+노무복지팀!F80+자산회계팀!F80+인재개발팀!F80+차량팀!F80+승무팀!F80+신호팀!F80+통신팀!F80+전기팀!F80+기계환경팀!F80+토목팀!F80+건축팀!F80+영업팀!F80+고객만족팀!F80+문화홍보팀!F80+부대사업팀!F80+역무자동화팀!F80+종합관제실!F80+감사실!F80 -> 0 | G80: =안전관리실!G80+SE사업팀!G80+철도사업팀!G80+기획팀!G80+성과예산팀!G80+정보화팀!G80+총무팀!G80+노무복지팀!G80+자산회계팀!G80+인재개발팀!G80+차량팀!G80+승무팀!G80+신호팀!G80+통신팀!G80+전기팀!G80+기계환경팀!G80+토목팀!G80+건축팀!G80+영업팀!G80+고객만족팀!G80+문화홍보팀!G80+부대사업팀!G80+역무자동화팀!G80+종합관제실!G80+감사실!G80 -> 0 | H80: =안전관리실!H80+SE사업팀!H80+철도사업팀!H80+기획팀!H80+성과예산팀!H80+정보화팀!H80+총무팀!H80+노무복지팀!H80+자산회계팀!H80+인재개발팀!H80+차량팀!H80+승무팀!H80+신호팀!H80+통신팀!H80+전기팀!H80+기계환경팀!H80+토목팀!H80+건축팀!H80+영업팀!H80+고객만족팀!H80+문화홍보팀!H80+부대사업팀!H80+역무자동화팀!H80+종합관제실!H80+감사실!H80 -> 0 | I80: =안전관리실!I80+SE사업팀!I80+철도사업팀!I80+기획팀!I80+성과예산팀!I80+정보화팀!I80+총무팀!I80+노무복지팀!I80+자산회계팀!I80+인재개발팀!I80+차량팀!I80+승무팀!I80+신호팀!I80+통신팀!I80+전기팀!I80+기계환경팀!I80+토목팀!I80+건축팀!I80+영업팀!I80+고객만족팀!I80+문화홍보팀!I80+부대사업팀!I80+역무자동화팀!I80+종합관제실!I80+감사실!I80 -> 0 | J80: =안전관리실!J80+SE사업팀!J80+철도사업팀!J80+기획팀!J80+성과예산팀!J80+정보화팀!J80+총무팀!J80+노무복지팀!J80+자산회계팀!J80+인재개발팀!J80+차량팀!J80+승무팀!J80+신호팀!J80+통신팀!J80+전기팀!J80+기계환경팀!J80+토목팀!J80+건축팀!J80+영업팀!J80+고객만족팀!J80+문화홍보팀!J80+부대사업팀!J80+역무자동화팀!J80+종합관제실!J80+감사실!J80 -> 0 | K80: =안전관리실!K80+SE사업팀!K80+철도사업팀!K80+기획팀!K80+성과예산팀!K80+정보화팀!K80+총무팀!K80+노무복지팀!K80+자산회계팀!K80+인재개발팀!K80+차량팀!K80+승무팀!K80+신호팀!K80+통신팀!K80+전기팀!K80+기계환경팀!K80+토목팀!K80+건축팀!K80+영업팀!K80+고객만족팀!K80+문화홍보팀!K80+부대사업팀!K80+역무자동화팀!K80+종합관제실!K80+감사실!K80 -> 0 | ... Q80: =안전관리실!Q80+SE사업팀!Q80+철도사업팀!Q80+기획팀!Q80+성과예산팀!Q80+정보화팀!Q80+총무팀!Q80+노무복지팀!Q80+자산회계팀!Q80+인재개발팀!Q80+차량팀!Q80+승무팀!Q80+신호팀!Q80+통신팀!Q80+전기팀!Q80+기계환경팀!Q80+토목팀!Q80+건축팀!Q80+영업팀!Q80+고객만족팀!Q80+문화홍보팀!Q80+부대사업팀!Q80+역무자동화팀!Q80+종합관제실!Q80+감사실!Q80 -> 0 | R80: 수도계량기 보호통, 지수전보호통 | AH80: 07 | AI80: 032 | AJ80: 00112
C81: 수도용 급수관(순서) | D81: =안전관리실!D81+SE사업팀!D81+철도사업팀!D81+기획팀!D81+성과예산팀!D81+정보화팀!D81+총무팀!D81+노무복지팀!D81+자산회계팀!D81+인재개발팀!D81+차량팀!D81+승무팀!D81+신호팀!D81+통신팀!D81+전기팀!D81+기계환경팀!D81+토목팀!D81+건축팀!D81+영업팀!D81+고객만족팀!D81+문화홍보팀!D81+부대사업팀!D81+역무자동화팀!D81+종합관제실!D81+감사실!D81 -> 0 | E81: =안전관리실!E81+SE사업팀!E81+철도사업팀!E81+기획팀!E81+성과예산팀!E81+정보화팀!E81+총무팀!E81+노무복지팀!E81+자산회계팀!E81+인재개발팀!E81+차량팀!E81+승무팀!E81+신호팀!E81+통신팀!E81+전기팀!E81+기계환경팀!E81+토목팀!E81+건축팀!E81+영업팀!E81+고객만족팀!E81+문화홍보팀!E81+부대사업팀!E81+역무자동화팀!E81+종합관제실!E81+감사실!E81 -> 0 | F81: =안전관리실!F81+SE사업팀!F81+철도사업팀!F81+기획팀!F81+성과예산팀!F81+정보화팀!F81+총무팀!F81+노무복지팀!F81+자산회계팀!F81+인재개발팀!F81+차량팀!F81+승무팀!F81+신호팀!F81+통신팀!F81+전기팀!F81+기계환경팀!F81+토목팀!F81+건축팀!F81+영업팀!F81+고객만족팀!F81+문화홍보팀!F81+부대사업팀!F81+역무자동화팀!F81+종합관제실!F81+감사실!F81 -> 0 | G81: =안전관리실!G81+SE사업팀!G81+철도사업팀!G81+기획팀!G81+성과예산팀!G81+정보화팀!G81+총무팀!G81+노무복지팀!G81+자산회계팀!G81+인재개발팀!G81+차량팀!G81+승무팀!G81+신호팀!G81+통신팀!G81+전기팀!G81+기계환경팀!G81+토목팀!G81+건축팀!G81+영업팀!G81+고객만족팀!G81+문화홍보팀!G81+부대사업팀!G81+역무자동화팀!G81+종합관제실!G81+감사실!G81 -> 0 | H81: =안전관리실!H81+SE사업팀!H81+철도사업팀!H81+기획팀!H81+성과예산팀!H81+정보화팀!H81+총무팀!H81+노무복지팀!H81+자산회계팀!H81+인재개발팀!H81+차량팀!H81+승무팀!H81+신호팀!H81+통신팀!H81+전기팀!H81+기계환경팀!H81+토목팀!H81+건축팀!H81+영업팀!H81+고객만족팀!H81+문화홍보팀!H81+부대사업팀!H81+역무자동화팀!H81+종합관제실!H81+감사실!H81 -> 0 | I81: =안전관리실!I81+SE사업팀!I81+철도사업팀!I81+기획팀!I81+성과예산팀!I81+정보화팀!I81+총무팀!I81+노무복지팀!I81+자산회계팀!I81+인재개발팀!I81+차량팀!I81+승무팀!I81+신호팀!I81+통신팀!I81+전기팀!I81+기계환경팀!I81+토목팀!I81+건축팀!I81+영업팀!I81+고객만족팀!I81+문화홍보팀!I81+부대사업팀!I81+역무자동화팀!I81+종합관제실!I81+감사실!I81 -> 0 | J81: =안전관리실!J81+SE사업팀!J81+철도사업팀!J81+기획팀!J81+성과예산팀!J81+정보화팀!J81+총무팀!J81+노무복지팀!J81+자산회계팀!J81+인재개발팀!J81+차량팀!J81+승무팀!J81+신호팀!J81+통신팀!J81+전기팀!J81+기계환경팀!J81+토목팀!J81+건축팀!J81+영업팀!J81+고객만족팀!J81+문화홍보팀!J81+부대사업팀!J81+역무자동화팀!J81+종합관제실!J81+감사실!J81 -> 0 | K81: =안전관리실!K81+SE사업팀!K81+철도사업팀!K81+기획팀!K81+성과예산팀!K81+정보화팀!K81+총무팀!K81+노무복지팀!K81+자산회계팀!K81+인재개발팀!K81+차량팀!K81+승무팀!K81+신호팀!K81+통신팀!K81+전기팀!K81+기계환경팀!K81+토목팀!K81+건축팀!K81+영업팀!K81+고객만족팀!K81+문화홍보팀!K81+부대사업팀!K81+역무자동화팀!K81+종합관제실!K81+감사실!K81 -> 0 | ... Q81: =안전관리실!Q81+SE사업팀!Q81+철도사업팀!Q81+기획팀!Q81+성과예산팀!Q81+정보화팀!Q81+총무팀!Q81+노무복지팀!Q81+자산회계팀!Q81+인재개발팀!Q81+차량팀!Q81+승무팀!Q81+신호팀!Q81+통신팀!Q81+전기팀!Q81+기계환경팀!Q81+토목팀!Q81+건축팀!Q81+영업팀!Q81+고객만족팀!Q81+문화홍보팀!Q81+부대사업팀!Q81+역무자동화팀!Q81+종합관제실!Q81+감사실!Q81 -> 0 | R81: 수도용 급수관 | AH81: 07 | AI81: 032 | AJ81: 00108
C82: 소변기 | D82: =안전관리실!D82+SE사업팀!D82+철도사업팀!D82+기획팀!D82+성과예산팀!D82+정보화팀!D82+총무팀!D82+노무복지팀!D82+자산회계팀!D82+인재개발팀!D82+차량팀!D82+승무팀!D82+신호팀!D82+통신팀!D82+전기팀!D82+기계환경팀!D82+토목팀!D82+건축팀!D82+영업팀!D82+고객만족팀!D82+문화홍보팀!D82+부대사업팀!D82+역무자동화팀!D82+종합관제실!D82+감사실!D82 -> 0 | E82: =안전관리실!E82+SE사업팀!E82+철도사업팀!E82+기획팀!E82+성과예산팀!E82+정보화팀!E82+총무팀!E82+노무복지팀!E82+자산회계팀!E82+인재개발팀!E82+차량팀!E82+승무팀!E82+신호팀!E82+통신팀!E82+전기팀!E82+기계환경팀!E82+토목팀!E82+건축팀!E82+영업팀!E82+고객만족팀!E82+문화홍보팀!E82+부대사업팀!E82+역무자동화팀!E82+종합관제실!E82+감사실!E82 -> 0 | F82: =안전관리실!F82+SE사업팀!F82+철도사업팀!F82+기획팀!F82+성과예산팀!F82+정보화팀!F82+총무팀!F82+노무복지팀!F82+자산회계팀!F82+인재개발팀!F82+차량팀!F82+승무팀!F82+신호팀!F82+통신팀!F82+전기팀!F82+기계환경팀!F82+토목팀!F82+건축팀!F82+영업팀!F82+고객만족팀!F82+문화홍보팀!F82+부대사업팀!F82+역무자동화팀!F82+종합관제실!F82+감사실!F82 -> 0 | G82: =안전관리실!G82+SE사업팀!G82+철도사업팀!G82+기획팀!G82+성과예산팀!G82+정보화팀!G82+총무팀!G82+노무복지팀!G82+자산회계팀!G82+인재개발팀!G82+차량팀!G82+승무팀!G82+신호팀!G82+통신팀!G82+전기팀!G82+기계환경팀!G82+토목팀!G82+건축팀!G82+영업팀!G82+고객만족팀!G82+문화홍보팀!G82+부대사업팀!G82+역무자동화팀!G82+종합관제실!G82+감사실!G82 -> 0 | H82: =안전관리실!H82+SE사업팀!H82+철도사업팀!H82+기획팀!H82+성과예산팀!H82+정보화팀!H82+총무팀!H82+노무복지팀!H82+자산회계팀!H82+인재개발팀!H82+차량팀!H82+승무팀!H82+신호팀!H82+통신팀!H82+전기팀!H82+기계환경팀!H82+토목팀!H82+건축팀!H82+영업팀!H82+고객만족팀!H82+문화홍보팀!H82+부대사업팀!H82+역무자동화팀!H82+종합관제실!H82+감사실!H82 -> 0 | I82: =안전관리실!I82+SE사업팀!I82+철도사업팀!I82+기획팀!I82+성과예산팀!I82+정보화팀!I82+총무팀!I82+노무복지팀!I82+자산회계팀!I82+인재개발팀!I82+차량팀!I82+승무팀!I82+신호팀!I82+통신팀!I82+전기팀!I82+기계환경팀!I82+토목팀!I82+건축팀!I82+영업팀!I82+고객만족팀!I82+문화홍보팀!I82+부대사업팀!I82+역무자동화팀!I82+종합관제실!I82+감사실!I82 -> 0 | J82: =안전관리실!J82+SE사업팀!J82+철도사업팀!J82+기획팀!J82+성과예산팀!J82+정보화팀!J82+총무팀!J82+노무복지팀!J82+자산회계팀!J82+인재개발팀!J82+차량팀!J82+승무팀!J82+신호팀!J82+통신팀!J82+전기팀!J82+기계환경팀!J82+토목팀!J82+건축팀!J82+영업팀!J82+고객만족팀!J82+문화홍보팀!J82+부대사업팀!J82+역무자동화팀!J82+종합관제실!J82+감사실!J82 -> 0 | K82: =안전관리실!K82+SE사업팀!K82+철도사업팀!K82+기획팀!K82+성과예산팀!K82+정보화팀!K82+총무팀!K82+노무복지팀!K82+자산회계팀!K82+인재개발팀!K82+차량팀!K82+승무팀!K82+신호팀!K82+통신팀!K82+전기팀!K82+기계환경팀!K82+토목팀!K82+건축팀!K82+영업팀!K82+고객만족팀!K82+문화홍보팀!K82+부대사업팀!K82+역무자동화팀!K82+종합관제실!K82+감사실!K82 -> 0 | ... Q82: =안전관리실!Q82+SE사업팀!Q82+철도사업팀!Q82+기획팀!Q82+성과예산팀!Q82+정보화팀!Q82+총무팀!Q82+노무복지팀!Q82+자산회계팀!Q82+인재개발팀!Q82+차량팀!Q82+승무팀!Q82+신호팀!Q82+통신팀!Q82+전기팀!Q82+기계환경팀!Q82+토목팀!Q82+건축팀!Q82+영업팀!Q82+고객만족팀!Q82+문화홍보팀!Q82+부대사업팀!Q82+역무자동화팀!Q82+종합관제실!Q82+감사실!Q82 -> 0 | R82: 소변기 | AH82: 07 | AI82: 032 | AJ82: 00167
B83: 일반기계설비 | C83: 산업용 세척기 | D83: =안전관리실!D83+SE사업팀!D83+철도사업팀!D83+기획팀!D83+성과예산팀!D83+정보화팀!D83+총무팀!D83+노무복지팀!D83+자산회계팀!D83+인재개발팀!D83+차량팀!D83+승무팀!D83+신호팀!D83+통신팀!D83+전기팀!D83+기계환경팀!D83+토목팀!D83+건축팀!D83+영업팀!D83+고객만족팀!D83+문화홍보팀!D83+부대사업팀!D83+역무자동화팀!D83+종합관제실!D83+감사실!D83 -> 0 | E83: =안전관리실!E83+SE사업팀!E83+철도사업팀!E83+기획팀!E83+성과예산팀!E83+정보화팀!E83+총무팀!E83+노무복지팀!E83+자산회계팀!E83+인재개발팀!E83+차량팀!E83+승무팀!E83+신호팀!E83+통신팀!E83+전기팀!E83+기계환경팀!E83+토목팀!E83+건축팀!E83+영업팀!E83+고객만족팀!E83+문화홍보팀!E83+부대사업팀!E83+역무자동화팀!E83+종합관제실!E83+감사실!E83 -> 0 | F83: =안전관리실!F83+SE사업팀!F83+철도사업팀!F83+기획팀!F83+성과예산팀!F83+정보화팀!F83+총무팀!F83+노무복지팀!F83+자산회계팀!F83+인재개발팀!F83+차량팀!F83+승무팀!F83+신호팀!F83+통신팀!F83+전기팀!F83+기계환경팀!F83+토목팀!F83+건축팀!F83+영업팀!F83+고객만족팀!F83+문화홍보팀!F83+부대사업팀!F83+역무자동화팀!F83+종합관제실!F83+감사실!F83 -> 0 | G83: =안전관리실!G83+SE사업팀!G83+철도사업팀!G83+기획팀!G83+성과예산팀!G83+정보화팀!G83+총무팀!G83+노무복지팀!G83+자산회계팀!G83+인재개발팀!G83+차량팀!G83+승무팀!G83+신호팀!G83+통신팀!G83+전기팀!G83+기계환경팀!G83+토목팀!G83+건축팀!G83+영업팀!G83+고객만족팀!G83+문화홍보팀!G83+부대사업팀!G83+역무자동화팀!G83+종합관제실!G83+감사실!G83 -> 0 | H83: =안전관리실!H83+SE사업팀!H83+철도사업팀!H83+기획팀!H83+성과예산팀!H83+정보화팀!H83+총무팀!H83+노무복지팀!H83+자산회계팀!H83+인재개발팀!H83+차량팀!H83+승무팀!H83+신호팀!H83+통신팀!H83+전기팀!H83+기계환경팀!H83+토목팀!H83+건축팀!H83+영업팀!H83+고객만족팀!H83+문화홍보팀!H83+부대사업팀!H83+역무자동화팀!H83+종합관제실!H83+감사실!H83 -> 0 | I83: =안전관리실!I83+SE사업팀!I83+철도사업팀!I83+기획팀!I83+성과예산팀!I83+정보화팀!I83+총무팀!I83+노무복지팀!I83+자산회계팀!I83+인재개발팀!I83+차량팀!I83+승무팀!I83+신호팀!I83+통신팀!I83+전기팀!I83+기계환경팀!I83+토목팀!I83+건축팀!I83+영업팀!I83+고객만족팀!I83+문화홍보팀!I83+부대사업팀!I83+역무자동화팀!I83+종합관제실!I83+감사실!I83 -> 0 | J83: =안전관리실!J83+SE사업팀!J83+철도사업팀!J83+기획팀!J83+성과예산팀!J83+정보화팀!J83+총무팀!J83+노무복지팀!J83+자산회계팀!J83+인재개발팀!J83+차량팀!J83+승무팀!J83+신호팀!J83+통신팀!J83+전기팀!J83+기계환경팀!J83+토목팀!J83+건축팀!J83+영업팀!J83+고객만족팀!J83+문화홍보팀!J83+부대사업팀!J83+역무자동화팀!J83+종합관제실!J83+감사실!J83 -> 0 | K83: =안전관리실!K83+SE사업팀!K83+철도사업팀!K83+기획팀!K83+성과예산팀!K83+정보화팀!K83+총무팀!K83+노무복지팀!K83+자산회계팀!K83+인재개발팀!K83+차량팀!K83+승무팀!K83+신호팀!K83+통신팀!K83+전기팀!K83+기계환경팀!K83+토목팀!K83+건축팀!K83+영업팀!K83+고객만족팀!K83+문화홍보팀!K83+부대사업팀!K83+역무자동화팀!K83+종합관제실!K83+감사실!K83 -> 0 | ... Q83: =안전관리실!Q83+SE사업팀!Q83+철도사업팀!Q83+기획팀!Q83+성과예산팀!Q83+정보화팀!Q83+총무팀!Q83+노무복지팀!Q83+자산회계팀!Q83+인재개발팀!Q83+차량팀!Q83+승무팀!Q83+신호팀!Q83+통신팀!Q83+전기팀!Q83+기계환경팀!Q83+토목팀!Q83+건축팀!Q83+영업팀!Q83+고객만족팀!Q83+문화홍보팀!Q83+부대사업팀!Q83+역무자동화팀!Q83+종합관제실!Q83+감사실!Q83 -> 0 | R83: 산업용 세척기, 설비 및 부품세척기 | AH83: 07 | AI83: 033 | AJ83: 00113
C84: 기타 기기 | D84: =안전관리실!D84+SE사업팀!D84+철도사업팀!D84+기획팀!D84+성과예산팀!D84+정보화팀!D84+총무팀!D84+노무복지팀!D84+자산회계팀!D84+인재개발팀!D84+차량팀!D84+승무팀!D84+신호팀!D84+통신팀!D84+전기팀!D84+기계환경팀!D84+토목팀!D84+건축팀!D84+영업팀!D84+고객만족팀!D84+문화홍보팀!D84+부대사업팀!D84+역무자동화팀!D84+종합관제실!D84+감사실!D84 -> 0 | E84: =안전관리실!E84+SE사업팀!E84+철도사업팀!E84+기획팀!E84+성과예산팀!E84+정보화팀!E84+총무팀!E84+노무복지팀!E84+자산회계팀!E84+인재개발팀!E84+차량팀!E84+승무팀!E84+신호팀!E84+통신팀!E84+전기팀!E84+기계환경팀!E84+토목팀!E84+건축팀!E84+영업팀!E84+고객만족팀!E84+문화홍보팀!E84+부대사업팀!E84+역무자동화팀!E84+종합관제실!E84+감사실!E84 -> 0 | F84: =안전관리실!F84+SE사업팀!F84+철도사업팀!F84+기획팀!F84+성과예산팀!F84+정보화팀!F84+총무팀!F84+노무복지팀!F84+자산회계팀!F84+인재개발팀!F84+차량팀!F84+승무팀!F84+신호팀!F84+통신팀!F84+전기팀!F84+기계환경팀!F84+토목팀!F84+건축팀!F84+영업팀!F84+고객만족팀!F84+문화홍보팀!F84+부대사업팀!F84+역무자동화팀!F84+종합관제실!F84+감사실!F84 -> 0 | G84: =안전관리실!G84+SE사업팀!G84+철도사업팀!G84+기획팀!G84+성과예산팀!G84+정보화팀!G84+총무팀!G84+노무복지팀!G84+자산회계팀!G84+인재개발팀!G84+차량팀!G84+승무팀!G84+신호팀!G84+통신팀!G84+전기팀!G84+기계환경팀!G84+토목팀!G84+건축팀!G84+영업팀!G84+고객만족팀!G84+문화홍보팀!G84+부대사업팀!G84+역무자동화팀!G84+종합관제실!G84+감사실!G84 -> 0 | H84: =안전관리실!H84+SE사업팀!H84+철도사업팀!H84+기획팀!H84+성과예산팀!H84+정보화팀!H84+총무팀!H84+노무복지팀!H84+자산회계팀!H84+인재개발팀!H84+차량팀!H84+승무팀!H84+신호팀!H84+통신팀!H84+전기팀!H84+기계환경팀!H84+토목팀!H84+건축팀!H84+영업팀!H84+고객만족팀!H84+문화홍보팀!H84+부대사업팀!H84+역무자동화팀!H84+종합관제실!H84+감사실!H84 -> 0 | I84: =안전관리실!I84+SE사업팀!I84+철도사업팀!I84+기획팀!I84+성과예산팀!I84+정보화팀!I84+총무팀!I84+노무복지팀!I84+자산회계팀!I84+인재개발팀!I84+차량팀!I84+승무팀!I84+신호팀!I84+통신팀!I84+전기팀!I84+기계환경팀!I84+토목팀!I84+건축팀!I84+영업팀!I84+고객만족팀!I84+문화홍보팀!I84+부대사업팀!I84+역무자동화팀!I84+종합관제실!I84+감사실!I84 -> 0 | J84: =안전관리실!J84+SE사업팀!J84+철도사업팀!J84+기획팀!J84+성과예산팀!J84+정보화팀!J84+총무팀!J84+노무복지팀!J84+자산회계팀!J84+인재개발팀!J84+차량팀!J84+승무팀!J84+신호팀!J84+통신팀!J84+전기팀!J84+기계환경팀!J84+토목팀!J84+건축팀!J84+영업팀!J84+고객만족팀!J84+문화홍보팀!J84+부대사업팀!J84+역무자동화팀!J84+종합관제실!J84+감사실!J84 -> 0 | K84: =안전관리실!K84+SE사업팀!K84+철도사업팀!K84+기획팀!K84+성과예산팀!K84+정보화팀!K84+총무팀!K84+노무복지팀!K84+자산회계팀!K84+인재개발팀!K84+차량팀!K84+승무팀!K84+신호팀!K84+통신팀!K84+전기팀!K84+기계환경팀!K84+토목팀!K84+건축팀!K84+영업팀!K84+고객만족팀!K84+문화홍보팀!K84+부대사업팀!K84+역무자동화팀!K84+종합관제실!K84+감사실!K84 -> 0 | ... Q84: =안전관리실!Q84+SE사업팀!Q84+철도사업팀!Q84+기획팀!Q84+성과예산팀!Q84+정보화팀!Q84+총무팀!Q84+노무복지팀!Q84+자산회계팀!Q84+인재개발팀!Q84+차량팀!Q84+승무팀!Q84+신호팀!Q84+통신팀!Q84+전기팀!Q84+기계환경팀!Q84+토목팀!Q84+건축팀!Q84+영업팀!Q84+고객만족팀!Q84+문화홍보팀!Q84+부대사업팀!Q84+역무자동화팀!Q84+종합관제실!Q84+감사실!Q84 -> 0 | R84: 캔 압축기, 구내방송제어기기 | AH84: 07 | AI84: 033 | AJ84: 00114
A85: 토목/건축 | B85: 아스콘 | C85: 아스콘 | D85: =안전관리실!D85+SE사업팀!D85+철도사업팀!D85+기획팀!D85+성과예산팀!D85+정보화팀!D85+총무팀!D85+노무복지팀!D85+자산회계팀!D85+인재개발팀!D85+차량팀!D85+승무팀!D85+신호팀!D85+통신팀!D85+전기팀!D85+기계환경팀!D85+토목팀!D85+건축팀!D85+영업팀!D85+고객만족팀!D85+문화홍보팀!D85+부대사업팀!D85+역무자동화팀!D85+종합관제실!D85+감사실!D85 -> 0 | E85: =안전관리실!E85+SE사업팀!E85+철도사업팀!E85+기획팀!E85+성과예산팀!E85+정보화팀!E85+총무팀!E85+노무복지팀!E85+자산회계팀!E85+인재개발팀!E85+차량팀!E85+승무팀!E85+신호팀!E85+통신팀!E85+전기팀!E85+기계환경팀!E85+토목팀!E85+건축팀!E85+영업팀!E85+고객만족팀!E85+문화홍보팀!E85+부대사업팀!E85+역무자동화팀!E85+종합관제실!E85+감사실!E85 -> 0 | F85: =안전관리실!F85+SE사업팀!F85+철도사업팀!F85+기획팀!F85+성과예산팀!F85+정보화팀!F85+총무팀!F85+노무복지팀!F85+자산회계팀!F85+인재개발팀!F85+차량팀!F85+승무팀!F85+신호팀!F85+통신팀!F85+전기팀!F85+기계환경팀!F85+토목팀!F85+건축팀!F85+영업팀!F85+고객만족팀!F85+문화홍보팀!F85+부대사업팀!F85+역무자동화팀!F85+종합관제실!F85+감사실!F85 -> 0 | G85: =안전관리실!G85+SE사업팀!G85+철도사업팀!G85+기획팀!G85+성과예산팀!G85+정보화팀!G85+총무팀!G85+노무복지팀!G85+자산회계팀!G85+인재개발팀!G85+차량팀!G85+승무팀!G85+신호팀!G85+통신팀!G85+전기팀!G85+기계환경팀!G85+토목팀!G85+건축팀!G85+영업팀!G85+고객만족팀!G85+문화홍보팀!G85+부대사업팀!G85+역무자동화팀!G85+종합관제실!G85+감사실!G85 -> 0 | H85: =안전관리실!H85+SE사업팀!H85+철도사업팀!H85+기획팀!H85+성과예산팀!H85+정보화팀!H85+총무팀!H85+노무복지팀!H85+자산회계팀!H85+인재개발팀!H85+차량팀!H85+승무팀!H85+신호팀!H85+통신팀!H85+전기팀!H85+기계환경팀!H85+토목팀!H85+건축팀!H85+영업팀!H85+고객만족팀!H85+문화홍보팀!H85+부대사업팀!H85+역무자동화팀!H85+종합관제실!H85+감사실!H85 -> 0 | I85: =안전관리실!I85+SE사업팀!I85+철도사업팀!I85+기획팀!I85+성과예산팀!I85+정보화팀!I85+총무팀!I85+노무복지팀!I85+자산회계팀!I85+인재개발팀!I85+차량팀!I85+승무팀!I85+신호팀!I85+통신팀!I85+전기팀!I85+기계환경팀!I85+토목팀!I85+건축팀!I85+영업팀!I85+고객만족팀!I85+문화홍보팀!I85+부대사업팀!I85+역무자동화팀!I85+종합관제실!I85+감사실!I85 -> 0 | J85: =안전관리실!J85+SE사업팀!J85+철도사업팀!J85+기획팀!J85+성과예산팀!J85+정보화팀!J85+총무팀!J85+노무복지팀!J85+자산회계팀!J85+인재개발팀!J85+차량팀!J85+승무팀!J85+신호팀!J85+통신팀!J85+전기팀!J85+기계환경팀!J85+토목팀!J85+건축팀!J85+영업팀!J85+고객만족팀!J85+문화홍보팀!J85+부대사업팀!J85+역무자동화팀!J85+종합관제실!J85+감사실!J85 -> 0 | K85: =안전관리실!K85+SE사업팀!K85+철도사업팀!K85+기획팀!K85+성과예산팀!K85+정보화팀!K85+총무팀!K85+노무복지팀!K85+자산회계팀!K85+인재개발팀!K85+차량팀!K85+승무팀!K85+신호팀!K85+통신팀!K85+전기팀!K85+기계환경팀!K85+토목팀!K85+건축팀!K85+영업팀!K85+고객만족팀!K85+문화홍보팀!K85+부대사업팀!K85+역무자동화팀!K85+종합관제실!K85+감사실!K85 -> 0 | ... Q85: =안전관리실!Q85+SE사업팀!Q85+철도사업팀!Q85+기획팀!Q85+성과예산팀!Q85+정보화팀!Q85+총무팀!Q85+노무복지팀!Q85+자산회계팀!Q85+인재개발팀!Q85+차량팀!Q85+승무팀!Q85+신호팀!Q85+통신팀!Q85+전기팀!Q85+기계환경팀!Q85+토목팀!Q85+건축팀!Q85+영업팀!Q85+고객만족팀!Q85+문화홍보팀!Q85+부대사업팀!Q85+역무자동화팀!Q85+종합관제실!Q85+감사실!Q85 -> 0 | R85: 아스콘 | AH85: 08 | AI85: 034 | AJ85: 00116
B86: 투수콘 | C86: 투수 콘크리트 | D86: =안전관리실!D86+SE사업팀!D86+철도사업팀!D86+기획팀!D86+성과예산팀!D86+정보화팀!D86+총무팀!D86+노무복지팀!D86+자산회계팀!D86+인재개발팀!D86+차량팀!D86+승무팀!D86+신호팀!D86+통신팀!D86+전기팀!D86+기계환경팀!D86+토목팀!D86+건축팀!D86+영업팀!D86+고객만족팀!D86+문화홍보팀!D86+부대사업팀!D86+역무자동화팀!D86+종합관제실!D86+감사실!D86 -> 0 | E86: =안전관리실!E86+SE사업팀!E86+철도사업팀!E86+기획팀!E86+성과예산팀!E86+정보화팀!E86+총무팀!E86+노무복지팀!E86+자산회계팀!E86+인재개발팀!E86+차량팀!E86+승무팀!E86+신호팀!E86+통신팀!E86+전기팀!E86+기계환경팀!E86+토목팀!E86+건축팀!E86+영업팀!E86+고객만족팀!E86+문화홍보팀!E86+부대사업팀!E86+역무자동화팀!E86+종합관제실!E86+감사실!E86 -> 0 | F86: =안전관리실!F86+SE사업팀!F86+철도사업팀!F86+기획팀!F86+성과예산팀!F86+정보화팀!F86+총무팀!F86+노무복지팀!F86+자산회계팀!F86+인재개발팀!F86+차량팀!F86+승무팀!F86+신호팀!F86+통신팀!F86+전기팀!F86+기계환경팀!F86+토목팀!F86+건축팀!F86+영업팀!F86+고객만족팀!F86+문화홍보팀!F86+부대사업팀!F86+역무자동화팀!F86+종합관제실!F86+감사실!F86 -> 0 | G86: =안전관리실!G86+SE사업팀!G86+철도사업팀!G86+기획팀!G86+성과예산팀!G86+정보화팀!G86+총무팀!G86+노무복지팀!G86+자산회계팀!G86+인재개발팀!G86+차량팀!G86+승무팀!G86+신호팀!G86+통신팀!G86+전기팀!G86+기계환경팀!G86+토목팀!G86+건축팀!G86+영업팀!G86+고객만족팀!G86+문화홍보팀!G86+부대사업팀!G86+역무자동화팀!G86+종합관제실!G86+감사실!G86 -> 0 | H86: =안전관리실!H86+SE사업팀!H86+철도사업팀!H86+기획팀!H86+성과예산팀!H86+정보화팀!H86+총무팀!H86+노무복지팀!H86+자산회계팀!H86+인재개발팀!H86+차량팀!H86+승무팀!H86+신호팀!H86+통신팀!H86+전기팀!H86+기계환경팀!H86+토목팀!H86+건축팀!H86+영업팀!H86+고객만족팀!H86+문화홍보팀!H86+부대사업팀!H86+역무자동화팀!H86+종합관제실!H86+감사실!H86 -> 0 | I86: =안전관리실!I86+SE사업팀!I86+철도사업팀!I86+기획팀!I86+성과예산팀!I86+정보화팀!I86+총무팀!I86+노무복지팀!I86+자산회계팀!I86+인재개발팀!I86+차량팀!I86+승무팀!I86+신호팀!I86+통신팀!I86+전기팀!I86+기계환경팀!I86+토목팀!I86+건축팀!I86+영업팀!I86+고객만족팀!I86+문화홍보팀!I86+부대사업팀!I86+역무자동화팀!I86+종합관제실!I86+감사실!I86 -> 0 | J86: =안전관리실!J86+SE사업팀!J86+철도사업팀!J86+기획팀!J86+성과예산팀!J86+정보화팀!J86+총무팀!J86+노무복지팀!J86+자산회계팀!J86+인재개발팀!J86+차량팀!J86+승무팀!J86+신호팀!J86+통신팀!J86+전기팀!J86+기계환경팀!J86+토목팀!J86+건축팀!J86+영업팀!J86+고객만족팀!J86+문화홍보팀!J86+부대사업팀!J86+역무자동화팀!J86+종합관제실!J86+감사실!J86 -> 0 | K86: =안전관리실!K86+SE사업팀!K86+철도사업팀!K86+기획팀!K86+성과예산팀!K86+정보화팀!K86+총무팀!K86+노무복지팀!K86+자산회계팀!K86+인재개발팀!K86+차량팀!K86+승무팀!K86+신호팀!K86+통신팀!K86+전기팀!K86+기계환경팀!K86+토목팀!K86+건축팀!K86+영업팀!K86+고객만족팀!K86+문화홍보팀!K86+부대사업팀!K86+역무자동화팀!K86+종합관제실!K86+감사실!K86 -> 0 | ... Q86: =안전관리실!Q86+SE사업팀!Q86+철도사업팀!Q86+기획팀!Q86+성과예산팀!Q86+정보화팀!Q86+총무팀!Q86+노무복지팀!Q86+자산회계팀!Q86+인재개발팀!Q86+차량팀!Q86+승무팀!Q86+신호팀!Q86+통신팀!Q86+전기팀!Q86+기계환경팀!Q86+토목팀!Q86+건축팀!Q86+영업팀!Q86+고객만족팀!Q86+문화홍보팀!Q86+부대사업팀!Q86+역무자동화팀!Q86+종합관제실!Q86+감사실!Q86 -> 0 | R86: 투수 콘크리트, 아스팔트 개질제 | AH86: 08 | AI86: 035 | AJ86: 00117
B87: 시멘트 | C87: 고로슬래그시멘트 | D87: =안전관리실!D87+SE사업팀!D87+철도사업팀!D87+기획팀!D87+성과예산팀!D87+정보화팀!D87+총무팀!D87+노무복지팀!D87+자산회계팀!D87+인재개발팀!D87+차량팀!D87+승무팀!D87+신호팀!D87+통신팀!D87+전기팀!D87+기계환경팀!D87+토목팀!D87+건축팀!D87+영업팀!D87+고객만족팀!D87+문화홍보팀!D87+부대사업팀!D87+역무자동화팀!D87+종합관제실!D87+감사실!D87 -> 0 | E87: =안전관리실!E87+SE사업팀!E87+철도사업팀!E87+기획팀!E87+성과예산팀!E87+정보화팀!E87+총무팀!E87+노무복지팀!E87+자산회계팀!E87+인재개발팀!E87+차량팀!E87+승무팀!E87+신호팀!E87+통신팀!E87+전기팀!E87+기계환경팀!E87+토목팀!E87+건축팀!E87+영업팀!E87+고객만족팀!E87+문화홍보팀!E87+부대사업팀!E87+역무자동화팀!E87+종합관제실!E87+감사실!E87 -> 0 | F87: =안전관리실!F87+SE사업팀!F87+철도사업팀!F87+기획팀!F87+성과예산팀!F87+정보화팀!F87+총무팀!F87+노무복지팀!F87+자산회계팀!F87+인재개발팀!F87+차량팀!F87+승무팀!F87+신호팀!F87+통신팀!F87+전기팀!F87+기계환경팀!F87+토목팀!F87+건축팀!F87+영업팀!F87+고객만족팀!F87+문화홍보팀!F87+부대사업팀!F87+역무자동화팀!F87+종합관제실!F87+감사실!F87 -> 0 | G87: =안전관리실!G87+SE사업팀!G87+철도사업팀!G87+기획팀!G87+성과예산팀!G87+정보화팀!G87+총무팀!G87+노무복지팀!G87+자산회계팀!G87+인재개발팀!G87+차량팀!G87+승무팀!G87+신호팀!G87+통신팀!G87+전기팀!G87+기계환경팀!G87+토목팀!G87+건축팀!G87+영업팀!G87+고객만족팀!G87+문화홍보팀!G87+부대사업팀!G87+역무자동화팀!G87+종합관제실!G87+감사실!G87 -> 0 | H87: =안전관리실!H87+SE사업팀!H87+철도사업팀!H87+기획팀!H87+성과예산팀!H87+정보화팀!H87+총무팀!H87+노무복지팀!H87+자산회계팀!H87+인재개발팀!H87+차량팀!H87+승무팀!H87+신호팀!H87+통신팀!H87+전기팀!H87+기계환경팀!H87+토목팀!H87+건축팀!H87+영업팀!H87+고객만족팀!H87+문화홍보팀!H87+부대사업팀!H87+역무자동화팀!H87+종합관제실!H87+감사실!H87 -> 0 | I87: =안전관리실!I87+SE사업팀!I87+철도사업팀!I87+기획팀!I87+성과예산팀!I87+정보화팀!I87+총무팀!I87+노무복지팀!I87+자산회계팀!I87+인재개발팀!I87+차량팀!I87+승무팀!I87+신호팀!I87+통신팀!I87+전기팀!I87+기계환경팀!I87+토목팀!I87+건축팀!I87+영업팀!I87+고객만족팀!I87+문화홍보팀!I87+부대사업팀!I87+역무자동화팀!I87+종합관제실!I87+감사실!I87 -> 0 | J87: =안전관리실!J87+SE사업팀!J87+철도사업팀!J87+기획팀!J87+성과예산팀!J87+정보화팀!J87+총무팀!J87+노무복지팀!J87+자산회계팀!J87+인재개발팀!J87+차량팀!J87+승무팀!J87+신호팀!J87+통신팀!J87+전기팀!J87+기계환경팀!J87+토목팀!J87+건축팀!J87+영업팀!J87+고객만족팀!J87+문화홍보팀!J87+부대사업팀!J87+역무자동화팀!J87+종합관제실!J87+감사실!J87 -> 0 | K87: =안전관리실!K87+SE사업팀!K87+철도사업팀!K87+기획팀!K87+성과예산팀!K87+정보화팀!K87+총무팀!K87+노무복지팀!K87+자산회계팀!K87+인재개발팀!K87+차량팀!K87+승무팀!K87+신호팀!K87+통신팀!K87+전기팀!K87+기계환경팀!K87+토목팀!K87+건축팀!K87+영업팀!K87+고객만족팀!K87+문화홍보팀!K87+부대사업팀!K87+역무자동화팀!K87+종합관제실!K87+감사실!K87 -> 0 | ... Q87: =안전관리실!Q87+SE사업팀!Q87+철도사업팀!Q87+기획팀!Q87+성과예산팀!Q87+정보화팀!Q87+총무팀!Q87+노무복지팀!Q87+자산회계팀!Q87+인재개발팀!Q87+차량팀!Q87+승무팀!Q87+신호팀!Q87+통신팀!Q87+전기팀!Q87+기계환경팀!Q87+토목팀!Q87+건축팀!Q87+영업팀!Q87+고객만족팀!Q87+문화홍보팀!Q87+부대사업팀!Q87+역무자동화팀!Q87+종합관제실!Q87+감사실!Q87 -> 0 | R87: 시멘트, 고로슬래그시멘트, 도로용슬래그, 기타슬래그제품 | AH87: 08 | AI87: 036 | AJ87: 00118
B88: 일반 피복관 | C88: 배수관 | D88: =안전관리실!D88+SE사업팀!D88+철도사업팀!D88+기획팀!D88+성과예산팀!D88+정보화팀!D88+총무팀!D88+노무복지팀!D88+자산회계팀!D88+인재개발팀!D88+차량팀!D88+승무팀!D88+신호팀!D88+통신팀!D88+전기팀!D88+기계환경팀!D88+토목팀!D88+건축팀!D88+영업팀!D88+고객만족팀!D88+문화홍보팀!D88+부대사업팀!D88+역무자동화팀!D88+종합관제실!D88+감사실!D88 -> 0 | E88: =안전관리실!E88+SE사업팀!E88+철도사업팀!E88+기획팀!E88+성과예산팀!E88+정보화팀!E88+총무팀!E88+노무복지팀!E88+자산회계팀!E88+인재개발팀!E88+차량팀!E88+승무팀!E88+신호팀!E88+통신팀!E88+전기팀!E88+기계환경팀!E88+토목팀!E88+건축팀!E88+영업팀!E88+고객만족팀!E88+문화홍보팀!E88+부대사업팀!E88+역무자동화팀!E88+종합관제실!E88+감사실!E88 -> 0 | F88: =안전관리실!F88+SE사업팀!F88+철도사업팀!F88+기획팀!F88+성과예산팀!F88+정보화팀!F88+총무팀!F88+노무복지팀!F88+자산회계팀!F88+인재개발팀!F88+차량팀!F88+승무팀!F88+신호팀!F88+통신팀!F88+전기팀!F88+기계환경팀!F88+토목팀!F88+건축팀!F88+영업팀!F88+고객만족팀!F88+문화홍보팀!F88+부대사업팀!F88+역무자동화팀!F88+종합관제실!F88+감사실!F88 -> 0 | G88: =안전관리실!G88+SE사업팀!G88+철도사업팀!G88+기획팀!G88+성과예산팀!G88+정보화팀!G88+총무팀!G88+노무복지팀!G88+자산회계팀!G88+인재개발팀!G88+차량팀!G88+승무팀!G88+신호팀!G88+통신팀!G88+전기팀!G88+기계환경팀!G88+토목팀!G88+건축팀!G88+영업팀!G88+고객만족팀!G88+문화홍보팀!G88+부대사업팀!G88+역무자동화팀!G88+종합관제실!G88+감사실!G88 -> 0 | H88: =안전관리실!H88+SE사업팀!H88+철도사업팀!H88+기획팀!H88+성과예산팀!H88+정보화팀!H88+총무팀!H88+노무복지팀!H88+자산회계팀!H88+인재개발팀!H88+차량팀!H88+승무팀!H88+신호팀!H88+통신팀!H88+전기팀!H88+기계환경팀!H88+토목팀!H88+건축팀!H88+영업팀!H88+고객만족팀!H88+문화홍보팀!H88+부대사업팀!H88+역무자동화팀!H88+종합관제실!H88+감사실!H88 -> 0 | I88: =안전관리실!I88+SE사업팀!I88+철도사업팀!I88+기획팀!I88+성과예산팀!I88+정보화팀!I88+총무팀!I88+노무복지팀!I88+자산회계팀!I88+인재개발팀!I88+차량팀!I88+승무팀!I88+신호팀!I88+통신팀!I88+전기팀!I88+기계환경팀!I88+토목팀!I88+건축팀!I88+영업팀!I88+고객만족팀!I88+문화홍보팀!I88+부대사업팀!I88+역무자동화팀!I88+종합관제실!I88+감사실!I88 -> 0 | J88: =안전관리실!J88+SE사업팀!J88+철도사업팀!J88+기획팀!J88+성과예산팀!J88+정보화팀!J88+총무팀!J88+노무복지팀!J88+자산회계팀!J88+인재개발팀!J88+차량팀!J88+승무팀!J88+신호팀!J88+통신팀!J88+전기팀!J88+기계환경팀!J88+토목팀!J88+건축팀!J88+영업팀!J88+고객만족팀!J88+문화홍보팀!J88+부대사업팀!J88+역무자동화팀!J88+종합관제실!J88+감사실!J88 -> 0 | K88: =안전관리실!K88+SE사업팀!K88+철도사업팀!K88+기획팀!K88+성과예산팀!K88+정보화팀!K88+총무팀!K88+노무복지팀!K88+자산회계팀!K88+인재개발팀!K88+차량팀!K88+승무팀!K88+신호팀!K88+통신팀!K88+전기팀!K88+기계환경팀!K88+토목팀!K88+건축팀!K88+영업팀!K88+고객만족팀!K88+문화홍보팀!K88+부대사업팀!K88+역무자동화팀!K88+종합관제실!K88+감사실!K88 -> 0 | ... Q88: =안전관리실!Q88+SE사업팀!Q88+철도사업팀!Q88+기획팀!Q88+성과예산팀!Q88+정보화팀!Q88+총무팀!Q88+노무복지팀!Q88+자산회계팀!Q88+인재개발팀!Q88+차량팀!Q88+승무팀!Q88+신호팀!Q88+통신팀!Q88+전기팀!Q88+기계환경팀!Q88+토목팀!Q88+건축팀!Q88+영업팀!Q88+고객만족팀!Q88+문화홍보팀!Q88+부대사업팀!Q88+역무자동화팀!Q88+종합관제실!Q88+감사실!Q88 -> 0 | R88: 배수관, 농업용 수로관, 합성수지조립식배수로, 콘크리트조립식배수로, 폴리에틸렌이중벽하수도관, 일반용폴리에틸렌관 | AH88: 08 | AI88: 037 | AJ88: 00119
B89: 배수조 및 오수받이 | C89: 배수조 | D89: =안전관리실!D89+SE사업팀!D89+철도사업팀!D89+기획팀!D89+성과예산팀!D89+정보화팀!D89+총무팀!D89+노무복지팀!D89+자산회계팀!D89+인재개발팀!D89+차량팀!D89+승무팀!D89+신호팀!D89+통신팀!D89+전기팀!D89+기계환경팀!D89+토목팀!D89+건축팀!D89+영업팀!D89+고객만족팀!D89+문화홍보팀!D89+부대사업팀!D89+역무자동화팀!D89+종합관제실!D89+감사실!D89 -> 0 | E89: =안전관리실!E89+SE사업팀!E89+철도사업팀!E89+기획팀!E89+성과예산팀!E89+정보화팀!E89+총무팀!E89+노무복지팀!E89+자산회계팀!E89+인재개발팀!E89+차량팀!E89+승무팀!E89+신호팀!E89+통신팀!E89+전기팀!E89+기계환경팀!E89+토목팀!E89+건축팀!E89+영업팀!E89+고객만족팀!E89+문화홍보팀!E89+부대사업팀!E89+역무자동화팀!E89+종합관제실!E89+감사실!E89 -> 0 | F89: =안전관리실!F89+SE사업팀!F89+철도사업팀!F89+기획팀!F89+성과예산팀!F89+정보화팀!F89+총무팀!F89+노무복지팀!F89+자산회계팀!F89+인재개발팀!F89+차량팀!F89+승무팀!F89+신호팀!F89+통신팀!F89+전기팀!F89+기계환경팀!F89+토목팀!F89+건축팀!F89+영업팀!F89+고객만족팀!F89+문화홍보팀!F89+부대사업팀!F89+역무자동화팀!F89+종합관제실!F89+감사실!F89 -> 0 | G89: =안전관리실!G89+SE사업팀!G89+철도사업팀!G89+기획팀!G89+성과예산팀!G89+정보화팀!G89+총무팀!G89+노무복지팀!G89+자산회계팀!G89+인재개발팀!G89+차량팀!G89+승무팀!G89+신호팀!G89+통신팀!G89+전기팀!G89+기계환경팀!G89+토목팀!G89+건축팀!G89+영업팀!G89+고객만족팀!G89+문화홍보팀!G89+부대사업팀!G89+역무자동화팀!G89+종합관제실!G89+감사실!G89 -> 0 | H89: =안전관리실!H89+SE사업팀!H89+철도사업팀!H89+기획팀!H89+성과예산팀!H89+정보화팀!H89+총무팀!H89+노무복지팀!H89+자산회계팀!H89+인재개발팀!H89+차량팀!H89+승무팀!H89+신호팀!H89+통신팀!H89+전기팀!H89+기계환경팀!H89+토목팀!H89+건축팀!H89+영업팀!H89+고객만족팀!H89+문화홍보팀!H89+부대사업팀!H89+역무자동화팀!H89+종합관제실!H89+감사실!H89 -> 0 | I89: =안전관리실!I89+SE사업팀!I89+철도사업팀!I89+기획팀!I89+성과예산팀!I89+정보화팀!I89+총무팀!I89+노무복지팀!I89+자산회계팀!I89+인재개발팀!I89+차량팀!I89+승무팀!I89+신호팀!I89+통신팀!I89+전기팀!I89+기계환경팀!I89+토목팀!I89+건축팀!I89+영업팀!I89+고객만족팀!I89+문화홍보팀!I89+부대사업팀!I89+역무자동화팀!I89+종합관제실!I89+감사실!I89 -> 0 | J89: =안전관리실!J89+SE사업팀!J89+철도사업팀!J89+기획팀!J89+성과예산팀!J89+정보화팀!J89+총무팀!J89+노무복지팀!J89+자산회계팀!J89+인재개발팀!J89+차량팀!J89+승무팀!J89+신호팀!J89+통신팀!J89+전기팀!J89+기계환경팀!J89+토목팀!J89+건축팀!J89+영업팀!J89+고객만족팀!J89+문화홍보팀!J89+부대사업팀!J89+역무자동화팀!J89+종합관제실!J89+감사실!J89 -> 0 | K89: =안전관리실!K89+SE사업팀!K89+철도사업팀!K89+기획팀!K89+성과예산팀!K89+정보화팀!K89+총무팀!K89+노무복지팀!K89+자산회계팀!K89+인재개발팀!K89+차량팀!K89+승무팀!K89+신호팀!K89+통신팀!K89+전기팀!K89+기계환경팀!K89+토목팀!K89+건축팀!K89+영업팀!K89+고객만족팀!K89+문화홍보팀!K89+부대사업팀!K89+역무자동화팀!K89+종합관제실!K89+감사실!K89 -> 0 | ... Q89: =안전관리실!Q89+SE사업팀!Q89+철도사업팀!Q89+기획팀!Q89+성과예산팀!Q89+정보화팀!Q89+총무팀!Q89+노무복지팀!Q89+자산회계팀!Q89+인재개발팀!Q89+차량팀!Q89+승무팀!Q89+신호팀!Q89+통신팀!Q89+전기팀!Q89+기계환경팀!Q89+토목팀!Q89+건축팀!Q89+영업팀!Q89+고객만족팀!Q89+문화홍보팀!Q89+부대사업팀!Q89+역무자동화팀!Q89+종합관제실!Q89+감사실!Q89 -> 0 | R89: 통신용 맨홀, 하수도용 맨홀 | AH89: 08 | AI89: 038 | AJ89: 00121
C90: 오수받이 | D90: =안전관리실!D90+SE사업팀!D90+철도사업팀!D90+기획팀!D90+성과예산팀!D90+정보화팀!D90+총무팀!D90+노무복지팀!D90+자산회계팀!D90+인재개발팀!D90+차량팀!D90+승무팀!D90+신호팀!D90+통신팀!D90+전기팀!D90+기계환경팀!D90+토목팀!D90+건축팀!D90+영업팀!D90+고객만족팀!D90+문화홍보팀!D90+부대사업팀!D90+역무자동화팀!D90+종합관제실!D90+감사실!D90 -> 0 | E90: =안전관리실!E90+SE사업팀!E90+철도사업팀!E90+기획팀!E90+성과예산팀!E90+정보화팀!E90+총무팀!E90+노무복지팀!E90+자산회계팀!E90+인재개발팀!E90+차량팀!E90+승무팀!E90+신호팀!E90+통신팀!E90+전기팀!E90+기계환경팀!E90+토목팀!E90+건축팀!E90+영업팀!E90+고객만족팀!E90+문화홍보팀!E90+부대사업팀!E90+역무자동화팀!E90+종합관제실!E90+감사실!E90 -> 0 | F90: =안전관리실!F90+SE사업팀!F90+철도사업팀!F90+기획팀!F90+성과예산팀!F90+정보화팀!F90+총무팀!F90+노무복지팀!F90+자산회계팀!F90+인재개발팀!F90+차량팀!F90+승무팀!F90+신호팀!F90+통신팀!F90+전기팀!F90+기계환경팀!F90+토목팀!F90+건축팀!F90+영업팀!F90+고객만족팀!F90+문화홍보팀!F90+부대사업팀!F90+역무자동화팀!F90+종합관제실!F90+감사실!F90 -> 0 | G90: =안전관리실!G90+SE사업팀!G90+철도사업팀!G90+기획팀!G90+성과예산팀!G90+정보화팀!G90+총무팀!G90+노무복지팀!G90+자산회계팀!G90+인재개발팀!G90+차량팀!G90+승무팀!G90+신호팀!G90+통신팀!G90+전기팀!G90+기계환경팀!G90+토목팀!G90+건축팀!G90+영업팀!G90+고객만족팀!G90+문화홍보팀!G90+부대사업팀!G90+역무자동화팀!G90+종합관제실!G90+감사실!G90 -> 0 | H90: =안전관리실!H90+SE사업팀!H90+철도사업팀!H90+기획팀!H90+성과예산팀!H90+정보화팀!H90+총무팀!H90+노무복지팀!H90+자산회계팀!H90+인재개발팀!H90+차량팀!H90+승무팀!H90+신호팀!H90+통신팀!H90+전기팀!H90+기계환경팀!H90+토목팀!H90+건축팀!H90+영업팀!H90+고객만족팀!H90+문화홍보팀!H90+부대사업팀!H90+역무자동화팀!H90+종합관제실!H90+감사실!H90 -> 0 | I90: =안전관리실!I90+SE사업팀!I90+철도사업팀!I90+기획팀!I90+성과예산팀!I90+정보화팀!I90+총무팀!I90+노무복지팀!I90+자산회계팀!I90+인재개발팀!I90+차량팀!I90+승무팀!I90+신호팀!I90+통신팀!I90+전기팀!I90+기계환경팀!I90+토목팀!I90+건축팀!I90+영업팀!I90+고객만족팀!I90+문화홍보팀!I90+부대사업팀!I90+역무자동화팀!I90+종합관제실!I90+감사실!I90 -> 0 | J90: =안전관리실!J90+SE사업팀!J90+철도사업팀!J90+기획팀!J90+성과예산팀!J90+정보화팀!J90+총무팀!J90+노무복지팀!J90+자산회계팀!J90+인재개발팀!J90+차량팀!J90+승무팀!J90+신호팀!J90+통신팀!J90+전기팀!J90+기계환경팀!J90+토목팀!J90+건축팀!J90+영업팀!J90+고객만족팀!J90+문화홍보팀!J90+부대사업팀!J90+역무자동화팀!J90+종합관제실!J90+감사실!J90 -> 0 | K90: =안전관리실!K90+SE사업팀!K90+철도사업팀!K90+기획팀!K90+성과예산팀!K90+정보화팀!K90+총무팀!K90+노무복지팀!K90+자산회계팀!K90+인재개발팀!K90+차량팀!K90+승무팀!K90+신호팀!K90+통신팀!K90+전기팀!K90+기계환경팀!K90+토목팀!K90+건축팀!K90+영업팀!K90+고객만족팀!K90+문화홍보팀!K90+부대사업팀!K90+역무자동화팀!K90+종합관제실!K90+감사실!K90 -> 0 | ... Q90: =안전관리실!Q90+SE사업팀!Q90+철도사업팀!Q90+기획팀!Q90+성과예산팀!Q90+정보화팀!Q90+총무팀!Q90+노무복지팀!Q90+자산회계팀!Q90+인재개발팀!Q90+차량팀!Q90+승무팀!Q90+신호팀!Q90+통신팀!Q90+전기팀!Q90+기계환경팀!Q90+토목팀!Q90+건축팀!Q90+영업팀!Q90+고객만족팀!Q90+문화홍보팀!Q90+부대사업팀!Q90+역무자동화팀!Q90+종합관제실!Q90+감사실!Q90 -> 0 | R90: 오수분리벽, 오/우수받이 | AH90: 08 | AI90: 038 | AJ90: 00122
B91: 블록 | C91: 보도블록 | D91: =안전관리실!D91+SE사업팀!D91+철도사업팀!D91+기획팀!D91+성과예산팀!D91+정보화팀!D91+총무팀!D91+노무복지팀!D91+자산회계팀!D91+인재개발팀!D91+차량팀!D91+승무팀!D91+신호팀!D91+통신팀!D91+전기팀!D91+기계환경팀!D91+토목팀!D91+건축팀!D91+영업팀!D91+고객만족팀!D91+문화홍보팀!D91+부대사업팀!D91+역무자동화팀!D91+종합관제실!D91+감사실!D91 -> 0 | E91: =안전관리실!E91+SE사업팀!E91+철도사업팀!E91+기획팀!E91+성과예산팀!E91+정보화팀!E91+총무팀!E91+노무복지팀!E91+자산회계팀!E91+인재개발팀!E91+차량팀!E91+승무팀!E91+신호팀!E91+통신팀!E91+전기팀!E91+기계환경팀!E91+토목팀!E91+건축팀!E91+영업팀!E91+고객만족팀!E91+문화홍보팀!E91+부대사업팀!E91+역무자동화팀!E91+종합관제실!E91+감사실!E91 -> 0 | F91: =안전관리실!F91+SE사업팀!F91+철도사업팀!F91+기획팀!F91+성과예산팀!F91+정보화팀!F91+총무팀!F91+노무복지팀!F91+자산회계팀!F91+인재개발팀!F91+차량팀!F91+승무팀!F91+신호팀!F91+통신팀!F91+전기팀!F91+기계환경팀!F91+토목팀!F91+건축팀!F91+영업팀!F91+고객만족팀!F91+문화홍보팀!F91+부대사업팀!F91+역무자동화팀!F91+종합관제실!F91+감사실!F91 -> 0 | G91: =안전관리실!G91+SE사업팀!G91+철도사업팀!G91+기획팀!G91+성과예산팀!G91+정보화팀!G91+총무팀!G91+노무복지팀!G91+자산회계팀!G91+인재개발팀!G91+차량팀!G91+승무팀!G91+신호팀!G91+통신팀!G91+전기팀!G91+기계환경팀!G91+토목팀!G91+건축팀!G91+영업팀!G91+고객만족팀!G91+문화홍보팀!G91+부대사업팀!G91+역무자동화팀!G91+종합관제실!G91+감사실!G91 -> 0 | H91: =안전관리실!H91+SE사업팀!H91+철도사업팀!H91+기획팀!H91+성과예산팀!H91+정보화팀!H91+총무팀!H91+노무복지팀!H91+자산회계팀!H91+인재개발팀!H91+차량팀!H91+승무팀!H91+신호팀!H91+통신팀!H91+전기팀!H91+기계환경팀!H91+토목팀!H91+건축팀!H91+영업팀!H91+고객만족팀!H91+문화홍보팀!H91+부대사업팀!H91+역무자동화팀!H91+종합관제실!H91+감사실!H91 -> 0 | I91: =안전관리실!I91+SE사업팀!I91+철도사업팀!I91+기획팀!I91+성과예산팀!I91+정보화팀!I91+총무팀!I91+노무복지팀!I91+자산회계팀!I91+인재개발팀!I91+차량팀!I91+승무팀!I91+신호팀!I91+통신팀!I91+전기팀!I91+기계환경팀!I91+토목팀!I91+건축팀!I91+영업팀!I91+고객만족팀!I91+문화홍보팀!I91+부대사업팀!I91+역무자동화팀!I91+종합관제실!I91+감사실!I91 -> 0 | J91: =안전관리실!J91+SE사업팀!J91+철도사업팀!J91+기획팀!J91+성과예산팀!J91+정보화팀!J91+총무팀!J91+노무복지팀!J91+자산회계팀!J91+인재개발팀!J91+차량팀!J91+승무팀!J91+신호팀!J91+통신팀!J91+전기팀!J91+기계환경팀!J91+토목팀!J91+건축팀!J91+영업팀!J91+고객만족팀!J91+문화홍보팀!J91+부대사업팀!J91+역무자동화팀!J91+종합관제실!J91+감사실!J91 -> 0 | K91: =안전관리실!K91+SE사업팀!K91+철도사업팀!K91+기획팀!K91+성과예산팀!K91+정보화팀!K91+총무팀!K91+노무복지팀!K91+자산회계팀!K91+인재개발팀!K91+차량팀!K91+승무팀!K91+신호팀!K91+통신팀!K91+전기팀!K91+기계환경팀!K91+토목팀!K91+건축팀!K91+영업팀!K91+고객만족팀!K91+문화홍보팀!K91+부대사업팀!K91+역무자동화팀!K91+종합관제실!K91+감사실!K91 -> 0 | ... Q91: =안전관리실!Q91+SE사업팀!Q91+철도사업팀!Q91+기획팀!Q91+성과예산팀!Q91+정보화팀!Q91+총무팀!Q91+노무복지팀!Q91+자산회계팀!Q91+인재개발팀!Q91+차량팀!Q91+승무팀!Q91+신호팀!Q91+통신팀!Q91+전기팀!Q91+기계환경팀!Q91+토목팀!Q91+건축팀!Q91+영업팀!Q91+고객만족팀!Q91+문화홍보팀!Q91+부대사업팀!Q91+역무자동화팀!Q91+종합관제실!Q91+감사실!Q91 -> 0 | R91: 보차도블록, 고무블록, 콘크리트 블록, | AH91: 08 | AI91: 039 | AJ91: 00123
C92: 호안블록 | D92: =안전관리실!D92+SE사업팀!D92+철도사업팀!D92+기획팀!D92+성과예산팀!D92+정보화팀!D92+총무팀!D92+노무복지팀!D92+자산회계팀!D92+인재개발팀!D92+차량팀!D92+승무팀!D92+신호팀!D92+통신팀!D92+전기팀!D92+기계환경팀!D92+토목팀!D92+건축팀!D92+영업팀!D92+고객만족팀!D92+문화홍보팀!D92+부대사업팀!D92+역무자동화팀!D92+종합관제실!D92+감사실!D92 -> 0 | E92: =안전관리실!E92+SE사업팀!E92+철도사업팀!E92+기획팀!E92+성과예산팀!E92+정보화팀!E92+총무팀!E92+노무복지팀!E92+자산회계팀!E92+인재개발팀!E92+차량팀!E92+승무팀!E92+신호팀!E92+통신팀!E92+전기팀!E92+기계환경팀!E92+토목팀!E92+건축팀!E92+영업팀!E92+고객만족팀!E92+문화홍보팀!E92+부대사업팀!E92+역무자동화팀!E92+종합관제실!E92+감사실!E92 -> 0 | F92: =안전관리실!F92+SE사업팀!F92+철도사업팀!F92+기획팀!F92+성과예산팀!F92+정보화팀!F92+총무팀!F92+노무복지팀!F92+자산회계팀!F92+인재개발팀!F92+차량팀!F92+승무팀!F92+신호팀!F92+통신팀!F92+전기팀!F92+기계환경팀!F92+토목팀!F92+건축팀!F92+영업팀!F92+고객만족팀!F92+문화홍보팀!F92+부대사업팀!F92+역무자동화팀!F92+종합관제실!F92+감사실!F92 -> 0 | G92: =안전관리실!G92+SE사업팀!G92+철도사업팀!G92+기획팀!G92+성과예산팀!G92+정보화팀!G92+총무팀!G92+노무복지팀!G92+자산회계팀!G92+인재개발팀!G92+차량팀!G92+승무팀!G92+신호팀!G92+통신팀!G92+전기팀!G92+기계환경팀!G92+토목팀!G92+건축팀!G92+영업팀!G92+고객만족팀!G92+문화홍보팀!G92+부대사업팀!G92+역무자동화팀!G92+종합관제실!G92+감사실!G92 -> 0 | H92: =안전관리실!H92+SE사업팀!H92+철도사업팀!H92+기획팀!H92+성과예산팀!H92+정보화팀!H92+총무팀!H92+노무복지팀!H92+자산회계팀!H92+인재개발팀!H92+차량팀!H92+승무팀!H92+신호팀!H92+통신팀!H92+전기팀!H92+기계환경팀!H92+토목팀!H92+건축팀!H92+영업팀!H92+고객만족팀!H92+문화홍보팀!H92+부대사업팀!H92+역무자동화팀!H92+종합관제실!H92+감사실!H92 -> 0 | I92: =안전관리실!I92+SE사업팀!I92+철도사업팀!I92+기획팀!I92+성과예산팀!I92+정보화팀!I92+총무팀!I92+노무복지팀!I92+자산회계팀!I92+인재개발팀!I92+차량팀!I92+승무팀!I92+신호팀!I92+통신팀!I92+전기팀!I92+기계환경팀!I92+토목팀!I92+건축팀!I92+영업팀!I92+고객만족팀!I92+문화홍보팀!I92+부대사업팀!I92+역무자동화팀!I92+종합관제실!I92+감사실!I92 -> 0 | J92: =안전관리실!J92+SE사업팀!J92+철도사업팀!J92+기획팀!J92+성과예산팀!J92+정보화팀!J92+총무팀!J92+노무복지팀!J92+자산회계팀!J92+인재개발팀!J92+차량팀!J92+승무팀!J92+신호팀!J92+통신팀!J92+전기팀!J92+기계환경팀!J92+토목팀!J92+건축팀!J92+영업팀!J92+고객만족팀!J92+문화홍보팀!J92+부대사업팀!J92+역무자동화팀!J92+종합관제실!J92+감사실!J92 -> 0 | K92: =안전관리실!K92+SE사업팀!K92+철도사업팀!K92+기획팀!K92+성과예산팀!K92+정보화팀!K92+총무팀!K92+노무복지팀!K92+자산회계팀!K92+인재개발팀!K92+차량팀!K92+승무팀!K92+신호팀!K92+통신팀!K92+전기팀!K92+기계환경팀!K92+토목팀!K92+건축팀!K92+영업팀!K92+고객만족팀!K92+문화홍보팀!K92+부대사업팀!K92+역무자동화팀!K92+종합관제실!K92+감사실!K92 -> 0 | ... Q92: =안전관리실!Q92+SE사업팀!Q92+철도사업팀!Q92+기획팀!Q92+성과예산팀!Q92+정보화팀!Q92+총무팀!Q92+노무복지팀!Q92+자산회계팀!Q92+인재개발팀!Q92+차량팀!Q92+승무팀!Q92+신호팀!Q92+통신팀!Q92+전기팀!Q92+기계환경팀!Q92+토목팀!Q92+건축팀!Q92+영업팀!Q92+고객만족팀!Q92+문화홍보팀!Q92+부대사업팀!Q92+역무자동화팀!Q92+종합관제실!Q92+감사실!Q92 -> 0 | R92: 호안블록, 어도블록, 어소블록 | AH92: 08 | AI92: 039 | AJ92: 00124
C93: 기타 블록 | D93: =안전관리실!D93+SE사업팀!D93+철도사업팀!D93+기획팀!D93+성과예산팀!D93+정보화팀!D93+총무팀!D93+노무복지팀!D93+자산회계팀!D93+인재개발팀!D93+차량팀!D93+승무팀!D93+신호팀!D93+통신팀!D93+전기팀!D93+기계환경팀!D93+토목팀!D93+건축팀!D93+영업팀!D93+고객만족팀!D93+문화홍보팀!D93+부대사업팀!D93+역무자동화팀!D93+종합관제실!D93+감사실!D93 -> 0 | E93: =안전관리실!E93+SE사업팀!E93+철도사업팀!E93+기획팀!E93+성과예산팀!E93+정보화팀!E93+총무팀!E93+노무복지팀!E93+자산회계팀!E93+인재개발팀!E93+차량팀!E93+승무팀!E93+신호팀!E93+통신팀!E93+전기팀!E93+기계환경팀!E93+토목팀!E93+건축팀!E93+영업팀!E93+고객만족팀!E93+문화홍보팀!E93+부대사업팀!E93+역무자동화팀!E93+종합관제실!E93+감사실!E93 -> 0 | F93: =안전관리실!F93+SE사업팀!F93+철도사업팀!F93+기획팀!F93+성과예산팀!F93+정보화팀!F93+총무팀!F93+노무복지팀!F93+자산회계팀!F93+인재개발팀!F93+차량팀!F93+승무팀!F93+신호팀!F93+통신팀!F93+전기팀!F93+기계환경팀!F93+토목팀!F93+건축팀!F93+영업팀!F93+고객만족팀!F93+문화홍보팀!F93+부대사업팀!F93+역무자동화팀!F93+종합관제실!F93+감사실!F93 -> 0 | G93: =안전관리실!G93+SE사업팀!G93+철도사업팀!G93+기획팀!G93+성과예산팀!G93+정보화팀!G93+총무팀!G93+노무복지팀!G93+자산회계팀!G93+인재개발팀!G93+차량팀!G93+승무팀!G93+신호팀!G93+통신팀!G93+전기팀!G93+기계환경팀!G93+토목팀!G93+건축팀!G93+영업팀!G93+고객만족팀!G93+문화홍보팀!G93+부대사업팀!G93+역무자동화팀!G93+종합관제실!G93+감사실!G93 -> 0 | H93: =안전관리실!H93+SE사업팀!H93+철도사업팀!H93+기획팀!H93+성과예산팀!H93+정보화팀!H93+총무팀!H93+노무복지팀!H93+자산회계팀!H93+인재개발팀!H93+차량팀!H93+승무팀!H93+신호팀!H93+통신팀!H93+전기팀!H93+기계환경팀!H93+토목팀!H93+건축팀!H93+영업팀!H93+고객만족팀!H93+문화홍보팀!H93+부대사업팀!H93+역무자동화팀!H93+종합관제실!H93+감사실!H93 -> 0 | I93: =안전관리실!I93+SE사업팀!I93+철도사업팀!I93+기획팀!I93+성과예산팀!I93+정보화팀!I93+총무팀!I93+노무복지팀!I93+자산회계팀!I93+인재개발팀!I93+차량팀!I93+승무팀!I93+신호팀!I93+통신팀!I93+전기팀!I93+기계환경팀!I93+토목팀!I93+건축팀!I93+영업팀!I93+고객만족팀!I93+문화홍보팀!I93+부대사업팀!I93+역무자동화팀!I93+종합관제실!I93+감사실!I93 -> 0 | J93: =안전관리실!J93+SE사업팀!J93+철도사업팀!J93+기획팀!J93+성과예산팀!J93+정보화팀!J93+총무팀!J93+노무복지팀!J93+자산회계팀!J93+인재개발팀!J93+차량팀!J93+승무팀!J93+신호팀!J93+통신팀!J93+전기팀!J93+기계환경팀!J93+토목팀!J93+건축팀!J93+영업팀!J93+고객만족팀!J93+문화홍보팀!J93+부대사업팀!J93+역무자동화팀!J93+종합관제실!J93+감사실!J93 -> 0 | K93: =안전관리실!K93+SE사업팀!K93+철도사업팀!K93+기획팀!K93+성과예산팀!K93+정보화팀!K93+총무팀!K93+노무복지팀!K93+자산회계팀!K93+인재개발팀!K93+차량팀!K93+승무팀!K93+신호팀!K93+통신팀!K93+전기팀!K93+기계환경팀!K93+토목팀!K93+건축팀!K93+영업팀!K93+고객만족팀!K93+문화홍보팀!K93+부대사업팀!K93+역무자동화팀!K93+종합관제실!K93+감사실!K93 -> 0 | ... Q93: =안전관리실!Q93+SE사업팀!Q93+철도사업팀!Q93+기획팀!Q93+성과예산팀!Q93+정보화팀!Q93+총무팀!Q93+노무복지팀!Q93+자산회계팀!Q93+인재개발팀!Q93+차량팀!Q93+승무팀!Q93+신호팀!Q93+통신팀!Q93+전기팀!Q93+기계환경팀!Q93+토목팀!Q93+건축팀!Q93+영업팀!Q93+고객만족팀!Q93+문화홍보팀!Q93+부대사업팀!Q93+역무자동화팀!Q93+종합관제실!Q93+감사실!Q93 -> 0 | R93: 도로경계블록, 식생블록, 옹벽블록, 경계블록(합성수지), 재생석재블록, 슬래그가공 블록 | AH93: 08 | AI93: 039 | AJ93: 00125
B94: 골재 | C94: 골재 | D94: =안전관리실!D94+SE사업팀!D94+철도사업팀!D94+기획팀!D94+성과예산팀!D94+정보화팀!D94+총무팀!D94+노무복지팀!D94+자산회계팀!D94+인재개발팀!D94+차량팀!D94+승무팀!D94+신호팀!D94+통신팀!D94+전기팀!D94+기계환경팀!D94+토목팀!D94+건축팀!D94+영업팀!D94+고객만족팀!D94+문화홍보팀!D94+부대사업팀!D94+역무자동화팀!D94+종합관제실!D94+감사실!D94 -> 0 | E94: =안전관리실!E94+SE사업팀!E94+철도사업팀!E94+기획팀!E94+성과예산팀!E94+정보화팀!E94+총무팀!E94+노무복지팀!E94+자산회계팀!E94+인재개발팀!E94+차량팀!E94+승무팀!E94+신호팀!E94+통신팀!E94+전기팀!E94+기계환경팀!E94+토목팀!E94+건축팀!E94+영업팀!E94+고객만족팀!E94+문화홍보팀!E94+부대사업팀!E94+역무자동화팀!E94+종합관제실!E94+감사실!E94 -> 0 | F94: =안전관리실!F94+SE사업팀!F94+철도사업팀!F94+기획팀!F94+성과예산팀!F94+정보화팀!F94+총무팀!F94+노무복지팀!F94+자산회계팀!F94+인재개발팀!F94+차량팀!F94+승무팀!F94+신호팀!F94+통신팀!F94+전기팀!F94+기계환경팀!F94+토목팀!F94+건축팀!F94+영업팀!F94+고객만족팀!F94+문화홍보팀!F94+부대사업팀!F94+역무자동화팀!F94+종합관제실!F94+감사실!F94 -> 0 | G94: =안전관리실!G94+SE사업팀!G94+철도사업팀!G94+기획팀!G94+성과예산팀!G94+정보화팀!G94+총무팀!G94+노무복지팀!G94+자산회계팀!G94+인재개발팀!G94+차량팀!G94+승무팀!G94+신호팀!G94+통신팀!G94+전기팀!G94+기계환경팀!G94+토목팀!G94+건축팀!G94+영업팀!G94+고객만족팀!G94+문화홍보팀!G94+부대사업팀!G94+역무자동화팀!G94+종합관제실!G94+감사실!G94 -> 0 | H94: =안전관리실!H94+SE사업팀!H94+철도사업팀!H94+기획팀!H94+성과예산팀!H94+정보화팀!H94+총무팀!H94+노무복지팀!H94+자산회계팀!H94+인재개발팀!H94+차량팀!H94+승무팀!H94+신호팀!H94+통신팀!H94+전기팀!H94+기계환경팀!H94+토목팀!H94+건축팀!H94+영업팀!H94+고객만족팀!H94+문화홍보팀!H94+부대사업팀!H94+역무자동화팀!H94+종합관제실!H94+감사실!H94 -> 0 | I94: =안전관리실!I94+SE사업팀!I94+철도사업팀!I94+기획팀!I94+성과예산팀!I94+정보화팀!I94+총무팀!I94+노무복지팀!I94+자산회계팀!I94+인재개발팀!I94+차량팀!I94+승무팀!I94+신호팀!I94+통신팀!I94+전기팀!I94+기계환경팀!I94+토목팀!I94+건축팀!I94+영업팀!I94+고객만족팀!I94+문화홍보팀!I94+부대사업팀!I94+역무자동화팀!I94+종합관제실!I94+감사실!I94 -> 0 | J94: =안전관리실!J94+SE사업팀!J94+철도사업팀!J94+기획팀!J94+성과예산팀!J94+정보화팀!J94+총무팀!J94+노무복지팀!J94+자산회계팀!J94+인재개발팀!J94+차량팀!J94+승무팀!J94+신호팀!J94+통신팀!J94+전기팀!J94+기계환경팀!J94+토목팀!J94+건축팀!J94+영업팀!J94+고객만족팀!J94+문화홍보팀!J94+부대사업팀!J94+역무자동화팀!J94+종합관제실!J94+감사실!J94 -> 0 | K94: =안전관리실!K94+SE사업팀!K94+철도사업팀!K94+기획팀!K94+성과예산팀!K94+정보화팀!K94+총무팀!K94+노무복지팀!K94+자산회계팀!K94+인재개발팀!K94+차량팀!K94+승무팀!K94+신호팀!K94+통신팀!K94+전기팀!K94+기계환경팀!K94+토목팀!K94+건축팀!K94+영업팀!K94+고객만족팀!K94+문화홍보팀!K94+부대사업팀!K94+역무자동화팀!K94+종합관제실!K94+감사실!K94 -> 0 | ... Q94: =안전관리실!Q94+SE사업팀!Q94+철도사업팀!Q94+기획팀!Q94+성과예산팀!Q94+정보화팀!Q94+총무팀!Q94+노무복지팀!Q94+자산회계팀!Q94+인재개발팀!Q94+차량팀!Q94+승무팀!Q94+신호팀!Q94+통신팀!Q94+전기팀!Q94+기계환경팀!Q94+토목팀!Q94+건축팀!Q94+영업팀!Q94+고객만족팀!Q94+문화홍보팀!Q94+부대사업팀!Q94+역무자동화팀!Q94+종합관제실!Q94+감사실!Q94 -> 0 | R94: 재생골재, 재활용골재, 순환골재, 도로포장용 골재 | AH94: 08 | AI94: 040 | AJ94: 00126
B95: 타일 | C95: 타일 | D95: =안전관리실!D95+SE사업팀!D95+철도사업팀!D95+기획팀!D95+성과예산팀!D95+정보화팀!D95+총무팀!D95+노무복지팀!D95+자산회계팀!D95+인재개발팀!D95+차량팀!D95+승무팀!D95+신호팀!D95+통신팀!D95+전기팀!D95+기계환경팀!D95+토목팀!D95+건축팀!D95+영업팀!D95+고객만족팀!D95+문화홍보팀!D95+부대사업팀!D95+역무자동화팀!D95+종합관제실!D95+감사실!D95 -> 0 | E95: =안전관리실!E95+SE사업팀!E95+철도사업팀!E95+기획팀!E95+성과예산팀!E95+정보화팀!E95+총무팀!E95+노무복지팀!E95+자산회계팀!E95+인재개발팀!E95+차량팀!E95+승무팀!E95+신호팀!E95+통신팀!E95+전기팀!E95+기계환경팀!E95+토목팀!E95+건축팀!E95+영업팀!E95+고객만족팀!E95+문화홍보팀!E95+부대사업팀!E95+역무자동화팀!E95+종합관제실!E95+감사실!E95 -> 0 | F95: =안전관리실!F95+SE사업팀!F95+철도사업팀!F95+기획팀!F95+성과예산팀!F95+정보화팀!F95+총무팀!F95+노무복지팀!F95+자산회계팀!F95+인재개발팀!F95+차량팀!F95+승무팀!F95+신호팀!F95+통신팀!F95+전기팀!F95+기계환경팀!F95+토목팀!F95+건축팀!F95+영업팀!F95+고객만족팀!F95+문화홍보팀!F95+부대사업팀!F95+역무자동화팀!F95+종합관제실!F95+감사실!F95 -> 0 | G95: =안전관리실!G95+SE사업팀!G95+철도사업팀!G95+기획팀!G95+성과예산팀!G95+정보화팀!G95+총무팀!G95+노무복지팀!G95+자산회계팀!G95+인재개발팀!G95+차량팀!G95+승무팀!G95+신호팀!G95+통신팀!G95+전기팀!G95+기계환경팀!G95+토목팀!G95+건축팀!G95+영업팀!G95+고객만족팀!G95+문화홍보팀!G95+부대사업팀!G95+역무자동화팀!G95+종합관제실!G95+감사실!G95 -> 0 | H95: =안전관리실!H95+SE사업팀!H95+철도사업팀!H95+기획팀!H95+성과예산팀!H95+정보화팀!H95+총무팀!H95+노무복지팀!H95+자산회계팀!H95+인재개발팀!H95+차량팀!H95+승무팀!H95+신호팀!H95+통신팀!H95+전기팀!H95+기계환경팀!H95+토목팀!H95+건축팀!H95+영업팀!H95+고객만족팀!H95+문화홍보팀!H95+부대사업팀!H95+역무자동화팀!H95+종합관제실!H95+감사실!H95 -> 0 | I95: =안전관리실!I95+SE사업팀!I95+철도사업팀!I95+기획팀!I95+성과예산팀!I95+정보화팀!I95+총무팀!I95+노무복지팀!I95+자산회계팀!I95+인재개발팀!I95+차량팀!I95+승무팀!I95+신호팀!I95+통신팀!I95+전기팀!I95+기계환경팀!I95+토목팀!I95+건축팀!I95+영업팀!I95+고객만족팀!I95+문화홍보팀!I95+부대사업팀!I95+역무자동화팀!I95+종합관제실!I95+감사실!I95 -> 0 | J95: =안전관리실!J95+SE사업팀!J95+철도사업팀!J95+기획팀!J95+성과예산팀!J95+정보화팀!J95+총무팀!J95+노무복지팀!J95+자산회계팀!J95+인재개발팀!J95+차량팀!J95+승무팀!J95+신호팀!J95+통신팀!J95+전기팀!J95+기계환경팀!J95+토목팀!J95+건축팀!J95+영업팀!J95+고객만족팀!J95+문화홍보팀!J95+부대사업팀!J95+역무자동화팀!J95+종합관제실!J95+감사실!J95 -> 0 | K95: =안전관리실!K95+SE사업팀!K95+철도사업팀!K95+기획팀!K95+성과예산팀!K95+정보화팀!K95+총무팀!K95+노무복지팀!K95+자산회계팀!K95+인재개발팀!K95+차량팀!K95+승무팀!K95+신호팀!K95+통신팀!K95+전기팀!K95+기계환경팀!K95+토목팀!K95+건축팀!K95+영업팀!K95+고객만족팀!K95+문화홍보팀!K95+부대사업팀!K95+역무자동화팀!K95+종합관제실!K95+감사실!K95 -> 0 | ... Q95: =안전관리실!Q95+SE사업팀!Q95+철도사업팀!Q95+기획팀!Q95+성과예산팀!Q95+정보화팀!Q95+총무팀!Q95+노무복지팀!Q95+자산회계팀!Q95+인재개발팀!Q95+차량팀!Q95+승무팀!Q95+신호팀!Q95+통신팀!Q95+전기팀!Q95+기계환경팀!Q95+토목팀!Q95+건축팀!Q95+영업팀!Q95+고객만족팀!Q95+문화홍보팀!Q95+부대사업팀!Q95+역무자동화팀!Q95+종합관제실!Q95+감사실!Q95 -> 0 | R95: 타일(벽 및 천장용) | AH95: 08 | AI95: 041 | AJ95: 00127
