Workbook

Sheet Sheet1
A1: 생산일자 | B1: 제목 | C1: DOC_NUM | D1: 부서코드 | E1: 팀명 | F1: 담당자 | G1: 철제목
A2: 20161004 | B2: 교육이수신청(청렴연수원 사이버청렴교육 9기)| | C2: 감사실-2829| | D2: 7411000| | E2: =VLOOKUP(D2,Sheet2!$A$1:$B$22,2,0) -> 감사실 | F2: 임재성| | G2: 교육|
A3: 20161004 | B3: [회계-지출]감사실 부서운영물품 구입| | C3: 감사실-2861| | D3: 7411000| | E3: =VLOOKUP(D3,Sheet2!$A$1:$B$22,2,0) -> 감사실 | F3: 임재준| | G3: 회계|
A4: 20161004 | B4: [회계-지출]감사실 부서운영물품 구입| | C4: 감사실-2862| | D4: 7411000| | E4: =VLOOKUP(D4,Sheet2!$A$1:$B$22,2,0) -> 감사실 | F4: 임재준| | G4: 회계|
A5: 20161004 | B5: [회계-지출]10월 특정업무수행활동비 지급| | C5: 감사실-2863| | D5: 7411000| | E5: =VLOOKUP(D5,Sheet2!$A$1:$B$22,2,0) -> 감사실 | F5: 임재준| | G5: 회계|
A6: 20161004 | B6: 비위면직자 현황 제출| | C6: 감사실-2873| | D6: 7411000| | E6: =VLOOKUP(D6,Sheet2!$A$1:$B$22,2,0) -> 감사실 | F6: 임재준| | G6: 대외업무|
A7: 20161004 | B7: 교육이수신청(청렴연수원 사이버청렴교육 9기 2차)| | C7: 감사실-2876| | D7: 7411000| | E7: =VLOOKUP(D7,Sheet2!$A$1:$B$22,2,0) -> 감사실 | F7: 임재성| | G7: 교육|
A8: 20161004 | B8: 교육이수신청(시청 사례중심 청렴특강)| | C8: 감사실-2877| | D8: 7411000| | E8: =VLOOKUP(D8,Sheet2!$A$1:$B$22,2,0) -> 감사실 | F8: 임재성| | G8: 교육|
A9: 20161005 | B9: 2017년 업무수첩 수요조사표 제출| | C9: 감사실-2881| | D9: 7411000| | E9: =VLOOKUP(D9,Sheet2!$A$1:$B$22,2,0) -> 감사실 | F9: 이한숙| | G9: 서무|
A10: 20161005 | B10: 자체 공직복무관리 추진실적 제출| | C10: 감사실-2882| | D10: 7411000| | E10: =VLOOKUP(D10,Sheet2!$A$1:$B$22,2,0) -> 감사실 | F10: 임재준| | G10: 광주광역시|
A11: 20161005 | B11: 추계체육행사 결과 보고| | C11: 감사실-2891| | D11: 7411000| | E11: =VLOOKUP(D11,Sheet2!$A$1:$B$22,2,0) -> 감사실 | F11: 임재준| | G11: 서무|
A12: 20161007 | B12: 사전 컨설팅감사 추진계획| | C12: 감사실-2908| | D12: 7411000| | E12: =VLOOKUP(D12,Sheet2!$A$1:$B$22,2,0) -> 감사실 | F12: 오병록| | G12: 감사일반|
A13: 20161007 | B13: 국민권익위원회 제도개선안 의견 조회| | C13: 감사실-2909| | D13: 7411000| | E13: =VLOOKUP(D13,Sheet2!$A$1:$B$22,2,0) -> 감사실 | F13: 오병록| | G13: 감사일반|
... A23268: 20161230 | B23268: 불용품 폐기 조서| | C23268: 통신팀-10634| | D23268: 7214000| | E23268: =VLOOKUP(D23268,Sheet2!$A$1:$B$22,2,0) -> 통신팀 | F23268: 최현준| | G23268: 불용품관리|

Sheet Sheet2
A1: 팀코드 | B1: 팀명
A2: 7111000| | B2: 경영기획팀
A3: 7112000| | B3: 재정협력팀
A4: 7113000| | B4: 고객서비스팀
A5: 7114000| | B5: 영업사업팀
A6: 7121000| | B6: 총무팀
A7: 7122000| | B7: 노무복지팀
A8: 7123000| | B8: 자산회계팀
A9: 7211000| | B9: 차량팀
A10: 7212000| | B10: 승무팀
A11: 7213000| | B11: 신호팀
A12: 7214000| | B12: 통신팀
... A22: 7411000| | B22: 감사실
